{"text_format":"1","workbook":"xlsx","n_sheets":21,"sheets":["Анкета","Report","Data","Data diagrams (1)","Сравнения","Data diagrams (noprint)","Лист1","Лист2","Лист3","Лист4","Лист5","Лист6","Лист7","Лист8","Лист9","Лист10","Лист11","Лист12","Лист13","Лист14","Лист15"],"not_rendered":{"charts":0,"images":0,"macros":1,"external_links":1,"defined_names":14,"comments":1,"pivot_tables":0},"unopened":[],"bounds":{"document_bytes":16777216,"sheet_cells":100000,"rows_first":2000,"rows_last":500,"rows_between":2000,"halvings":0,"cell_chars":16384,"cell_head_chars":4096},"cells_cut":0,"cells_raw":0,"read":"whole","date_system":"1900"}

{"sheet":"Анкета","index":0,"n_rows":152,"n_cols":59,"rows_kept":152,"cut":false,"hidden":false,"merged":[]}
[]
["ВЪПРОСИ","3. Курс","4. Пол","5. Посещение на лекции","6. Посещение на упражнения","7. Ако не сте посещавали занятия, коя е причината за това","8. Успех от следването до момента","9. познавам квалификационната характеристика на специалността си","10. познавам учебния план, по който се обучавате","11. познавам учебните програми на дисциплините, които изучаваме","12.обучението помага на развитието на общата Ви култура","13. помага на професионалната Ви подготовка","14. лекциите и упражненията са актуални и отразяват постиженията на науката","15. те са актуални и ориентирани към потребностите на практиката","16. лекциите и упражненията са анахронични и самоцелни","17. обучението е добро и дава възможност за самостоятелна работа","18. то е напрегнато и ограничава възможностите за самостоятелна работа","19. учебната програма е съобразена по-скоро с интересите и възможностите на преподавателите, отколкото с тези на студентите","20. съдържателни и интересни","21. скучни и безинтересни","22. способност за творческо мислене","23. способност за вземане на решения","24. умения за работа в екип","25. комуникативни умения","26. полезни и необходими","27. самоцелни и безполезни","28. библиотеките в Университета разполага с необходимата Ви литература","29. услугите са достъпни за Вас","30. административното обслужване е на добро равнище","31. в Университета има условия за спорт","32. социалните условия (стипендии, общежития. стол, почивна база) са добре решени","33. преподавателите Ви са добре подготвени и познават новостите в научната област, в която работят","34. преподавателите Ви са толерантни, комуникативни и мотивирани в работата си със студентите","35. има корумпирани преподаватели","36. има корумпирани служители","37. материалната база е добра","38. учебно-техническите средства са съвременни и подпомагат учебния процес","39. учебниците и учебно-помощните материали са достъпни и подпомагат обучението Ви","40. публични лекции, срещи с представители на науката, политиката, бизнеса културата","41. студентски творчески инициативи","42. програми за обмен на студенти","43. дискусии, кръгли маси, конференции","44. проекти на преподавателските екипи","45. научните изследвания на вашите преподаватели","46. научно-изследователска програма на Факултета","47. научните издания на факултета","48. преподава на академично равнище","49. работи с добре подготвени и отдадени на работата си преподаватели","50. толерира творчеството, инициативата, самостоятелното мислене","51. уважават индивидуалните способности и насърчава индивидуалното развитие на студентите","52. има възможност да получите образование по предпочитана специалност","53. родителите Ви настояват да продължите образованието си","54. приятелите и съучениците Ви учат тук","55. е в района, в който сте роден(а) и живеете","56. е висше училище с традиции и авторитет","57. били потърпевш на корупционен натиск","58. чували, че има корумпирани преподаватели и служители, но не сте се сблъсквали лично с корупция в Университета","59. сигурни, че има корумпирани преподаватели и служители в ПУ","60. сигурни, че няма корумпирани преподаватели и служители в ПУ"]
[null," A = І"," A = МЪЖ"," A = Всички"," A = Всички"," A = Посещавал съм"," A = Отличен"," A = ДА "," A = ДА "," A = ДА "," A = ДА"," A = ДА"," A = ДА"," A = ДА"," A = ДА"," A = ДА"," A = ДА"," A = ДА"," A = ДА"," A = ДА"," A = ДА"," A = ДА"," A = ДА"," A = ДА"," A = ДА"," A = ДА"," A = ДА"," A = ДА"," A = ДА"," A = ДА"," A = ДА"," A = ДА"," A = ДА"," A = ДА"," A = ДА"," A = ДА"," A = ДА"," A = ДА"," A = ДА"," A = ДА"," A = ДА"," A = ДА"," A = ДА"," A = ДА"," A = ДА"," A = ДА"," A = ДА"," A = ДА"," A = ДА"," A = ДА"," A = ДА"," A = ДА"," A = ДА"," A = ДА"," A = ДА"," A = ДА"," A = ДА"," A = ДА"," A = ДА"]
[null,"B = ІІ","B = ЖЕНА","B = Голяма част ","B = Голяма част ","B = Работя и уча","B = Много добър","B = ЧАСТИЧНО","B = ЧАСТИЧНО","B = ЧАСТИЧНО","B = Във висока степен ","B = Във висока степен ","B = Във висока степен ","B = Във висока степен ","B = Във висока степен ","B = Във висока степен ","B = Във висока степен ","B = Във висока степен ","B = Във висока степен ","B = Във висока степен ","B = Във висока степен ","B = Във висока степен ","B = Във висока степен ","B = Във висока степен ","B = Във висока степен ","B = Във висока степен ","B = Във висока степен ","B = Във висока степен ","B = Във висока степен ","B = Във висока степен ","B = Във висока степен ","B = Във висока степен ","B = Във висока степен ","B = Във висока степен ","B = Във висока степен ","B = Във висока степен ","B = Във висока степен ","B = Във висока степен ","B = НЕ","B = НЕ","B = НЕ","B = НЕ","B = НЕ","B = Във висока степен ","B = Във висока степен ","B = Във висока степен ","B = Във висока степен ","B = Във висока степен ","B = Във висока степен ","B = Във висока степен ","B = НЕ","B = НЕ","B = НЕ ","B = НЕ ","B = НЕ","B = НЕ ","B = НЕ","B = НЕ","B = НЕ"]
[null,"C = ІІІ             D = ІV",null,"C = Малка част","C = Малка част","C = Безинтересни са","C = Добър","C = НЕ","C = НЕ","C = НЕ","C = В известна степен","C = В известна степен","C = В известна степен","C = В известна степен","C = В известна степен","C = В известна степен","C = В известна степен","C = В известна степен","C = В известна степен","C = В известна степен","C = В известна степен","C = В известна степен","C = В известна степен","C = В известна степен","C = В известна степен","C = В известна степен","C = В известна степен","C = В известна степен","C = В известна степен","C = В известна степен","C = В известна степен","C = В известна степен","C = В известна степен","C = В известна степен","C = В известна степен","C = В известна степен","C = В известна степен","C = В известна степен",null,null,null,null,null,"C = В известна степен","C = В известна степен","C = В известна степен","C = В известна степен","C = В известна степен","C = В известна степен","C = В известна степен"]
[null,"E = V",null," D = Нито една"," D = Нито едно","D = Мога да се подготвя сам","D = Среден",null,null,null," D = НЕ"," D = НЕ"," D = НЕ"," D = НЕ"," D = НЕ"," D = НЕ"," D = НЕ"," D = НЕ"," D = НЕ"," D = НЕ"," D = НЕ"," D = НЕ"," D = НЕ  "," D = НЕ"," D = НЕ"," D = НЕ"," D = НЕ"," D = НЕ"," D = НЕ"," D = НЕ"," D = НЕ"," D = НЕ"," D = НЕ"," D = НЕ"," D = НЕ"," D = НЕ"," D = НЕ"," D = НЕ",null,null,null,null,null," D = НЕ"," D = НЕ"," D = НЕ"," D = НЕ"," D = НЕ"," D = НЕ"," D = НЕ"]
["AB1",{"$f":"COUNTIF('[1]Testee answer 2011'!D127:D147,\"A\")","v":18},{"$f":"COUNTIF('[1]Testee answer 2011'!E127:E147,\"A\")","v":7},{"$f":"COUNTIF('[1]Testee answer 2011'!F127:F147,\"A\")","v":10},{"$f":"COUNTIF('[1]Testee answer 2011'!G127:G147,\"A\")","v":16},{"$f":"COUNTIF('[1]Testee answer 2011'!H127:H147,\"A\")","v":12},{"$f":"COUNTIF('[1]Testee answer 2011'!I127:I147,\"A\")","v":3},{"$f":"COUNTIF('[1]Testee answer 2011'!J127:J147,\"A\")","v":9},{"$f":"COUNTIF('[1]Testee answer 2011'!K127:K147,\"A\")","v":5},{"$f":"COUNTIF('[1]Testee answer 2011'!L127:L147,\"A\")","v":10},{"$f":"COUNTIF('[1]Testee answer 2011'!M127:M147,\"A\")","v":10},{"$f":"COUNTIF('[1]Testee answer 2011'!N127:N147,\"A\")","v":2},{"$f":"COUNTIF('[1]Testee answer 2011'!O127:O147,\"A\")","v":2},{"$f":"COUNTIF('[1]Testee answer 2011'!P127:P147,\"A\")","v":2},{"$f":"COUNTIF('[1]Testee answer 2011'!Q127:Q147,\"A\")","v":2},{"$f":"COUNTIF('[1]Testee answer 2011'!R127:R147,\"A\")","v":1},{"$f":"COUNTIF('[1]Testee answer 2011'!S127:S147,\"A\")","v":11},{"$f":"COUNTIF('[1]Testee answer 2011'!T127:T147,\"A\")","v":12},{"$f":"COUNTIF('[1]Testee answer 2011'!U127:U147,\"A\")","v":5},{"$f":"COUNTIF('[1]Testee answer 2011'!V127:V147,\"A\")","v":0},{"$f":"COUNTIF('[1]Testee answer 2011'!W127:W147,\"A\")","v":2},{"$f":"COUNTIF('[1]Testee answer 2011'!X127:X147,\"A\")","v":2},{"$f":"COUNTIF('[1]Testee answer 2011'!Y127:Y147,\"A\")","v":6},{"$f":"COUNTIF('[1]Testee answer 2011'!Z127:Z147,\"A\")","v":7},{"$f":"COUNTIF('[1]Testee answer 2011'!AA127:AA147,\"A\")","v":6},{"$f":"COUNTIF('[1]Testee answer 2011'!AB127:AB147,\"A\")","v":1},{"$f":"COUNTIF('[1]Testee answer 2011'!AC127:AC147,\"A\")","v":9},{"$f":"COUNTIF('[1]Testee answer 2011'!AD127:AD147,\"A\")","v":10},{"$f":"COUNTIF('[1]Testee answer 2011'!AE127:AE147,\"A\")","v":2},{"$f":"COUNTIF('[1]Testee answer 2011'!AF127:AF147,\"A\")","v":3},{"$f":"COUNTIF('[1]Testee answer 2011'!AG127:AG147,\"A\")","v":1},{"$f":"COUNTIF('[1]Testee answer 2011'!AH127:AH147,\"A\")","v":13},{"$f":"COUNTIF('[1]Testee answer 2011'!AI127:AI147,\"A\")","v":4},{"$f":"COUNTIF('[1]Testee answer 2011'!AJ127:AJ147,\"A\")","v":7},{"$f":"COUNTIF('[1]Testee answer 2011'!AK127:AK147,\"A\")","v":5},{"$f":"COUNTIF('[1]Testee answer 2011'!AL127:AL147,\"A\")","v":1},{"$f":"COUNTIF('[1]Testee answer 2011'!AM127:AM147,\"A\")","v":0},{"$f":"COUNTIF('[1]Testee answer 2011'!AN127:AN147,\"A\")","v":4},{"$f":"COUNTIF('[1]Testee answer 2011'!AO127:AO147,\"A\")","v":4},{"$f":"COUNTIF('[1]Testee answer 2011'!AP127:AP147,\"A\")","v":8},{"$f":"COUNTIF('[1]Testee answer 2011'!AQ127:AQ147,\"A\")","v":6},{"$f":"COUNTIF('[1]Testee answer 2011'!AR127:AR147,\"A\")","v":2},{"$f":"COUNTIF('[1]Testee answer 2011'!AS127:AS147,\"A\")","v":3},{"$f":"COUNTIF('[1]Testee answer 2011'!AT127:AT147,\"A\")","v":1},{"$f":"COUNTIF('[1]Testee answer 2011'!AU127:AU147,\"A\")","v":2},{"$f":"COUNTIF('[1]Testee answer 2011'!AV127:AV147,\"A\")","v":3},{"$f":"COUNTIF('[1]Testee answer 2011'!AW127:AW147,\"A\")","v":9},{"$f":"COUNTIF('[1]Testee answer 2011'!AX127:AX147,\"A\")","v":6},{"$f":"COUNTIF('[1]Testee answer 2011'!AY127:AY147,\"A\")","v":1},{"$f":"COUNTIF('[1]Testee answer 2011'!AZ127:AZ147,\"A\")","v":5},{"$f":"COUNTIF('[1]Testee answer 2011'!BA127:BA147,\"A\")","v":18},{"$f":"COUNTIF('[1]Testee answer 2011'!BB127:BB147,\"A\")","v":8},{"$f":"COUNTIF('[1]Testee answer 2011'!BC127:BC147,\"A\")","v":5},{"$f":"COUNTIF('[1]Testee answer 2011'!BD127:BD147,\"A\")","v":12},{"$f":"COUNTIF('[1]Testee answer 2011'!BE127:BE147,\"A\")","v":14},{"$f":"COUNTIF('[1]Testee answer 2011'!BF127:BF147,\"A\")","v":3},{"$f":"COUNTIF('[1]Testee answer 2011'!BG127:BG147,\"A\")","v":16},{"$f":"COUNTIF('[1]Testee answer 2011'!BH127:BH147,\"A\")","v":11},{"$f":"COUNTIF('[1]Testee answer 2011'!BI127:BI147,\"A\")","v":2}]
["AB1",{"$f":"COUNTIF('[1]Testee answer 2011'!D127:D147,\"B\")","v":0},{"$f":"COUNTIF('[1]Testee answer 2011'!E127:E147,\"B\")","v":14},{"$f":"COUNTIF('[1]Testee answer 2011'!F127:F147,\"B\")","v":8},{"$f":"COUNTIF('[1]Testee answer 2011'!G127:G147,\"B\")","v":5},{"$f":"COUNTIF('[1]Testee answer 2011'!H127:H147,\"B\")","v":1},{"$f":"COUNTIF('[1]Testee answer 2011'!I127:I147,\"B\")","v":9},{"$f":"COUNTIF('[1]Testee answer 2011'!J127:J147,\"B\")","v":9},{"$f":"COUNTIF('[1]Testee answer 2011'!K127:K147,\"B\")","v":13},{"$f":"COUNTIF('[1]Testee answer 2011'!L127:L147,\"B\")","v":6},{"$f":"COUNTIF('[1]Testee answer 2011'!M127:M147,\"B\")","v":5},{"$f":"COUNTIF('[1]Testee answer 2011'!N127:N147,\"B\")","v":7},{"$f":"COUNTIF('[1]Testee answer 2011'!O127:O147,\"B\")","v":7},{"$f":"COUNTIF('[1]Testee answer 2011'!P127:P147,\"B\")","v":3},{"$f":"COUNTIF('[1]Testee answer 2011'!Q127:Q147,\"B\")","v":5},{"$f":"COUNTIF('[1]Testee answer 2011'!R127:R147,\"B\")","v":1},{"$f":"COUNTIF('[1]Testee answer 2011'!S127:S147,\"B\")","v":6},{"$f":"COUNTIF('[1]Testee answer 2011'!T127:T147,\"B\")","v":4},{"$f":"COUNTIF('[1]Testee answer 2011'!U127:U147,\"B\")","v":7},{"$f":"COUNTIF('[1]Testee answer 2011'!V127:V147,\"B\")","v":6},{"$f":"COUNTIF('[1]Testee answer 2011'!W127:W147,\"B\")","v":4},{"$f":"COUNTIF('[1]Testee answer 2011'!X127:X147,\"B\")","v":5},{"$f":"COUNTIF('[1]Testee answer 2011'!Y127:Y147,\"B\")","v":7},{"$f":"COUNTIF('[1]Testee answer 2011'!Z127:Z147,\"B\")","v":8},{"$f":"COUNTIF('[1]Testee answer 2011'!AA127:AA147,\"B\")","v":7},{"$f":"COUNTIF('[1]Testee answer 2011'!AB127:AB147,\"B\")","v":4},{"$f":"COUNTIF('[1]Testee answer 2011'!AC127:AC147,\"B\")","v":3},{"$f":"COUNTIF('[1]Testee answer 2011'!AD127:AD147,\"B\")","v":5},{"$f":"COUNTIF('[1]Testee answer 2011'!AE127:AE147,\"B\")","v":4},{"$f":"COUNTIF('[1]Testee answer 2011'!AF127:AF147,\"B\")","v":1},{"$f":"COUNTIF('[1]Testee answer 2011'!AG127:AG147,\"B\")","v":4},{"$f":"COUNTIF('[1]Testee answer 2011'!AH127:AH147,\"B\")","v":5},{"$f":"COUNTIF('[1]Testee answer 2011'!AI127:AI147,\"B\")","v":10},{"$f":"COUNTIF('[1]Testee answer 2011'!AJ127:AJ147,\"B\")","v":2},{"$f":"COUNTIF('[1]Testee answer 2011'!AK127:AK147,\"B\")","v":3},{"$f":"COUNTIF('[1]Testee answer 2011'!AL127:AL147,\"B\")","v":5},{"$f":"COUNTIF('[1]Testee answer 2011'!AM127:AM147,\"B\")","v":3},{"$f":"COUNTIF('[1]Testee answer 2011'!AN127:AN147,\"B\")","v":7},{"$f":"COUNTIF('[1]Testee answer 2011'!AO127:AO147,\"B\")","v":16},{"$f":"COUNTIF('[1]Testee answer 2011'!AP127:AP147,\"B\")","v":13},{"$f":"COUNTIF('[1]Testee answer 2011'!AQ127:AQ147,\"B\")","v":15},{"$f":"COUNTIF('[1]Testee answer 2011'!AR127:AR147,\"B\")","v":18},{"$f":"COUNTIF('[1]Testee answer 2011'!AS127:AS147,\"B\")","v":18},{"$f":"COUNTIF('[1]Testee answer 2011'!AT127:AT147,\"B\")","v":5},{"$f":"COUNTIF('[1]Testee answer 2011'!AU127:AU147,\"B\")","v":3},{"$f":"COUNTIF('[1]Testee answer 2011'!AV127:AV147,\"B\")","v":3},{"$f":"COUNTIF('[1]Testee answer 2011'!AW127:AW147,\"B\")","v":5},{"$f":"COUNTIF('[1]Testee answer 2011'!AX127:AX147,\"B\")","v":8},{"$f":"COUNTIF('[1]Testee answer 2011'!AY127:AY147,\"B\")","v":8},{"$f":"COUNTIF('[1]Testee answer 2011'!AZ127:AZ147,\"B\")","v":4},{"$f":"COUNTIF('[1]Testee answer 2011'!BA127:BA147,\"B\")","v":3},{"$f":"COUNTIF('[1]Testee answer 2011'!BB127:BB147,\"B\")","v":13},{"$f":"COUNTIF('[1]Testee answer 2011'!BC127:BC147,\"B\")","v":16},{"$f":"COUNTIF('[1]Testee answer 2011'!BD127:BD147,\"B\")","v":8},{"$f":"COUNTIF('[1]Testee answer 2011'!BE127:BE147,\"B\")","v":6},{"$f":"COUNTIF('[1]Testee answer 2011'!BF127:BF147,\"B\")","v":17},{"$f":"COUNTIF('[1]Testee answer 2011'!BG127:BG147,\"B\")","v":4},{"$f":"COUNTIF('[1]Testee answer 2011'!BH127:BH147,\"B\")","v":9},{"$f":"COUNTIF('[1]Testee answer 2011'!BI127:BI147,\"B\")","v":19}]
["AB1",{"$f":"COUNTIF('[1]Testee answer 2011'!D127:D147,\"C\")","v":0},{"$f":"COUNTIF('[1]Testee answer 2011'!E127:E147,\"C\")","v":0},{"$f":"COUNTIF('[1]Testee answer 2011'!F127:F147,\"C\")","v":2},{"$f":"COUNTIF('[1]Testee answer 2011'!G127:G147,\"C\")","v":0},{"$f":"COUNTIF('[1]Testee answer 2011'!H127:H147,\"C\")","v":7},{"$f":"COUNTIF('[1]Testee answer 2011'!I127:I147,\"C\")","v":7},{"$f":"COUNTIF('[1]Testee answer 2011'!J127:J147,\"C\")","v":3},{"$f":"COUNTIF('[1]Testee answer 2011'!K127:K147,\"C\")","v":3},{"$f":"COUNTIF('[1]Testee answer 2011'!L127:L147,\"C\")","v":5},{"$f":"COUNTIF('[1]Testee answer 2011'!M127:M147,\"C\")","v":5},{"$f":"COUNTIF('[1]Testee answer 2011'!N127:N147,\"C\")","v":9},{"$f":"COUNTIF('[1]Testee answer 2011'!O127:O147,\"C\")","v":8},{"$f":"COUNTIF('[1]Testee answer 2011'!P127:P147,\"C\")","v":10},{"$f":"COUNTIF('[1]Testee answer 2011'!Q127:Q147,\"C\")","v":8},{"$f":"COUNTIF('[1]Testee answer 2011'!R127:R147,\"C\")","v":9},{"$f":"COUNTIF('[1]Testee answer 2011'!S127:S147,\"C\")","v":2},{"$f":"COUNTIF('[1]Testee answer 2011'!T127:T147,\"C\")","v":4},{"$f":"COUNTIF('[1]Testee answer 2011'!U127:U147,\"C\")","v":9},{"$f":"COUNTIF('[1]Testee answer 2011'!V127:V147,\"C\")","v":7},{"$f":"COUNTIF('[1]Testee answer 2011'!W127:W147,\"C\")","v":10},{"$f":"COUNTIF('[1]Testee answer 2011'!X127:X147,\"C\")","v":11},{"$f":"COUNTIF('[1]Testee answer 2011'!Y127:Y147,\"C\")","v":2},{"$f":"COUNTIF('[1]Testee answer 2011'!Z127:Z147,\"C\")","v":4},{"$f":"COUNTIF('[1]Testee answer 2011'!AA127:AA147,\"C\")","v":8},{"$f":"COUNTIF('[1]Testee answer 2011'!AB127:AB147,\"C\")","v":7},{"$f":"COUNTIF('[1]Testee answer 2011'!AC127:AC147,\"C\")","v":5},{"$f":"COUNTIF('[1]Testee answer 2011'!AD127:AD147,\"C\")","v":4},{"$f":"COUNTIF('[1]Testee answer 2011'!AE127:AE147,\"C\")","v":6},{"$f":"COUNTIF('[1]Testee answer 2011'!AF127:AF147,\"C\")","v":11},{"$f":"COUNTIF('[1]Testee answer 2011'!AG127:AG147,\"C\")","v":8},{"$f":"COUNTIF('[1]Testee answer 2011'!AH127:AH147,\"C\")","v":2},{"$f":"COUNTIF('[1]Testee answer 2011'!AI127:AI147,\"C\")","v":6},{"$f":"COUNTIF('[1]Testee answer 2011'!AJ127:AJ147,\"C\")","v":6},{"$f":"COUNTIF('[1]Testee answer 2011'!AK127:AK147,\"C\")","v":7},{"$f":"COUNTIF('[1]Testee answer 2011'!AL127:AL147,\"C\")","v":9},{"$f":"COUNTIF('[1]Testee answer 2011'!AM127:AM147,\"C\")","v":11},{"$f":"COUNTIF('[1]Testee answer 2011'!AN127:AN147,\"C\")","v":4},{"$f":"COUNTIF('[1]Testee answer 2011'!AO127:AO147,\"C\")","v":0},{"$f":"COUNTIF('[1]Testee answer 2011'!AP127:AP147,\"C\")","v":0},{"$f":"COUNTIF('[1]Testee answer 2011'!AQ127:AQ147,\"C\")","v":0},{"$f":"COUNTIF('[1]Testee answer 2011'!AR127:AR147,\"C\")","v":1},{"$f":"COUNTIF('[1]Testee answer 2011'!AS127:AS147,\"C\")","v":0},{"$f":"COUNTIF('[1]Testee answer 2011'!AT127:AT147,\"C\")","v":6},{"$f":"COUNTIF('[1]Testee answer 2011'!AU127:AU147,\"C\")","v":4},{"$f":"COUNTIF('[1]Testee answer 2011'!AV127:AV147,\"C\")","v":8},{"$f":"COUNTIF('[1]Testee answer 2011'!AW127:AW147,\"C\")","v":6},{"$f":"COUNTIF('[1]Testee answer 2011'!AX127:AX147,\"C\")","v":6},{"$f":"COUNTIF('[1]Testee answer 2011'!AY127:AY147,\"C\")","v":7},{"$f":"COUNTIF('[1]Testee answer 2011'!AZ127:AZ147,\"C\")","v":6},{"$f":"COUNTIF('[1]Testee answer 2011'!BA127:BA147,\"C\")","v":0},{"$f":"COUNTIF('[1]Testee answer 2011'!BB127:BB147,\"C\")","v":0},{"$f":"COUNTIF('[1]Testee answer 2011'!BC127:BC147,\"C\")","v":0},{"$f":"COUNTIF('[1]Testee answer 2011'!BD127:BD147,\"C\")","v":0},{"$f":"COUNTIF('[1]Testee answer 2011'!BE127:BE147,\"C\")","v":0},{"$f":"COUNTIF('[1]Testee answer 2011'!BF127:BF147,\"C\")","v":1},{"$f":"COUNTIF('[1]Testee answer 2011'!BG127:BG147,\"C\")","v":1},{"$f":"COUNTIF('[1]Testee answer 2011'!BH127:BH147,\"C\")","v":1},{"$f":"COUNTIF('[1]Testee answer 2011'!BI127:BI147,\"C\")","v":0}]
["AB1",{"$f":"COUNTIF('[1]Testee answer 2011'!D127:D147,\"D\")","v":3},{"$f":"COUNTIF('[1]Testee answer 2011'!E127:E147,\"D\")","v":0},{"$f":"COUNTIF('[1]Testee answer 2011'!F127:F147,\"D\")","v":1},{"$f":"COUNTIF('[1]Testee answer 2011'!G127:G147,\"D\")","v":0},{"$f":"COUNTIF('[1]Testee answer 2011'!H127:H147,\"D\")","v":1},{"$f":"COUNTIF('[1]Testee answer 2011'!I127:I147,\"D\")","v":2},{"$f":"COUNTIF('[1]Testee answer 2011'!J127:J147,\"D\")","v":0},{"$f":"COUNTIF('[1]Testee answer 2011'!K127:K147,\"D\")","v":0},{"$f":"COUNTIF('[1]Testee answer 2011'!L127:L147,\"D\")","v":0},{"$f":"COUNTIF('[1]Testee answer 2011'!M127:M147,\"D\")","v":1},{"$f":"COUNTIF('[1]Testee answer 2011'!N127:N147,\"D\")","v":3},{"$f":"COUNTIF('[1]Testee answer 2011'!O127:O147,\"D\")","v":4},{"$f":"COUNTIF('[1]Testee answer 2011'!P127:P147,\"D\")","v":6},{"$f":"COUNTIF('[1]Testee answer 2011'!Q127:Q147,\"D\")","v":6},{"$f":"COUNTIF('[1]Testee answer 2011'!R127:R147,\"D\")","v":10},{"$f":"COUNTIF('[1]Testee answer 2011'!S127:S147,\"D\")","v":2},{"$f":"COUNTIF('[1]Testee answer 2011'!T127:T147,\"D\")","v":1},{"$f":"COUNTIF('[1]Testee answer 2011'!U127:U147,\"D\")","v":0},{"$f":"COUNTIF('[1]Testee answer 2011'!V127:V147,\"D\")","v":8},{"$f":"COUNTIF('[1]Testee answer 2011'!W127:W147,\"D\")","v":5},{"$f":"COUNTIF('[1]Testee answer 2011'!X127:X147,\"D\")","v":3},{"$f":"COUNTIF('[1]Testee answer 2011'!Y127:Y147,\"D\")","v":6},{"$f":"COUNTIF('[1]Testee answer 2011'!Z127:Z147,\"D\")","v":2},{"$f":"COUNTIF('[1]Testee answer 2011'!AA127:AA147,\"D\")","v":0},{"$f":"COUNTIF('[1]Testee answer 2011'!AB127:AB147,\"D\")","v":9},{"$f":"COUNTIF('[1]Testee answer 2011'!AC127:AC147,\"D\")","v":4},{"$f":"COUNTIF('[1]Testee answer 2011'!AD127:AD147,\"D\")","v":2},{"$f":"COUNTIF('[1]Testee answer 2011'!AE127:AE147,\"D\")","v":9},{"$f":"COUNTIF('[1]Testee answer 2011'!AF127:AF147,\"D\")","v":6},{"$f":"COUNTIF('[1]Testee answer 2011'!AG127:AG147,\"D\")","v":8},{"$f":"COUNTIF('[1]Testee answer 2011'!AH127:AH147,\"D\")","v":1},{"$f":"COUNTIF('[1]Testee answer 2011'!AI127:AI147,\"D\")","v":1},{"$f":"COUNTIF('[1]Testee answer 2011'!AJ127:AJ147,\"D\")","v":6},{"$f":"COUNTIF('[1]Testee answer 2011'!AK127:AK147,\"D\")","v":6},{"$f":"COUNTIF('[1]Testee answer 2011'!AL127:AL147,\"D\")","v":6},{"$f":"COUNTIF('[1]Testee answer 2011'!AM127:AM147,\"D\")","v":7},{"$f":"COUNTIF('[1]Testee answer 2011'!AN127:AN147,\"D\")","v":6},{"$f":"COUNTIF('[1]Testee answer 2011'!AO127:AO147,\"D\")","v":1},{"$f":"COUNTIF('[1]Testee answer 2011'!AP127:AP147,\"D\")","v":0},{"$f":"COUNTIF('[1]Testee answer 2011'!AQ127:AQ147,\"D\")","v":0},{"$f":"COUNTIF('[1]Testee answer 2011'!AR127:AR147,\"D\")","v":0},{"$f":"COUNTIF('[1]Testee answer 2011'!AS127:AS147,\"D\")","v":0},{"$f":"COUNTIF('[1]Testee answer 2011'!AT127:AT147,\"D\")","v":9},{"$f":"COUNTIF('[1]Testee answer 2011'!AU127:AU147,\"D\")","v":12},{"$f":"COUNTIF('[1]Testee answer 2011'!AV127:AV147,\"D\")","v":7},{"$f":"COUNTIF('[1]Testee answer 2011'!AW127:AW147,\"D\")","v":1},{"$f":"COUNTIF('[1]Testee answer 2011'!AX127:AX147,\"D\")","v":1},{"$f":"COUNTIF('[1]Testee answer 2011'!AY127:AY147,\"D\")","v":5},{"$f":"COUNTIF('[1]Testee answer 2011'!AZ127:AZ147,\"D\")","v":6},{"$f":"COUNTIF('[1]Testee answer 2011'!BA127:BA147,\"D\")","v":0},{"$f":"COUNTIF('[1]Testee answer 2011'!BB127:BB147,\"D\")","v":0},{"$f":"COUNTIF('[1]Testee answer 2011'!BC127:BC147,\"D\")","v":0},{"$f":"COUNTIF('[1]Testee answer 2011'!BD127:BD147,\"D\")","v":1},{"$f":"COUNTIF('[1]Testee answer 2011'!BE127:BE147,\"D\")","v":1},{"$f":"COUNTIF('[1]Testee answer 2011'!BF127:BF147,\"D\")","v":0},{"$f":"COUNTIF('[1]Testee answer 2011'!BG127:BG147,\"D\")","v":0},{"$f":"COUNTIF('[1]Testee answer 2011'!BH127:BH147,\"D\")","v":0},{"$f":"COUNTIF('[1]Testee answer 2011'!BI127:BI147,\"D\")","v":0}]
["AF1",{"$f":"COUNTIF('[1]Testee answer 2011'!D6:D59,\"A\")","v":54},{"$f":"COUNTIF('[1]Testee answer 2011'!E6:E59,\"A\")","v":17},{"$f":"COUNTIF('[1]Testee answer 2011'!F6:F59,\"A\")","v":16},{"$f":"COUNTIF('[1]Testee answer 2011'!G6:G59,\"A\")","v":30},{"$f":"COUNTIF('[1]Testee answer 2011'!H6:H59,\"A\")","v":37},{"$f":"COUNTIF('[1]Testee answer 2011'!I6:I59,\"A\")","v":11},{"$f":"COUNTIF('[1]Testee answer 2011'!J6:J59,\"A\")","v":25},{"$f":"COUNTIF('[1]Testee answer 2011'!K6:K59,\"A\")","v":20},{"$f":"COUNTIF('[1]Testee answer 2011'!L6:L59,\"A\")","v":16},{"$f":"COUNTIF('[1]Testee answer 2011'!M6:M59,\"A\")","v":17},{"$f":"COUNTIF('[1]Testee answer 2011'!N6:N59,\"A\")","v":15},{"$f":"COUNTIF('[1]Testee answer 2011'!O6:O59,\"A\")","v":3},{"$f":"COUNTIF('[1]Testee answer 2011'!P6:P59,\"A\")","v":6},{"$f":"COUNTIF('[1]Testee answer 2011'!Q6:Q59,\"A\")","v":2},{"$f":"COUNTIF('[1]Testee answer 2011'!R6:R59,\"A\")","v":12},{"$f":"COUNTIF('[1]Testee answer 2011'!S6:S59,\"A\")","v":4},{"$f":"COUNTIF('[1]Testee answer 2011'!T6:T59,\"A\")","v":14},{"$f":"COUNTIF('[1]Testee answer 2011'!U6:U59,\"A\")","v":9},{"$f":"COUNTIF('[1]Testee answer 2011'!V6:V59,\"A\")","v":6},{"$f":"COUNTIF('[1]Testee answer 2011'!W6:W59,\"A\")","v":6},{"$f":"COUNTIF('[1]Testee answer 2011'!X6:X59,\"A\")","v":5},{"$f":"COUNTIF('[1]Testee answer 2011'!Y6:Y59,\"A\")","v":6},{"$f":"COUNTIF('[1]Testee answer 2011'!Z6:Z59,\"A\")","v":17},{"$f":"COUNTIF('[1]Testee answer 2011'!AA6:AA59,\"A\")","v":22},{"$f":"COUNTIF('[1]Testee answer 2011'!AB6:AB59,\"A\")","v":4},{"$f":"COUNTIF('[1]Testee answer 2011'!AC6:AC59,\"A\")","v":12},{"$f":"COUNTIF('[1]Testee answer 2011'!AD6:AD59,\"A\")","v":18},{"$f":"COUNTIF('[1]Testee answer 2011'!AE6:AE59,\"A\")","v":7},{"$f":"COUNTIF('[1]Testee answer 2011'!AF6:AF59,\"A\")","v":9},{"$f":"COUNTIF('[1]Testee answer 2011'!AG6:AG59,\"A\")","v":7},{"$f":"COUNTIF('[1]Testee answer 2011'!AH6:AH59,\"A\")","v":22},{"$f":"COUNTIF('[1]Testee answer 2011'!AI6:AI59,\"A\")","v":11},{"$f":"COUNTIF('[1]Testee answer 2011'!AJ6:AJ59,\"A\")","v":16},{"$f":"COUNTIF('[1]Testee answer 2011'!AK6:AK59,\"A\")","v":17},{"$f":"COUNTIF('[1]Testee answer 2011'!AL6:AL59,\"A\")","v":4},{"$f":"COUNTIF('[1]Testee answer 2011'!AM6:AM59,\"A\")","v":5},{"$f":"COUNTIF('[1]Testee answer 2011'!AN6:AN59,\"A\")","v":5},{"$f":"COUNTIF('[1]Testee answer 2011'!AO6:AO59,\"A\")","v":2},{"$f":"COUNTIF('[1]Testee answer 2011'!AP6:AP59,\"A\")","v":4},{"$f":"COUNTIF('[1]Testee answer 2011'!AQ6:AQ59,\"A\")","v":3},{"$f":"COUNTIF('[1]Testee answer 2011'!AR6:AR59,\"A\")","v":5},{"$f":"COUNTIF('[1]Testee answer 2011'!AS6:AS59,\"A\")","v":2},{"$f":"COUNTIF('[1]Testee answer 2011'!AT6:AT59,\"A\")","v":1},{"$f":"COUNTIF('[1]Testee answer 2011'!AU6:AU59,\"A\")","v":1},{"$f":"COUNTIF('[1]Testee answer 2011'!AV6:AV59,\"A\")","v":2},{"$f":"COUNTIF('[1]Testee answer 2011'!AW6:AW59,\"A\")","v":22},{"$f":"COUNTIF('[1]Testee answer 2011'!AX6:AX59,\"A\")","v":13},{"$f":"COUNTIF('[1]Testee answer 2011'!AY6:AY59,\"A\")","v":6},{"$f":"COUNTIF('[1]Testee answer 2011'!AZ6:AZ59,\"A\")","v":6},{"$f":"COUNTIF('[1]Testee answer 2011'!BA6:BA59,\"A\")","v":46},{"$f":"COUNTIF('[1]Testee answer 2011'!BB6:BB59,\"A\")","v":16},{"$f":"COUNTIF('[1]Testee answer 2011'!BC6:BC59,\"A\")","v":9},{"$f":"COUNTIF('[1]Testee answer 2011'!BD6:BD59,\"A\")","v":22},{"$f":"COUNTIF('[1]Testee answer 2011'!BE6:BE59,\"A\")","v":41},{"$f":"COUNTIF('[1]Testee answer 2011'!BF6:BF59,\"A\")","v":2},{"$f":"COUNTIF('[1]Testee answer 2011'!BG6:BG59,\"A\")","v":36},{"$f":"COUNTIF('[1]Testee answer 2011'!BH6:BH59,\"A\")","v":23},{"$f":"COUNTIF('[1]Testee answer 2011'!BI6:BI59,\"A\")","v":2}]
["AF1",{"$f":"COUNTIF('[1]Testee answer 2011'!D6:D59,\"B\")","v":0},{"$f":"COUNTIF('[1]Testee answer 2011'!E6:E59,\"B\")","v":37},{"$f":"COUNTIF('[1]Testee answer 2011'!F6:F59,\"B\")","v":32},{"$f":"COUNTIF('[1]Testee answer 2011'!G6:G59,\"B\")","v":23},{"$f":"COUNTIF('[1]Testee answer 2011'!H6:H59,\"B\")","v":6},{"$f":"COUNTIF('[1]Testee answer 2011'!I6:I59,\"B\")","v":23},{"$f":"COUNTIF('[1]Testee answer 2011'!J6:J59,\"B\")","v":27},{"$f":"COUNTIF('[1]Testee answer 2011'!K6:K59,\"B\")","v":26},{"$f":"COUNTIF('[1]Testee answer 2011'!L6:L59,\"B\")","v":29},{"$f":"COUNTIF('[1]Testee answer 2011'!M6:M59,\"B\")","v":16},{"$f":"COUNTIF('[1]Testee answer 2011'!N6:N59,\"B\")","v":20},{"$f":"COUNTIF('[1]Testee answer 2011'!O6:O59,\"B\")","v":23},{"$f":"COUNTIF('[1]Testee answer 2011'!P6:P59,\"B\")","v":17},{"$f":"COUNTIF('[1]Testee answer 2011'!Q6:Q59,\"B\")","v":7},{"$f":"COUNTIF('[1]Testee answer 2011'!R6:R59,\"B\")","v":10},{"$f":"COUNTIF('[1]Testee answer 2011'!S6:S59,\"B\")","v":8},{"$f":"COUNTIF('[1]Testee answer 2011'!T6:T59,\"B\")","v":13},{"$f":"COUNTIF('[1]Testee answer 2011'!U6:U59,\"B\")","v":14},{"$f":"COUNTIF('[1]Testee answer 2011'!V6:V59,\"B\")","v":9},{"$f":"COUNTIF('[1]Testee answer 2011'!W6:W59,\"B\")","v":15},{"$f":"COUNTIF('[1]Testee answer 2011'!X6:X59,\"B\")","v":12},{"$f":"COUNTIF('[1]Testee answer 2011'!Y6:Y59,\"B\")","v":9},{"$f":"COUNTIF('[1]Testee answer 2011'!Z6:Z59,\"B\")","v":8},{"$f":"COUNTIF('[1]Testee answer 2011'!AA6:AA59,\"B\")","v":13},{"$f":"COUNTIF('[1]Testee answer 2011'!AB6:AB59,\"B\")","v":4},{"$f":"COUNTIF('[1]Testee answer 2011'!AC6:AC59,\"B\")","v":13},{"$f":"COUNTIF('[1]Testee answer 2011'!AD6:AD59,\"B\")","v":14},{"$f":"COUNTIF('[1]Testee answer 2011'!AE6:AE59,\"B\")","v":11},{"$f":"COUNTIF('[1]Testee answer 2011'!AF6:AF59,\"B\")","v":2},{"$f":"COUNTIF('[1]Testee answer 2011'!AG6:AG59,\"B\")","v":3},{"$f":"COUNTIF('[1]Testee answer 2011'!AH6:AH59,\"B\")","v":18},{"$f":"COUNTIF('[1]Testee answer 2011'!AI6:AI59,\"B\")","v":21},{"$f":"COUNTIF('[1]Testee answer 2011'!AJ6:AJ59,\"B\")","v":8},{"$f":"COUNTIF('[1]Testee answer 2011'!AK6:AK59,\"B\")","v":6},{"$f":"COUNTIF('[1]Testee answer 2011'!AL6:AL59,\"B\")","v":10},{"$f":"COUNTIF('[1]Testee answer 2011'!AM6:AM59,\"B\")","v":8},{"$f":"COUNTIF('[1]Testee answer 2011'!AN6:AN59,\"B\")","v":14},{"$f":"COUNTIF('[1]Testee answer 2011'!AO6:AO59,\"B\")","v":52},{"$f":"COUNTIF('[1]Testee answer 2011'!AP6:AP59,\"B\")","v":49},{"$f":"COUNTIF('[1]Testee answer 2011'!AQ6:AQ59,\"B\")","v":50},{"$f":"COUNTIF('[1]Testee answer 2011'!AR6:AR59,\"B\")","v":49},{"$f":"COUNTIF('[1]Testee answer 2011'!AS6:AS59,\"B\")","v":52},{"$f":"COUNTIF('[1]Testee answer 2011'!AT6:AT59,\"B\")","v":6},{"$f":"COUNTIF('[1]Testee answer 2011'!AU6:AU59,\"B\")","v":2},{"$f":"COUNTIF('[1]Testee answer 2011'!AV6:AV59,\"B\")","v":3},{"$f":"COUNTIF('[1]Testee answer 2011'!AW6:AW59,\"B\")","v":17},{"$f":"COUNTIF('[1]Testee answer 2011'!AX6:AX59,\"B\")","v":22},{"$f":"COUNTIF('[1]Testee answer 2011'!AY6:AY59,\"B\")","v":13},{"$f":"COUNTIF('[1]Testee answer 2011'!AZ6:AZ59,\"B\")","v":11},{"$f":"COUNTIF('[1]Testee answer 2011'!BA6:BA59,\"B\")","v":8},{"$f":"COUNTIF('[1]Testee answer 2011'!BB6:BB59,\"B\")","v":38},{"$f":"COUNTIF('[1]Testee answer 2011'!BC6:BC59,\"B\")","v":44},{"$f":"COUNTIF('[1]Testee answer 2011'!BD6:BD59,\"B\")","v":31},{"$f":"COUNTIF('[1]Testee answer 2011'!BE6:BE59,\"B\")","v":12},{"$f":"COUNTIF('[1]Testee answer 2011'!BF6:BF59,\"B\")","v":51},{"$f":"COUNTIF('[1]Testee answer 2011'!BG6:BG59,\"B\")","v":17},{"$f":"COUNTIF('[1]Testee answer 2011'!BH6:BH59,\"B\")","v":30},{"$f":"COUNTIF('[1]Testee answer 2011'!BI6:BI59,\"B\")","v":51}]
["AF1",{"$f":"COUNTIF('[1]Testee answer 2011'!D6:D59,\"C\")","v":0},{"$f":"COUNTIF('[1]Testee answer 2011'!E6:E59,\"C\")","v":0},{"$f":"COUNTIF('[1]Testee answer 2011'!F6:F59,\"C\")","v":6},{"$f":"COUNTIF('[1]Testee answer 2011'!G6:G59,\"C\")","v":1},{"$f":"COUNTIF('[1]Testee answer 2011'!H6:H59,\"C\")","v":8},{"$f":"COUNTIF('[1]Testee answer 2011'!I6:I59,\"C\")","v":12},{"$f":"COUNTIF('[1]Testee answer 2011'!J6:J59,\"C\")","v":2},{"$f":"COUNTIF('[1]Testee answer 2011'!K6:K59,\"C\")","v":8},{"$f":"COUNTIF('[1]Testee answer 2011'!L6:L59,\"C\")","v":9},{"$f":"COUNTIF('[1]Testee answer 2011'!M6:M59,\"C\")","v":19},{"$f":"COUNTIF('[1]Testee answer 2011'!N6:N59,\"C\")","v":16},{"$f":"COUNTIF('[1]Testee answer 2011'!O6:O59,\"C\")","v":25},{"$f":"COUNTIF('[1]Testee answer 2011'!P6:P59,\"C\")","v":27},{"$f":"COUNTIF('[1]Testee answer 2011'!Q6:Q59,\"C\")","v":28},{"$f":"COUNTIF('[1]Testee answer 2011'!R6:R59,\"C\")","v":21},{"$f":"COUNTIF('[1]Testee answer 2011'!S6:S59,\"C\")","v":25},{"$f":"COUNTIF('[1]Testee answer 2011'!T6:T59,\"C\")","v":19},{"$f":"COUNTIF('[1]Testee answer 2011'!U6:U59,\"C\")","v":24},{"$f":"COUNTIF('[1]Testee answer 2011'!V6:V59,\"C\")","v":21},{"$f":"COUNTIF('[1]Testee answer 2011'!W6:W59,\"C\")","v":20},{"$f":"COUNTIF('[1]Testee answer 2011'!X6:X59,\"C\")","v":22},{"$f":"COUNTIF('[1]Testee answer 2011'!Y6:Y59,\"C\")","v":27},{"$f":"COUNTIF('[1]Testee answer 2011'!Z6:Z59,\"C\")","v":20},{"$f":"COUNTIF('[1]Testee answer 2011'!AA6:AA59,\"C\")","v":16},{"$f":"COUNTIF('[1]Testee answer 2011'!AB6:AB59,\"C\")","v":14},{"$f":"COUNTIF('[1]Testee answer 2011'!AC6:AC59,\"C\")","v":16},{"$f":"COUNTIF('[1]Testee answer 2011'!AD6:AD59,\"C\")","v":17},{"$f":"COUNTIF('[1]Testee answer 2011'!AE6:AE59,\"C\")","v":15},{"$f":"COUNTIF('[1]Testee answer 2011'!AF6:AF59,\"C\")","v":15},{"$f":"COUNTIF('[1]Testee answer 2011'!AG6:AG59,\"C\")","v":22},{"$f":"COUNTIF('[1]Testee answer 2011'!AH6:AH59,\"C\")","v":13},{"$f":"COUNTIF('[1]Testee answer 2011'!AI6:AI59,\"C\")","v":18},{"$f":"COUNTIF('[1]Testee answer 2011'!AJ6:AJ59,\"C\")","v":13},{"$f":"COUNTIF('[1]Testee answer 2011'!AK6:AK59,\"C\")","v":14},{"$f":"COUNTIF('[1]Testee answer 2011'!AL6:AL59,\"C\")","v":27},{"$f":"COUNTIF('[1]Testee answer 2011'!AM6:AM59,\"C\")","v":26},{"$f":"COUNTIF('[1]Testee answer 2011'!AN6:AN59,\"C\")","v":25},{"$f":"COUNTIF('[1]Testee answer 2011'!AO6:AO59,\"C\")","v":0},{"$f":"COUNTIF('[1]Testee answer 2011'!AP6:AP59,\"C\")","v":0},{"$f":"COUNTIF('[1]Testee answer 2011'!AQ6:AQ59,\"C\")","v":0},{"$f":"COUNTIF('[1]Testee answer 2011'!AR6:AR59,\"C\")","v":0},{"$f":"COUNTIF('[1]Testee answer 2011'!AS6:AS59,\"C\")","v":0},{"$f":"COUNTIF('[1]Testee answer 2011'!AT6:AT59,\"C\")","v":15},{"$f":"COUNTIF('[1]Testee answer 2011'!AU6:AU59,\"C\")","v":11},{"$f":"COUNTIF('[1]Testee answer 2011'!AV6:AV59,\"C\")","v":16},{"$f":"COUNTIF('[1]Testee answer 2011'!AW6:AW59,\"C\")","v":14},{"$f":"COUNTIF('[1]Testee answer 2011'!AX6:AX59,\"C\")","v":17},{"$f":"COUNTIF('[1]Testee answer 2011'!AY6:AY59,\"C\")","v":26},{"$f":"COUNTIF('[1]Testee answer 2011'!AZ6:AZ59,\"C\")","v":27},{"$f":"COUNTIF('[1]Testee answer 2011'!BA6:BA59,\"C\")","v":0},{"$f":"COUNTIF('[1]Testee answer 2011'!BB6:BB59,\"C\")","v":0},{"$f":"COUNTIF('[1]Testee answer 2011'!BC6:BC59,\"C\")","v":0},{"$f":"COUNTIF('[1]Testee answer 2011'!BD6:BD59,\"C\")","v":1},{"$f":"COUNTIF('[1]Testee answer 2011'!BE6:BE59,\"C\")","v":0},{"$f":"COUNTIF('[1]Testee answer 2011'!BF6:BF59,\"C\")","v":1},{"$f":"COUNTIF('[1]Testee answer 2011'!BG6:BG59,\"C\")","v":1},{"$f":"COUNTIF('[1]Testee answer 2011'!BH6:BH59,\"C\")","v":1},{"$f":"COUNTIF('[1]Testee answer 2011'!BI6:BI59,\"C\")","v":1}]
["AF1",{"$f":"COUNTIF('[1]Testee answer 2011'!D6:D59,\"D\")","v":0},{"$f":"COUNTIF('[1]Testee answer 2011'!E6:E59,\"D\")","v":0},{"$f":"COUNTIF('[1]Testee answer 2011'!F6:F59,\"D\")","v":0},{"$f":"COUNTIF('[1]Testee answer 2011'!G6:G59,\"D\")","v":0},{"$f":"COUNTIF('[1]Testee answer 2011'!H6:H59,\"D\")","v":3},{"$f":"COUNTIF('[1]Testee answer 2011'!I6:I59,\"D\")","v":8},{"$f":"COUNTIF('[1]Testee answer 2011'!J6:J59,\"D\")","v":0},{"$f":"COUNTIF('[1]Testee answer 2011'!K6:K59,\"D\")","v":0},{"$f":"COUNTIF('[1]Testee answer 2011'!L6:L59,\"D\")","v":0},{"$f":"COUNTIF('[1]Testee answer 2011'!M6:M59,\"D\")","v":2},{"$f":"COUNTIF('[1]Testee answer 2011'!N6:N59,\"D\")","v":3},{"$f":"COUNTIF('[1]Testee answer 2011'!O6:O59,\"D\")","v":3},{"$f":"COUNTIF('[1]Testee answer 2011'!P6:P59,\"D\")","v":4},{"$f":"COUNTIF('[1]Testee answer 2011'!Q6:Q59,\"D\")","v":17},{"$f":"COUNTIF('[1]Testee answer 2011'!R6:R59,\"D\")","v":11},{"$f":"COUNTIF('[1]Testee answer 2011'!S6:S59,\"D\")","v":17},{"$f":"COUNTIF('[1]Testee answer 2011'!T6:T59,\"D\")","v":8},{"$f":"COUNTIF('[1]Testee answer 2011'!U6:U59,\"D\")","v":7},{"$f":"COUNTIF('[1]Testee answer 2011'!V6:V59,\"D\")","v":18},{"$f":"COUNTIF('[1]Testee answer 2011'!W6:W59,\"D\")","v":13},{"$f":"COUNTIF('[1]Testee answer 2011'!X6:X59,\"D\")","v":15},{"$f":"COUNTIF('[1]Testee answer 2011'!Y6:Y59,\"D\")","v":12},{"$f":"COUNTIF('[1]Testee answer 2011'!Z6:Z59,\"D\")","v":9},{"$f":"COUNTIF('[1]Testee answer 2011'!AA6:AA59,\"D\")","v":3},{"$f":"COUNTIF('[1]Testee answer 2011'!AB6:AB59,\"D\")","v":32},{"$f":"COUNTIF('[1]Testee answer 2011'!AC6:AC59,\"D\")","v":13},{"$f":"COUNTIF('[1]Testee answer 2011'!AD6:AD59,\"D\")","v":5},{"$f":"COUNTIF('[1]Testee answer 2011'!AE6:AE59,\"D\")","v":21},{"$f":"COUNTIF('[1]Testee answer 2011'!AF6:AF59,\"D\")","v":28},{"$f":"COUNTIF('[1]Testee answer 2011'!AG6:AG59,\"D\")","v":22},{"$f":"COUNTIF('[1]Testee answer 2011'!AH6:AH59,\"D\")","v":1},{"$f":"COUNTIF('[1]Testee answer 2011'!AI6:AI59,\"D\")","v":4},{"$f":"COUNTIF('[1]Testee answer 2011'!AJ6:AJ59,\"D\")","v":17},{"$f":"COUNTIF('[1]Testee answer 2011'!AK6:AK59,\"D\")","v":17},{"$f":"COUNTIF('[1]Testee answer 2011'!AL6:AL59,\"D\")","v":13},{"$f":"COUNTIF('[1]Testee answer 2011'!AM6:AM59,\"D\")","v":15},{"$f":"COUNTIF('[1]Testee answer 2011'!AN6:AN59,\"D\")","v":10},{"$f":"COUNTIF('[1]Testee answer 2011'!AO6:AO59,\"D\")","v":0},{"$f":"COUNTIF('[1]Testee answer 2011'!AP6:AP59,\"D\")","v":1},{"$f":"COUNTIF('[1]Testee answer 2011'!AQ6:AQ59,\"D\")","v":1},{"$f":"COUNTIF('[1]Testee answer 2011'!AR6:AR59,\"D\")","v":0},{"$f":"COUNTIF('[1]Testee answer 2011'!AS6:AS59,\"D\")","v":0},{"$f":"COUNTIF('[1]Testee answer 2011'!AT6:AT59,\"D\")","v":32},{"$f":"COUNTIF('[1]Testee answer 2011'!AU6:AU59,\"D\")","v":40},{"$f":"COUNTIF('[1]Testee answer 2011'!AV6:AV59,\"D\")","v":33},{"$f":"COUNTIF('[1]Testee answer 2011'!AW6:AW59,\"D\")","v":1},{"$f":"COUNTIF('[1]Testee answer 2011'!AX6:AX59,\"D\")","v":2},{"$f":"COUNTIF('[1]Testee answer 2011'!AY6:AY59,\"D\")","v":9},{"$f":"COUNTIF('[1]Testee answer 2011'!AZ6:AZ59,\"D\")","v":10},{"$f":"COUNTIF('[1]Testee answer 2011'!BA6:BA59,\"D\")","v":0},{"$f":"COUNTIF('[1]Testee answer 2011'!BB6:BB59,\"D\")","v":0},{"$f":"COUNTIF('[1]Testee answer 2011'!BC6:BC59,\"D\")","v":1},{"$f":"COUNTIF('[1]Testee answer 2011'!BD6:BD59,\"D\")","v":0},{"$f":"COUNTIF('[1]Testee answer 2011'!BE6:BE59,\"D\")","v":1},{"$f":"COUNTIF('[1]Testee answer 2011'!BF6:BF59,\"D\")","v":0},{"$f":"COUNTIF('[1]Testee answer 2011'!BG6:BG59,\"D\")","v":0},{"$f":"COUNTIF('[1]Testee answer 2011'!BH6:BH59,\"D\")","v":0},{"$f":"COUNTIF('[1]Testee answer 2011'!BI6:BI59,\"D\")","v":0}]
["AF2",{"$f":"COUNTIF('[1]Testee answer 2011'!D260:D283,\"A\")","v":0},{"$f":"COUNTIF('[1]Testee answer 2011'!E260:E283,\"A\")","v":5},{"$f":"COUNTIF('[1]Testee answer 2011'!F260:F283,\"A\")","v":8},{"$f":"COUNTIF('[1]Testee answer 2011'!G260:G283,\"A\")","v":11},{"$f":"COUNTIF('[1]Testee answer 2011'!H260:H283,\"A\")","v":12},{"$f":"COUNTIF('[1]Testee answer 2011'!I260:I283,\"A\")","v":2},{"$f":"COUNTIF('[1]Testee answer 2011'!J260:J283,\"A\")","v":10},{"$f":"COUNTIF('[1]Testee answer 2011'!K260:K283,\"A\")","v":8},{"$f":"COUNTIF('[1]Testee answer 2011'!L260:L283,\"A\")","v":11},{"$f":"COUNTIF('[1]Testee answer 2011'!M260:M283,\"A\")","v":10},{"$f":"COUNTIF('[1]Testee answer 2011'!N260:N283,\"A\")","v":11},{"$f":"COUNTIF('[1]Testee answer 2011'!O260:O283,\"A\")","v":3},{"$f":"COUNTIF('[1]Testee answer 2011'!P260:P283,\"A\")","v":5},{"$f":"COUNTIF('[1]Testee answer 2011'!Q260:Q283,\"A\")","v":0},{"$f":"COUNTIF('[1]Testee answer 2011'!R260:R283,\"A\")","v":5},{"$f":"COUNTIF('[1]Testee answer 2011'!S260:S283,\"A\")","v":2},{"$f":"COUNTIF('[1]Testee answer 2011'!T260:T283,\"A\")","v":9},{"$f":"COUNTIF('[1]Testee answer 2011'!U260:U283,\"A\")","v":7},{"$f":"COUNTIF('[1]Testee answer 2011'!V260:V283,\"A\")","v":1},{"$f":"COUNTIF('[1]Testee answer 2011'!W260:W283,\"A\")","v":3},{"$f":"COUNTIF('[1]Testee answer 2011'!X260:X283,\"A\")","v":3},{"$f":"COUNTIF('[1]Testee answer 2011'!Y260:Y283,\"A\")","v":3},{"$f":"COUNTIF('[1]Testee answer 2011'!Z260:Z283,\"A\")","v":4},{"$f":"COUNTIF('[1]Testee answer 2011'!AA260:AA283,\"A\")","v":12},{"$f":"COUNTIF('[1]Testee answer 2011'!AB260:AB283,\"A\")","v":1},{"$f":"COUNTIF('[1]Testee answer 2011'!AC260:AC283,\"A\")","v":5},{"$f":"COUNTIF('[1]Testee answer 2011'!AD260:AD283,\"A\")","v":9},{"$f":"COUNTIF('[1]Testee answer 2011'!AE260:AE283,\"A\")","v":6},{"$f":"COUNTIF('[1]Testee answer 2011'!AF260:AF283,\"A\")","v":0},{"$f":"COUNTIF('[1]Testee answer 2011'!AG260:AG283,\"A\")","v":5},{"$f":"COUNTIF('[1]Testee answer 2011'!AH260:AH283,\"A\")","v":8},{"$f":"COUNTIF('[1]Testee answer 2011'!AI260:AI283,\"A\")","v":4},{"$f":"COUNTIF('[1]Testee answer 2011'!AJ260:AJ283,\"A\")","v":6},{"$f":"COUNTIF('[1]Testee answer 2011'!AK260:AK283,\"A\")","v":4},{"$f":"COUNTIF('[1]Testee answer 2011'!AL260:AL283,\"A\")","v":2},{"$f":"COUNTIF('[1]Testee answer 2011'!AM260:AM283,\"A\")","v":3},{"$f":"COUNTIF('[1]Testee answer 2011'!AN260:AN283,\"A\")","v":3},{"$f":"COUNTIF('[1]Testee answer 2011'!AO260:AO283,\"A\")","v":10},{"$f":"COUNTIF('[1]Testee answer 2011'!AP260:AP283,\"A\")","v":5},{"$f":"COUNTIF('[1]Testee answer 2011'!AQ260:AQ283,\"A\")","v":4},{"$f":"COUNTIF('[1]Testee answer 2011'!AR260:AR283,\"A\")","v":3},{"$f":"COUNTIF('[1]Testee answer 2011'!AS260:AS283,\"A\")","v":0},{"$f":"COUNTIF('[1]Testee answer 2011'!AT260:AT283,\"A\")","v":0},{"$f":"COUNTIF('[1]Testee answer 2011'!AU260:AU283,\"A\")","v":0},{"$f":"COUNTIF('[1]Testee answer 2011'!AV260:AV283,\"A\")","v":1},{"$f":"COUNTIF('[1]Testee answer 2011'!AW260:AW283,\"A\")","v":10},{"$f":"COUNTIF('[1]Testee answer 2011'!AX260:AX283,\"A\")","v":6},{"$f":"COUNTIF('[1]Testee answer 2011'!AY260:AY283,\"A\")","v":2},{"$f":"COUNTIF('[1]Testee answer 2011'!AZ260:AZ283,\"A\")","v":4},{"$f":"COUNTIF('[1]Testee answer 2011'!BA260:BA283,\"A\")","v":19},{"$f":"COUNTIF('[1]Testee answer 2011'!BB260:BB283,\"A\")","v":11},{"$f":"COUNTIF('[1]Testee answer 2011'!BC260:BC283,\"A\")","v":4},{"$f":"COUNTIF('[1]Testee answer 2011'!BD260:BD283,\"A\")","v":13},{"$f":"COUNTIF('[1]Testee answer 2011'!BE260:BE283,\"A\")","v":19},{"$f":"COUNTIF('[1]Testee answer 2011'!BF260:BF283,\"A\")","v":0},{"$f":"COUNTIF('[1]Testee answer 2011'!BG260:BG283,\"A\")","v":17},{"$f":"COUNTIF('[1]Testee answer 2011'!BH260:BH283,\"A\")","v":9},{"$f":"COUNTIF('[1]Testee answer 2011'!BI260:BI283,\"A\")","v":4}]
["AF2",{"$f":"COUNTIF('[1]Testee answer 2011'!D260:D283,\"B\")","v":23},{"$f":"COUNTIF('[1]Testee answer 2011'!E260:E283,\"B\")","v":18},{"$f":"COUNTIF('[1]Testee answer 2011'!F260:F283,\"B\")","v":13},{"$f":"COUNTIF('[1]Testee answer 2011'!G260:G283,\"B\")","v":10},{"$f":"COUNTIF('[1]Testee answer 2011'!H260:H283,\"B\")","v":7},{"$f":"COUNTIF('[1]Testee answer 2011'!I260:I283,\"B\")","v":13},{"$f":"COUNTIF('[1]Testee answer 2011'!J260:J283,\"B\")","v":13},{"$f":"COUNTIF('[1]Testee answer 2011'!K260:K283,\"B\")","v":13},{"$f":"COUNTIF('[1]Testee answer 2011'!L260:L283,\"B\")","v":8},{"$f":"COUNTIF('[1]Testee answer 2011'!M260:M283,\"B\")","v":10},{"$f":"COUNTIF('[1]Testee answer 2011'!N260:N283,\"B\")","v":5},{"$f":"COUNTIF('[1]Testee answer 2011'!O260:O283,\"B\")","v":9},{"$f":"COUNTIF('[1]Testee answer 2011'!P260:P283,\"B\")","v":4},{"$f":"COUNTIF('[1]Testee answer 2011'!Q260:Q283,\"B\")","v":1},{"$f":"COUNTIF('[1]Testee answer 2011'!R260:R283,\"B\")","v":4},{"$f":"COUNTIF('[1]Testee answer 2011'!S260:S283,\"B\")","v":4},{"$f":"COUNTIF('[1]Testee answer 2011'!T260:T283,\"B\")","v":3},{"$f":"COUNTIF('[1]Testee answer 2011'!U260:U283,\"B\")","v":6},{"$f":"COUNTIF('[1]Testee answer 2011'!V260:V283,\"B\")","v":3},{"$f":"COUNTIF('[1]Testee answer 2011'!W260:W283,\"B\")","v":3},{"$f":"COUNTIF('[1]Testee answer 2011'!X260:X283,\"B\")","v":7},{"$f":"COUNTIF('[1]Testee answer 2011'!Y260:Y283,\"B\")","v":5},{"$f":"COUNTIF('[1]Testee answer 2011'!Z260:Z283,\"B\")","v":4},{"$f":"COUNTIF('[1]Testee answer 2011'!AA260:AA283,\"B\")","v":7},{"$f":"COUNTIF('[1]Testee answer 2011'!AB260:AB283,\"B\")","v":2},{"$f":"COUNTIF('[1]Testee answer 2011'!AC260:AC283,\"B\")","v":4},{"$f":"COUNTIF('[1]Testee answer 2011'!AD260:AD283,\"B\")","v":4},{"$f":"COUNTIF('[1]Testee answer 2011'!AE260:AE283,\"B\")","v":2},{"$f":"COUNTIF('[1]Testee answer 2011'!AF260:AF283,\"B\")","v":0},{"$f":"COUNTIF('[1]Testee answer 2011'!AG260:AG283,\"B\")","v":3},{"$f":"COUNTIF('[1]Testee answer 2011'!AH260:AH283,\"B\")","v":7},{"$f":"COUNTIF('[1]Testee answer 2011'!AI260:AI283,\"B\")","v":6},{"$f":"COUNTIF('[1]Testee answer 2011'!AJ260:AJ283,\"B\")","v":2},{"$f":"COUNTIF('[1]Testee answer 2011'!AK260:AK283,\"B\")","v":3},{"$f":"COUNTIF('[1]Testee answer 2011'!AL260:AL283,\"B\")","v":3},{"$f":"COUNTIF('[1]Testee answer 2011'!AM260:AM283,\"B\")","v":1},{"$f":"COUNTIF('[1]Testee answer 2011'!AN260:AN283,\"B\")","v":4},{"$f":"COUNTIF('[1]Testee answer 2011'!AO260:AO283,\"B\")","v":12},{"$f":"COUNTIF('[1]Testee answer 2011'!AP260:AP283,\"B\")","v":18},{"$f":"COUNTIF('[1]Testee answer 2011'!AQ260:AQ283,\"B\")","v":19},{"$f":"COUNTIF('[1]Testee answer 2011'!AR260:AR283,\"B\")","v":20},{"$f":"COUNTIF('[1]Testee answer 2011'!AS260:AS283,\"B\")","v":23},{"$f":"COUNTIF('[1]Testee answer 2011'!AT260:AT283,\"B\")","v":6},{"$f":"COUNTIF('[1]Testee answer 2011'!AU260:AU283,\"B\")","v":1},{"$f":"COUNTIF('[1]Testee answer 2011'!AV260:AV283,\"B\")","v":1},{"$f":"COUNTIF('[1]Testee answer 2011'!AW260:AW283,\"B\")","v":7},{"$f":"COUNTIF('[1]Testee answer 2011'!AX260:AX283,\"B\")","v":7},{"$f":"COUNTIF('[1]Testee answer 2011'!AY260:AY283,\"B\")","v":3},{"$f":"COUNTIF('[1]Testee answer 2011'!AZ260:AZ283,\"B\")","v":2},{"$f":"COUNTIF('[1]Testee answer 2011'!BA260:BA283,\"B\")","v":4},{"$f":"COUNTIF('[1]Testee answer 2011'!BB260:BB283,\"B\")","v":12},{"$f":"COUNTIF('[1]Testee answer 2011'!BC260:BC283,\"B\")","v":19},{"$f":"COUNTIF('[1]Testee answer 2011'!BD260:BD283,\"B\")","v":10},{"$f":"COUNTIF('[1]Testee answer 2011'!BE260:BE283,\"B\")","v":4},{"$f":"COUNTIF('[1]Testee answer 2011'!BF260:BF283,\"B\")","v":23},{"$f":"COUNTIF('[1]Testee answer 2011'!BG260:BG283,\"B\")","v":6},{"$f":"COUNTIF('[1]Testee answer 2011'!BH260:BH283,\"B\")","v":14},{"$f":"COUNTIF('[1]Testee answer 2011'!BI260:BI283,\"B\")","v":19}]
["AF2",{"$f":"COUNTIF('[1]Testee answer 2011'!D260:D283,\"C\")","v":0},{"$f":"COUNTIF('[1]Testee answer 2011'!E260:E283,\"C\")","v":0},{"$f":"COUNTIF('[1]Testee answer 2011'!F260:F283,\"C\")","v":2},{"$f":"COUNTIF('[1]Testee answer 2011'!G260:G283,\"C\")","v":2},{"$f":"COUNTIF('[1]Testee answer 2011'!H260:H283,\"C\")","v":2},{"$f":"COUNTIF('[1]Testee answer 2011'!I260:I283,\"C\")","v":8},{"$f":"COUNTIF('[1]Testee answer 2011'!J260:J283,\"C\")","v":0},{"$f":"COUNTIF('[1]Testee answer 2011'!K260:K283,\"C\")","v":2},{"$f":"COUNTIF('[1]Testee answer 2011'!L260:L283,\"C\")","v":4},{"$f":"COUNTIF('[1]Testee answer 2011'!M260:M283,\"C\")","v":3},{"$f":"COUNTIF('[1]Testee answer 2011'!N260:N283,\"C\")","v":7},{"$f":"COUNTIF('[1]Testee answer 2011'!O260:O283,\"C\")","v":11},{"$f":"COUNTIF('[1]Testee answer 2011'!P260:P283,\"C\")","v":14},{"$f":"COUNTIF('[1]Testee answer 2011'!Q260:Q283,\"C\")","v":11},{"$f":"COUNTIF('[1]Testee answer 2011'!R260:R283,\"C\")","v":8},{"$f":"COUNTIF('[1]Testee answer 2011'!S260:S283,\"C\")","v":7},{"$f":"COUNTIF('[1]Testee answer 2011'!T260:T283,\"C\")","v":3},{"$f":"COUNTIF('[1]Testee answer 2011'!U260:U283,\"C\")","v":9},{"$f":"COUNTIF('[1]Testee answer 2011'!V260:V283,\"C\")","v":11},{"$f":"COUNTIF('[1]Testee answer 2011'!W260:W283,\"C\")","v":13},{"$f":"COUNTIF('[1]Testee answer 2011'!X260:X283,\"C\")","v":6},{"$f":"COUNTIF('[1]Testee answer 2011'!Y260:Y283,\"C\")","v":3},{"$f":"COUNTIF('[1]Testee answer 2011'!Z260:Z283,\"C\")","v":6},{"$f":"COUNTIF('[1]Testee answer 2011'!AA260:AA283,\"C\")","v":4},{"$f":"COUNTIF('[1]Testee answer 2011'!AB260:AB283,\"C\")","v":3},{"$f":"COUNTIF('[1]Testee answer 2011'!AC260:AC283,\"C\")","v":10},{"$f":"COUNTIF('[1]Testee answer 2011'!AD260:AD283,\"C\")","v":7},{"$f":"COUNTIF('[1]Testee answer 2011'!AE260:AE283,\"C\")","v":3},{"$f":"COUNTIF('[1]Testee answer 2011'!AF260:AF283,\"C\")","v":8},{"$f":"COUNTIF('[1]Testee answer 2011'!AG260:AG283,\"C\")","v":7},{"$f":"COUNTIF('[1]Testee answer 2011'!AH260:AH283,\"C\")","v":8},{"$f":"COUNTIF('[1]Testee answer 2011'!AI260:AI283,\"C\")","v":10},{"$f":"COUNTIF('[1]Testee answer 2011'!AJ260:AJ283,\"C\")","v":5},{"$f":"COUNTIF('[1]Testee answer 2011'!AK260:AK283,\"C\")","v":9},{"$f":"COUNTIF('[1]Testee answer 2011'!AL260:AL283,\"C\")","v":11},{"$f":"COUNTIF('[1]Testee answer 2011'!AM260:AM283,\"C\")","v":7},{"$f":"COUNTIF('[1]Testee answer 2011'!AN260:AN283,\"C\")","v":8},{"$f":"COUNTIF('[1]Testee answer 2011'!AO260:AO283,\"C\")","v":0},{"$f":"COUNTIF('[1]Testee answer 2011'!AP260:AP283,\"C\")","v":0},{"$f":"COUNTIF('[1]Testee answer 2011'!AQ260:AQ283,\"C\")","v":0},{"$f":"COUNTIF('[1]Testee answer 2011'!AR260:AR283,\"C\")","v":0},{"$f":"COUNTIF('[1]Testee answer 2011'!AS260:AS283,\"C\")","v":0},{"$f":"COUNTIF('[1]Testee answer 2011'!AT260:AT283,\"C\")","v":7},{"$f":"COUNTIF('[1]Testee answer 2011'!AU260:AU283,\"C\")","v":4},{"$f":"COUNTIF('[1]Testee answer 2011'!AV260:AV283,\"C\")","v":5},{"$f":"COUNTIF('[1]Testee answer 2011'!AW260:AW283,\"C\")","v":4},{"$f":"COUNTIF('[1]Testee answer 2011'!AX260:AX283,\"C\")","v":9},{"$f":"COUNTIF('[1]Testee answer 2011'!AY260:AY283,\"C\")","v":11},{"$f":"COUNTIF('[1]Testee answer 2011'!AZ260:AZ283,\"C\")","v":8},{"$f":"COUNTIF('[1]Testee answer 2011'!BA260:BA283,\"C\")","v":0},{"$f":"COUNTIF('[1]Testee answer 2011'!BB260:BB283,\"C\")","v":0},{"$f":"COUNTIF('[1]Testee answer 2011'!BC260:BC283,\"C\")","v":0},{"$f":"COUNTIF('[1]Testee answer 2011'!BD260:BD283,\"C\")","v":0},{"$f":"COUNTIF('[1]Testee answer 2011'!BE260:BE283,\"C\")","v":0},{"$f":"COUNTIF('[1]Testee answer 2011'!BF260:BF283,\"C\")","v":0},{"$f":"COUNTIF('[1]Testee answer 2011'!BG260:BG283,\"C\")","v":0},{"$f":"COUNTIF('[1]Testee answer 2011'!BH260:BH283,\"C\")","v":0},{"$f":"COUNTIF('[1]Testee answer 2011'!BI260:BI283,\"C\")","v":0}]
["AF2",{"$f":"COUNTIF('[1]Testee answer 2011'!D260:D283,\"D\")","v":0},{"$f":"COUNTIF('[1]Testee answer 2011'!E260:E283,\"D\")","v":0},{"$f":"COUNTIF('[1]Testee answer 2011'!F260:F283,\"D\")","v":0},{"$f":"COUNTIF('[1]Testee answer 2011'!G260:G283,\"D\")","v":0},{"$f":"COUNTIF('[1]Testee answer 2011'!H260:H283,\"D\")","v":2},{"$f":"COUNTIF('[1]Testee answer 2011'!I260:I283,\"D\")","v":0},{"$f":"COUNTIF('[1]Testee answer 2011'!J260:J283,\"D\")","v":0},{"$f":"COUNTIF('[1]Testee answer 2011'!K260:K283,\"D\")","v":0},{"$f":"COUNTIF('[1]Testee answer 2011'!L260:L283,\"D\")","v":0},{"$f":"COUNTIF('[1]Testee answer 2011'!M260:M283,\"D\")","v":0},{"$f":"COUNTIF('[1]Testee answer 2011'!N260:N283,\"D\")","v":0},{"$f":"COUNTIF('[1]Testee answer 2011'!O260:O283,\"D\")","v":0},{"$f":"COUNTIF('[1]Testee answer 2011'!P260:P283,\"D\")","v":0},{"$f":"COUNTIF('[1]Testee answer 2011'!Q260:Q283,\"D\")","v":11},{"$f":"COUNTIF('[1]Testee answer 2011'!R260:R283,\"D\")","v":6},{"$f":"COUNTIF('[1]Testee answer 2011'!S260:S283,\"D\")","v":10},{"$f":"COUNTIF('[1]Testee answer 2011'!T260:T283,\"D\")","v":8},{"$f":"COUNTIF('[1]Testee answer 2011'!U260:U283,\"D\")","v":1},{"$f":"COUNTIF('[1]Testee answer 2011'!V260:V283,\"D\")","v":8},{"$f":"COUNTIF('[1]Testee answer 2011'!W260:W283,\"D\")","v":4},{"$f":"COUNTIF('[1]Testee answer 2011'!X260:X283,\"D\")","v":7},{"$f":"COUNTIF('[1]Testee answer 2011'!Y260:Y283,\"D\")","v":12},{"$f":"COUNTIF('[1]Testee answer 2011'!Z260:Z283,\"D\")","v":9},{"$f":"COUNTIF('[1]Testee answer 2011'!AA260:AA283,\"D\")","v":0},{"$f":"COUNTIF('[1]Testee answer 2011'!AB260:AB283,\"D\")","v":17},{"$f":"COUNTIF('[1]Testee answer 2011'!AC260:AC283,\"D\")","v":4},{"$f":"COUNTIF('[1]Testee answer 2011'!AD260:AD283,\"D\")","v":3},{"$f":"COUNTIF('[1]Testee answer 2011'!AE260:AE283,\"D\")","v":12},{"$f":"COUNTIF('[1]Testee answer 2011'!AF260:AF283,\"D\")","v":15},{"$f":"COUNTIF('[1]Testee answer 2011'!AG260:AG283,\"D\")","v":8},{"$f":"COUNTIF('[1]Testee answer 2011'!AH260:AH283,\"D\")","v":0},{"$f":"COUNTIF('[1]Testee answer 2011'!AI260:AI283,\"D\")","v":3},{"$f":"COUNTIF('[1]Testee answer 2011'!AJ260:AJ283,\"D\")","v":10},{"$f":"COUNTIF('[1]Testee answer 2011'!AK260:AK283,\"D\")","v":7},{"$f":"COUNTIF('[1]Testee answer 2011'!AL260:AL283,\"D\")","v":7},{"$f":"COUNTIF('[1]Testee answer 2011'!AM260:AM283,\"D\")","v":12},{"$f":"COUNTIF('[1]Testee answer 2011'!AN260:AN283,\"D\")","v":8},{"$f":"COUNTIF('[1]Testee answer 2011'!AO260:AO283,\"D\")","v":1},{"$f":"COUNTIF('[1]Testee answer 2011'!AP260:AP283,\"D\")","v":0},{"$f":"COUNTIF('[1]Testee answer 2011'!AQ260:AQ283,\"D\")","v":0},{"$f":"COUNTIF('[1]Testee answer 2011'!AR260:AR283,\"D\")","v":0},{"$f":"COUNTIF('[1]Testee answer 2011'!AS260:AS283,\"D\")","v":0},{"$f":"COUNTIF('[1]Testee answer 2011'!AT260:AT283,\"D\")","v":10},{"$f":"COUNTIF('[1]Testee answer 2011'!AU260:AU283,\"D\")","v":18},{"$f":"COUNTIF('[1]Testee answer 2011'!AV260:AV283,\"D\")","v":16},{"$f":"COUNTIF('[1]Testee answer 2011'!AW260:AW283,\"D\")","v":2},{"$f":"COUNTIF('[1]Testee answer 2011'!AX260:AX283,\"D\")","v":1},{"$f":"COUNTIF('[1]Testee answer 2011'!AY260:AY283,\"D\")","v":7},{"$f":"COUNTIF('[1]Testee answer 2011'!AZ260:AZ283,\"D\")","v":9},{"$f":"COUNTIF('[1]Testee answer 2011'!BA260:BA283,\"D\")","v":0},{"$f":"COUNTIF('[1]Testee answer 2011'!BB260:BB283,\"D\")","v":0},{"$f":"COUNTIF('[1]Testee answer 2011'!BC260:BC283,\"D\")","v":0},{"$f":"COUNTIF('[1]Testee answer 2011'!BD260:BD283,\"D\")","v":0},{"$f":"COUNTIF('[1]Testee answer 2011'!BE260:BE283,\"D\")","v":0},{"$f":"COUNTIF('[1]Testee answer 2011'!BF260:BF283,\"D\")","v":0},{"$f":"COUNTIF('[1]Testee answer 2011'!BG260:BG283,\"D\")","v":0},{"$f":"COUNTIF('[1]Testee answer 2011'!BH260:BH283,\"D\")","v":0},{"$f":"COUNTIF('[1]Testee answer 2011'!BI260:BI283,\"D\")","v":0}]
["AF3",{"$f":"COUNTIF('[1]Testee answer 2011'!D407:D425,\"A\")","v":0},{"$f":"COUNTIF('[1]Testee answer 2011'!E407:E425,\"A\")","v":4},{"$f":"COUNTIF('[1]Testee answer 2011'!F407:F425,\"A\")","v":4},{"$f":"COUNTIF('[1]Testee answer 2011'!G407:G425,\"A\")","v":6},{"$f":"COUNTIF('[1]Testee answer 2011'!H407:H425,\"A\")","v":9},{"$f":"COUNTIF('[1]Testee answer 2011'!I407:I425,\"A\")","v":1},{"$f":"COUNTIF('[1]Testee answer 2011'!J407:J425,\"A\")","v":10},{"$f":"COUNTIF('[1]Testee answer 2011'!K407:K425,\"A\")","v":9},{"$f":"COUNTIF('[1]Testee answer 2011'!L407:L425,\"A\")","v":10},{"$f":"COUNTIF('[1]Testee answer 2011'!M407:M425,\"A\")","v":8},{"$f":"COUNTIF('[1]Testee answer 2011'!N407:N425,\"A\")","v":4},{"$f":"COUNTIF('[1]Testee answer 2011'!O407:O425,\"A\")","v":3},{"$f":"COUNTIF('[1]Testee answer 2011'!P407:P425,\"A\")","v":2},{"$f":"COUNTIF('[1]Testee answer 2011'!Q407:Q425,\"A\")","v":0},{"$f":"COUNTIF('[1]Testee answer 2011'!R407:R425,\"A\")","v":3},{"$f":"COUNTIF('[1]Testee answer 2011'!S407:S425,\"A\")","v":5},{"$f":"COUNTIF('[1]Testee answer 2011'!T407:T425,\"A\")","v":5},{"$f":"COUNTIF('[1]Testee answer 2011'!U407:U425,\"A\")","v":7},{"$f":"COUNTIF('[1]Testee answer 2011'!V407:V425,\"A\")","v":1},{"$f":"COUNTIF('[1]Testee answer 2011'!W407:W425,\"A\")","v":2},{"$f":"COUNTIF('[1]Testee answer 2011'!X407:X425,\"A\")","v":2},{"$f":"COUNTIF('[1]Testee answer 2011'!Y407:Y425,\"A\")","v":2},{"$f":"COUNTIF('[1]Testee answer 2011'!Z407:Z425,\"A\")","v":4},{"$f":"COUNTIF('[1]Testee answer 2011'!AA407:AA425,\"A\")","v":9},{"$f":"COUNTIF('[1]Testee answer 2011'!AB407:AB425,\"A\")","v":0},{"$f":"COUNTIF('[1]Testee answer 2011'!AC407:AC425,\"A\")","v":4},{"$f":"COUNTIF('[1]Testee answer 2011'!AD407:AD425,\"A\")","v":7},{"$f":"COUNTIF('[1]Testee answer 2011'!AE407:AE425,\"A\")","v":1},{"$f":"COUNTIF('[1]Testee answer 2011'!AF407:AF425,\"A\")","v":1},{"$f":"COUNTIF('[1]Testee answer 2011'!AG407:AG425,\"A\")","v":1},{"$f":"COUNTIF('[1]Testee answer 2011'!AH407:AH425,\"A\")","v":10},{"$f":"COUNTIF('[1]Testee answer 2011'!AI407:AI425,\"A\")","v":1},{"$f":"COUNTIF('[1]Testee answer 2011'!AJ407:AJ425,\"A\")","v":6},{"$f":"COUNTIF('[1]Testee answer 2011'!AK407:AK425,\"A\")","v":6},{"$f":"COUNTIF('[1]Testee answer 2011'!AL407:AL425,\"A\")","v":0},{"$f":"COUNTIF('[1]Testee answer 2011'!AM407:AM425,\"A\")","v":1},{"$f":"COUNTIF('[1]Testee answer 2011'!AN407:AN425,\"A\")","v":2},{"$f":"COUNTIF('[1]Testee answer 2011'!AO407:AO425,\"A\")","v":8},{"$f":"COUNTIF('[1]Testee answer 2011'!AP407:AP425,\"A\")","v":2},{"$f":"COUNTIF('[1]Testee answer 2011'!AQ407:AQ425,\"A\")","v":1},{"$f":"COUNTIF('[1]Testee answer 2011'!AR407:AR425,\"A\")","v":0},{"$f":"COUNTIF('[1]Testee answer 2011'!AS407:AS425,\"A\")","v":0},{"$f":"COUNTIF('[1]Testee answer 2011'!AT407:AT425,\"A\")","v":2},{"$f":"COUNTIF('[1]Testee answer 2011'!AU407:AU425,\"A\")","v":1},{"$f":"COUNTIF('[1]Testee answer 2011'!AV407:AV425,\"A\")","v":0},{"$f":"COUNTIF('[1]Testee answer 2011'!AW407:AW425,\"A\")","v":7},{"$f":"COUNTIF('[1]Testee answer 2011'!AX407:AX425,\"A\")","v":4},{"$f":"COUNTIF('[1]Testee answer 2011'!AY407:AY425,\"A\")","v":3},{"$f":"COUNTIF('[1]Testee answer 2011'!AZ407:AZ425,\"A\")","v":3},{"$f":"COUNTIF('[1]Testee answer 2011'!BA407:BA425,\"A\")","v":14},{"$f":"COUNTIF('[1]Testee answer 2011'!BB407:BB425,\"A\")","v":4},{"$f":"COUNTIF('[1]Testee answer 2011'!BC407:BC425,\"A\")","v":3},{"$f":"COUNTIF('[1]Testee answer 2011'!BD407:BD425,\"A\")","v":5},{"$f":"COUNTIF('[1]Testee answer 2011'!BE407:BE425,\"A\")","v":12},{"$f":"COUNTIF('[1]Testee answer 2011'!BF407:BF425,\"A\")","v":0},{"$f":"COUNTIF('[1]Testee answer 2011'!BG407:BG425,\"A\")","v":11},{"$f":"COUNTIF('[1]Testee answer 2011'!BH407:BH425,\"A\")","v":6},{"$f":"COUNTIF('[1]Testee answer 2011'!BI407:BI425,\"A\")","v":1}]
["AF3",{"$f":"COUNTIF('[1]Testee answer 2011'!D407:D425,\"B\")","v":0},{"$f":"COUNTIF('[1]Testee answer 2011'!E407:E425,\"B\")","v":14},{"$f":"COUNTIF('[1]Testee answer 2011'!F407:F425,\"B\")","v":13},{"$f":"COUNTIF('[1]Testee answer 2011'!G407:G425,\"B\")","v":11},{"$f":"COUNTIF('[1]Testee answer 2011'!H407:H425,\"B\")","v":4},{"$f":"COUNTIF('[1]Testee answer 2011'!I407:I425,\"B\")","v":8},{"$f":"COUNTIF('[1]Testee answer 2011'!J407:J425,\"B\")","v":8},{"$f":"COUNTIF('[1]Testee answer 2011'!K407:K425,\"B\")","v":7},{"$f":"COUNTIF('[1]Testee answer 2011'!L407:L425,\"B\")","v":7},{"$f":"COUNTIF('[1]Testee answer 2011'!M407:M425,\"B\")","v":5},{"$f":"COUNTIF('[1]Testee answer 2011'!N407:N425,\"B\")","v":6},{"$f":"COUNTIF('[1]Testee answer 2011'!O407:O425,\"B\")","v":6},{"$f":"COUNTIF('[1]Testee answer 2011'!P407:P425,\"B\")","v":5},{"$f":"COUNTIF('[1]Testee answer 2011'!Q407:Q425,\"B\")","v":1},{"$f":"COUNTIF('[1]Testee answer 2011'!R407:R425,\"B\")","v":4},{"$f":"COUNTIF('[1]Testee answer 2011'!S407:S425,\"B\")","v":1},{"$f":"COUNTIF('[1]Testee answer 2011'!T407:T425,\"B\")","v":2},{"$f":"COUNTIF('[1]Testee answer 2011'!U407:U425,\"B\")","v":5},{"$f":"COUNTIF('[1]Testee answer 2011'!V407:V425,\"B\")","v":1},{"$f":"COUNTIF('[1]Testee answer 2011'!W407:W425,\"B\")","v":3},{"$f":"COUNTIF('[1]Testee answer 2011'!X407:X425,\"B\")","v":3},{"$f":"COUNTIF('[1]Testee answer 2011'!Y407:Y425,\"B\")","v":5},{"$f":"COUNTIF('[1]Testee answer 2011'!Z407:Z425,\"B\")","v":4},{"$f":"COUNTIF('[1]Testee answer 2011'!AA407:AA425,\"B\")","v":1},{"$f":"COUNTIF('[1]Testee answer 2011'!AB407:AB425,\"B\")","v":2},{"$f":"COUNTIF('[1]Testee answer 2011'!AC407:AC425,\"B\")","v":6},{"$f":"COUNTIF('[1]Testee answer 2011'!AD407:AD425,\"B\")","v":3},{"$f":"COUNTIF('[1]Testee answer 2011'!AE407:AE425,\"B\")","v":2},{"$f":"COUNTIF('[1]Testee answer 2011'!AF407:AF425,\"B\")","v":2},{"$f":"COUNTIF('[1]Testee answer 2011'!AG407:AG425,\"B\")","v":4},{"$f":"COUNTIF('[1]Testee answer 2011'!AH407:AH425,\"B\")","v":7},{"$f":"COUNTIF('[1]Testee answer 2011'!AI407:AI425,\"B\")","v":12},{"$f":"COUNTIF('[1]Testee answer 2011'!AJ407:AJ425,\"B\")","v":1},{"$f":"COUNTIF('[1]Testee answer 2011'!AK407:AK425,\"B\")","v":1},{"$f":"COUNTIF('[1]Testee answer 2011'!AL407:AL425,\"B\")","v":5},{"$f":"COUNTIF('[1]Testee answer 2011'!AM407:AM425,\"B\")","v":3},{"$f":"COUNTIF('[1]Testee answer 2011'!AN407:AN425,\"B\")","v":5},{"$f":"COUNTIF('[1]Testee answer 2011'!AO407:AO425,\"B\")","v":10},{"$f":"COUNTIF('[1]Testee answer 2011'!AP407:AP425,\"B\")","v":16},{"$f":"COUNTIF('[1]Testee answer 2011'!AQ407:AQ425,\"B\")","v":17},{"$f":"COUNTIF('[1]Testee answer 2011'!AR407:AR425,\"B\")","v":18},{"$f":"COUNTIF('[1]Testee answer 2011'!AS407:AS425,\"B\")","v":18},{"$f":"COUNTIF('[1]Testee answer 2011'!AT407:AT425,\"B\")","v":3},{"$f":"COUNTIF('[1]Testee answer 2011'!AU407:AU425,\"B\")","v":1},{"$f":"COUNTIF('[1]Testee answer 2011'!AV407:AV425,\"B\")","v":5},{"$f":"COUNTIF('[1]Testee answer 2011'!AW407:AW425,\"B\")","v":8},{"$f":"COUNTIF('[1]Testee answer 2011'!AX407:AX425,\"B\")","v":8},{"$f":"COUNTIF('[1]Testee answer 2011'!AY407:AY425,\"B\")","v":6},{"$f":"COUNTIF('[1]Testee answer 2011'!AZ407:AZ425,\"B\")","v":2},{"$f":"COUNTIF('[1]Testee answer 2011'!BA407:BA425,\"B\")","v":4},{"$f":"COUNTIF('[1]Testee answer 2011'!BB407:BB425,\"B\")","v":14},{"$f":"COUNTIF('[1]Testee answer 2011'!BC407:BC425,\"B\")","v":15},{"$f":"COUNTIF('[1]Testee answer 2011'!BD407:BD425,\"B\")","v":13},{"$f":"COUNTIF('[1]Testee answer 2011'!BE407:BE425,\"B\")","v":6},{"$f":"COUNTIF('[1]Testee answer 2011'!BF407:BF425,\"B\")","v":18},{"$f":"COUNTIF('[1]Testee answer 2011'!BG407:BG425,\"B\")","v":7},{"$f":"COUNTIF('[1]Testee answer 2011'!BH407:BH425,\"B\")","v":12},{"$f":"COUNTIF('[1]Testee answer 2011'!BI407:BI425,\"B\")","v":17}]
["AF3",{"$f":"COUNTIF('[1]Testee answer 2011'!D407:D425,\"C\")","v":18},{"$f":"COUNTIF('[1]Testee answer 2011'!E407:E425,\"C\")","v":0},{"$f":"COUNTIF('[1]Testee answer 2011'!F407:F425,\"C\")","v":1},{"$f":"COUNTIF('[1]Testee answer 2011'!G407:G425,\"C\")","v":1},{"$f":"COUNTIF('[1]Testee answer 2011'!H407:H425,\"C\")","v":4},{"$f":"COUNTIF('[1]Testee answer 2011'!I407:I425,\"C\")","v":9},{"$f":"COUNTIF('[1]Testee answer 2011'!J407:J425,\"C\")","v":0},{"$f":"COUNTIF('[1]Testee answer 2011'!K407:K425,\"C\")","v":1},{"$f":"COUNTIF('[1]Testee answer 2011'!L407:L425,\"C\")","v":1},{"$f":"COUNTIF('[1]Testee answer 2011'!M407:M425,\"C\")","v":5},{"$f":"COUNTIF('[1]Testee answer 2011'!N407:N425,\"C\")","v":7},{"$f":"COUNTIF('[1]Testee answer 2011'!O407:O425,\"C\")","v":8},{"$f":"COUNTIF('[1]Testee answer 2011'!P407:P425,\"C\")","v":7},{"$f":"COUNTIF('[1]Testee answer 2011'!Q407:Q425,\"C\")","v":10},{"$f":"COUNTIF('[1]Testee answer 2011'!R407:R425,\"C\")","v":5},{"$f":"COUNTIF('[1]Testee answer 2011'!S407:S425,\"C\")","v":5},{"$f":"COUNTIF('[1]Testee answer 2011'!T407:T425,\"C\")","v":5},{"$f":"COUNTIF('[1]Testee answer 2011'!U407:U425,\"C\")","v":5},{"$f":"COUNTIF('[1]Testee answer 2011'!V407:V425,\"C\")","v":9},{"$f":"COUNTIF('[1]Testee answer 2011'!W407:W425,\"C\")","v":9},{"$f":"COUNTIF('[1]Testee answer 2011'!X407:X425,\"C\")","v":8},{"$f":"COUNTIF('[1]Testee answer 2011'!Y407:Y425,\"C\")","v":3},{"$f":"COUNTIF('[1]Testee answer 2011'!Z407:Z425,\"C\")","v":4},{"$f":"COUNTIF('[1]Testee answer 2011'!AA407:AA425,\"C\")","v":7},{"$f":"COUNTIF('[1]Testee answer 2011'!AB407:AB425,\"C\")","v":7},{"$f":"COUNTIF('[1]Testee answer 2011'!AC407:AC425,\"C\")","v":4},{"$f":"COUNTIF('[1]Testee answer 2011'!AD407:AD425,\"C\")","v":4},{"$f":"COUNTIF('[1]Testee answer 2011'!AE407:AE425,\"C\")","v":6},{"$f":"COUNTIF('[1]Testee answer 2011'!AF407:AF425,\"C\")","v":10},{"$f":"COUNTIF('[1]Testee answer 2011'!AG407:AG425,\"C\")","v":6},{"$f":"COUNTIF('[1]Testee answer 2011'!AH407:AH425,\"C\")","v":1},{"$f":"COUNTIF('[1]Testee answer 2011'!AI407:AI425,\"C\")","v":4},{"$f":"COUNTIF('[1]Testee answer 2011'!AJ407:AJ425,\"C\")","v":3},{"$f":"COUNTIF('[1]Testee answer 2011'!AK407:AK425,\"C\")","v":3},{"$f":"COUNTIF('[1]Testee answer 2011'!AL407:AL425,\"C\")","v":10},{"$f":"COUNTIF('[1]Testee answer 2011'!AM407:AM425,\"C\")","v":5},{"$f":"COUNTIF('[1]Testee answer 2011'!AN407:AN425,\"C\")","v":7},{"$f":"COUNTIF('[1]Testee answer 2011'!AO407:AO425,\"C\")","v":0},{"$f":"COUNTIF('[1]Testee answer 2011'!AP407:AP425,\"C\")","v":0},{"$f":"COUNTIF('[1]Testee answer 2011'!AQ407:AQ425,\"C\")","v":0},{"$f":"COUNTIF('[1]Testee answer 2011'!AR407:AR425,\"C\")","v":0},{"$f":"COUNTIF('[1]Testee answer 2011'!AS407:AS425,\"C\")","v":0},{"$f":"COUNTIF('[1]Testee answer 2011'!AT407:AT425,\"C\")","v":9},{"$f":"COUNTIF('[1]Testee answer 2011'!AU407:AU425,\"C\")","v":5},{"$f":"COUNTIF('[1]Testee answer 2011'!AV407:AV425,\"C\")","v":6},{"$f":"COUNTIF('[1]Testee answer 2011'!AW407:AW425,\"C\")","v":3},{"$f":"COUNTIF('[1]Testee answer 2011'!AX407:AX425,\"C\")","v":5},{"$f":"COUNTIF('[1]Testee answer 2011'!AY407:AY425,\"C\")","v":7},{"$f":"COUNTIF('[1]Testee answer 2011'!AZ407:AZ425,\"C\")","v":7},{"$f":"COUNTIF('[1]Testee answer 2011'!BA407:BA425,\"C\")","v":0},{"$f":"COUNTIF('[1]Testee answer 2011'!BB407:BB425,\"C\")","v":0},{"$f":"COUNTIF('[1]Testee answer 2011'!BC407:BC425,\"C\")","v":0},{"$f":"COUNTIF('[1]Testee answer 2011'!BD407:BD425,\"C\")","v":0},{"$f":"COUNTIF('[1]Testee answer 2011'!BE407:BE425,\"C\")","v":0},{"$f":"COUNTIF('[1]Testee answer 2011'!BF407:BF425,\"C\")","v":0},{"$f":"COUNTIF('[1]Testee answer 2011'!BG407:BG425,\"C\")","v":0},{"$f":"COUNTIF('[1]Testee answer 2011'!BH407:BH425,\"C\")","v":0},{"$f":"COUNTIF('[1]Testee answer 2011'!BI407:BI425,\"C\")","v":0}]
["AF3",{"$f":"COUNTIF('[1]Testee answer 2011'!D407:D425,\"D\")","v":0},{"$f":"COUNTIF('[1]Testee answer 2011'!E407:E425,\"D\")","v":0},{"$f":"COUNTIF('[1]Testee answer 2011'!F407:F425,\"D\")","v":0},{"$f":"COUNTIF('[1]Testee answer 2011'!G407:G425,\"D\")","v":0},{"$f":"COUNTIF('[1]Testee answer 2011'!H407:H425,\"D\")","v":1},{"$f":"COUNTIF('[1]Testee answer 2011'!I407:I425,\"D\")","v":0},{"$f":"COUNTIF('[1]Testee answer 2011'!J407:J425,\"D\")","v":0},{"$f":"COUNTIF('[1]Testee answer 2011'!K407:K425,\"D\")","v":1},{"$f":"COUNTIF('[1]Testee answer 2011'!L407:L425,\"D\")","v":0},{"$f":"COUNTIF('[1]Testee answer 2011'!M407:M425,\"D\")","v":0},{"$f":"COUNTIF('[1]Testee answer 2011'!N407:N425,\"D\")","v":1},{"$f":"COUNTIF('[1]Testee answer 2011'!O407:O425,\"D\")","v":1},{"$f":"COUNTIF('[1]Testee answer 2011'!P407:P425,\"D\")","v":4},{"$f":"COUNTIF('[1]Testee answer 2011'!Q407:Q425,\"D\")","v":7},{"$f":"COUNTIF('[1]Testee answer 2011'!R407:R425,\"D\")","v":6},{"$f":"COUNTIF('[1]Testee answer 2011'!S407:S425,\"D\")","v":7},{"$f":"COUNTIF('[1]Testee answer 2011'!T407:T425,\"D\")","v":6},{"$f":"COUNTIF('[1]Testee answer 2011'!U407:U425,\"D\")","v":1},{"$f":"COUNTIF('[1]Testee answer 2011'!V407:V425,\"D\")","v":7},{"$f":"COUNTIF('[1]Testee answer 2011'!W407:W425,\"D\")","v":4},{"$f":"COUNTIF('[1]Testee answer 2011'!X407:X425,\"D\")","v":5},{"$f":"COUNTIF('[1]Testee answer 2011'!Y407:Y425,\"D\")","v":8},{"$f":"COUNTIF('[1]Testee answer 2011'!Z407:Z425,\"D\")","v":6},{"$f":"COUNTIF('[1]Testee answer 2011'!AA407:AA425,\"D\")","v":1},{"$f":"COUNTIF('[1]Testee answer 2011'!AB407:AB425,\"D\")","v":9},{"$f":"COUNTIF('[1]Testee answer 2011'!AC407:AC425,\"D\")","v":4},{"$f":"COUNTIF('[1]Testee answer 2011'!AD407:AD425,\"D\")","v":4},{"$f":"COUNTIF('[1]Testee answer 2011'!AE407:AE425,\"D\")","v":9},{"$f":"COUNTIF('[1]Testee answer 2011'!AF407:AF425,\"D\")","v":5},{"$f":"COUNTIF('[1]Testee answer 2011'!AG407:AG425,\"D\")","v":7},{"$f":"COUNTIF('[1]Testee answer 2011'!AH407:AH425,\"D\")","v":0},{"$f":"COUNTIF('[1]Testee answer 2011'!AI407:AI425,\"D\")","v":1},{"$f":"COUNTIF('[1]Testee answer 2011'!AJ407:AJ425,\"D\")","v":8},{"$f":"COUNTIF('[1]Testee answer 2011'!AK407:AK425,\"D\")","v":8},{"$f":"COUNTIF('[1]Testee answer 2011'!AL407:AL425,\"D\")","v":3},{"$f":"COUNTIF('[1]Testee answer 2011'!AM407:AM425,\"D\")","v":9},{"$f":"COUNTIF('[1]Testee answer 2011'!AN407:AN425,\"D\")","v":4},{"$f":"COUNTIF('[1]Testee answer 2011'!AO407:AO425,\"D\")","v":0},{"$f":"COUNTIF('[1]Testee answer 2011'!AP407:AP425,\"D\")","v":0},{"$f":"COUNTIF('[1]Testee answer 2011'!AQ407:AQ425,\"D\")","v":0},{"$f":"COUNTIF('[1]Testee answer 2011'!AR407:AR425,\"D\")","v":0},{"$f":"COUNTIF('[1]Testee answer 2011'!AS407:AS425,\"D\")","v":0},{"$f":"COUNTIF('[1]Testee answer 2011'!AT407:AT425,\"D\")","v":4},{"$f":"COUNTIF('[1]Testee answer 2011'!AU407:AU425,\"D\")","v":11},{"$f":"COUNTIF('[1]Testee answer 2011'!AV407:AV425,\"D\")","v":7},{"$f":"COUNTIF('[1]Testee answer 2011'!AW407:AW425,\"D\")","v":0},{"$f":"COUNTIF('[1]Testee answer 2011'!AX407:AX425,\"D\")","v":1},{"$f":"COUNTIF('[1]Testee answer 2011'!AY407:AY425,\"D\")","v":2},{"$f":"COUNTIF('[1]Testee answer 2011'!AZ407:AZ425,\"D\")","v":6},{"$f":"COUNTIF('[1]Testee answer 2011'!BA407:BA425,\"D\")","v":0},{"$f":"COUNTIF('[1]Testee answer 2011'!BB407:BB425,\"D\")","v":0},{"$f":"COUNTIF('[1]Testee answer 2011'!BC407:BC425,\"D\")","v":0},{"$f":"COUNTIF('[1]Testee answer 2011'!BD407:BD425,\"D\")","v":0},{"$f":"COUNTIF('[1]Testee answer 2011'!BE407:BE425,\"D\")","v":0},{"$f":"COUNTIF('[1]Testee answer 2011'!BF407:BF425,\"D\")","v":0},{"$f":"COUNTIF('[1]Testee answer 2011'!BG407:BG425,\"D\")","v":0},{"$f":"COUNTIF('[1]Testee answer 2011'!BH407:BH425,\"D\")","v":0},{"$f":"COUNTIF('[1]Testee answer 2011'!BI407:BI425,\"D\")","v":0}]
["AF4",{"$f":"COUNTIF('[1]Testee answer 2011'!D510:D527,\"A\")","v":0},{"$f":"COUNTIF('[1]Testee answer 2011'!E510:E527,\"A\")","v":2},{"$f":"COUNTIF('[1]Testee answer 2011'!F510:F527,\"A\")","v":5},{"$f":"COUNTIF('[1]Testee answer 2011'!G510:G527,\"A\")","v":11},{"$f":"COUNTIF('[1]Testee answer 2011'!H510:H527,\"A\")","v":8},{"$f":"COUNTIF('[1]Testee answer 2011'!I510:I527,\"A\")","v":5},{"$f":"COUNTIF('[1]Testee answer 2011'!J510:J527,\"A\")","v":13},{"$f":"COUNTIF('[1]Testee answer 2011'!K510:K527,\"A\")","v":6},{"$f":"COUNTIF('[1]Testee answer 2011'!L510:L527,\"A\")","v":5},{"$f":"COUNTIF('[1]Testee answer 2011'!M510:M527,\"A\")","v":8},{"$f":"COUNTIF('[1]Testee answer 2011'!N510:N527,\"A\")","v":4},{"$f":"COUNTIF('[1]Testee answer 2011'!O510:O527,\"A\")","v":1},{"$f":"COUNTIF('[1]Testee answer 2011'!P510:P527,\"A\")","v":1},{"$f":"COUNTIF('[1]Testee answer 2011'!Q510:Q527,\"A\")","v":1},{"$f":"COUNTIF('[1]Testee answer 2011'!R510:R527,\"A\")","v":0},{"$f":"COUNTIF('[1]Testee answer 2011'!S510:S527,\"A\")","v":2},{"$f":"COUNTIF('[1]Testee answer 2011'!T510:T527,\"A\")","v":7},{"$f":"COUNTIF('[1]Testee answer 2011'!U510:U527,\"A\")","v":2},{"$f":"COUNTIF('[1]Testee answer 2011'!V510:V527,\"A\")","v":1},{"$f":"COUNTIF('[1]Testee answer 2011'!W510:W527,\"A\")","v":4},{"$f":"COUNTIF('[1]Testee answer 2011'!X510:X527,\"A\")","v":3},{"$f":"COUNTIF('[1]Testee answer 2011'!Y510:Y527,\"A\")","v":0},{"$f":"COUNTIF('[1]Testee answer 2011'!Z510:Z527,\"A\")","v":3},{"$f":"COUNTIF('[1]Testee answer 2011'!AA510:AA527,\"A\")","v":4},{"$f":"COUNTIF('[1]Testee answer 2011'!AB510:AB527,\"A\")","v":1},{"$f":"COUNTIF('[1]Testee answer 2011'!AC510:AC527,\"A\")","v":6},{"$f":"COUNTIF('[1]Testee answer 2011'!AD510:AD527,\"A\")","v":5},{"$f":"COUNTIF('[1]Testee answer 2011'!AE510:AE527,\"A\")","v":1},{"$f":"COUNTIF('[1]Testee answer 2011'!AF510:AF527,\"A\")","v":1},{"$f":"COUNTIF('[1]Testee answer 2011'!AG510:AG527,\"A\")","v":2},{"$f":"COUNTIF('[1]Testee answer 2011'!AH510:AH527,\"A\")","v":5},{"$f":"COUNTIF('[1]Testee answer 2011'!AI510:AI527,\"A\")","v":2},{"$f":"COUNTIF('[1]Testee answer 2011'!AJ510:AJ527,\"A\")","v":1},{"$f":"COUNTIF('[1]Testee answer 2011'!AK510:AK527,\"A\")","v":2},{"$f":"COUNTIF('[1]Testee answer 2011'!AL510:AL527,\"A\")","v":0},{"$f":"COUNTIF('[1]Testee answer 2011'!AM510:AM527,\"A\")","v":0},{"$f":"COUNTIF('[1]Testee answer 2011'!AN510:AN527,\"A\")","v":1},{"$f":"COUNTIF('[1]Testee answer 2011'!AO510:AO527,\"A\")","v":12},{"$f":"COUNTIF('[1]Testee answer 2011'!AP510:AP527,\"A\")","v":3},{"$f":"COUNTIF('[1]Testee answer 2011'!AQ510:AQ527,\"A\")","v":1},{"$f":"COUNTIF('[1]Testee answer 2011'!AR510:AR527,\"A\")","v":5},{"$f":"COUNTIF('[1]Testee answer 2011'!AS510:AS527,\"A\")","v":5},{"$f":"COUNTIF('[1]Testee answer 2011'!AT510:AT527,\"A\")","v":1},{"$f":"COUNTIF('[1]Testee answer 2011'!AU510:AU527,\"A\")","v":0},{"$f":"COUNTIF('[1]Testee answer 2011'!AV510:AV527,\"A\")","v":0},{"$f":"COUNTIF('[1]Testee answer 2011'!AW510:AW527,\"A\")","v":11},{"$f":"COUNTIF('[1]Testee answer 2011'!AX510:AX527,\"A\")","v":4},{"$f":"COUNTIF('[1]Testee answer 2011'!AY510:AY527,\"A\")","v":4},{"$f":"COUNTIF('[1]Testee answer 2011'!AZ510:AZ527,\"A\")","v":3},{"$f":"COUNTIF('[1]Testee answer 2011'!BA510:BA527,\"A\")","v":15},{"$f":"COUNTIF('[1]Testee answer 2011'!BB510:BB527,\"A\")","v":5},{"$f":"COUNTIF('[1]Testee answer 2011'!BC510:BC527,\"A\")","v":1},{"$f":"COUNTIF('[1]Testee answer 2011'!BD510:BD527,\"A\")","v":8},{"$f":"COUNTIF('[1]Testee answer 2011'!BE510:BE527,\"A\")","v":16},{"$f":"COUNTIF('[1]Testee answer 2011'!BF510:BF527,\"A\")","v":0},{"$f":"COUNTIF('[1]Testee answer 2011'!BG510:BG527,\"A\")","v":7},{"$f":"COUNTIF('[1]Testee answer 2011'!BH510:BH527,\"A\")","v":2},{"$f":"COUNTIF('[1]Testee answer 2011'!BI510:BI527,\"A\")","v":4}]
["AF4",{"$f":"COUNTIF('[1]Testee answer 2011'!D510:D527,\"B\")","v":0},{"$f":"COUNTIF('[1]Testee answer 2011'!E510:E527,\"B\")","v":15},{"$f":"COUNTIF('[1]Testee answer 2011'!F510:F527,\"B\")","v":11},{"$f":"COUNTIF('[1]Testee answer 2011'!G510:G527,\"B\")","v":6},{"$f":"COUNTIF('[1]Testee answer 2011'!H510:H527,\"B\")","v":6},{"$f":"COUNTIF('[1]Testee answer 2011'!I510:I527,\"B\")","v":9},{"$f":"COUNTIF('[1]Testee answer 2011'!J510:J527,\"B\")","v":4},{"$f":"COUNTIF('[1]Testee answer 2011'!K510:K527,\"B\")","v":10},{"$f":"COUNTIF('[1]Testee answer 2011'!L510:L527,\"B\")","v":9},{"$f":"COUNTIF('[1]Testee answer 2011'!M510:M527,\"B\")","v":7},{"$f":"COUNTIF('[1]Testee answer 2011'!N510:N527,\"B\")","v":6},{"$f":"COUNTIF('[1]Testee answer 2011'!O510:O527,\"B\")","v":6},{"$f":"COUNTIF('[1]Testee answer 2011'!P510:P527,\"B\")","v":4},{"$f":"COUNTIF('[1]Testee answer 2011'!Q510:Q527,\"B\")","v":1},{"$f":"COUNTIF('[1]Testee answer 2011'!R510:R527,\"B\")","v":2},{"$f":"COUNTIF('[1]Testee answer 2011'!S510:S527,\"B\")","v":4},{"$f":"COUNTIF('[1]Testee answer 2011'!T510:T527,\"B\")","v":3},{"$f":"COUNTIF('[1]Testee answer 2011'!U510:U527,\"B\")","v":5},{"$f":"COUNTIF('[1]Testee answer 2011'!V510:V527,\"B\")","v":1},{"$f":"COUNTIF('[1]Testee answer 2011'!W510:W527,\"B\")","v":4},{"$f":"COUNTIF('[1]Testee answer 2011'!X510:X527,\"B\")","v":4},{"$f":"COUNTIF('[1]Testee answer 2011'!Y510:Y527,\"B\")","v":6},{"$f":"COUNTIF('[1]Testee answer 2011'!Z510:Z527,\"B\")","v":2},{"$f":"COUNTIF('[1]Testee answer 2011'!AA510:AA527,\"B\")","v":6},{"$f":"COUNTIF('[1]Testee answer 2011'!AB510:AB527,\"B\")","v":1},{"$f":"COUNTIF('[1]Testee answer 2011'!AC510:AC527,\"B\")","v":3},{"$f":"COUNTIF('[1]Testee answer 2011'!AD510:AD527,\"B\")","v":3},{"$f":"COUNTIF('[1]Testee answer 2011'!AE510:AE527,\"B\")","v":1},{"$f":"COUNTIF('[1]Testee answer 2011'!AF510:AF527,\"B\")","v":1},{"$f":"COUNTIF('[1]Testee answer 2011'!AG510:AG527,\"B\")","v":4},{"$f":"COUNTIF('[1]Testee answer 2011'!AH510:AH527,\"B\")","v":6},{"$f":"COUNTIF('[1]Testee answer 2011'!AI510:AI527,\"B\")","v":6},{"$f":"COUNTIF('[1]Testee answer 2011'!AJ510:AJ527,\"B\")","v":0},{"$f":"COUNTIF('[1]Testee answer 2011'!AK510:AK527,\"B\")","v":0},{"$f":"COUNTIF('[1]Testee answer 2011'!AL510:AL527,\"B\")","v":4},{"$f":"COUNTIF('[1]Testee answer 2011'!AM510:AM527,\"B\")","v":3},{"$f":"COUNTIF('[1]Testee answer 2011'!AN510:AN527,\"B\")","v":3},{"$f":"COUNTIF('[1]Testee answer 2011'!AO510:AO527,\"B\")","v":5},{"$f":"COUNTIF('[1]Testee answer 2011'!AP510:AP527,\"B\")","v":14},{"$f":"COUNTIF('[1]Testee answer 2011'!AQ510:AQ527,\"B\")","v":16},{"$f":"COUNTIF('[1]Testee answer 2011'!AR510:AR527,\"B\")","v":12},{"$f":"COUNTIF('[1]Testee answer 2011'!AS510:AS527,\"B\")","v":12},{"$f":"COUNTIF('[1]Testee answer 2011'!AT510:AT527,\"B\")","v":1},{"$f":"COUNTIF('[1]Testee answer 2011'!AU510:AU527,\"B\")","v":2},{"$f":"COUNTIF('[1]Testee answer 2011'!AV510:AV527,\"B\")","v":1},{"$f":"COUNTIF('[1]Testee answer 2011'!AW510:AW527,\"B\")","v":3},{"$f":"COUNTIF('[1]Testee answer 2011'!AX510:AX527,\"B\")","v":7},{"$f":"COUNTIF('[1]Testee answer 2011'!AY510:AY527,\"B\")","v":6},{"$f":"COUNTIF('[1]Testee answer 2011'!AZ510:AZ527,\"B\")","v":6},{"$f":"COUNTIF('[1]Testee answer 2011'!BA510:BA527,\"B\")","v":2},{"$f":"COUNTIF('[1]Testee answer 2011'!BB510:BB527,\"B\")","v":12},{"$f":"COUNTIF('[1]Testee answer 2011'!BC510:BC527,\"B\")","v":16},{"$f":"COUNTIF('[1]Testee answer 2011'!BD510:BD527,\"B\")","v":9},{"$f":"COUNTIF('[1]Testee answer 2011'!BE510:BE527,\"B\")","v":1},{"$f":"COUNTIF('[1]Testee answer 2011'!BF510:BF527,\"B\")","v":17},{"$f":"COUNTIF('[1]Testee answer 2011'!BG510:BG527,\"B\")","v":10},{"$f":"COUNTIF('[1]Testee answer 2011'!BH510:BH527,\"B\")","v":15},{"$f":"COUNTIF('[1]Testee answer 2011'!BI510:BI527,\"B\")","v":13}]
["AF4",{"$f":"COUNTIF('[1]Testee answer 2011'!D510:D527,\"C\")","v":0},{"$f":"COUNTIF('[1]Testee answer 2011'!E510:E527,\"C\")","v":0},{"$f":"COUNTIF('[1]Testee answer 2011'!F510:F527,\"C\")","v":1},{"$f":"COUNTIF('[1]Testee answer 2011'!G510:G527,\"C\")","v":0},{"$f":"COUNTIF('[1]Testee answer 2011'!H510:H527,\"C\")","v":2},{"$f":"COUNTIF('[1]Testee answer 2011'!I510:I527,\"C\")","v":3},{"$f":"COUNTIF('[1]Testee answer 2011'!J510:J527,\"C\")","v":0},{"$f":"COUNTIF('[1]Testee answer 2011'!K510:K527,\"C\")","v":1},{"$f":"COUNTIF('[1]Testee answer 2011'!L510:L527,\"C\")","v":3},{"$f":"COUNTIF('[1]Testee answer 2011'!M510:M527,\"C\")","v":2},{"$f":"COUNTIF('[1]Testee answer 2011'!N510:N527,\"C\")","v":5},{"$f":"COUNTIF('[1]Testee answer 2011'!O510:O527,\"C\")","v":10},{"$f":"COUNTIF('[1]Testee answer 2011'!P510:P527,\"C\")","v":7},{"$f":"COUNTIF('[1]Testee answer 2011'!Q510:Q527,\"C\")","v":12},{"$f":"COUNTIF('[1]Testee answer 2011'!R510:R527,\"C\")","v":13},{"$f":"COUNTIF('[1]Testee answer 2011'!S510:S527,\"C\")","v":5},{"$f":"COUNTIF('[1]Testee answer 2011'!T510:T527,\"C\")","v":6},{"$f":"COUNTIF('[1]Testee answer 2011'!U510:U527,\"C\")","v":9},{"$f":"COUNTIF('[1]Testee answer 2011'!V510:V527,\"C\")","v":12},{"$f":"COUNTIF('[1]Testee answer 2011'!W510:W527,\"C\")","v":6},{"$f":"COUNTIF('[1]Testee answer 2011'!X510:X527,\"C\")","v":6},{"$f":"COUNTIF('[1]Testee answer 2011'!Y510:Y527,\"C\")","v":6},{"$f":"COUNTIF('[1]Testee answer 2011'!Z510:Z527,\"C\")","v":8},{"$f":"COUNTIF('[1]Testee answer 2011'!AA510:AA527,\"C\")","v":6},{"$f":"COUNTIF('[1]Testee answer 2011'!AB510:AB527,\"C\")","v":8},{"$f":"COUNTIF('[1]Testee answer 2011'!AC510:AC527,\"C\")","v":6},{"$f":"COUNTIF('[1]Testee answer 2011'!AD510:AD527,\"C\")","v":6},{"$f":"COUNTIF('[1]Testee answer 2011'!AE510:AE527,\"C\")","v":5},{"$f":"COUNTIF('[1]Testee answer 2011'!AF510:AF527,\"C\")","v":5},{"$f":"COUNTIF('[1]Testee answer 2011'!AG510:AG527,\"C\")","v":6},{"$f":"COUNTIF('[1]Testee answer 2011'!AH510:AH527,\"C\")","v":6},{"$f":"COUNTIF('[1]Testee answer 2011'!AI510:AI527,\"C\")","v":8},{"$f":"COUNTIF('[1]Testee answer 2011'!AJ510:AJ527,\"C\")","v":8},{"$f":"COUNTIF('[1]Testee answer 2011'!AK510:AK527,\"C\")","v":9},{"$f":"COUNTIF('[1]Testee answer 2011'!AL510:AL527,\"C\")","v":8},{"$f":"COUNTIF('[1]Testee answer 2011'!AM510:AM527,\"C\")","v":9},{"$f":"COUNTIF('[1]Testee answer 2011'!AN510:AN527,\"C\")","v":6},{"$f":"COUNTIF('[1]Testee answer 2011'!AO510:AO527,\"C\")","v":0},{"$f":"COUNTIF('[1]Testee answer 2011'!AP510:AP527,\"C\")","v":0},{"$f":"COUNTIF('[1]Testee answer 2011'!AQ510:AQ527,\"C\")","v":0},{"$f":"COUNTIF('[1]Testee answer 2011'!AR510:AR527,\"C\")","v":0},{"$f":"COUNTIF('[1]Testee answer 2011'!AS510:AS527,\"C\")","v":0},{"$f":"COUNTIF('[1]Testee answer 2011'!AT510:AT527,\"C\")","v":3},{"$f":"COUNTIF('[1]Testee answer 2011'!AU510:AU527,\"C\")","v":4},{"$f":"COUNTIF('[1]Testee answer 2011'!AV510:AV527,\"C\")","v":7},{"$f":"COUNTIF('[1]Testee answer 2011'!AW510:AW527,\"C\")","v":3},{"$f":"COUNTIF('[1]Testee answer 2011'!AX510:AX527,\"C\")","v":6},{"$f":"COUNTIF('[1]Testee answer 2011'!AY510:AY527,\"C\")","v":5},{"$f":"COUNTIF('[1]Testee answer 2011'!AZ510:AZ527,\"C\")","v":8},{"$f":"COUNTIF('[1]Testee answer 2011'!BA510:BA527,\"C\")","v":0},{"$f":"COUNTIF('[1]Testee answer 2011'!BB510:BB527,\"C\")","v":0},{"$f":"COUNTIF('[1]Testee answer 2011'!BC510:BC527,\"C\")","v":0},{"$f":"COUNTIF('[1]Testee answer 2011'!BD510:BD527,\"C\")","v":0},{"$f":"COUNTIF('[1]Testee answer 2011'!BE510:BE527,\"C\")","v":0},{"$f":"COUNTIF('[1]Testee answer 2011'!BF510:BF527,\"C\")","v":0},{"$f":"COUNTIF('[1]Testee answer 2011'!BG510:BG527,\"C\")","v":0},{"$f":"COUNTIF('[1]Testee answer 2011'!BH510:BH527,\"C\")","v":0},{"$f":"COUNTIF('[1]Testee answer 2011'!BI510:BI527,\"C\")","v":0}]
["AF4",{"$f":"COUNTIF('[1]Testee answer 2011'!D510:D527,\"D\")","v":17},{"$f":"COUNTIF('[1]Testee answer 2011'!E510:E527,\"D\")","v":0},{"$f":"COUNTIF('[1]Testee answer 2011'!F510:F527,\"D\")","v":0},{"$f":"COUNTIF('[1]Testee answer 2011'!G510:G527,\"D\")","v":0},{"$f":"COUNTIF('[1]Testee answer 2011'!H510:H527,\"D\")","v":1},{"$f":"COUNTIF('[1]Testee answer 2011'!I510:I527,\"D\")","v":0},{"$f":"COUNTIF('[1]Testee answer 2011'!J510:J527,\"D\")","v":0},{"$f":"COUNTIF('[1]Testee answer 2011'!K510:K527,\"D\")","v":0},{"$f":"COUNTIF('[1]Testee answer 2011'!L510:L527,\"D\")","v":0},{"$f":"COUNTIF('[1]Testee answer 2011'!M510:M527,\"D\")","v":0},{"$f":"COUNTIF('[1]Testee answer 2011'!N510:N527,\"D\")","v":2},{"$f":"COUNTIF('[1]Testee answer 2011'!O510:O527,\"D\")","v":0},{"$f":"COUNTIF('[1]Testee answer 2011'!P510:P527,\"D\")","v":5},{"$f":"COUNTIF('[1]Testee answer 2011'!Q510:Q527,\"D\")","v":3},{"$f":"COUNTIF('[1]Testee answer 2011'!R510:R527,\"D\")","v":2},{"$f":"COUNTIF('[1]Testee answer 2011'!S510:S527,\"D\")","v":6},{"$f":"COUNTIF('[1]Testee answer 2011'!T510:T527,\"D\")","v":1},{"$f":"COUNTIF('[1]Testee answer 2011'!U510:U527,\"D\")","v":1},{"$f":"COUNTIF('[1]Testee answer 2011'!V510:V527,\"D\")","v":3},{"$f":"COUNTIF('[1]Testee answer 2011'!W510:W527,\"D\")","v":3},{"$f":"COUNTIF('[1]Testee answer 2011'!X510:X527,\"D\")","v":4},{"$f":"COUNTIF('[1]Testee answer 2011'!Y510:Y527,\"D\")","v":5},{"$f":"COUNTIF('[1]Testee answer 2011'!Z510:Z527,\"D\")","v":4},{"$f":"COUNTIF('[1]Testee answer 2011'!AA510:AA527,\"D\")","v":1},{"$f":"COUNTIF('[1]Testee answer 2011'!AB510:AB527,\"D\")","v":7},{"$f":"COUNTIF('[1]Testee answer 2011'!AC510:AC527,\"D\")","v":2},{"$f":"COUNTIF('[1]Testee answer 2011'!AD510:AD527,\"D\")","v":3},{"$f":"COUNTIF('[1]Testee answer 2011'!AE510:AE527,\"D\")","v":10},{"$f":"COUNTIF('[1]Testee answer 2011'!AF510:AF527,\"D\")","v":10},{"$f":"COUNTIF('[1]Testee answer 2011'!AG510:AG527,\"D\")","v":5},{"$f":"COUNTIF('[1]Testee answer 2011'!AH510:AH527,\"D\")","v":0},{"$f":"COUNTIF('[1]Testee answer 2011'!AI510:AI527,\"D\")","v":1},{"$f":"COUNTIF('[1]Testee answer 2011'!AJ510:AJ527,\"D\")","v":8},{"$f":"COUNTIF('[1]Testee answer 2011'!AK510:AK527,\"D\")","v":6},{"$f":"COUNTIF('[1]Testee answer 2011'!AL510:AL527,\"D\")","v":5},{"$f":"COUNTIF('[1]Testee answer 2011'!AM510:AM527,\"D\")","v":5},{"$f":"COUNTIF('[1]Testee answer 2011'!AN510:AN527,\"D\")","v":7},{"$f":"COUNTIF('[1]Testee answer 2011'!AO510:AO527,\"D\")","v":0},{"$f":"COUNTIF('[1]Testee answer 2011'!AP510:AP527,\"D\")","v":0},{"$f":"COUNTIF('[1]Testee answer 2011'!AQ510:AQ527,\"D\")","v":0},{"$f":"COUNTIF('[1]Testee answer 2011'!AR510:AR527,\"D\")","v":0},{"$f":"COUNTIF('[1]Testee answer 2011'!AS510:AS527,\"D\")","v":0},{"$f":"COUNTIF('[1]Testee answer 2011'!AT510:AT527,\"D\")","v":12},{"$f":"COUNTIF('[1]Testee answer 2011'!AU510:AU527,\"D\")","v":11},{"$f":"COUNTIF('[1]Testee answer 2011'!AV510:AV527,\"D\")","v":9},{"$f":"COUNTIF('[1]Testee answer 2011'!AW510:AW527,\"D\")","v":0},{"$f":"COUNTIF('[1]Testee answer 2011'!AX510:AX527,\"D\")","v":0},{"$f":"COUNTIF('[1]Testee answer 2011'!AY510:AY527,\"D\")","v":2},{"$f":"COUNTIF('[1]Testee answer 2011'!AZ510:AZ527,\"D\")","v":0},{"$f":"COUNTIF('[1]Testee answer 2011'!BA510:BA527,\"D\")","v":0},{"$f":"COUNTIF('[1]Testee answer 2011'!BB510:BB527,\"D\")","v":0},{"$f":"COUNTIF('[1]Testee answer 2011'!BC510:BC527,\"D\")","v":0},{"$f":"COUNTIF('[1]Testee answer 2011'!BD510:BD527,\"D\")","v":0},{"$f":"COUNTIF('[1]Testee answer 2011'!BE510:BE527,\"D\")","v":0},{"$f":"COUNTIF('[1]Testee answer 2011'!BF510:BF527,\"D\")","v":0},{"$f":"COUNTIF('[1]Testee answer 2011'!BG510:BG527,\"D\")","v":0},{"$f":"COUNTIF('[1]Testee answer 2011'!BH510:BH527,\"D\")","v":0},{"$f":"COUNTIF('[1]Testee answer 2011'!BI510:BI527,\"D\")","v":0}]
["BALK1",{"$f":"COUNTIF('[1]Testee answer 2011'!D60:D84,\"A\")","v":25},{"$f":"COUNTIF('[1]Testee answer 2011'!E60:E84,\"A\")","v":10},{"$f":"COUNTIF('[1]Testee answer 2011'!F60:F84,\"A\")","v":17},{"$f":"COUNTIF('[1]Testee answer 2011'!G60:G84,\"A\")","v":19},{"$f":"COUNTIF('[1]Testee answer 2011'!H60:H84,\"A\")","v":14},{"$f":"COUNTIF('[1]Testee answer 2011'!I60:I84,\"A\")","v":4},{"$f":"COUNTIF('[1]Testee answer 2011'!J60:J84,\"A\")","v":15},{"$f":"COUNTIF('[1]Testee answer 2011'!K60:K84,\"A\")","v":16},{"$f":"COUNTIF('[1]Testee answer 2011'!L60:L84,\"A\")","v":19},{"$f":"COUNTIF('[1]Testee answer 2011'!M60:M84,\"A\")","v":20},{"$f":"COUNTIF('[1]Testee answer 2011'!N60:N84,\"A\")","v":20},{"$f":"COUNTIF('[1]Testee answer 2011'!O60:O84,\"A\")","v":8},{"$f":"COUNTIF('[1]Testee answer 2011'!P60:P84,\"A\")","v":5},{"$f":"COUNTIF('[1]Testee answer 2011'!Q60:Q84,\"A\")","v":0},{"$f":"COUNTIF('[1]Testee answer 2011'!R60:R84,\"A\")","v":4},{"$f":"COUNTIF('[1]Testee answer 2011'!S60:S84,\"A\")","v":4},{"$f":"COUNTIF('[1]Testee answer 2011'!T60:T84,\"A\")","v":9},{"$f":"COUNTIF('[1]Testee answer 2011'!U60:U84,\"A\")","v":15},{"$f":"COUNTIF('[1]Testee answer 2011'!V60:V84,\"A\")","v":0},{"$f":"COUNTIF('[1]Testee answer 2011'!W60:W84,\"A\")","v":3},{"$f":"COUNTIF('[1]Testee answer 2011'!X60:X84,\"A\")","v":6},{"$f":"COUNTIF('[1]Testee answer 2011'!Y60:Y84,\"A\")","v":11},{"$f":"COUNTIF('[1]Testee answer 2011'!Z60:Z84,\"A\")","v":13},{"$f":"COUNTIF('[1]Testee answer 2011'!AA60:AA84,\"A\")","v":16},{"$f":"COUNTIF('[1]Testee answer 2011'!AB60:AB84,\"A\")","v":0},{"$f":"COUNTIF('[1]Testee answer 2011'!AC60:AC84,\"A\")","v":7},{"$f":"COUNTIF('[1]Testee answer 2011'!AD60:AD84,\"A\")","v":8},{"$f":"COUNTIF('[1]Testee answer 2011'!AE60:AE84,\"A\")","v":3},{"$f":"COUNTIF('[1]Testee answer 2011'!AF60:AF84,\"A\")","v":7},{"$f":"COUNTIF('[1]Testee answer 2011'!AG60:AG84,\"A\")","v":3},{"$f":"COUNTIF('[1]Testee answer 2011'!AH60:AH84,\"A\")","v":23},{"$f":"COUNTIF('[1]Testee answer 2011'!AI60:AI84,\"A\")","v":4},{"$f":"COUNTIF('[1]Testee answer 2011'!AJ60:AJ84,\"A\")","v":5},{"$f":"COUNTIF('[1]Testee answer 2011'!AK60:AK84,\"A\")","v":8},{"$f":"COUNTIF('[1]Testee answer 2011'!AL60:AL84,\"A\")","v":3},{"$f":"COUNTIF('[1]Testee answer 2011'!AM60:AM84,\"A\")","v":3},{"$f":"COUNTIF('[1]Testee answer 2011'!AN60:AN84,\"A\")","v":4},{"$f":"COUNTIF('[1]Testee answer 2011'!AO60:AO84,\"A\")","v":11},{"$f":"COUNTIF('[1]Testee answer 2011'!AP60:AP84,\"A\")","v":7},{"$f":"COUNTIF('[1]Testee answer 2011'!AQ60:AQ84,\"A\")","v":0},{"$f":"COUNTIF('[1]Testee answer 2011'!AR60:AR84,\"A\")","v":3},{"$f":"COUNTIF('[1]Testee answer 2011'!AS60:AS84,\"A\")","v":0},{"$f":"COUNTIF('[1]Testee answer 2011'!AT60:AT84,\"A\")","v":3},{"$f":"COUNTIF('[1]Testee answer 2011'!AU60:AU84,\"A\")","v":0},{"$f":"COUNTIF('[1]Testee answer 2011'!AV60:AV84,\"A\")","v":0},{"$f":"COUNTIF('[1]Testee answer 2011'!AW60:AW84,\"A\")","v":17},{"$f":"COUNTIF('[1]Testee answer 2011'!AX60:AX84,\"A\")","v":12},{"$f":"COUNTIF('[1]Testee answer 2011'!AY60:AY84,\"A\")","v":7},{"$f":"COUNTIF('[1]Testee answer 2011'!AZ60:AZ84,\"A\")","v":7},{"$f":"COUNTIF('[1]Testee answer 2011'!BA60:BA84,\"A\")","v":24},{"$f":"COUNTIF('[1]Testee answer 2011'!BB60:BB84,\"A\")","v":7},{"$f":"COUNTIF('[1]Testee answer 2011'!BC60:BC84,\"A\")","v":6},{"$f":"COUNTIF('[1]Testee answer 2011'!BD60:BD84,\"A\")","v":8},{"$f":"COUNTIF('[1]Testee answer 2011'!BE60:BE84,\"A\")","v":24},{"$f":"COUNTIF('[1]Testee answer 2011'!BF60:BF84,\"A\")","v":0},{"$f":"COUNTIF('[1]Testee answer 2011'!BG60:BG84,\"A\")","v":18},{"$f":"COUNTIF('[1]Testee answer 2011'!BH60:BH84,\"A\")","v":12},{"$f":"COUNTIF('[1]Testee answer 2011'!BI60:BI84,\"A\")","v":9}]
["BALK1",{"$f":"COUNTIF('[1]Testee answer 2011'!D60:D84,\"B\")","v":0},{"$f":"COUNTIF('[1]Testee answer 2011'!E60:E84,\"B\")","v":15},{"$f":"COUNTIF('[1]Testee answer 2011'!F60:F84,\"B\")","v":8},{"$f":"COUNTIF('[1]Testee answer 2011'!G60:G84,\"B\")","v":6},{"$f":"COUNTIF('[1]Testee answer 2011'!H60:H84,\"B\")","v":2},{"$f":"COUNTIF('[1]Testee answer 2011'!I60:I84,\"B\")","v":17},{"$f":"COUNTIF('[1]Testee answer 2011'!J60:J84,\"B\")","v":10},{"$f":"COUNTIF('[1]Testee answer 2011'!K60:K84,\"B\")","v":5},{"$f":"COUNTIF('[1]Testee answer 2011'!L60:L84,\"B\")","v":6},{"$f":"COUNTIF('[1]Testee answer 2011'!M60:M84,\"B\")","v":4},{"$f":"COUNTIF('[1]Testee answer 2011'!N60:N84,\"B\")","v":4},{"$f":"COUNTIF('[1]Testee answer 2011'!O60:O84,\"B\")","v":11},{"$f":"COUNTIF('[1]Testee answer 2011'!P60:P84,\"B\")","v":16},{"$f":"COUNTIF('[1]Testee answer 2011'!Q60:Q84,\"B\")","v":0},{"$f":"COUNTIF('[1]Testee answer 2011'!R60:R84,\"B\")","v":2},{"$f":"COUNTIF('[1]Testee answer 2011'!S60:S84,\"B\")","v":4},{"$f":"COUNTIF('[1]Testee answer 2011'!T60:T84,\"B\")","v":1},{"$f":"COUNTIF('[1]Testee answer 2011'!U60:U84,\"B\")","v":5},{"$f":"COUNTIF('[1]Testee answer 2011'!V60:V84,\"B\")","v":1},{"$f":"COUNTIF('[1]Testee answer 2011'!W60:W84,\"B\")","v":16},{"$f":"COUNTIF('[1]Testee answer 2011'!X60:X84,\"B\")","v":10},{"$f":"COUNTIF('[1]Testee answer 2011'!Y60:Y84,\"B\")","v":8},{"$f":"COUNTIF('[1]Testee answer 2011'!Z60:Z84,\"B\")","v":7},{"$f":"COUNTIF('[1]Testee answer 2011'!AA60:AA84,\"B\")","v":7},{"$f":"COUNTIF('[1]Testee answer 2011'!AB60:AB84,\"B\")","v":0},{"$f":"COUNTIF('[1]Testee answer 2011'!AC60:AC84,\"B\")","v":1},{"$f":"COUNTIF('[1]Testee answer 2011'!AD60:AD84,\"B\")","v":5},{"$f":"COUNTIF('[1]Testee answer 2011'!AE60:AE84,\"B\")","v":4},{"$f":"COUNTIF('[1]Testee answer 2011'!AF60:AF84,\"B\")","v":3},{"$f":"COUNTIF('[1]Testee answer 2011'!AG60:AG84,\"B\")","v":4},{"$f":"COUNTIF('[1]Testee answer 2011'!AH60:AH84,\"B\")","v":2},{"$f":"COUNTIF('[1]Testee answer 2011'!AI60:AI84,\"B\")","v":19},{"$f":"COUNTIF('[1]Testee answer 2011'!AJ60:AJ84,\"B\")","v":3},{"$f":"COUNTIF('[1]Testee answer 2011'!AK60:AK84,\"B\")","v":4},{"$f":"COUNTIF('[1]Testee answer 2011'!AL60:AL84,\"B\")","v":4},{"$f":"COUNTIF('[1]Testee answer 2011'!AM60:AM84,\"B\")","v":5},{"$f":"COUNTIF('[1]Testee answer 2011'!AN60:AN84,\"B\")","v":3},{"$f":"COUNTIF('[1]Testee answer 2011'!AO60:AO84,\"B\")","v":14},{"$f":"COUNTIF('[1]Testee answer 2011'!AP60:AP84,\"B\")","v":18},{"$f":"COUNTIF('[1]Testee answer 2011'!AQ60:AQ84,\"B\")","v":25},{"$f":"COUNTIF('[1]Testee answer 2011'!AR60:AR84,\"B\")","v":22},{"$f":"COUNTIF('[1]Testee answer 2011'!AS60:AS84,\"B\")","v":25},{"$f":"COUNTIF('[1]Testee answer 2011'!AT60:AT84,\"B\")","v":8},{"$f":"COUNTIF('[1]Testee answer 2011'!AU60:AU84,\"B\")","v":4},{"$f":"COUNTIF('[1]Testee answer 2011'!AV60:AV84,\"B\")","v":7},{"$f":"COUNTIF('[1]Testee answer 2011'!AW60:AW84,\"B\")","v":5},{"$f":"COUNTIF('[1]Testee answer 2011'!AX60:AX84,\"B\")","v":13},{"$f":"COUNTIF('[1]Testee answer 2011'!AY60:AY84,\"B\")","v":9},{"$f":"COUNTIF('[1]Testee answer 2011'!AZ60:AZ84,\"B\")","v":1},{"$f":"COUNTIF('[1]Testee answer 2011'!BA60:BA84,\"B\")","v":1},{"$f":"COUNTIF('[1]Testee answer 2011'!BB60:BB84,\"B\")","v":18},{"$f":"COUNTIF('[1]Testee answer 2011'!BC60:BC84,\"B\")","v":19},{"$f":"COUNTIF('[1]Testee answer 2011'!BD60:BD84,\"B\")","v":17},{"$f":"COUNTIF('[1]Testee answer 2011'!BE60:BE84,\"B\")","v":1},{"$f":"COUNTIF('[1]Testee answer 2011'!BF60:BF84,\"B\")","v":25},{"$f":"COUNTIF('[1]Testee answer 2011'!BG60:BG84,\"B\")","v":7},{"$f":"COUNTIF('[1]Testee answer 2011'!BH60:BH84,\"B\")","v":13},{"$f":"COUNTIF('[1]Testee answer 2011'!BI60:BI84,\"B\")","v":16}]
["BALK1",{"$f":"COUNTIF('[1]Testee answer 2011'!D60:D84,\"C\")","v":0},{"$f":"COUNTIF('[1]Testee answer 2011'!E60:E84,\"C\")","v":0},{"$f":"COUNTIF('[1]Testee answer 2011'!F60:F84,\"C\")","v":0},{"$f":"COUNTIF('[1]Testee answer 2011'!G60:G84,\"C\")","v":0},{"$f":"COUNTIF('[1]Testee answer 2011'!H60:H84,\"C\")","v":9},{"$f":"COUNTIF('[1]Testee answer 2011'!I60:I84,\"C\")","v":0},{"$f":"COUNTIF('[1]Testee answer 2011'!J60:J84,\"C\")","v":0},{"$f":"COUNTIF('[1]Testee answer 2011'!K60:K84,\"C\")","v":4},{"$f":"COUNTIF('[1]Testee answer 2011'!L60:L84,\"C\")","v":0},{"$f":"COUNTIF('[1]Testee answer 2011'!M60:M84,\"C\")","v":1},{"$f":"COUNTIF('[1]Testee answer 2011'!N60:N84,\"C\")","v":1},{"$f":"COUNTIF('[1]Testee answer 2011'!O60:O84,\"C\")","v":6},{"$f":"COUNTIF('[1]Testee answer 2011'!P60:P84,\"C\")","v":4},{"$f":"COUNTIF('[1]Testee answer 2011'!Q60:Q84,\"C\")","v":21},{"$f":"COUNTIF('[1]Testee answer 2011'!R60:R84,\"C\")","v":18},{"$f":"COUNTIF('[1]Testee answer 2011'!S60:S84,\"C\")","v":16},{"$f":"COUNTIF('[1]Testee answer 2011'!T60:T84,\"C\")","v":14},{"$f":"COUNTIF('[1]Testee answer 2011'!U60:U84,\"C\")","v":4},{"$f":"COUNTIF('[1]Testee answer 2011'!V60:V84,\"C\")","v":18},{"$f":"COUNTIF('[1]Testee answer 2011'!W60:W84,\"C\")","v":5},{"$f":"COUNTIF('[1]Testee answer 2011'!X60:X84,\"C\")","v":8},{"$f":"COUNTIF('[1]Testee answer 2011'!Y60:Y84,\"C\")","v":4},{"$f":"COUNTIF('[1]Testee answer 2011'!Z60:Z84,\"C\")","v":4},{"$f":"COUNTIF('[1]Testee answer 2011'!AA60:AA84,\"C\")","v":2},{"$f":"COUNTIF('[1]Testee answer 2011'!AB60:AB84,\"C\")","v":18},{"$f":"COUNTIF('[1]Testee answer 2011'!AC60:AC84,\"C\")","v":3},{"$f":"COUNTIF('[1]Testee answer 2011'!AD60:AD84,\"C\")","v":11},{"$f":"COUNTIF('[1]Testee answer 2011'!AE60:AE84,\"C\")","v":12},{"$f":"COUNTIF('[1]Testee answer 2011'!AF60:AF84,\"C\")","v":5},{"$f":"COUNTIF('[1]Testee answer 2011'!AG60:AG84,\"C\")","v":8},{"$f":"COUNTIF('[1]Testee answer 2011'!AH60:AH84,\"C\")","v":0},{"$f":"COUNTIF('[1]Testee answer 2011'!AI60:AI84,\"C\")","v":1},{"$f":"COUNTIF('[1]Testee answer 2011'!AJ60:AJ84,\"C\")","v":10},{"$f":"COUNTIF('[1]Testee answer 2011'!AK60:AK84,\"C\")","v":8},{"$f":"COUNTIF('[1]Testee answer 2011'!AL60:AL84,\"C\")","v":17},{"$f":"COUNTIF('[1]Testee answer 2011'!AM60:AM84,\"C\")","v":15},{"$f":"COUNTIF('[1]Testee answer 2011'!AN60:AN84,\"C\")","v":12},{"$f":"COUNTIF('[1]Testee answer 2011'!AO60:AO84,\"C\")","v":0},{"$f":"COUNTIF('[1]Testee answer 2011'!AP60:AP84,\"C\")","v":0},{"$f":"COUNTIF('[1]Testee answer 2011'!AQ60:AQ84,\"C\")","v":0},{"$f":"COUNTIF('[1]Testee answer 2011'!AR60:AR84,\"C\")","v":0},{"$f":"COUNTIF('[1]Testee answer 2011'!AS60:AS84,\"C\")","v":0},{"$f":"COUNTIF('[1]Testee answer 2011'!AT60:AT84,\"C\")","v":8},{"$f":"COUNTIF('[1]Testee answer 2011'!AU60:AU84,\"C\")","v":11},{"$f":"COUNTIF('[1]Testee answer 2011'!AV60:AV84,\"C\")","v":9},{"$f":"COUNTIF('[1]Testee answer 2011'!AW60:AW84,\"C\")","v":3},{"$f":"COUNTIF('[1]Testee answer 2011'!AX60:AX84,\"C\")","v":0},{"$f":"COUNTIF('[1]Testee answer 2011'!AY60:AY84,\"C\")","v":8},{"$f":"COUNTIF('[1]Testee answer 2011'!AZ60:AZ84,\"C\")","v":16},{"$f":"COUNTIF('[1]Testee answer 2011'!BA60:BA84,\"C\")","v":0},{"$f":"COUNTIF('[1]Testee answer 2011'!BB60:BB84,\"C\")","v":0},{"$f":"COUNTIF('[1]Testee answer 2011'!BC60:BC84,\"C\")","v":0},{"$f":"COUNTIF('[1]Testee answer 2011'!BD60:BD84,\"C\")","v":0},{"$f":"COUNTIF('[1]Testee answer 2011'!BE60:BE84,\"C\")","v":0},{"$f":"COUNTIF('[1]Testee answer 2011'!BF60:BF84,\"C\")","v":0},{"$f":"COUNTIF('[1]Testee answer 2011'!BG60:BG84,\"C\")","v":0},{"$f":"COUNTIF('[1]Testee answer 2011'!BH60:BH84,\"C\")","v":0},{"$f":"COUNTIF('[1]Testee answer 2011'!BI60:BI84,\"C\")","v":0}]
["BALK1",{"$f":"COUNTIF('[1]Testee answer 2011'!D60:D84,\"D\")","v":0},{"$f":"COUNTIF('[1]Testee answer 2011'!E60:E84,\"D\")","v":0},{"$f":"COUNTIF('[1]Testee answer 2011'!F60:F84,\"D\")","v":0},{"$f":"COUNTIF('[1]Testee answer 2011'!G60:G84,\"D\")","v":0},{"$f":"COUNTIF('[1]Testee answer 2011'!H60:H84,\"D\")","v":0},{"$f":"COUNTIF('[1]Testee answer 2011'!I60:I84,\"D\")","v":4},{"$f":"COUNTIF('[1]Testee answer 2011'!J60:J84,\"D\")","v":0},{"$f":"COUNTIF('[1]Testee answer 2011'!K60:K84,\"D\")","v":0},{"$f":"COUNTIF('[1]Testee answer 2011'!L60:L84,\"D\")","v":0},{"$f":"COUNTIF('[1]Testee answer 2011'!M60:M84,\"D\")","v":0},{"$f":"COUNTIF('[1]Testee answer 2011'!N60:N84,\"D\")","v":0},{"$f":"COUNTIF('[1]Testee answer 2011'!O60:O84,\"D\")","v":0},{"$f":"COUNTIF('[1]Testee answer 2011'!P60:P84,\"D\")","v":0},{"$f":"COUNTIF('[1]Testee answer 2011'!Q60:Q84,\"D\")","v":4},{"$f":"COUNTIF('[1]Testee answer 2011'!R60:R84,\"D\")","v":1},{"$f":"COUNTIF('[1]Testee answer 2011'!S60:S84,\"D\")","v":1},{"$f":"COUNTIF('[1]Testee answer 2011'!T60:T84,\"D\")","v":1},{"$f":"COUNTIF('[1]Testee answer 2011'!U60:U84,\"D\")","v":1},{"$f":"COUNTIF('[1]Testee answer 2011'!V60:V84,\"D\")","v":6},{"$f":"COUNTIF('[1]Testee answer 2011'!W60:W84,\"D\")","v":1},{"$f":"COUNTIF('[1]Testee answer 2011'!X60:X84,\"D\")","v":1},{"$f":"COUNTIF('[1]Testee answer 2011'!Y60:Y84,\"D\")","v":2},{"$f":"COUNTIF('[1]Testee answer 2011'!Z60:Z84,\"D\")","v":1},{"$f":"COUNTIF('[1]Testee answer 2011'!AA60:AA84,\"D\")","v":0},{"$f":"COUNTIF('[1]Testee answer 2011'!AB60:AB84,\"D\")","v":7},{"$f":"COUNTIF('[1]Testee answer 2011'!AC60:AC84,\"D\")","v":14},{"$f":"COUNTIF('[1]Testee answer 2011'!AD60:AD84,\"D\")","v":1},{"$f":"COUNTIF('[1]Testee answer 2011'!AE60:AE84,\"D\")","v":6},{"$f":"COUNTIF('[1]Testee answer 2011'!AF60:AF84,\"D\")","v":10},{"$f":"COUNTIF('[1]Testee answer 2011'!AG60:AG84,\"D\")","v":10},{"$f":"COUNTIF('[1]Testee answer 2011'!AH60:AH84,\"D\")","v":0},{"$f":"COUNTIF('[1]Testee answer 2011'!AI60:AI84,\"D\")","v":1},{"$f":"COUNTIF('[1]Testee answer 2011'!AJ60:AJ84,\"D\")","v":7},{"$f":"COUNTIF('[1]Testee answer 2011'!AK60:AK84,\"D\")","v":5},{"$f":"COUNTIF('[1]Testee answer 2011'!AL60:AL84,\"D\")","v":1},{"$f":"COUNTIF('[1]Testee answer 2011'!AM60:AM84,\"D\")","v":2},{"$f":"COUNTIF('[1]Testee answer 2011'!AN60:AN84,\"D\")","v":6},{"$f":"COUNTIF('[1]Testee answer 2011'!AO60:AO84,\"D\")","v":0},{"$f":"COUNTIF('[1]Testee answer 2011'!AP60:AP84,\"D\")","v":0},{"$f":"COUNTIF('[1]Testee answer 2011'!AQ60:AQ84,\"D\")","v":0},{"$f":"COUNTIF('[1]Testee answer 2011'!AR60:AR84,\"D\")","v":0},{"$f":"COUNTIF('[1]Testee answer 2011'!AS60:AS84,\"D\")","v":0},{"$f":"COUNTIF('[1]Testee answer 2011'!AT60:AT84,\"D\")","v":6},{"$f":"COUNTIF('[1]Testee answer 2011'!AU60:AU84,\"D\")","v":10},{"$f":"COUNTIF('[1]Testee answer 2011'!AV60:AV84,\"D\")","v":9},{"$f":"COUNTIF('[1]Testee answer 2011'!AW60:AW84,\"D\")","v":0},{"$f":"COUNTIF('[1]Testee answer 2011'!AX60:AX84,\"D\")","v":0},{"$f":"COUNTIF('[1]Testee answer 2011'!AY60:AY84,\"D\")","v":1},{"$f":"COUNTIF('[1]Testee answer 2011'!AZ60:AZ84,\"D\")","v":1},{"$f":"COUNTIF('[1]Testee answer 2011'!BA60:BA84,\"D\")","v":0},{"$f":"COUNTIF('[1]Testee answer 2011'!BB60:BB84,\"D\")","v":0},{"$f":"COUNTIF('[1]Testee answer 2011'!BC60:BC84,\"D\")","v":0},{"$f":"COUNTIF('[1]Testee answer 2011'!BD60:BD84,\"D\")","v":0},{"$f":"COUNTIF('[1]Testee answer 2011'!BE60:BE84,\"D\")","v":0},{"$f":"COUNTIF('[1]Testee answer 2011'!BF60:BF84,\"D\")","v":0},{"$f":"COUNTIF('[1]Testee answer 2011'!BG60:BG84,\"D\")","v":0},{"$f":"COUNTIF('[1]Testee answer 2011'!BH60:BH84,\"D\")","v":0},{"$f":"COUNTIF('[1]Testee answer 2011'!BI60:BI84,\"D\")","v":0}]
["BALK2",{"$f":"COUNTIF('[1]Testee answer 2011'!D285:D299,\"A\")","v":0},{"$f":"COUNTIF('[1]Testee answer 2011'!E285:E299,\"A\")","v":4},{"$f":"COUNTIF('[1]Testee answer 2011'!F285:F299,\"A\")","v":2},{"$f":"COUNTIF('[1]Testee answer 2011'!G285:G299,\"A\")","v":6},{"$f":"COUNTIF('[1]Testee answer 2011'!H285:H299,\"A\")","v":8},{"$f":"COUNTIF('[1]Testee answer 2011'!I285:I299,\"A\")","v":1},{"$f":"COUNTIF('[1]Testee answer 2011'!J285:J299,\"A\")","v":10},{"$f":"COUNTIF('[1]Testee answer 2011'!K285:K299,\"A\")","v":8},{"$f":"COUNTIF('[1]Testee answer 2011'!L285:L299,\"A\")","v":11},{"$f":"COUNTIF('[1]Testee answer 2011'!M285:M299,\"A\")","v":7},{"$f":"COUNTIF('[1]Testee answer 2011'!N285:N299,\"A\")","v":4},{"$f":"COUNTIF('[1]Testee answer 2011'!O285:O299,\"A\")","v":3},{"$f":"COUNTIF('[1]Testee answer 2011'!P285:P299,\"A\")","v":3},{"$f":"COUNTIF('[1]Testee answer 2011'!Q285:Q299,\"A\")","v":1},{"$f":"COUNTIF('[1]Testee answer 2011'!R285:R299,\"A\")","v":2},{"$f":"COUNTIF('[1]Testee answer 2011'!S285:S299,\"A\")","v":5},{"$f":"COUNTIF('[1]Testee answer 2011'!T285:T299,\"A\")","v":5},{"$f":"COUNTIF('[1]Testee answer 2011'!U285:U299,\"A\")","v":3},{"$f":"COUNTIF('[1]Testee answer 2011'!V285:V299,\"A\")","v":1},{"$f":"COUNTIF('[1]Testee answer 2011'!W285:W299,\"A\")","v":1},{"$f":"COUNTIF('[1]Testee answer 2011'!X285:X299,\"A\")","v":2},{"$f":"COUNTIF('[1]Testee answer 2011'!Y285:Y299,\"A\")","v":7},{"$f":"COUNTIF('[1]Testee answer 2011'!Z285:Z299,\"A\")","v":8},{"$f":"COUNTIF('[1]Testee answer 2011'!AA285:AA299,\"A\")","v":7},{"$f":"COUNTIF('[1]Testee answer 2011'!AB285:AB299,\"A\")","v":2},{"$f":"COUNTIF('[1]Testee answer 2011'!AC285:AC299,\"A\")","v":4},{"$f":"COUNTIF('[1]Testee answer 2011'!AD285:AD299,\"A\")","v":4},{"$f":"COUNTIF('[1]Testee answer 2011'!AE285:AE299,\"A\")","v":3},{"$f":"COUNTIF('[1]Testee answer 2011'!AF285:AF299,\"A\")","v":0},{"$f":"COUNTIF('[1]Testee answer 2011'!AG285:AG299,\"A\")","v":2},{"$f":"COUNTIF('[1]Testee answer 2011'!AH285:AH299,\"A\")","v":7},{"$f":"COUNTIF('[1]Testee answer 2011'!AI285:AI299,\"A\")","v":4},{"$f":"COUNTIF('[1]Testee answer 2011'!AJ285:AJ299,\"A\")","v":5},{"$f":"COUNTIF('[1]Testee answer 2011'!AK285:AK299,\"A\")","v":6},{"$f":"COUNTIF('[1]Testee answer 2011'!AL285:AL299,\"A\")","v":1},{"$f":"COUNTIF('[1]Testee answer 2011'!AM285:AM299,\"A\")","v":2},{"$f":"COUNTIF('[1]Testee answer 2011'!AN285:AN299,\"A\")","v":4},{"$f":"COUNTIF('[1]Testee answer 2011'!AO285:AO299,\"A\")","v":3},{"$f":"COUNTIF('[1]Testee answer 2011'!AP285:AP299,\"A\")","v":3},{"$f":"COUNTIF('[1]Testee answer 2011'!AQ285:AQ299,\"A\")","v":0},{"$f":"COUNTIF('[1]Testee answer 2011'!AR285:AR299,\"A\")","v":5},{"$f":"COUNTIF('[1]Testee answer 2011'!AS285:AS299,\"A\")","v":2},{"$f":"COUNTIF('[1]Testee answer 2011'!AT285:AT299,\"A\")","v":0},{"$f":"COUNTIF('[1]Testee answer 2011'!AU285:AU299,\"A\")","v":0},{"$f":"COUNTIF('[1]Testee answer 2011'!AV285:AV299,\"A\")","v":2},{"$f":"COUNTIF('[1]Testee answer 2011'!AW285:AW299,\"A\")","v":8},{"$f":"COUNTIF('[1]Testee answer 2011'!AX285:AX299,\"A\")","v":3},{"$f":"COUNTIF('[1]Testee answer 2011'!AY285:AY299,\"A\")","v":2},{"$f":"COUNTIF('[1]Testee answer 2011'!AZ285:AZ299,\"A\")","v":1},{"$f":"COUNTIF('[1]Testee answer 2011'!BA285:BA299,\"A\")","v":9},{"$f":"COUNTIF('[1]Testee answer 2011'!BB285:BB299,\"A\")","v":6},{"$f":"COUNTIF('[1]Testee answer 2011'!BC285:BC299,\"A\")","v":2},{"$f":"COUNTIF('[1]Testee answer 2011'!BD285:BD299,\"A\")","v":7},{"$f":"COUNTIF('[1]Testee answer 2011'!BE285:BE299,\"A\")","v":13},{"$f":"COUNTIF('[1]Testee answer 2011'!BF285:BF299,\"A\")","v":0},{"$f":"COUNTIF('[1]Testee answer 2011'!BG285:BG299,\"A\")","v":13},{"$f":"COUNTIF('[1]Testee answer 2011'!BH285:BH299,\"A\")","v":5},{"$f":"COUNTIF('[1]Testee answer 2011'!BI285:BI299,\"A\")","v":3}]
["BALK2",{"$f":"COUNTIF('[1]Testee answer 2011'!D285:D299,\"B\")","v":14},{"$f":"COUNTIF('[1]Testee answer 2011'!E285:E299,\"B\")","v":10},{"$f":"COUNTIF('[1]Testee answer 2011'!F285:F299,\"B\")","v":10},{"$f":"COUNTIF('[1]Testee answer 2011'!G285:G299,\"B\")","v":8},{"$f":"COUNTIF('[1]Testee answer 2011'!H285:H299,\"B\")","v":4},{"$f":"COUNTIF('[1]Testee answer 2011'!I285:I299,\"B\")","v":3},{"$f":"COUNTIF('[1]Testee answer 2011'!J285:J299,\"B\")","v":4},{"$f":"COUNTIF('[1]Testee answer 2011'!K285:K299,\"B\")","v":6},{"$f":"COUNTIF('[1]Testee answer 2011'!L285:L299,\"B\")","v":2},{"$f":"COUNTIF('[1]Testee answer 2011'!M285:M299,\"B\")","v":4},{"$f":"COUNTIF('[1]Testee answer 2011'!N285:N299,\"B\")","v":3},{"$f":"COUNTIF('[1]Testee answer 2011'!O285:O299,\"B\")","v":5},{"$f":"COUNTIF('[1]Testee answer 2011'!P285:P299,\"B\")","v":2},{"$f":"COUNTIF('[1]Testee answer 2011'!Q285:Q299,\"B\")","v":1},{"$f":"COUNTIF('[1]Testee answer 2011'!R285:R299,\"B\")","v":2},{"$f":"COUNTIF('[1]Testee answer 2011'!S285:S299,\"B\")","v":1},{"$f":"COUNTIF('[1]Testee answer 2011'!T285:T299,\"B\")","v":4},{"$f":"COUNTIF('[1]Testee answer 2011'!U285:U299,\"B\")","v":6},{"$f":"COUNTIF('[1]Testee answer 2011'!V285:V299,\"B\")","v":1},{"$f":"COUNTIF('[1]Testee answer 2011'!W285:W299,\"B\")","v":7},{"$f":"COUNTIF('[1]Testee answer 2011'!X285:X299,\"B\")","v":2},{"$f":"COUNTIF('[1]Testee answer 2011'!Y285:Y299,\"B\")","v":1},{"$f":"COUNTIF('[1]Testee answer 2011'!Z285:Z299,\"B\")","v":2},{"$f":"COUNTIF('[1]Testee answer 2011'!AA285:AA299,\"B\")","v":2},{"$f":"COUNTIF('[1]Testee answer 2011'!AB285:AB299,\"B\")","v":0},{"$f":"COUNTIF('[1]Testee answer 2011'!AC285:AC299,\"B\")","v":5},{"$f":"COUNTIF('[1]Testee answer 2011'!AD285:AD299,\"B\")","v":7},{"$f":"COUNTIF('[1]Testee answer 2011'!AE285:AE299,\"B\")","v":1},{"$f":"COUNTIF('[1]Testee answer 2011'!AF285:AF299,\"B\")","v":1},{"$f":"COUNTIF('[1]Testee answer 2011'!AG285:AG299,\"B\")","v":1},{"$f":"COUNTIF('[1]Testee answer 2011'!AH285:AH299,\"B\")","v":3},{"$f":"COUNTIF('[1]Testee answer 2011'!AI285:AI299,\"B\")","v":3},{"$f":"COUNTIF('[1]Testee answer 2011'!AJ285:AJ299,\"B\")","v":0},{"$f":"COUNTIF('[1]Testee answer 2011'!AK285:AK299,\"B\")","v":0},{"$f":"COUNTIF('[1]Testee answer 2011'!AL285:AL299,\"B\")","v":4},{"$f":"COUNTIF('[1]Testee answer 2011'!AM285:AM299,\"B\")","v":1},{"$f":"COUNTIF('[1]Testee answer 2011'!AN285:AN299,\"B\")","v":3},{"$f":"COUNTIF('[1]Testee answer 2011'!AO285:AO299,\"B\")","v":11},{"$f":"COUNTIF('[1]Testee answer 2011'!AP285:AP299,\"B\")","v":11},{"$f":"COUNTIF('[1]Testee answer 2011'!AQ285:AQ299,\"B\")","v":14},{"$f":"COUNTIF('[1]Testee answer 2011'!AR285:AR299,\"B\")","v":9},{"$f":"COUNTIF('[1]Testee answer 2011'!AS285:AS299,\"B\")","v":12},{"$f":"COUNTIF('[1]Testee answer 2011'!AT285:AT299,\"B\")","v":1},{"$f":"COUNTIF('[1]Testee answer 2011'!AU285:AU299,\"B\")","v":0},{"$f":"COUNTIF('[1]Testee answer 2011'!AV285:AV299,\"B\")","v":0},{"$f":"COUNTIF('[1]Testee answer 2011'!AW285:AW299,\"B\")","v":2},{"$f":"COUNTIF('[1]Testee answer 2011'!AX285:AX299,\"B\")","v":5},{"$f":"COUNTIF('[1]Testee answer 2011'!AY285:AY299,\"B\")","v":7},{"$f":"COUNTIF('[1]Testee answer 2011'!AZ285:AZ299,\"B\")","v":6},{"$f":"COUNTIF('[1]Testee answer 2011'!BA285:BA299,\"B\")","v":5},{"$f":"COUNTIF('[1]Testee answer 2011'!BB285:BB299,\"B\")","v":8},{"$f":"COUNTIF('[1]Testee answer 2011'!BC285:BC299,\"B\")","v":12},{"$f":"COUNTIF('[1]Testee answer 2011'!BD285:BD299,\"B\")","v":7},{"$f":"COUNTIF('[1]Testee answer 2011'!BE285:BE299,\"B\")","v":1},{"$f":"COUNTIF('[1]Testee answer 2011'!BF285:BF299,\"B\")","v":14},{"$f":"COUNTIF('[1]Testee answer 2011'!BG285:BG299,\"B\")","v":1},{"$f":"COUNTIF('[1]Testee answer 2011'!BH285:BH299,\"B\")","v":9},{"$f":"COUNTIF('[1]Testee answer 2011'!BI285:BI299,\"B\")","v":11}]
["BALK2",{"$f":"COUNTIF('[1]Testee answer 2011'!D285:D299,\"C\")","v":0},{"$f":"COUNTIF('[1]Testee answer 2011'!E285:E299,\"C\")","v":0},{"$f":"COUNTIF('[1]Testee answer 2011'!F285:F299,\"C\")","v":2},{"$f":"COUNTIF('[1]Testee answer 2011'!G285:G299,\"C\")","v":0},{"$f":"COUNTIF('[1]Testee answer 2011'!H285:H299,\"C\")","v":1},{"$f":"COUNTIF('[1]Testee answer 2011'!I285:I299,\"C\")","v":9},{"$f":"COUNTIF('[1]Testee answer 2011'!J285:J299,\"C\")","v":0},{"$f":"COUNTIF('[1]Testee answer 2011'!K285:K299,\"C\")","v":0},{"$f":"COUNTIF('[1]Testee answer 2011'!L285:L299,\"C\")","v":1},{"$f":"COUNTIF('[1]Testee answer 2011'!M285:M299,\"C\")","v":3},{"$f":"COUNTIF('[1]Testee answer 2011'!N285:N299,\"C\")","v":6},{"$f":"COUNTIF('[1]Testee answer 2011'!O285:O299,\"C\")","v":5},{"$f":"COUNTIF('[1]Testee answer 2011'!P285:P299,\"C\")","v":7},{"$f":"COUNTIF('[1]Testee answer 2011'!Q285:Q299,\"C\")","v":8},{"$f":"COUNTIF('[1]Testee answer 2011'!R285:R299,\"C\")","v":5},{"$f":"COUNTIF('[1]Testee answer 2011'!S285:S299,\"C\")","v":4},{"$f":"COUNTIF('[1]Testee answer 2011'!T285:T299,\"C\")","v":3},{"$f":"COUNTIF('[1]Testee answer 2011'!U285:U299,\"C\")","v":4},{"$f":"COUNTIF('[1]Testee answer 2011'!V285:V299,\"C\")","v":4},{"$f":"COUNTIF('[1]Testee answer 2011'!W285:W299,\"C\")","v":2},{"$f":"COUNTIF('[1]Testee answer 2011'!X285:X299,\"C\")","v":6},{"$f":"COUNTIF('[1]Testee answer 2011'!Y285:Y299,\"C\")","v":4},{"$f":"COUNTIF('[1]Testee answer 2011'!Z285:Z299,\"C\")","v":2},{"$f":"COUNTIF('[1]Testee answer 2011'!AA285:AA299,\"C\")","v":2},{"$f":"COUNTIF('[1]Testee answer 2011'!AB285:AB299,\"C\")","v":1},{"$f":"COUNTIF('[1]Testee answer 2011'!AC285:AC299,\"C\")","v":4},{"$f":"COUNTIF('[1]Testee answer 2011'!AD285:AD299,\"C\")","v":2},{"$f":"COUNTIF('[1]Testee answer 2011'!AE285:AE299,\"C\")","v":7},{"$f":"COUNTIF('[1]Testee answer 2011'!AF285:AF299,\"C\")","v":3},{"$f":"COUNTIF('[1]Testee answer 2011'!AG285:AG299,\"C\")","v":4},{"$f":"COUNTIF('[1]Testee answer 2011'!AH285:AH299,\"C\")","v":4},{"$f":"COUNTIF('[1]Testee answer 2011'!AI285:AI299,\"C\")","v":5},{"$f":"COUNTIF('[1]Testee answer 2011'!AJ285:AJ299,\"C\")","v":3},{"$f":"COUNTIF('[1]Testee answer 2011'!AK285:AK299,\"C\")","v":4},{"$f":"COUNTIF('[1]Testee answer 2011'!AL285:AL299,\"C\")","v":1},{"$f":"COUNTIF('[1]Testee answer 2011'!AM285:AM299,\"C\")","v":6},{"$f":"COUNTIF('[1]Testee answer 2011'!AN285:AN299,\"C\")","v":2},{"$f":"COUNTIF('[1]Testee answer 2011'!AO285:AO299,\"C\")","v":0},{"$f":"COUNTIF('[1]Testee answer 2011'!AP285:AP299,\"C\")","v":0},{"$f":"COUNTIF('[1]Testee answer 2011'!AQ285:AQ299,\"C\")","v":0},{"$f":"COUNTIF('[1]Testee answer 2011'!AR285:AR299,\"C\")","v":0},{"$f":"COUNTIF('[1]Testee answer 2011'!AS285:AS299,\"C\")","v":0},{"$f":"COUNTIF('[1]Testee answer 2011'!AT285:AT299,\"C\")","v":10},{"$f":"COUNTIF('[1]Testee answer 2011'!AU285:AU299,\"C\")","v":5},{"$f":"COUNTIF('[1]Testee answer 2011'!AV285:AV299,\"C\")","v":8},{"$f":"COUNTIF('[1]Testee answer 2011'!AW285:AW299,\"C\")","v":3},{"$f":"COUNTIF('[1]Testee answer 2011'!AX285:AX299,\"C\")","v":5},{"$f":"COUNTIF('[1]Testee answer 2011'!AY285:AY299,\"C\")","v":2},{"$f":"COUNTIF('[1]Testee answer 2011'!AZ285:AZ299,\"C\")","v":3},{"$f":"COUNTIF('[1]Testee answer 2011'!BA285:BA299,\"C\")","v":0},{"$f":"COUNTIF('[1]Testee answer 2011'!BB285:BB299,\"C\")","v":0},{"$f":"COUNTIF('[1]Testee answer 2011'!BC285:BC299,\"C\")","v":0},{"$f":"COUNTIF('[1]Testee answer 2011'!BD285:BD299,\"C\")","v":0},{"$f":"COUNTIF('[1]Testee answer 2011'!BE285:BE299,\"C\")","v":0},{"$f":"COUNTIF('[1]Testee answer 2011'!BF285:BF299,\"C\")","v":0},{"$f":"COUNTIF('[1]Testee answer 2011'!BG285:BG299,\"C\")","v":0},{"$f":"COUNTIF('[1]Testee answer 2011'!BH285:BH299,\"C\")","v":0},{"$f":"COUNTIF('[1]Testee answer 2011'!BI285:BI299,\"C\")","v":0}]
["BALK2",{"$f":"COUNTIF('[1]Testee answer 2011'!D285:D299,\"D\")","v":0},{"$f":"COUNTIF('[1]Testee answer 2011'!E285:E299,\"D\")","v":0},{"$f":"COUNTIF('[1]Testee answer 2011'!F285:F299,\"D\")","v":0},{"$f":"COUNTIF('[1]Testee answer 2011'!G285:G299,\"D\")","v":0},{"$f":"COUNTIF('[1]Testee answer 2011'!H285:H299,\"D\")","v":1},{"$f":"COUNTIF('[1]Testee answer 2011'!I285:I299,\"D\")","v":1},{"$f":"COUNTIF('[1]Testee answer 2011'!J285:J299,\"D\")","v":0},{"$f":"COUNTIF('[1]Testee answer 2011'!K285:K299,\"D\")","v":0},{"$f":"COUNTIF('[1]Testee answer 2011'!L285:L299,\"D\")","v":0},{"$f":"COUNTIF('[1]Testee answer 2011'!M285:M299,\"D\")","v":0},{"$f":"COUNTIF('[1]Testee answer 2011'!N285:N299,\"D\")","v":1},{"$f":"COUNTIF('[1]Testee answer 2011'!O285:O299,\"D\")","v":1},{"$f":"COUNTIF('[1]Testee answer 2011'!P285:P299,\"D\")","v":2},{"$f":"COUNTIF('[1]Testee answer 2011'!Q285:Q299,\"D\")","v":4},{"$f":"COUNTIF('[1]Testee answer 2011'!R285:R299,\"D\")","v":5},{"$f":"COUNTIF('[1]Testee answer 2011'!S285:S299,\"D\")","v":4},{"$f":"COUNTIF('[1]Testee answer 2011'!T285:T299,\"D\")","v":2},{"$f":"COUNTIF('[1]Testee answer 2011'!U285:U299,\"D\")","v":1},{"$f":"COUNTIF('[1]Testee answer 2011'!V285:V299,\"D\")","v":8},{"$f":"COUNTIF('[1]Testee answer 2011'!W285:W299,\"D\")","v":4},{"$f":"COUNTIF('[1]Testee answer 2011'!X285:X299,\"D\")","v":4},{"$f":"COUNTIF('[1]Testee answer 2011'!Y285:Y299,\"D\")","v":2},{"$f":"COUNTIF('[1]Testee answer 2011'!Z285:Z299,\"D\")","v":2},{"$f":"COUNTIF('[1]Testee answer 2011'!AA285:AA299,\"D\")","v":3},{"$f":"COUNTIF('[1]Testee answer 2011'!AB285:AB299,\"D\")","v":11},{"$f":"COUNTIF('[1]Testee answer 2011'!AC285:AC299,\"D\")","v":1},{"$f":"COUNTIF('[1]Testee answer 2011'!AD285:AD299,\"D\")","v":1},{"$f":"COUNTIF('[1]Testee answer 2011'!AE285:AE299,\"D\")","v":3},{"$f":"COUNTIF('[1]Testee answer 2011'!AF285:AF299,\"D\")","v":10},{"$f":"COUNTIF('[1]Testee answer 2011'!AG285:AG299,\"D\")","v":7},{"$f":"COUNTIF('[1]Testee answer 2011'!AH285:AH299,\"D\")","v":0},{"$f":"COUNTIF('[1]Testee answer 2011'!AI285:AI299,\"D\")","v":2},{"$f":"COUNTIF('[1]Testee answer 2011'!AJ285:AJ299,\"D\")","v":6},{"$f":"COUNTIF('[1]Testee answer 2011'!AK285:AK299,\"D\")","v":4},{"$f":"COUNTIF('[1]Testee answer 2011'!AL285:AL299,\"D\")","v":8},{"$f":"COUNTIF('[1]Testee answer 2011'!AM285:AM299,\"D\")","v":5},{"$f":"COUNTIF('[1]Testee answer 2011'!AN285:AN299,\"D\")","v":5},{"$f":"COUNTIF('[1]Testee answer 2011'!AO285:AO299,\"D\")","v":0},{"$f":"COUNTIF('[1]Testee answer 2011'!AP285:AP299,\"D\")","v":0},{"$f":"COUNTIF('[1]Testee answer 2011'!AQ285:AQ299,\"D\")","v":0},{"$f":"COUNTIF('[1]Testee answer 2011'!AR285:AR299,\"D\")","v":0},{"$f":"COUNTIF('[1]Testee answer 2011'!AS285:AS299,\"D\")","v":0},{"$f":"COUNTIF('[1]Testee answer 2011'!AT285:AT299,\"D\")","v":3},{"$f":"COUNTIF('[1]Testee answer 2011'!AU285:AU299,\"D\")","v":9},{"$f":"COUNTIF('[1]Testee answer 2011'!AV285:AV299,\"D\")","v":4},{"$f":"COUNTIF('[1]Testee answer 2011'!AW285:AW299,\"D\")","v":1},{"$f":"COUNTIF('[1]Testee answer 2011'!AX285:AX299,\"D\")","v":1},{"$f":"COUNTIF('[1]Testee answer 2011'!AY285:AY299,\"D\")","v":3},{"$f":"COUNTIF('[1]Testee answer 2011'!AZ285:AZ299,\"D\")","v":4},{"$f":"COUNTIF('[1]Testee answer 2011'!BA285:BA299,\"D\")","v":0},{"$f":"COUNTIF('[1]Testee answer 2011'!BB285:BB299,\"D\")","v":0},{"$f":"COUNTIF('[1]Testee answer 2011'!BC285:BC299,\"D\")","v":0},{"$f":"COUNTIF('[1]Testee answer 2011'!BD285:BD299,\"D\")","v":0},{"$f":"COUNTIF('[1]Testee answer 2011'!BE285:BE299,\"D\")","v":0},{"$f":"COUNTIF('[1]Testee answer 2011'!BF285:BF299,\"D\")","v":0},{"$f":"COUNTIF('[1]Testee answer 2011'!BG285:BG299,\"D\")","v":0},{"$f":"COUNTIF('[1]Testee answer 2011'!BH285:BH299,\"D\")","v":0},{"$f":"COUNTIF('[1]Testee answer 2011'!BI285:BI299,\"D\")","v":0}]
["BALK3",{"$f":"COUNTIF('[1]Testee answer 2011'!D444:D456,\"A\")","v":0},{"$f":"COUNTIF('[1]Testee answer 2011'!E444:E456,\"A\")","v":1},{"$f":"COUNTIF('[1]Testee answer 2011'!F444:F456,\"A\")","v":1},{"$f":"COUNTIF('[1]Testee answer 2011'!G444:G456,\"A\")","v":9},{"$f":"COUNTIF('[1]Testee answer 2011'!H444:H456,\"A\")","v":8},{"$f":"COUNTIF('[1]Testee answer 2011'!I444:I456,\"A\")","v":0},{"$f":"COUNTIF('[1]Testee answer 2011'!J444:J456,\"A\")","v":7},{"$f":"COUNTIF('[1]Testee answer 2011'!K444:K456,\"A\")","v":9},{"$f":"COUNTIF('[1]Testee answer 2011'!L444:L456,\"A\")","v":9},{"$f":"COUNTIF('[1]Testee answer 2011'!M444:M456,\"A\")","v":7},{"$f":"COUNTIF('[1]Testee answer 2011'!N444:N456,\"A\")","v":2},{"$f":"COUNTIF('[1]Testee answer 2011'!O444:O456,\"A\")","v":3},{"$f":"COUNTIF('[1]Testee answer 2011'!P444:P456,\"A\")","v":2},{"$f":"COUNTIF('[1]Testee answer 2011'!Q444:Q456,\"A\")","v":2},{"$f":"COUNTIF('[1]Testee answer 2011'!R444:R456,\"A\")","v":2},{"$f":"COUNTIF('[1]Testee answer 2011'!S444:S456,\"A\")","v":3},{"$f":"COUNTIF('[1]Testee answer 2011'!T444:T456,\"A\")","v":5},{"$f":"COUNTIF('[1]Testee answer 2011'!U444:U456,\"A\")","v":1},{"$f":"COUNTIF('[1]Testee answer 2011'!V444:V456,\"A\")","v":0},{"$f":"COUNTIF('[1]Testee answer 2011'!W444:W456,\"A\")","v":2},{"$f":"COUNTIF('[1]Testee answer 2011'!X444:X456,\"A\")","v":2},{"$f":"COUNTIF('[1]Testee answer 2011'!Y444:Y456,\"A\")","v":3},{"$f":"COUNTIF('[1]Testee answer 2011'!Z444:Z456,\"A\")","v":4},{"$f":"COUNTIF('[1]Testee answer 2011'!AA444:AA456,\"A\")","v":9},{"$f":"COUNTIF('[1]Testee answer 2011'!AB444:AB456,\"A\")","v":0},{"$f":"COUNTIF('[1]Testee answer 2011'!AC444:AC456,\"A\")","v":3},{"$f":"COUNTIF('[1]Testee answer 2011'!AD444:AD456,\"A\")","v":4},{"$f":"COUNTIF('[1]Testee answer 2011'!AE444:AE456,\"A\")","v":2},{"$f":"COUNTIF('[1]Testee answer 2011'!AF444:AF456,\"A\")","v":1},{"$f":"COUNTIF('[1]Testee answer 2011'!AG444:AG456,\"A\")","v":1},{"$f":"COUNTIF('[1]Testee answer 2011'!AH444:AH456,\"A\")","v":5},{"$f":"COUNTIF('[1]Testee answer 2011'!AI444:AI456,\"A\")","v":0},{"$f":"COUNTIF('[1]Testee answer 2011'!AJ444:AJ456,\"A\")","v":4},{"$f":"COUNTIF('[1]Testee answer 2011'!AK444:AK456,\"A\")","v":3},{"$f":"COUNTIF('[1]Testee answer 2011'!AL444:AL456,\"A\")","v":0},{"$f":"COUNTIF('[1]Testee answer 2011'!AM444:AM456,\"A\")","v":0},{"$f":"COUNTIF('[1]Testee answer 2011'!AN444:AN456,\"A\")","v":2},{"$f":"COUNTIF('[1]Testee answer 2011'!AO444:AO456,\"A\")","v":6},{"$f":"COUNTIF('[1]Testee answer 2011'!AP444:AP456,\"A\")","v":3},{"$f":"COUNTIF('[1]Testee answer 2011'!AQ444:AQ456,\"A\")","v":0},{"$f":"COUNTIF('[1]Testee answer 2011'!AR444:AR456,\"A\")","v":4},{"$f":"COUNTIF('[1]Testee answer 2011'!AS444:AS456,\"A\")","v":3},{"$f":"COUNTIF('[1]Testee answer 2011'!AT444:AT456,\"A\")","v":0},{"$f":"COUNTIF('[1]Testee answer 2011'!AU444:AU456,\"A\")","v":0},{"$f":"COUNTIF('[1]Testee answer 2011'!AV444:AV456,\"A\")","v":1},{"$f":"COUNTIF('[1]Testee answer 2011'!AW444:AW456,\"A\")","v":2},{"$f":"COUNTIF('[1]Testee answer 2011'!AX444:AX456,\"A\")","v":2},{"$f":"COUNTIF('[1]Testee answer 2011'!AY444:AY456,\"A\")","v":2},{"$f":"COUNTIF('[1]Testee answer 2011'!AZ444:AZ456,\"A\")","v":0},{"$f":"COUNTIF('[1]Testee answer 2011'!BA444:BA456,\"A\")","v":11},{"$f":"COUNTIF('[1]Testee answer 2011'!BB444:BB456,\"A\")","v":3},{"$f":"COUNTIF('[1]Testee answer 2011'!BC444:BC456,\"A\")","v":0},{"$f":"COUNTIF('[1]Testee answer 2011'!BD444:BD456,\"A\")","v":4},{"$f":"COUNTIF('[1]Testee answer 2011'!BE444:BE456,\"A\")","v":9},{"$f":"COUNTIF('[1]Testee answer 2011'!BF444:BF456,\"A\")","v":2},{"$f":"COUNTIF('[1]Testee answer 2011'!BG444:BG456,\"A\")","v":10},{"$f":"COUNTIF('[1]Testee answer 2011'!BH444:BH456,\"A\")","v":5},{"$f":"COUNTIF('[1]Testee answer 2011'!BI444:BI456,\"A\")","v":0}]
["BALK3",{"$f":"COUNTIF('[1]Testee answer 2011'!D444:D456,\"B\")","v":0},{"$f":"COUNTIF('[1]Testee answer 2011'!E444:E456,\"B\")","v":11},{"$f":"COUNTIF('[1]Testee answer 2011'!F444:F456,\"B\")","v":11},{"$f":"COUNTIF('[1]Testee answer 2011'!G444:G456,\"B\")","v":3},{"$f":"COUNTIF('[1]Testee answer 2011'!H444:H456,\"B\")","v":1},{"$f":"COUNTIF('[1]Testee answer 2011'!I444:I456,\"B\")","v":9},{"$f":"COUNTIF('[1]Testee answer 2011'!J444:J456,\"B\")","v":5},{"$f":"COUNTIF('[1]Testee answer 2011'!K444:K456,\"B\")","v":3},{"$f":"COUNTIF('[1]Testee answer 2011'!L444:L456,\"B\")","v":3},{"$f":"COUNTIF('[1]Testee answer 2011'!M444:M456,\"B\")","v":4},{"$f":"COUNTIF('[1]Testee answer 2011'!N444:N456,\"B\")","v":7},{"$f":"COUNTIF('[1]Testee answer 2011'!O444:O456,\"B\")","v":6},{"$f":"COUNTIF('[1]Testee answer 2011'!P444:P456,\"B\")","v":2},{"$f":"COUNTIF('[1]Testee answer 2011'!Q444:Q456,\"B\")","v":0},{"$f":"COUNTIF('[1]Testee answer 2011'!R444:R456,\"B\")","v":2},{"$f":"COUNTIF('[1]Testee answer 2011'!S444:S456,\"B\")","v":0},{"$f":"COUNTIF('[1]Testee answer 2011'!T444:T456,\"B\")","v":3},{"$f":"COUNTIF('[1]Testee answer 2011'!U444:U456,\"B\")","v":7},{"$f":"COUNTIF('[1]Testee answer 2011'!V444:V456,\"B\")","v":1},{"$f":"COUNTIF('[1]Testee answer 2011'!W444:W456,\"B\")","v":1},{"$f":"COUNTIF('[1]Testee answer 2011'!X444:X456,\"B\")","v":2},{"$f":"COUNTIF('[1]Testee answer 2011'!Y444:Y456,\"B\")","v":3},{"$f":"COUNTIF('[1]Testee answer 2011'!Z444:Z456,\"B\")","v":4},{"$f":"COUNTIF('[1]Testee answer 2011'!AA444:AA456,\"B\")","v":1},{"$f":"COUNTIF('[1]Testee answer 2011'!AB444:AB456,\"B\")","v":0},{"$f":"COUNTIF('[1]Testee answer 2011'!AC444:AC456,\"B\")","v":2},{"$f":"COUNTIF('[1]Testee answer 2011'!AD444:AD456,\"B\")","v":3},{"$f":"COUNTIF('[1]Testee answer 2011'!AE444:AE456,\"B\")","v":0},{"$f":"COUNTIF('[1]Testee answer 2011'!AF444:AF456,\"B\")","v":1},{"$f":"COUNTIF('[1]Testee answer 2011'!AG444:AG456,\"B\")","v":0},{"$f":"COUNTIF('[1]Testee answer 2011'!AH444:AH456,\"B\")","v":5},{"$f":"COUNTIF('[1]Testee answer 2011'!AI444:AI456,\"B\")","v":5},{"$f":"COUNTIF('[1]Testee answer 2011'!AJ444:AJ456,\"B\")","v":0},{"$f":"COUNTIF('[1]Testee answer 2011'!AK444:AK456,\"B\")","v":1},{"$f":"COUNTIF('[1]Testee answer 2011'!AL444:AL456,\"B\")","v":2},{"$f":"COUNTIF('[1]Testee answer 2011'!AM444:AM456,\"B\")","v":0},{"$f":"COUNTIF('[1]Testee answer 2011'!AN444:AN456,\"B\")","v":2},{"$f":"COUNTIF('[1]Testee answer 2011'!AO444:AO456,\"B\")","v":6},{"$f":"COUNTIF('[1]Testee answer 2011'!AP444:AP456,\"B\")","v":9},{"$f":"COUNTIF('[1]Testee answer 2011'!AQ444:AQ456,\"B\")","v":12},{"$f":"COUNTIF('[1]Testee answer 2011'!AR444:AR456,\"B\")","v":8},{"$f":"COUNTIF('[1]Testee answer 2011'!AS444:AS456,\"B\")","v":9},{"$f":"COUNTIF('[1]Testee answer 2011'!AT444:AT456,\"B\")","v":1},{"$f":"COUNTIF('[1]Testee answer 2011'!AU444:AU456,\"B\")","v":0},{"$f":"COUNTIF('[1]Testee answer 2011'!AV444:AV456,\"B\")","v":0},{"$f":"COUNTIF('[1]Testee answer 2011'!AW444:AW456,\"B\")","v":10},{"$f":"COUNTIF('[1]Testee answer 2011'!AX444:AX456,\"B\")","v":5},{"$f":"COUNTIF('[1]Testee answer 2011'!AY444:AY456,\"B\")","v":1},{"$f":"COUNTIF('[1]Testee answer 2011'!AZ444:AZ456,\"B\")","v":2},{"$f":"COUNTIF('[1]Testee answer 2011'!BA444:BA456,\"B\")","v":1},{"$f":"COUNTIF('[1]Testee answer 2011'!BB444:BB456,\"B\")","v":9},{"$f":"COUNTIF('[1]Testee answer 2011'!BC444:BC456,\"B\")","v":12},{"$f":"COUNTIF('[1]Testee answer 2011'!BD444:BD456,\"B\")","v":8},{"$f":"COUNTIF('[1]Testee answer 2011'!BE444:BE456,\"B\")","v":3},{"$f":"COUNTIF('[1]Testee answer 2011'!BF444:BF456,\"B\")","v":10},{"$f":"COUNTIF('[1]Testee answer 2011'!BG444:BG456,\"B\")","v":2},{"$f":"COUNTIF('[1]Testee answer 2011'!BH444:BH456,\"B\")","v":7},{"$f":"COUNTIF('[1]Testee answer 2011'!BI444:BI456,\"B\")","v":12}]
["BALK3",{"$f":"COUNTIF('[1]Testee answer 2011'!D444:D456,\"C\")","v":12},{"$f":"COUNTIF('[1]Testee answer 2011'!E444:E456,\"C\")","v":0},{"$f":"COUNTIF('[1]Testee answer 2011'!F444:F456,\"C\")","v":0},{"$f":"COUNTIF('[1]Testee answer 2011'!G444:G456,\"C\")","v":0},{"$f":"COUNTIF('[1]Testee answer 2011'!H444:H456,\"C\")","v":1},{"$f":"COUNTIF('[1]Testee answer 2011'!I444:I456,\"C\")","v":3},{"$f":"COUNTIF('[1]Testee answer 2011'!J444:J456,\"C\")","v":0},{"$f":"COUNTIF('[1]Testee answer 2011'!K444:K456,\"C\")","v":0},{"$f":"COUNTIF('[1]Testee answer 2011'!L444:L456,\"C\")","v":0},{"$f":"COUNTIF('[1]Testee answer 2011'!M444:M456,\"C\")","v":1},{"$f":"COUNTIF('[1]Testee answer 2011'!N444:N456,\"C\")","v":2},{"$f":"COUNTIF('[1]Testee answer 2011'!O444:O456,\"C\")","v":3},{"$f":"COUNTIF('[1]Testee answer 2011'!P444:P456,\"C\")","v":7},{"$f":"COUNTIF('[1]Testee answer 2011'!Q444:Q456,\"C\")","v":5},{"$f":"COUNTIF('[1]Testee answer 2011'!R444:R456,\"C\")","v":5},{"$f":"COUNTIF('[1]Testee answer 2011'!S444:S456,\"C\")","v":1},{"$f":"COUNTIF('[1]Testee answer 2011'!T444:T456,\"C\")","v":1},{"$f":"COUNTIF('[1]Testee answer 2011'!U444:U456,\"C\")","v":4},{"$f":"COUNTIF('[1]Testee answer 2011'!V444:V456,\"C\")","v":3},{"$f":"COUNTIF('[1]Testee answer 2011'!W444:W456,\"C\")","v":7},{"$f":"COUNTIF('[1]Testee answer 2011'!X444:X456,\"C\")","v":7},{"$f":"COUNTIF('[1]Testee answer 2011'!Y444:Y456,\"C\")","v":3},{"$f":"COUNTIF('[1]Testee answer 2011'!Z444:Z456,\"C\")","v":2},{"$f":"COUNTIF('[1]Testee answer 2011'!AA444:AA456,\"C\")","v":2},{"$f":"COUNTIF('[1]Testee answer 2011'!AB444:AB456,\"C\")","v":3},{"$f":"COUNTIF('[1]Testee answer 2011'!AC444:AC456,\"C\")","v":3},{"$f":"COUNTIF('[1]Testee answer 2011'!AD444:AD456,\"C\")","v":5},{"$f":"COUNTIF('[1]Testee answer 2011'!AE444:AE456,\"C\")","v":5},{"$f":"COUNTIF('[1]Testee answer 2011'!AF444:AF456,\"C\")","v":5},{"$f":"COUNTIF('[1]Testee answer 2011'!AG444:AG456,\"C\")","v":4},{"$f":"COUNTIF('[1]Testee answer 2011'!AH444:AH456,\"C\")","v":2},{"$f":"COUNTIF('[1]Testee answer 2011'!AI444:AI456,\"C\")","v":5},{"$f":"COUNTIF('[1]Testee answer 2011'!AJ444:AJ456,\"C\")","v":4},{"$f":"COUNTIF('[1]Testee answer 2011'!AK444:AK456,\"C\")","v":4},{"$f":"COUNTIF('[1]Testee answer 2011'!AL444:AL456,\"C\")","v":6},{"$f":"COUNTIF('[1]Testee answer 2011'!AM444:AM456,\"C\")","v":4},{"$f":"COUNTIF('[1]Testee answer 2011'!AN444:AN456,\"C\")","v":5},{"$f":"COUNTIF('[1]Testee answer 2011'!AO444:AO456,\"C\")","v":0},{"$f":"COUNTIF('[1]Testee answer 2011'!AP444:AP456,\"C\")","v":0},{"$f":"COUNTIF('[1]Testee answer 2011'!AQ444:AQ456,\"C\")","v":0},{"$f":"COUNTIF('[1]Testee answer 2011'!AR444:AR456,\"C\")","v":0},{"$f":"COUNTIF('[1]Testee answer 2011'!AS444:AS456,\"C\")","v":0},{"$f":"COUNTIF('[1]Testee answer 2011'!AT444:AT456,\"C\")","v":6},{"$f":"COUNTIF('[1]Testee answer 2011'!AU444:AU456,\"C\")","v":3},{"$f":"COUNTIF('[1]Testee answer 2011'!AV444:AV456,\"C\")","v":7},{"$f":"COUNTIF('[1]Testee answer 2011'!AW444:AW456,\"C\")","v":0},{"$f":"COUNTIF('[1]Testee answer 2011'!AX444:AX456,\"C\")","v":5},{"$f":"COUNTIF('[1]Testee answer 2011'!AY444:AY456,\"C\")","v":7},{"$f":"COUNTIF('[1]Testee answer 2011'!AZ444:AZ456,\"C\")","v":8},{"$f":"COUNTIF('[1]Testee answer 2011'!BA444:BA456,\"C\")","v":0},{"$f":"COUNTIF('[1]Testee answer 2011'!BB444:BB456,\"C\")","v":0},{"$f":"COUNTIF('[1]Testee answer 2011'!BC444:BC456,\"C\")","v":0},{"$f":"COUNTIF('[1]Testee answer 2011'!BD444:BD456,\"C\")","v":0},{"$f":"COUNTIF('[1]Testee answer 2011'!BE444:BE456,\"C\")","v":0},{"$f":"COUNTIF('[1]Testee answer 2011'!BF444:BF456,\"C\")","v":0},{"$f":"COUNTIF('[1]Testee answer 2011'!BG444:BG456,\"C\")","v":0},{"$f":"COUNTIF('[1]Testee answer 2011'!BH444:BH456,\"C\")","v":0},{"$f":"COUNTIF('[1]Testee answer 2011'!BI444:BI456,\"C\")","v":0}]
["BALK3",{"$f":"COUNTIF('[1]Testee answer 2011'!D444:D456,\"D\")","v":0},{"$f":"COUNTIF('[1]Testee answer 2011'!E444:E456,\"D\")","v":0},{"$f":"COUNTIF('[1]Testee answer 2011'!F444:F456,\"D\")","v":0},{"$f":"COUNTIF('[1]Testee answer 2011'!G444:G456,\"D\")","v":0},{"$f":"COUNTIF('[1]Testee answer 2011'!H444:H456,\"D\")","v":2},{"$f":"COUNTIF('[1]Testee answer 2011'!I444:I456,\"D\")","v":0},{"$f":"COUNTIF('[1]Testee answer 2011'!J444:J456,\"D\")","v":0},{"$f":"COUNTIF('[1]Testee answer 2011'!K444:K456,\"D\")","v":0},{"$f":"COUNTIF('[1]Testee answer 2011'!L444:L456,\"D\")","v":0},{"$f":"COUNTIF('[1]Testee answer 2011'!M444:M456,\"D\")","v":0},{"$f":"COUNTIF('[1]Testee answer 2011'!N444:N456,\"D\")","v":1},{"$f":"COUNTIF('[1]Testee answer 2011'!O444:O456,\"D\")","v":0},{"$f":"COUNTIF('[1]Testee answer 2011'!P444:P456,\"D\")","v":1},{"$f":"COUNTIF('[1]Testee answer 2011'!Q444:Q456,\"D\")","v":5},{"$f":"COUNTIF('[1]Testee answer 2011'!R444:R456,\"D\")","v":3},{"$f":"COUNTIF('[1]Testee answer 2011'!S444:S456,\"D\")","v":8},{"$f":"COUNTIF('[1]Testee answer 2011'!T444:T456,\"D\")","v":3},{"$f":"COUNTIF('[1]Testee answer 2011'!U444:U456,\"D\")","v":0},{"$f":"COUNTIF('[1]Testee answer 2011'!V444:V456,\"D\")","v":8},{"$f":"COUNTIF('[1]Testee answer 2011'!W444:W456,\"D\")","v":2},{"$f":"COUNTIF('[1]Testee answer 2011'!X444:X456,\"D\")","v":1},{"$f":"COUNTIF('[1]Testee answer 2011'!Y444:Y456,\"D\")","v":3},{"$f":"COUNTIF('[1]Testee answer 2011'!Z444:Z456,\"D\")","v":2},{"$f":"COUNTIF('[1]Testee answer 2011'!AA444:AA456,\"D\")","v":0},{"$f":"COUNTIF('[1]Testee answer 2011'!AB444:AB456,\"D\")","v":9},{"$f":"COUNTIF('[1]Testee answer 2011'!AC444:AC456,\"D\")","v":4},{"$f":"COUNTIF('[1]Testee answer 2011'!AD444:AD456,\"D\")","v":0},{"$f":"COUNTIF('[1]Testee answer 2011'!AE444:AE456,\"D\")","v":5},{"$f":"COUNTIF('[1]Testee answer 2011'!AF444:AF456,\"D\")","v":5},{"$f":"COUNTIF('[1]Testee answer 2011'!AG444:AG456,\"D\")","v":7},{"$f":"COUNTIF('[1]Testee answer 2011'!AH444:AH456,\"D\")","v":0},{"$f":"COUNTIF('[1]Testee answer 2011'!AI444:AI456,\"D\")","v":2},{"$f":"COUNTIF('[1]Testee answer 2011'!AJ444:AJ456,\"D\")","v":4},{"$f":"COUNTIF('[1]Testee answer 2011'!AK444:AK456,\"D\")","v":4},{"$f":"COUNTIF('[1]Testee answer 2011'!AL444:AL456,\"D\")","v":4},{"$f":"COUNTIF('[1]Testee answer 2011'!AM444:AM456,\"D\")","v":8},{"$f":"COUNTIF('[1]Testee answer 2011'!AN444:AN456,\"D\")","v":3},{"$f":"COUNTIF('[1]Testee answer 2011'!AO444:AO456,\"D\")","v":0},{"$f":"COUNTIF('[1]Testee answer 2011'!AP444:AP456,\"D\")","v":0},{"$f":"COUNTIF('[1]Testee answer 2011'!AQ444:AQ456,\"D\")","v":0},{"$f":"COUNTIF('[1]Testee answer 2011'!AR444:AR456,\"D\")","v":0},{"$f":"COUNTIF('[1]Testee answer 2011'!AS444:AS456,\"D\")","v":0},{"$f":"COUNTIF('[1]Testee answer 2011'!AT444:AT456,\"D\")","v":5},{"$f":"COUNTIF('[1]Testee answer 2011'!AU444:AU456,\"D\")","v":9},{"$f":"COUNTIF('[1]Testee answer 2011'!AV444:AV456,\"D\")","v":4},{"$f":"COUNTIF('[1]Testee answer 2011'!AW444:AW456,\"D\")","v":0},{"$f":"COUNTIF('[1]Testee answer 2011'!AX444:AX456,\"D\")","v":0},{"$f":"COUNTIF('[1]Testee answer 2011'!AY444:AY456,\"D\")","v":2},{"$f":"COUNTIF('[1]Testee answer 2011'!AZ444:AZ456,\"D\")","v":2},{"$f":"COUNTIF('[1]Testee answer 2011'!BA444:BA456,\"D\")","v":0},{"$f":"COUNTIF('[1]Testee answer 2011'!BB444:BB456,\"D\")","v":0},{"$f":"COUNTIF('[1]Testee answer 2011'!BC444:BC456,\"D\")","v":0},{"$f":"COUNTIF('[1]Testee answer 2011'!BD444:BD456,\"D\")","v":0},{"$f":"COUNTIF('[1]Testee answer 2011'!BE444:BE456,\"D\")","v":0},{"$f":"COUNTIF('[1]Testee answer 2011'!BF444:BF456,\"D\")","v":0},{"$f":"COUNTIF('[1]Testee answer 2011'!BG444:BG456,\"D\")","v":0},{"$f":"COUNTIF('[1]Testee answer 2011'!BH444:BH456,\"D\")","v":0},{"$f":"COUNTIF('[1]Testee answer 2011'!BI444:BI456,\"D\")","v":0}]
["BALK4",{"$f":"COUNTIF('[1]Testee answer 2011'!D529:D533,\"A\")","v":0},{"$f":"COUNTIF('[1]Testee answer 2011'!E529:E533,\"A\")","v":1},{"$f":"COUNTIF('[1]Testee answer 2011'!F529:F533,\"A\")","v":2},{"$f":"COUNTIF('[1]Testee answer 2011'!G529:G533,\"A\")","v":4},{"$f":"COUNTIF('[1]Testee answer 2011'!H529:H533,\"A\")","v":3},{"$f":"COUNTIF('[1]Testee answer 2011'!I529:I533,\"A\")","v":0},{"$f":"COUNTIF('[1]Testee answer 2011'!J529:J533,\"A\")","v":4},{"$f":"COUNTIF('[1]Testee answer 2011'!K529:K533,\"A\")","v":1},{"$f":"COUNTIF('[1]Testee answer 2011'!L529:L533,\"A\")","v":1},{"$f":"COUNTIF('[1]Testee answer 2011'!M529:M533,\"A\")","v":0},{"$f":"COUNTIF('[1]Testee answer 2011'!N529:N533,\"A\")","v":1},{"$f":"COUNTIF('[1]Testee answer 2011'!O529:O533,\"A\")","v":0},{"$f":"COUNTIF('[1]Testee answer 2011'!P529:P533,\"A\")","v":0},{"$f":"COUNTIF('[1]Testee answer 2011'!Q529:Q533,\"A\")","v":0},{"$f":"COUNTIF('[1]Testee answer 2011'!R529:R533,\"A\")","v":0},{"$f":"COUNTIF('[1]Testee answer 2011'!S529:S533,\"A\")","v":1},{"$f":"COUNTIF('[1]Testee answer 2011'!T529:T533,\"A\")","v":2},{"$f":"COUNTIF('[1]Testee answer 2011'!U529:U533,\"A\")","v":0},{"$f":"COUNTIF('[1]Testee answer 2011'!V529:V533,\"A\")","v":0},{"$f":"COUNTIF('[1]Testee answer 2011'!W529:W533,\"A\")","v":1},{"$f":"COUNTIF('[1]Testee answer 2011'!X529:X533,\"A\")","v":0},{"$f":"COUNTIF('[1]Testee answer 2011'!Y529:Y533,\"A\")","v":0},{"$f":"COUNTIF('[1]Testee answer 2011'!Z529:Z533,\"A\")","v":0},{"$f":"COUNTIF('[1]Testee answer 2011'!AA529:AA533,\"A\")","v":2},{"$f":"COUNTIF('[1]Testee answer 2011'!AB529:AB533,\"A\")","v":0},{"$f":"COUNTIF('[1]Testee answer 2011'!AC529:AC533,\"A\")","v":1},{"$f":"COUNTIF('[1]Testee answer 2011'!AD529:AD533,\"A\")","v":3},{"$f":"COUNTIF('[1]Testee answer 2011'!AE529:AE533,\"A\")","v":0},{"$f":"COUNTIF('[1]Testee answer 2011'!AF529:AF533,\"A\")","v":0},{"$f":"COUNTIF('[1]Testee answer 2011'!AG529:AG533,\"A\")","v":0},{"$f":"COUNTIF('[1]Testee answer 2011'!AH529:AH533,\"A\")","v":3},{"$f":"COUNTIF('[1]Testee answer 2011'!AI529:AI533,\"A\")","v":1},{"$f":"COUNTIF('[1]Testee answer 2011'!AJ529:AJ533,\"A\")","v":3},{"$f":"COUNTIF('[1]Testee answer 2011'!AK529:AK533,\"A\")","v":3},{"$f":"COUNTIF('[1]Testee answer 2011'!AL529:AL533,\"A\")","v":0},{"$f":"COUNTIF('[1]Testee answer 2011'!AM529:AM533,\"A\")","v":0},{"$f":"COUNTIF('[1]Testee answer 2011'!AN529:AN533,\"A\")","v":0},{"$f":"COUNTIF('[1]Testee answer 2011'!AO529:AO533,\"A\")","v":2},{"$f":"COUNTIF('[1]Testee answer 2011'!AP529:AP533,\"A\")","v":3},{"$f":"COUNTIF('[1]Testee answer 2011'!AQ529:AQ533,\"A\")","v":1},{"$f":"COUNTIF('[1]Testee answer 2011'!AR529:AR533,\"A\")","v":4},{"$f":"COUNTIF('[1]Testee answer 2011'!AS529:AS533,\"A\")","v":1},{"$f":"COUNTIF('[1]Testee answer 2011'!AT529:AT533,\"A\")","v":0},{"$f":"COUNTIF('[1]Testee answer 2011'!AU529:AU533,\"A\")","v":0},{"$f":"COUNTIF('[1]Testee answer 2011'!AV529:AV533,\"A\")","v":0},{"$f":"COUNTIF('[1]Testee answer 2011'!AW529:AW533,\"A\")","v":2},{"$f":"COUNTIF('[1]Testee answer 2011'!AX529:AX533,\"A\")","v":0},{"$f":"COUNTIF('[1]Testee answer 2011'!AY529:AY533,\"A\")","v":0},{"$f":"COUNTIF('[1]Testee answer 2011'!AZ529:AZ533,\"A\")","v":0},{"$f":"COUNTIF('[1]Testee answer 2011'!BA529:BA533,\"A\")","v":5},{"$f":"COUNTIF('[1]Testee answer 2011'!BB529:BB533,\"A\")","v":0},{"$f":"COUNTIF('[1]Testee answer 2011'!BC529:BC533,\"A\")","v":1},{"$f":"COUNTIF('[1]Testee answer 2011'!BD529:BD533,\"A\")","v":5},{"$f":"COUNTIF('[1]Testee answer 2011'!BE529:BE533,\"A\")","v":4},{"$f":"COUNTIF('[1]Testee answer 2011'!BF529:BF533,\"A\")","v":1},{"$f":"COUNTIF('[1]Testee answer 2011'!BG529:BG533,\"A\")","v":3},{"$f":"COUNTIF('[1]Testee answer 2011'!BH529:BH533,\"A\")","v":5},{"$f":"COUNTIF('[1]Testee answer 2011'!BI529:BI533,\"A\")","v":0}]
["BALK4",{"$f":"COUNTIF('[1]Testee answer 2011'!D529:D533,\"B\")","v":1},{"$f":"COUNTIF('[1]Testee answer 2011'!E529:E533,\"B\")","v":4},{"$f":"COUNTIF('[1]Testee answer 2011'!F529:F533,\"B\")","v":3},{"$f":"COUNTIF('[1]Testee answer 2011'!G529:G533,\"B\")","v":1},{"$f":"COUNTIF('[1]Testee answer 2011'!H529:H533,\"B\")","v":2},{"$f":"COUNTIF('[1]Testee answer 2011'!I529:I533,\"B\")","v":4},{"$f":"COUNTIF('[1]Testee answer 2011'!J529:J533,\"B\")","v":1},{"$f":"COUNTIF('[1]Testee answer 2011'!K529:K533,\"B\")","v":4},{"$f":"COUNTIF('[1]Testee answer 2011'!L529:L533,\"B\")","v":4},{"$f":"COUNTIF('[1]Testee answer 2011'!M529:M533,\"B\")","v":3},{"$f":"COUNTIF('[1]Testee answer 2011'!N529:N533,\"B\")","v":2},{"$f":"COUNTIF('[1]Testee answer 2011'!O529:O533,\"B\")","v":2},{"$f":"COUNTIF('[1]Testee answer 2011'!P529:P533,\"B\")","v":0},{"$f":"COUNTIF('[1]Testee answer 2011'!Q529:Q533,\"B\")","v":0},{"$f":"COUNTIF('[1]Testee answer 2011'!R529:R533,\"B\")","v":0},{"$f":"COUNTIF('[1]Testee answer 2011'!S529:S533,\"B\")","v":0},{"$f":"COUNTIF('[1]Testee answer 2011'!T529:T533,\"B\")","v":2},{"$f":"COUNTIF('[1]Testee answer 2011'!U529:U533,\"B\")","v":3},{"$f":"COUNTIF('[1]Testee answer 2011'!V529:V533,\"B\")","v":0},{"$f":"COUNTIF('[1]Testee answer 2011'!W529:W533,\"B\")","v":1},{"$f":"COUNTIF('[1]Testee answer 2011'!X529:X533,\"B\")","v":1},{"$f":"COUNTIF('[1]Testee answer 2011'!Y529:Y533,\"B\")","v":2},{"$f":"COUNTIF('[1]Testee answer 2011'!Z529:Z533,\"B\")","v":3},{"$f":"COUNTIF('[1]Testee answer 2011'!AA529:AA533,\"B\")","v":2},{"$f":"COUNTIF('[1]Testee answer 2011'!AB529:AB533,\"B\")","v":0},{"$f":"COUNTIF('[1]Testee answer 2011'!AC529:AC533,\"B\")","v":1},{"$f":"COUNTIF('[1]Testee answer 2011'!AD529:AD533,\"B\")","v":0},{"$f":"COUNTIF('[1]Testee answer 2011'!AE529:AE533,\"B\")","v":0},{"$f":"COUNTIF('[1]Testee answer 2011'!AF529:AF533,\"B\")","v":0},{"$f":"COUNTIF('[1]Testee answer 2011'!AG529:AG533,\"B\")","v":0},{"$f":"COUNTIF('[1]Testee answer 2011'!AH529:AH533,\"B\")","v":1},{"$f":"COUNTIF('[1]Testee answer 2011'!AI529:AI533,\"B\")","v":1},{"$f":"COUNTIF('[1]Testee answer 2011'!AJ529:AJ533,\"B\")","v":0},{"$f":"COUNTIF('[1]Testee answer 2011'!AK529:AK533,\"B\")","v":0},{"$f":"COUNTIF('[1]Testee answer 2011'!AL529:AL533,\"B\")","v":1},{"$f":"COUNTIF('[1]Testee answer 2011'!AM529:AM533,\"B\")","v":0},{"$f":"COUNTIF('[1]Testee answer 2011'!AN529:AN533,\"B\")","v":1},{"$f":"COUNTIF('[1]Testee answer 2011'!AO529:AO533,\"B\")","v":3},{"$f":"COUNTIF('[1]Testee answer 2011'!AP529:AP533,\"B\")","v":2},{"$f":"COUNTIF('[1]Testee answer 2011'!AQ529:AQ533,\"B\")","v":4},{"$f":"COUNTIF('[1]Testee answer 2011'!AR529:AR533,\"B\")","v":1},{"$f":"COUNTIF('[1]Testee answer 2011'!AS529:AS533,\"B\")","v":4},{"$f":"COUNTIF('[1]Testee answer 2011'!AT529:AT533,\"B\")","v":1},{"$f":"COUNTIF('[1]Testee answer 2011'!AU529:AU533,\"B\")","v":1},{"$f":"COUNTIF('[1]Testee answer 2011'!AV529:AV533,\"B\")","v":0},{"$f":"COUNTIF('[1]Testee answer 2011'!AW529:AW533,\"B\")","v":2},{"$f":"COUNTIF('[1]Testee answer 2011'!AX529:AX533,\"B\")","v":2},{"$f":"COUNTIF('[1]Testee answer 2011'!AY529:AY533,\"B\")","v":0},{"$f":"COUNTIF('[1]Testee answer 2011'!AZ529:AZ533,\"B\")","v":0},{"$f":"COUNTIF('[1]Testee answer 2011'!BA529:BA533,\"B\")","v":0},{"$f":"COUNTIF('[1]Testee answer 2011'!BB529:BB533,\"B\")","v":5},{"$f":"COUNTIF('[1]Testee answer 2011'!BC529:BC533,\"B\")","v":4},{"$f":"COUNTIF('[1]Testee answer 2011'!BD529:BD533,\"B\")","v":0},{"$f":"COUNTIF('[1]Testee answer 2011'!BE529:BE533,\"B\")","v":1},{"$f":"COUNTIF('[1]Testee answer 2011'!BF529:BF533,\"B\")","v":4},{"$f":"COUNTIF('[1]Testee answer 2011'!BG529:BG533,\"B\")","v":2},{"$f":"COUNTIF('[1]Testee answer 2011'!BH529:BH533,\"B\")","v":0},{"$f":"COUNTIF('[1]Testee answer 2011'!BI529:BI533,\"B\")","v":5}]
["BALK4",{"$f":"COUNTIF('[1]Testee answer 2011'!D529:D533,\"C\")","v":0},{"$f":"COUNTIF('[1]Testee answer 2011'!E529:E533,\"C\")","v":0},{"$f":"COUNTIF('[1]Testee answer 2011'!F529:F533,\"C\")","v":0},{"$f":"COUNTIF('[1]Testee answer 2011'!G529:G533,\"C\")","v":0},{"$f":"COUNTIF('[1]Testee answer 2011'!H529:H533,\"C\")","v":0},{"$f":"COUNTIF('[1]Testee answer 2011'!I529:I533,\"C\")","v":1},{"$f":"COUNTIF('[1]Testee answer 2011'!J529:J533,\"C\")","v":0},{"$f":"COUNTIF('[1]Testee answer 2011'!K529:K533,\"C\")","v":0},{"$f":"COUNTIF('[1]Testee answer 2011'!L529:L533,\"C\")","v":0},{"$f":"COUNTIF('[1]Testee answer 2011'!M529:M533,\"C\")","v":2},{"$f":"COUNTIF('[1]Testee answer 2011'!N529:N533,\"C\")","v":2},{"$f":"COUNTIF('[1]Testee answer 2011'!O529:O533,\"C\")","v":3},{"$f":"COUNTIF('[1]Testee answer 2011'!P529:P533,\"C\")","v":5},{"$f":"COUNTIF('[1]Testee answer 2011'!Q529:Q533,\"C\")","v":3},{"$f":"COUNTIF('[1]Testee answer 2011'!R529:R533,\"C\")","v":5},{"$f":"COUNTIF('[1]Testee answer 2011'!S529:S533,\"C\")","v":3},{"$f":"COUNTIF('[1]Testee answer 2011'!T529:T533,\"C\")","v":1},{"$f":"COUNTIF('[1]Testee answer 2011'!U529:U533,\"C\")","v":2},{"$f":"COUNTIF('[1]Testee answer 2011'!V529:V533,\"C\")","v":1},{"$f":"COUNTIF('[1]Testee answer 2011'!W529:W533,\"C\")","v":2},{"$f":"COUNTIF('[1]Testee answer 2011'!X529:X533,\"C\")","v":4},{"$f":"COUNTIF('[1]Testee answer 2011'!Y529:Y533,\"C\")","v":3},{"$f":"COUNTIF('[1]Testee answer 2011'!Z529:Z533,\"C\")","v":2},{"$f":"COUNTIF('[1]Testee answer 2011'!AA529:AA533,\"C\")","v":1},{"$f":"COUNTIF('[1]Testee answer 2011'!AB529:AB533,\"C\")","v":2},{"$f":"COUNTIF('[1]Testee answer 2011'!AC529:AC533,\"C\")","v":2},{"$f":"COUNTIF('[1]Testee answer 2011'!AD529:AD533,\"C\")","v":1},{"$f":"COUNTIF('[1]Testee answer 2011'!AE529:AE533,\"C\")","v":3},{"$f":"COUNTIF('[1]Testee answer 2011'!AF529:AF533,\"C\")","v":1},{"$f":"COUNTIF('[1]Testee answer 2011'!AG529:AG533,\"C\")","v":4},{"$f":"COUNTIF('[1]Testee answer 2011'!AH529:AH533,\"C\")","v":1},{"$f":"COUNTIF('[1]Testee answer 2011'!AI529:AI533,\"C\")","v":3},{"$f":"COUNTIF('[1]Testee answer 2011'!AJ529:AJ533,\"C\")","v":2},{"$f":"COUNTIF('[1]Testee answer 2011'!AK529:AK533,\"C\")","v":1},{"$f":"COUNTIF('[1]Testee answer 2011'!AL529:AL533,\"C\")","v":2},{"$f":"COUNTIF('[1]Testee answer 2011'!AM529:AM533,\"C\")","v":2},{"$f":"COUNTIF('[1]Testee answer 2011'!AN529:AN533,\"C\")","v":3},{"$f":"COUNTIF('[1]Testee answer 2011'!AO529:AO533,\"C\")","v":0},{"$f":"COUNTIF('[1]Testee answer 2011'!AP529:AP533,\"C\")","v":0},{"$f":"COUNTIF('[1]Testee answer 2011'!AQ529:AQ533,\"C\")","v":0},{"$f":"COUNTIF('[1]Testee answer 2011'!AR529:AR533,\"C\")","v":0},{"$f":"COUNTIF('[1]Testee answer 2011'!AS529:AS533,\"C\")","v":0},{"$f":"COUNTIF('[1]Testee answer 2011'!AT529:AT533,\"C\")","v":2},{"$f":"COUNTIF('[1]Testee answer 2011'!AU529:AU533,\"C\")","v":0},{"$f":"COUNTIF('[1]Testee answer 2011'!AV529:AV533,\"C\")","v":2},{"$f":"COUNTIF('[1]Testee answer 2011'!AW529:AW533,\"C\")","v":1},{"$f":"COUNTIF('[1]Testee answer 2011'!AX529:AX533,\"C\")","v":3},{"$f":"COUNTIF('[1]Testee answer 2011'!AY529:AY533,\"C\")","v":4},{"$f":"COUNTIF('[1]Testee answer 2011'!AZ529:AZ533,\"C\")","v":3},{"$f":"COUNTIF('[1]Testee answer 2011'!BA529:BA533,\"C\")","v":0},{"$f":"COUNTIF('[1]Testee answer 2011'!BB529:BB533,\"C\")","v":0},{"$f":"COUNTIF('[1]Testee answer 2011'!BC529:BC533,\"C\")","v":0},{"$f":"COUNTIF('[1]Testee answer 2011'!BD529:BD533,\"C\")","v":0},{"$f":"COUNTIF('[1]Testee answer 2011'!BE529:BE533,\"C\")","v":0},{"$f":"COUNTIF('[1]Testee answer 2011'!BF529:BF533,\"C\")","v":0},{"$f":"COUNTIF('[1]Testee answer 2011'!BG529:BG533,\"C\")","v":0},{"$f":"COUNTIF('[1]Testee answer 2011'!BH529:BH533,\"C\")","v":0},{"$f":"COUNTIF('[1]Testee answer 2011'!BI529:BI533,\"C\")","v":0}]
["BALK4",{"$f":"COUNTIF('[1]Testee answer 2011'!D529:D533,\"D\")","v":4},{"$f":"COUNTIF('[1]Testee answer 2011'!E529:E533,\"D\")","v":0},{"$f":"COUNTIF('[1]Testee answer 2011'!F529:F533,\"D\")","v":0},{"$f":"COUNTIF('[1]Testee answer 2011'!G529:G533,\"D\")","v":0},{"$f":"COUNTIF('[1]Testee answer 2011'!H529:H533,\"D\")","v":0},{"$f":"COUNTIF('[1]Testee answer 2011'!I529:I533,\"D\")","v":0},{"$f":"COUNTIF('[1]Testee answer 2011'!J529:J533,\"D\")","v":0},{"$f":"COUNTIF('[1]Testee answer 2011'!K529:K533,\"D\")","v":0},{"$f":"COUNTIF('[1]Testee answer 2011'!L529:L533,\"D\")","v":0},{"$f":"COUNTIF('[1]Testee answer 2011'!M529:M533,\"D\")","v":0},{"$f":"COUNTIF('[1]Testee answer 2011'!N529:N533,\"D\")","v":0},{"$f":"COUNTIF('[1]Testee answer 2011'!O529:O533,\"D\")","v":0},{"$f":"COUNTIF('[1]Testee answer 2011'!P529:P533,\"D\")","v":0},{"$f":"COUNTIF('[1]Testee answer 2011'!Q529:Q533,\"D\")","v":2},{"$f":"COUNTIF('[1]Testee answer 2011'!R529:R533,\"D\")","v":0},{"$f":"COUNTIF('[1]Testee answer 2011'!S529:S533,\"D\")","v":1},{"$f":"COUNTIF('[1]Testee answer 2011'!T529:T533,\"D\")","v":0},{"$f":"COUNTIF('[1]Testee answer 2011'!U529:U533,\"D\")","v":0},{"$f":"COUNTIF('[1]Testee answer 2011'!V529:V533,\"D\")","v":4},{"$f":"COUNTIF('[1]Testee answer 2011'!W529:W533,\"D\")","v":1},{"$f":"COUNTIF('[1]Testee answer 2011'!X529:X533,\"D\")","v":0},{"$f":"COUNTIF('[1]Testee answer 2011'!Y529:Y533,\"D\")","v":0},{"$f":"COUNTIF('[1]Testee answer 2011'!Z529:Z533,\"D\")","v":0},{"$f":"COUNTIF('[1]Testee answer 2011'!AA529:AA533,\"D\")","v":0},{"$f":"COUNTIF('[1]Testee answer 2011'!AB529:AB533,\"D\")","v":3},{"$f":"COUNTIF('[1]Testee answer 2011'!AC529:AC533,\"D\")","v":1},{"$f":"COUNTIF('[1]Testee answer 2011'!AD529:AD533,\"D\")","v":1},{"$f":"COUNTIF('[1]Testee answer 2011'!AE529:AE533,\"D\")","v":2},{"$f":"COUNTIF('[1]Testee answer 2011'!AF529:AF533,\"D\")","v":4},{"$f":"COUNTIF('[1]Testee answer 2011'!AG529:AG533,\"D\")","v":1},{"$f":"COUNTIF('[1]Testee answer 2011'!AH529:AH533,\"D\")","v":0},{"$f":"COUNTIF('[1]Testee answer 2011'!AI529:AI533,\"D\")","v":0},{"$f":"COUNTIF('[1]Testee answer 2011'!AJ529:AJ533,\"D\")","v":0},{"$f":"COUNTIF('[1]Testee answer 2011'!AK529:AK533,\"D\")","v":1},{"$f":"COUNTIF('[1]Testee answer 2011'!AL529:AL533,\"D\")","v":2},{"$f":"COUNTIF('[1]Testee answer 2011'!AM529:AM533,\"D\")","v":3},{"$f":"COUNTIF('[1]Testee answer 2011'!AN529:AN533,\"D\")","v":1},{"$f":"COUNTIF('[1]Testee answer 2011'!AO529:AO533,\"D\")","v":0},{"$f":"COUNTIF('[1]Testee answer 2011'!AP529:AP533,\"D\")","v":0},{"$f":"COUNTIF('[1]Testee answer 2011'!AQ529:AQ533,\"D\")","v":0},{"$f":"COUNTIF('[1]Testee answer 2011'!AR529:AR533,\"D\")","v":0},{"$f":"COUNTIF('[1]Testee answer 2011'!AS529:AS533,\"D\")","v":0},{"$f":"COUNTIF('[1]Testee answer 2011'!AT529:AT533,\"D\")","v":2},{"$f":"COUNTIF('[1]Testee answer 2011'!AU529:AU533,\"D\")","v":4},{"$f":"COUNTIF('[1]Testee answer 2011'!AV529:AV533,\"D\")","v":3},{"$f":"COUNTIF('[1]Testee answer 2011'!AW529:AW533,\"D\")","v":0},{"$f":"COUNTIF('[1]Testee answer 2011'!AX529:AX533,\"D\")","v":0},{"$f":"COUNTIF('[1]Testee answer 2011'!AY529:AY533,\"D\")","v":1},{"$f":"COUNTIF('[1]Testee answer 2011'!AZ529:AZ533,\"D\")","v":2},{"$f":"COUNTIF('[1]Testee answer 2011'!BA529:BA533,\"D\")","v":0},{"$f":"COUNTIF('[1]Testee answer 2011'!BB529:BB533,\"D\")","v":0},{"$f":"COUNTIF('[1]Testee answer 2011'!BC529:BC533,\"D\")","v":0},{"$f":"COUNTIF('[1]Testee answer 2011'!BD529:BD533,\"D\")","v":0},{"$f":"COUNTIF('[1]Testee answer 2011'!BE529:BE533,\"D\")","v":0},{"$f":"COUNTIF('[1]Testee answer 2011'!BF529:BF533,\"D\")","v":0},{"$f":"COUNTIF('[1]Testee answer 2011'!BG529:BG533,\"D\")","v":0},{"$f":"COUNTIF('[1]Testee answer 2011'!BH529:BH533,\"D\")","v":0},{"$f":"COUNTIF('[1]Testee answer 2011'!BI529:BI533,\"D\")","v":0}]
["BALK5",{"$f":"COUNTIF('[1]Testee answer 2011'!D516:D520,\"A\")","v":0},{"$f":"COUNTIF('[1]Testee answer 2011'!E516:E520,\"A\")","v":0},{"$f":"COUNTIF('[1]Testee answer 2011'!F516:F520,\"A\")","v":4},{"$f":"COUNTIF('[1]Testee answer 2011'!G516:G520,\"A\")","v":4},{"$f":"COUNTIF('[1]Testee answer 2011'!H516:H520,\"A\")","v":4},{"$f":"COUNTIF('[1]Testee answer 2011'!I516:I520,\"A\")","v":3},{"$f":"COUNTIF('[1]Testee answer 2011'!J516:J520,\"A\")","v":3},{"$f":"COUNTIF('[1]Testee answer 2011'!K516:K520,\"A\")","v":1},{"$f":"COUNTIF('[1]Testee answer 2011'!L516:L520,\"A\")","v":1},{"$f":"COUNTIF('[1]Testee answer 2011'!M516:M520,\"A\")","v":3},{"$f":"COUNTIF('[1]Testee answer 2011'!N516:N520,\"A\")","v":1},{"$f":"COUNTIF('[1]Testee answer 2011'!O516:O520,\"A\")","v":1},{"$f":"COUNTIF('[1]Testee answer 2011'!P516:P520,\"A\")","v":0},{"$f":"COUNTIF('[1]Testee answer 2011'!Q516:Q520,\"A\")","v":1},{"$f":"COUNTIF('[1]Testee answer 2011'!R516:R520,\"A\")","v":0},{"$f":"COUNTIF('[1]Testee answer 2011'!S516:S520,\"A\")","v":0},{"$f":"COUNTIF('[1]Testee answer 2011'!T516:T520,\"A\")","v":2},{"$f":"COUNTIF('[1]Testee answer 2011'!U516:U520,\"A\")","v":0},{"$f":"COUNTIF('[1]Testee answer 2011'!V516:V520,\"A\")","v":0},{"$f":"COUNTIF('[1]Testee answer 2011'!W516:W520,\"A\")","v":0},{"$f":"COUNTIF('[1]Testee answer 2011'!X516:X520,\"A\")","v":0},{"$f":"COUNTIF('[1]Testee answer 2011'!Y516:Y520,\"A\")","v":0},{"$f":"COUNTIF('[1]Testee answer 2011'!Z516:Z520,\"A\")","v":0},{"$f":"COUNTIF('[1]Testee answer 2011'!AA516:AA520,\"A\")","v":0},{"$f":"COUNTIF('[1]Testee answer 2011'!AB516:AB520,\"A\")","v":0},{"$f":"COUNTIF('[1]Testee answer 2011'!AC516:AC520,\"A\")","v":2},{"$f":"COUNTIF('[1]Testee answer 2011'!AD516:AD520,\"A\")","v":1},{"$f":"COUNTIF('[1]Testee answer 2011'!AE516:AE520,\"A\")","v":0},{"$f":"COUNTIF('[1]Testee answer 2011'!AF516:AF520,\"A\")","v":0},{"$f":"COUNTIF('[1]Testee answer 2011'!AG516:AG520,\"A\")","v":0},{"$f":"COUNTIF('[1]Testee answer 2011'!AH516:AH520,\"A\")","v":1},{"$f":"COUNTIF('[1]Testee answer 2011'!AI516:AI520,\"A\")","v":0},{"$f":"COUNTIF('[1]Testee answer 2011'!AJ516:AJ520,\"A\")","v":1},{"$f":"COUNTIF('[1]Testee answer 2011'!AK516:AK520,\"A\")","v":2},{"$f":"COUNTIF('[1]Testee answer 2011'!AL516:AL520,\"A\")","v":0},{"$f":"COUNTIF('[1]Testee answer 2011'!AM516:AM520,\"A\")","v":0},{"$f":"COUNTIF('[1]Testee answer 2011'!AN516:AN520,\"A\")","v":0},{"$f":"COUNTIF('[1]Testee answer 2011'!AO516:AO520,\"A\")","v":4},{"$f":"COUNTIF('[1]Testee answer 2011'!AP516:AP520,\"A\")","v":0},{"$f":"COUNTIF('[1]Testee answer 2011'!AQ516:AQ520,\"A\")","v":0},{"$f":"COUNTIF('[1]Testee answer 2011'!AR516:AR520,\"A\")","v":0},{"$f":"COUNTIF('[1]Testee answer 2011'!AS516:AS520,\"A\")","v":2},{"$f":"COUNTIF('[1]Testee answer 2011'!AT516:AT520,\"A\")","v":0},{"$f":"COUNTIF('[1]Testee answer 2011'!AU516:AU520,\"A\")","v":0},{"$f":"COUNTIF('[1]Testee answer 2011'!AV516:AV520,\"A\")","v":0},{"$f":"COUNTIF('[1]Testee answer 2011'!AW516:AW520,\"A\")","v":3},{"$f":"COUNTIF('[1]Testee answer 2011'!AX516:AX520,\"A\")","v":1},{"$f":"COUNTIF('[1]Testee answer 2011'!AY516:AY520,\"A\")","v":2},{"$f":"COUNTIF('[1]Testee answer 2011'!AZ516:AZ520,\"A\")","v":2},{"$f":"COUNTIF('[1]Testee answer 2011'!BA516:BA520,\"A\")","v":5},{"$f":"COUNTIF('[1]Testee answer 2011'!BB516:BB520,\"A\")","v":2},{"$f":"COUNTIF('[1]Testee answer 2011'!BC516:BC520,\"A\")","v":0},{"$f":"COUNTIF('[1]Testee answer 2011'!BD516:BD520,\"A\")","v":3},{"$f":"COUNTIF('[1]Testee answer 2011'!BE516:BE520,\"A\")","v":4},{"$f":"COUNTIF('[1]Testee answer 2011'!BF516:BF520,\"A\")","v":0},{"$f":"COUNTIF('[1]Testee answer 2011'!BG516:BG520,\"A\")","v":1},{"$f":"COUNTIF('[1]Testee answer 2011'!BH516:BH520,\"A\")","v":0},{"$f":"COUNTIF('[1]Testee answer 2011'!BI516:BI520,\"A\")","v":1}]
["BALK5",{"$f":"COUNTIF('[1]Testee answer 2011'!D516:D520,\"B\")","v":0},{"$f":"COUNTIF('[1]Testee answer 2011'!E516:E520,\"B\")","v":5},{"$f":"COUNTIF('[1]Testee answer 2011'!F516:F520,\"B\")","v":1},{"$f":"COUNTIF('[1]Testee answer 2011'!G516:G520,\"B\")","v":1},{"$f":"COUNTIF('[1]Testee answer 2011'!H516:H520,\"B\")","v":0},{"$f":"COUNTIF('[1]Testee answer 2011'!I516:I520,\"B\")","v":2},{"$f":"COUNTIF('[1]Testee answer 2011'!J516:J520,\"B\")","v":2},{"$f":"COUNTIF('[1]Testee answer 2011'!K516:K520,\"B\")","v":4},{"$f":"COUNTIF('[1]Testee answer 2011'!L516:L520,\"B\")","v":4},{"$f":"COUNTIF('[1]Testee answer 2011'!M516:M520,\"B\")","v":1},{"$f":"COUNTIF('[1]Testee answer 2011'!N516:N520,\"B\")","v":1},{"$f":"COUNTIF('[1]Testee answer 2011'!O516:O520,\"B\")","v":0},{"$f":"COUNTIF('[1]Testee answer 2011'!P516:P520,\"B\")","v":1},{"$f":"COUNTIF('[1]Testee answer 2011'!Q516:Q520,\"B\")","v":0},{"$f":"COUNTIF('[1]Testee answer 2011'!R516:R520,\"B\")","v":1},{"$f":"COUNTIF('[1]Testee answer 2011'!S516:S520,\"B\")","v":0},{"$f":"COUNTIF('[1]Testee answer 2011'!T516:T520,\"B\")","v":1},{"$f":"COUNTIF('[1]Testee answer 2011'!U516:U520,\"B\")","v":1},{"$f":"COUNTIF('[1]Testee answer 2011'!V516:V520,\"B\")","v":0},{"$f":"COUNTIF('[1]Testee answer 2011'!W516:W520,\"B\")","v":3},{"$f":"COUNTIF('[1]Testee answer 2011'!X516:X520,\"B\")","v":0},{"$f":"COUNTIF('[1]Testee answer 2011'!Y516:Y520,\"B\")","v":1},{"$f":"COUNTIF('[1]Testee answer 2011'!Z516:Z520,\"B\")","v":0},{"$f":"COUNTIF('[1]Testee answer 2011'!AA516:AA520,\"B\")","v":1},{"$f":"COUNTIF('[1]Testee answer 2011'!AB516:AB520,\"B\")","v":1},{"$f":"COUNTIF('[1]Testee answer 2011'!AC516:AC520,\"B\")","v":0},{"$f":"COUNTIF('[1]Testee answer 2011'!AD516:AD520,\"B\")","v":0},{"$f":"COUNTIF('[1]Testee answer 2011'!AE516:AE520,\"B\")","v":0},{"$f":"COUNTIF('[1]Testee answer 2011'!AF516:AF520,\"B\")","v":0},{"$f":"COUNTIF('[1]Testee answer 2011'!AG516:AG520,\"B\")","v":0},{"$f":"COUNTIF('[1]Testee answer 2011'!AH516:AH520,\"B\")","v":0},{"$f":"COUNTIF('[1]Testee answer 2011'!AI516:AI520,\"B\")","v":1},{"$f":"COUNTIF('[1]Testee answer 2011'!AJ516:AJ520,\"B\")","v":0},{"$f":"COUNTIF('[1]Testee answer 2011'!AK516:AK520,\"B\")","v":0},{"$f":"COUNTIF('[1]Testee answer 2011'!AL516:AL520,\"B\")","v":1},{"$f":"COUNTIF('[1]Testee answer 2011'!AM516:AM520,\"B\")","v":1},{"$f":"COUNTIF('[1]Testee answer 2011'!AN516:AN520,\"B\")","v":1},{"$f":"COUNTIF('[1]Testee answer 2011'!AO516:AO520,\"B\")","v":1},{"$f":"COUNTIF('[1]Testee answer 2011'!AP516:AP520,\"B\")","v":5},{"$f":"COUNTIF('[1]Testee answer 2011'!AQ516:AQ520,\"B\")","v":5},{"$f":"COUNTIF('[1]Testee answer 2011'!AR516:AR520,\"B\")","v":5},{"$f":"COUNTIF('[1]Testee answer 2011'!AS516:AS520,\"B\")","v":3},{"$f":"COUNTIF('[1]Testee answer 2011'!AT516:AT520,\"B\")","v":0},{"$f":"COUNTIF('[1]Testee answer 2011'!AU516:AU520,\"B\")","v":0},{"$f":"COUNTIF('[1]Testee answer 2011'!AV516:AV520,\"B\")","v":0},{"$f":"COUNTIF('[1]Testee answer 2011'!AW516:AW520,\"B\")","v":1},{"$f":"COUNTIF('[1]Testee answer 2011'!AX516:AX520,\"B\")","v":2},{"$f":"COUNTIF('[1]Testee answer 2011'!AY516:AY520,\"B\")","v":2},{"$f":"COUNTIF('[1]Testee answer 2011'!AZ516:AZ520,\"B\")","v":2},{"$f":"COUNTIF('[1]Testee answer 2011'!BA516:BA520,\"B\")","v":0},{"$f":"COUNTIF('[1]Testee answer 2011'!BB516:BB520,\"B\")","v":3},{"$f":"COUNTIF('[1]Testee answer 2011'!BC516:BC520,\"B\")","v":5},{"$f":"COUNTIF('[1]Testee answer 2011'!BD516:BD520,\"B\")","v":2},{"$f":"COUNTIF('[1]Testee answer 2011'!BE516:BE520,\"B\")","v":1},{"$f":"COUNTIF('[1]Testee answer 2011'!BF516:BF520,\"B\")","v":5},{"$f":"COUNTIF('[1]Testee answer 2011'!BG516:BG520,\"B\")","v":4},{"$f":"COUNTIF('[1]Testee answer 2011'!BH516:BH520,\"B\")","v":5},{"$f":"COUNTIF('[1]Testee answer 2011'!BI516:BI520,\"B\")","v":4}]
["BALK5",{"$f":"COUNTIF('[1]Testee answer 2011'!D516:D520,\"C\")","v":0},{"$f":"COUNTIF('[1]Testee answer 2011'!E516:E520,\"C\")","v":0},{"$f":"COUNTIF('[1]Testee answer 2011'!F516:F520,\"C\")","v":0},{"$f":"COUNTIF('[1]Testee answer 2011'!G516:G520,\"C\")","v":0},{"$f":"COUNTIF('[1]Testee answer 2011'!H516:H520,\"C\")","v":1},{"$f":"COUNTIF('[1]Testee answer 2011'!I516:I520,\"C\")","v":0},{"$f":"COUNTIF('[1]Testee answer 2011'!J516:J520,\"C\")","v":0},{"$f":"COUNTIF('[1]Testee answer 2011'!K516:K520,\"C\")","v":0},{"$f":"COUNTIF('[1]Testee answer 2011'!L516:L520,\"C\")","v":0},{"$f":"COUNTIF('[1]Testee answer 2011'!M516:M520,\"C\")","v":1},{"$f":"COUNTIF('[1]Testee answer 2011'!N516:N520,\"C\")","v":2},{"$f":"COUNTIF('[1]Testee answer 2011'!O516:O520,\"C\")","v":4},{"$f":"COUNTIF('[1]Testee answer 2011'!P516:P520,\"C\")","v":2},{"$f":"COUNTIF('[1]Testee answer 2011'!Q516:Q520,\"C\")","v":3},{"$f":"COUNTIF('[1]Testee answer 2011'!R516:R520,\"C\")","v":4},{"$f":"COUNTIF('[1]Testee answer 2011'!S516:S520,\"C\")","v":1},{"$f":"COUNTIF('[1]Testee answer 2011'!T516:T520,\"C\")","v":2},{"$f":"COUNTIF('[1]Testee answer 2011'!U516:U520,\"C\")","v":4},{"$f":"COUNTIF('[1]Testee answer 2011'!V516:V520,\"C\")","v":5},{"$f":"COUNTIF('[1]Testee answer 2011'!W516:W520,\"C\")","v":1},{"$f":"COUNTIF('[1]Testee answer 2011'!X516:X520,\"C\")","v":4},{"$f":"COUNTIF('[1]Testee answer 2011'!Y516:Y520,\"C\")","v":2},{"$f":"COUNTIF('[1]Testee answer 2011'!Z516:Z520,\"C\")","v":4},{"$f":"COUNTIF('[1]Testee answer 2011'!AA516:AA520,\"C\")","v":4},{"$f":"COUNTIF('[1]Testee answer 2011'!AB516:AB520,\"C\")","v":3},{"$f":"COUNTIF('[1]Testee answer 2011'!AC516:AC520,\"C\")","v":2},{"$f":"COUNTIF('[1]Testee answer 2011'!AD516:AD520,\"C\")","v":1},{"$f":"COUNTIF('[1]Testee answer 2011'!AE516:AE520,\"C\")","v":0},{"$f":"COUNTIF('[1]Testee answer 2011'!AF516:AF520,\"C\")","v":2},{"$f":"COUNTIF('[1]Testee answer 2011'!AG516:AG520,\"C\")","v":2},{"$f":"COUNTIF('[1]Testee answer 2011'!AH516:AH520,\"C\")","v":4},{"$f":"COUNTIF('[1]Testee answer 2011'!AI516:AI520,\"C\")","v":4},{"$f":"COUNTIF('[1]Testee answer 2011'!AJ516:AJ520,\"C\")","v":1},{"$f":"COUNTIF('[1]Testee answer 2011'!AK516:AK520,\"C\")","v":1},{"$f":"COUNTIF('[1]Testee answer 2011'!AL516:AL520,\"C\")","v":1},{"$f":"COUNTIF('[1]Testee answer 2011'!AM516:AM520,\"C\")","v":1},{"$f":"COUNTIF('[1]Testee answer 2011'!AN516:AN520,\"C\")","v":1},{"$f":"COUNTIF('[1]Testee answer 2011'!AO516:AO520,\"C\")","v":0},{"$f":"COUNTIF('[1]Testee answer 2011'!AP516:AP520,\"C\")","v":0},{"$f":"COUNTIF('[1]Testee answer 2011'!AQ516:AQ520,\"C\")","v":0},{"$f":"COUNTIF('[1]Testee answer 2011'!AR516:AR520,\"C\")","v":0},{"$f":"COUNTIF('[1]Testee answer 2011'!AS516:AS520,\"C\")","v":0},{"$f":"COUNTIF('[1]Testee answer 2011'!AT516:AT520,\"C\")","v":2},{"$f":"COUNTIF('[1]Testee answer 2011'!AU516:AU520,\"C\")","v":0},{"$f":"COUNTIF('[1]Testee answer 2011'!AV516:AV520,\"C\")","v":1},{"$f":"COUNTIF('[1]Testee answer 2011'!AW516:AW520,\"C\")","v":1},{"$f":"COUNTIF('[1]Testee answer 2011'!AX516:AX520,\"C\")","v":2},{"$f":"COUNTIF('[1]Testee answer 2011'!AY516:AY520,\"C\")","v":1},{"$f":"COUNTIF('[1]Testee answer 2011'!AZ516:AZ520,\"C\")","v":1},{"$f":"COUNTIF('[1]Testee answer 2011'!BA516:BA520,\"C\")","v":0},{"$f":"COUNTIF('[1]Testee answer 2011'!BB516:BB520,\"C\")","v":0},{"$f":"COUNTIF('[1]Testee answer 2011'!BC516:BC520,\"C\")","v":0},{"$f":"COUNTIF('[1]Testee answer 2011'!BD516:BD520,\"C\")","v":0},{"$f":"COUNTIF('[1]Testee answer 2011'!BE516:BE520,\"C\")","v":0},{"$f":"COUNTIF('[1]Testee answer 2011'!BF516:BF520,\"C\")","v":0},{"$f":"COUNTIF('[1]Testee answer 2011'!BG516:BG520,\"C\")","v":0},{"$f":"COUNTIF('[1]Testee answer 2011'!BH516:BH520,\"C\")","v":0},{"$f":"COUNTIF('[1]Testee answer 2011'!BI516:BI520,\"C\")","v":0}]
["BALK5",{"$f":"COUNTIF('[1]Testee answer 2011'!D516:D520,\"D\")","v":5},{"$f":"COUNTIF('[1]Testee answer 2011'!E516:E520,\"D\")","v":0},{"$f":"COUNTIF('[1]Testee answer 2011'!F516:F520,\"D\")","v":0},{"$f":"COUNTIF('[1]Testee answer 2011'!G516:G520,\"D\")","v":0},{"$f":"COUNTIF('[1]Testee answer 2011'!H516:H520,\"D\")","v":0},{"$f":"COUNTIF('[1]Testee answer 2011'!I516:I520,\"D\")","v":0},{"$f":"COUNTIF('[1]Testee answer 2011'!J516:J520,\"D\")","v":0},{"$f":"COUNTIF('[1]Testee answer 2011'!K516:K520,\"D\")","v":0},{"$f":"COUNTIF('[1]Testee answer 2011'!L516:L520,\"D\")","v":0},{"$f":"COUNTIF('[1]Testee answer 2011'!M516:M520,\"D\")","v":0},{"$f":"COUNTIF('[1]Testee answer 2011'!N516:N520,\"D\")","v":1},{"$f":"COUNTIF('[1]Testee answer 2011'!O516:O520,\"D\")","v":0},{"$f":"COUNTIF('[1]Testee answer 2011'!P516:P520,\"D\")","v":2},{"$f":"COUNTIF('[1]Testee answer 2011'!Q516:Q520,\"D\")","v":1},{"$f":"COUNTIF('[1]Testee answer 2011'!R516:R520,\"D\")","v":0},{"$f":"COUNTIF('[1]Testee answer 2011'!S516:S520,\"D\")","v":4},{"$f":"COUNTIF('[1]Testee answer 2011'!T516:T520,\"D\")","v":0},{"$f":"COUNTIF('[1]Testee answer 2011'!U516:U520,\"D\")","v":0},{"$f":"COUNTIF('[1]Testee answer 2011'!V516:V520,\"D\")","v":0},{"$f":"COUNTIF('[1]Testee answer 2011'!W516:W520,\"D\")","v":1},{"$f":"COUNTIF('[1]Testee answer 2011'!X516:X520,\"D\")","v":1},{"$f":"COUNTIF('[1]Testee answer 2011'!Y516:Y520,\"D\")","v":2},{"$f":"COUNTIF('[1]Testee answer 2011'!Z516:Z520,\"D\")","v":1},{"$f":"COUNTIF('[1]Testee answer 2011'!AA516:AA520,\"D\")","v":0},{"$f":"COUNTIF('[1]Testee answer 2011'!AB516:AB520,\"D\")","v":1},{"$f":"COUNTIF('[1]Testee answer 2011'!AC516:AC520,\"D\")","v":1},{"$f":"COUNTIF('[1]Testee answer 2011'!AD516:AD520,\"D\")","v":3},{"$f":"COUNTIF('[1]Testee answer 2011'!AE516:AE520,\"D\")","v":5},{"$f":"COUNTIF('[1]Testee answer 2011'!AF516:AF520,\"D\")","v":3},{"$f":"COUNTIF('[1]Testee answer 2011'!AG516:AG520,\"D\")","v":3},{"$f":"COUNTIF('[1]Testee answer 2011'!AH516:AH520,\"D\")","v":0},{"$f":"COUNTIF('[1]Testee answer 2011'!AI516:AI520,\"D\")","v":0},{"$f":"COUNTIF('[1]Testee answer 2011'!AJ516:AJ520,\"D\")","v":3},{"$f":"COUNTIF('[1]Testee answer 2011'!AK516:AK520,\"D\")","v":2},{"$f":"COUNTIF('[1]Testee answer 2011'!AL516:AL520,\"D\")","v":3},{"$f":"COUNTIF('[1]Testee answer 2011'!AM516:AM520,\"D\")","v":3},{"$f":"COUNTIF('[1]Testee answer 2011'!AN516:AN520,\"D\")","v":3},{"$f":"COUNTIF('[1]Testee answer 2011'!AO516:AO520,\"D\")","v":0},{"$f":"COUNTIF('[1]Testee answer 2011'!AP516:AP520,\"D\")","v":0},{"$f":"COUNTIF('[1]Testee answer 2011'!AQ516:AQ520,\"D\")","v":0},{"$f":"COUNTIF('[1]Testee answer 2011'!AR516:AR520,\"D\")","v":0},{"$f":"COUNTIF('[1]Testee answer 2011'!AS516:AS520,\"D\")","v":0},{"$f":"COUNTIF('[1]Testee answer 2011'!AT516:AT520,\"D\")","v":3},{"$f":"COUNTIF('[1]Testee answer 2011'!AU516:AU520,\"D\")","v":5},{"$f":"COUNTIF('[1]Testee answer 2011'!AV516:AV520,\"D\")","v":4},{"$f":"COUNTIF('[1]Testee answer 2011'!AW516:AW520,\"D\")","v":0},{"$f":"COUNTIF('[1]Testee answer 2011'!AX516:AX520,\"D\")","v":0},{"$f":"COUNTIF('[1]Testee answer 2011'!AY516:AY520,\"D\")","v":0},{"$f":"COUNTIF('[1]Testee answer 2011'!AZ516:AZ520,\"D\")","v":0},{"$f":"COUNTIF('[1]Testee answer 2011'!BA516:BA520,\"D\")","v":0},{"$f":"COUNTIF('[1]Testee answer 2011'!BB516:BB520,\"D\")","v":0},{"$f":"COUNTIF('[1]Testee answer 2011'!BC516:BC520,\"D\")","v":0},{"$f":"COUNTIF('[1]Testee answer 2011'!BD516:BD520,\"D\")","v":0},{"$f":"COUNTIF('[1]Testee answer 2011'!BE516:BE520,\"D\")","v":0},{"$f":"COUNTIF('[1]Testee answer 2011'!BF516:BF520,\"D\")","v":0},{"$f":"COUNTIF('[1]Testee answer 2011'!BG516:BG520,\"D\")","v":0},{"$f":"COUNTIF('[1]Testee answer 2011'!BH516:BH520,\"D\")","v":0},{"$f":"COUNTIF('[1]Testee answer 2011'!BI516:BI520,\"D\")","v":0}]
["BF1",{"$f":"COUNTIF('[1]Testee answer 2011'!D194:D233,\"A\")","v":40},{"$f":"COUNTIF('[1]Testee answer 2011'!E194:E233,\"A\")","v":13},{"$f":"COUNTIF('[1]Testee answer 2011'!F194:F233,\"A\")","v":7},{"$f":"COUNTIF('[1]Testee answer 2011'!G194:G233,\"A\")","v":23},{"$f":"COUNTIF('[1]Testee answer 2011'!H194:H233,\"A\")","v":20},{"$f":"COUNTIF('[1]Testee answer 2011'!I194:I233,\"A\")","v":0},{"$f":"COUNTIF('[1]Testee answer 2011'!J194:J233,\"A\")","v":24},{"$f":"COUNTIF('[1]Testee answer 2011'!K194:K233,\"A\")","v":19},{"$f":"COUNTIF('[1]Testee answer 2011'!L194:L233,\"A\")","v":20},{"$f":"COUNTIF('[1]Testee answer 2011'!M194:M233,\"A\")","v":22},{"$f":"COUNTIF('[1]Testee answer 2011'!N194:N233,\"A\")","v":9},{"$f":"COUNTIF('[1]Testee answer 2011'!O194:O233,\"A\")","v":8},{"$f":"COUNTIF('[1]Testee answer 2011'!P194:P233,\"A\")","v":2},{"$f":"COUNTIF('[1]Testee answer 2011'!Q194:Q233,\"A\")","v":2},{"$f":"COUNTIF('[1]Testee answer 2011'!R194:R233,\"A\")","v":8},{"$f":"COUNTIF('[1]Testee answer 2011'!S194:S233,\"A\")","v":3},{"$f":"COUNTIF('[1]Testee answer 2011'!T194:T233,\"A\")","v":9},{"$f":"COUNTIF('[1]Testee answer 2011'!U194:U233,\"A\")","v":7},{"$f":"COUNTIF('[1]Testee answer 2011'!V194:V233,\"A\")","v":1},{"$f":"COUNTIF('[1]Testee answer 2011'!W194:W233,\"A\")","v":6},{"$f":"COUNTIF('[1]Testee answer 2011'!X194:X233,\"A\")","v":4},{"$f":"COUNTIF('[1]Testee answer 2011'!Y194:Y233,\"A\")","v":3},{"$f":"COUNTIF('[1]Testee answer 2011'!Z194:Z233,\"A\")","v":9},{"$f":"COUNTIF('[1]Testee answer 2011'!AA194:AA233,\"A\")","v":23},{"$f":"COUNTIF('[1]Testee answer 2011'!AB194:AB233,\"A\")","v":2},{"$f":"COUNTIF('[1]Testee answer 2011'!AC194:AC233,\"A\")","v":3},{"$f":"COUNTIF('[1]Testee answer 2011'!AD194:AD233,\"A\")","v":16},{"$f":"COUNTIF('[1]Testee answer 2011'!AE194:AE233,\"A\")","v":7},{"$f":"COUNTIF('[1]Testee answer 2011'!AF194:AF233,\"A\")","v":2},{"$f":"COUNTIF('[1]Testee answer 2011'!AG194:AG233,\"A\")","v":5},{"$f":"COUNTIF('[1]Testee answer 2011'!AH194:AH233,\"A\")","v":19},{"$f":"COUNTIF('[1]Testee answer 2011'!AI194:AI233,\"A\")","v":10},{"$f":"COUNTIF('[1]Testee answer 2011'!AJ194:AJ233,\"A\")","v":11},{"$f":"COUNTIF('[1]Testee answer 2011'!AK194:AK233,\"A\")","v":6},{"$f":"COUNTIF('[1]Testee answer 2011'!AL194:AL233,\"A\")","v":3},{"$f":"COUNTIF('[1]Testee answer 2011'!AM194:AM233,\"A\")","v":3},{"$f":"COUNTIF('[1]Testee answer 2011'!AN194:AN233,\"A\")","v":7},{"$f":"COUNTIF('[1]Testee answer 2011'!AO194:AO233,\"A\")","v":11},{"$f":"COUNTIF('[1]Testee answer 2011'!AP194:AP233,\"A\")","v":9},{"$f":"COUNTIF('[1]Testee answer 2011'!AQ194:AQ233,\"A\")","v":4},{"$f":"COUNTIF('[1]Testee answer 2011'!AR194:AR233,\"A\")","v":2},{"$f":"COUNTIF('[1]Testee answer 2011'!AS194:AS233,\"A\")","v":1},{"$f":"COUNTIF('[1]Testee answer 2011'!AT194:AT233,\"A\")","v":2},{"$f":"COUNTIF('[1]Testee answer 2011'!AU194:AU233,\"A\")","v":2},{"$f":"COUNTIF('[1]Testee answer 2011'!AV194:AV233,\"A\")","v":2},{"$f":"COUNTIF('[1]Testee answer 2011'!AW194:AW233,\"A\")","v":15},{"$f":"COUNTIF('[1]Testee answer 2011'!AX194:AX233,\"A\")","v":15},{"$f":"COUNTIF('[1]Testee answer 2011'!AY194:AY233,\"A\")","v":8},{"$f":"COUNTIF('[1]Testee answer 2011'!AZ194:AZ233,\"A\")","v":7},{"$f":"COUNTIF('[1]Testee answer 2011'!BA194:BA233,\"A\")","v":36},{"$f":"COUNTIF('[1]Testee answer 2011'!BB194:BB233,\"A\")","v":15},{"$f":"COUNTIF('[1]Testee answer 2011'!BC194:BC233,\"A\")","v":10},{"$f":"COUNTIF('[1]Testee answer 2011'!BD194:BD233,\"A\")","v":14},{"$f":"COUNTIF('[1]Testee answer 2011'!BE194:BE233,\"A\")","v":34},{"$f":"COUNTIF('[1]Testee answer 2011'!BF194:BF233,\"A\")","v":0},{"$f":"COUNTIF('[1]Testee answer 2011'!BG194:BG233,\"A\")","v":31},{"$f":"COUNTIF('[1]Testee answer 2011'!BH194:BH233,\"A\")","v":14},{"$f":"COUNTIF('[1]Testee answer 2011'!BI194:BI233,\"A\")","v":4}]
["BF1",{"$f":"COUNTIF('[1]Testee answer 2011'!D194:D233,\"B\")","v":0},{"$f":"COUNTIF('[1]Testee answer 2011'!E194:E233,\"B\")","v":27},{"$f":"COUNTIF('[1]Testee answer 2011'!F194:F233,\"B\")","v":26},{"$f":"COUNTIF('[1]Testee answer 2011'!G194:G233,\"B\")","v":16},{"$f":"COUNTIF('[1]Testee answer 2011'!H194:H233,\"B\")","v":13},{"$f":"COUNTIF('[1]Testee answer 2011'!I194:I233,\"B\")","v":14},{"$f":"COUNTIF('[1]Testee answer 2011'!J194:J233,\"B\")","v":12},{"$f":"COUNTIF('[1]Testee answer 2011'!K194:K233,\"B\")","v":19},{"$f":"COUNTIF('[1]Testee answer 2011'!L194:L233,\"B\")","v":18},{"$f":"COUNTIF('[1]Testee answer 2011'!M194:M233,\"B\")","v":13},{"$f":"COUNTIF('[1]Testee answer 2011'!N194:N233,\"B\")","v":17},{"$f":"COUNTIF('[1]Testee answer 2011'!O194:O233,\"B\")","v":15},{"$f":"COUNTIF('[1]Testee answer 2011'!P194:P233,\"B\")","v":15},{"$f":"COUNTIF('[1]Testee answer 2011'!Q194:Q233,\"B\")","v":4},{"$f":"COUNTIF('[1]Testee answer 2011'!R194:R233,\"B\")","v":15},{"$f":"COUNTIF('[1]Testee answer 2011'!S194:S233,\"B\")","v":9},{"$f":"COUNTIF('[1]Testee answer 2011'!T194:T233,\"B\")","v":3},{"$f":"COUNTIF('[1]Testee answer 2011'!U194:U233,\"B\")","v":12},{"$f":"COUNTIF('[1]Testee answer 2011'!V194:V233,\"B\")","v":4},{"$f":"COUNTIF('[1]Testee answer 2011'!W194:W233,\"B\")","v":14},{"$f":"COUNTIF('[1]Testee answer 2011'!X194:X233,\"B\")","v":8},{"$f":"COUNTIF('[1]Testee answer 2011'!Y194:Y233,\"B\")","v":4},{"$f":"COUNTIF('[1]Testee answer 2011'!Z194:Z233,\"B\")","v":9},{"$f":"COUNTIF('[1]Testee answer 2011'!AA194:AA233,\"B\")","v":8},{"$f":"COUNTIF('[1]Testee answer 2011'!AB194:AB233,\"B\")","v":0},{"$f":"COUNTIF('[1]Testee answer 2011'!AC194:AC233,\"B\")","v":14},{"$f":"COUNTIF('[1]Testee answer 2011'!AD194:AD233,\"B\")","v":5},{"$f":"COUNTIF('[1]Testee answer 2011'!AE194:AE233,\"B\")","v":8},{"$f":"COUNTIF('[1]Testee answer 2011'!AF194:AF233,\"B\")","v":4},{"$f":"COUNTIF('[1]Testee answer 2011'!AG194:AG233,\"B\")","v":8},{"$f":"COUNTIF('[1]Testee answer 2011'!AH194:AH233,\"B\")","v":14},{"$f":"COUNTIF('[1]Testee answer 2011'!AI194:AI233,\"B\")","v":15},{"$f":"COUNTIF('[1]Testee answer 2011'!AJ194:AJ233,\"B\")","v":3},{"$f":"COUNTIF('[1]Testee answer 2011'!AK194:AK233,\"B\")","v":4},{"$f":"COUNTIF('[1]Testee answer 2011'!AL194:AL233,\"B\")","v":10},{"$f":"COUNTIF('[1]Testee answer 2011'!AM194:AM233,\"B\")","v":4},{"$f":"COUNTIF('[1]Testee answer 2011'!AN194:AN233,\"B\")","v":12},{"$f":"COUNTIF('[1]Testee answer 2011'!AO194:AO233,\"B\")","v":29},{"$f":"COUNTIF('[1]Testee answer 2011'!AP194:AP233,\"B\")","v":31},{"$f":"COUNTIF('[1]Testee answer 2011'!AQ194:AQ233,\"B\")","v":36},{"$f":"COUNTIF('[1]Testee answer 2011'!AR194:AR233,\"B\")","v":38},{"$f":"COUNTIF('[1]Testee answer 2011'!AS194:AS233,\"B\")","v":39},{"$f":"COUNTIF('[1]Testee answer 2011'!AT194:AT233,\"B\")","v":9},{"$f":"COUNTIF('[1]Testee answer 2011'!AU194:AU233,\"B\")","v":2},{"$f":"COUNTIF('[1]Testee answer 2011'!AV194:AV233,\"B\")","v":1},{"$f":"COUNTIF('[1]Testee answer 2011'!AW194:AW233,\"B\")","v":16},{"$f":"COUNTIF('[1]Testee answer 2011'!AX194:AX233,\"B\")","v":15},{"$f":"COUNTIF('[1]Testee answer 2011'!AY194:AY233,\"B\")","v":10},{"$f":"COUNTIF('[1]Testee answer 2011'!AZ194:AZ233,\"B\")","v":9},{"$f":"COUNTIF('[1]Testee answer 2011'!BA194:BA233,\"B\")","v":4},{"$f":"COUNTIF('[1]Testee answer 2011'!BB194:BB233,\"B\")","v":25},{"$f":"COUNTIF('[1]Testee answer 2011'!BC194:BC233,\"B\")","v":30},{"$f":"COUNTIF('[1]Testee answer 2011'!BD194:BD233,\"B\")","v":26},{"$f":"COUNTIF('[1]Testee answer 2011'!BE194:BE233,\"B\")","v":6},{"$f":"COUNTIF('[1]Testee answer 2011'!BF194:BF233,\"B\")","v":40},{"$f":"COUNTIF('[1]Testee answer 2011'!BG194:BG233,\"B\")","v":9},{"$f":"COUNTIF('[1]Testee answer 2011'!BH194:BH233,\"B\")","v":26},{"$f":"COUNTIF('[1]Testee answer 2011'!BI194:BI233,\"B\")","v":36}]
["BF1",{"$f":"COUNTIF('[1]Testee answer 2011'!D194:D233,\"C\")","v":0},{"$f":"COUNTIF('[1]Testee answer 2011'!E194:E233,\"C\")","v":0},{"$f":"COUNTIF('[1]Testee answer 2011'!F194:F233,\"C\")","v":7},{"$f":"COUNTIF('[1]Testee answer 2011'!G194:G233,\"C\")","v":1},{"$f":"COUNTIF('[1]Testee answer 2011'!H194:H233,\"C\")","v":4},{"$f":"COUNTIF('[1]Testee answer 2011'!I194:I233,\"C\")","v":19},{"$f":"COUNTIF('[1]Testee answer 2011'!J194:J233,\"C\")","v":4},{"$f":"COUNTIF('[1]Testee answer 2011'!K194:K233,\"C\")","v":2},{"$f":"COUNTIF('[1]Testee answer 2011'!L194:L233,\"C\")","v":2},{"$f":"COUNTIF('[1]Testee answer 2011'!M194:M233,\"C\")","v":5},{"$f":"COUNTIF('[1]Testee answer 2011'!N194:N233,\"C\")","v":14},{"$f":"COUNTIF('[1]Testee answer 2011'!O194:O233,\"C\")","v":14},{"$f":"COUNTIF('[1]Testee answer 2011'!P194:P233,\"C\")","v":19},{"$f":"COUNTIF('[1]Testee answer 2011'!Q194:Q233,\"C\")","v":18},{"$f":"COUNTIF('[1]Testee answer 2011'!R194:R233,\"C\")","v":7},{"$f":"COUNTIF('[1]Testee answer 2011'!S194:S233,\"C\")","v":12},{"$f":"COUNTIF('[1]Testee answer 2011'!T194:T233,\"C\")","v":16},{"$f":"COUNTIF('[1]Testee answer 2011'!U194:U233,\"C\")","v":20},{"$f":"COUNTIF('[1]Testee answer 2011'!V194:V233,\"C\")","v":13},{"$f":"COUNTIF('[1]Testee answer 2011'!W194:W233,\"C\")","v":14},{"$f":"COUNTIF('[1]Testee answer 2011'!X194:X233,\"C\")","v":22},{"$f":"COUNTIF('[1]Testee answer 2011'!Y194:Y233,\"C\")","v":24},{"$f":"COUNTIF('[1]Testee answer 2011'!Z194:Z233,\"C\")","v":18},{"$f":"COUNTIF('[1]Testee answer 2011'!AA194:AA233,\"C\")","v":9},{"$f":"COUNTIF('[1]Testee answer 2011'!AB194:AB233,\"C\")","v":6},{"$f":"COUNTIF('[1]Testee answer 2011'!AC194:AC233,\"C\")","v":17},{"$f":"COUNTIF('[1]Testee answer 2011'!AD194:AD233,\"C\")","v":17},{"$f":"COUNTIF('[1]Testee answer 2011'!AE194:AE233,\"C\")","v":16},{"$f":"COUNTIF('[1]Testee answer 2011'!AF194:AF233,\"C\")","v":16},{"$f":"COUNTIF('[1]Testee answer 2011'!AG194:AG233,\"C\")","v":18},{"$f":"COUNTIF('[1]Testee answer 2011'!AH194:AH233,\"C\")","v":6},{"$f":"COUNTIF('[1]Testee answer 2011'!AI194:AI233,\"C\")","v":10},{"$f":"COUNTIF('[1]Testee answer 2011'!AJ194:AJ233,\"C\")","v":10},{"$f":"COUNTIF('[1]Testee answer 2011'!AK194:AK233,\"C\")","v":14},{"$f":"COUNTIF('[1]Testee answer 2011'!AL194:AL233,\"C\")","v":22},{"$f":"COUNTIF('[1]Testee answer 2011'!AM194:AM233,\"C\")","v":21},{"$f":"COUNTIF('[1]Testee answer 2011'!AN194:AN233,\"C\")","v":12},{"$f":"COUNTIF('[1]Testee answer 2011'!AO194:AO233,\"C\")","v":0},{"$f":"COUNTIF('[1]Testee answer 2011'!AP194:AP233,\"C\")","v":0},{"$f":"COUNTIF('[1]Testee answer 2011'!AQ194:AQ233,\"C\")","v":0},{"$f":"COUNTIF('[1]Testee answer 2011'!AR194:AR233,\"C\")","v":0},{"$f":"COUNTIF('[1]Testee answer 2011'!AS194:AS233,\"C\")","v":0},{"$f":"COUNTIF('[1]Testee answer 2011'!AT194:AT233,\"C\")","v":11},{"$f":"COUNTIF('[1]Testee answer 2011'!AU194:AU233,\"C\")","v":10},{"$f":"COUNTIF('[1]Testee answer 2011'!AV194:AV233,\"C\")","v":16},{"$f":"COUNTIF('[1]Testee answer 2011'!AW194:AW233,\"C\")","v":7},{"$f":"COUNTIF('[1]Testee answer 2011'!AX194:AX233,\"C\")","v":10},{"$f":"COUNTIF('[1]Testee answer 2011'!AY194:AY233,\"C\")","v":16},{"$f":"COUNTIF('[1]Testee answer 2011'!AZ194:AZ233,\"C\")","v":10},{"$f":"COUNTIF('[1]Testee answer 2011'!BA194:BA233,\"C\")","v":0},{"$f":"COUNTIF('[1]Testee answer 2011'!BB194:BB233,\"C\")","v":0},{"$f":"COUNTIF('[1]Testee answer 2011'!BC194:BC233,\"C\")","v":0},{"$f":"COUNTIF('[1]Testee answer 2011'!BD194:BD233,\"C\")","v":0},{"$f":"COUNTIF('[1]Testee answer 2011'!BE194:BE233,\"C\")","v":0},{"$f":"COUNTIF('[1]Testee answer 2011'!BF194:BF233,\"C\")","v":0},{"$f":"COUNTIF('[1]Testee answer 2011'!BG194:BG233,\"C\")","v":0},{"$f":"COUNTIF('[1]Testee answer 2011'!BH194:BH233,\"C\")","v":0},{"$f":"COUNTIF('[1]Testee answer 2011'!BI194:BI233,\"C\")","v":0}]
["BF1",{"$f":"COUNTIF('[1]Testee answer 2011'!D194:D233,\"D\")","v":0},{"$f":"COUNTIF('[1]Testee answer 2011'!E194:E233,\"D\")","v":0},{"$f":"COUNTIF('[1]Testee answer 2011'!F194:F233,\"D\")","v":0},{"$f":"COUNTIF('[1]Testee answer 2011'!G194:G233,\"D\")","v":0},{"$f":"COUNTIF('[1]Testee answer 2011'!H194:H233,\"D\")","v":3},{"$f":"COUNTIF('[1]Testee answer 2011'!I194:I233,\"D\")","v":7},{"$f":"COUNTIF('[1]Testee answer 2011'!J194:J233,\"D\")","v":0},{"$f":"COUNTIF('[1]Testee answer 2011'!K194:K233,\"D\")","v":0},{"$f":"COUNTIF('[1]Testee answer 2011'!L194:L233,\"D\")","v":0},{"$f":"COUNTIF('[1]Testee answer 2011'!M194:M233,\"D\")","v":0},{"$f":"COUNTIF('[1]Testee answer 2011'!N194:N233,\"D\")","v":0},{"$f":"COUNTIF('[1]Testee answer 2011'!O194:O233,\"D\")","v":3},{"$f":"COUNTIF('[1]Testee answer 2011'!P194:P233,\"D\")","v":4},{"$f":"COUNTIF('[1]Testee answer 2011'!Q194:Q233,\"D\")","v":16},{"$f":"COUNTIF('[1]Testee answer 2011'!R194:R233,\"D\")","v":10},{"$f":"COUNTIF('[1]Testee answer 2011'!S194:S233,\"D\")","v":16},{"$f":"COUNTIF('[1]Testee answer 2011'!T194:T233,\"D\")","v":12},{"$f":"COUNTIF('[1]Testee answer 2011'!U194:U233,\"D\")","v":1},{"$f":"COUNTIF('[1]Testee answer 2011'!V194:V233,\"D\")","v":22},{"$f":"COUNTIF('[1]Testee answer 2011'!W194:W233,\"D\")","v":6},{"$f":"COUNTIF('[1]Testee answer 2011'!X194:X233,\"D\")","v":6},{"$f":"COUNTIF('[1]Testee answer 2011'!Y194:Y233,\"D\")","v":9},{"$f":"COUNTIF('[1]Testee answer 2011'!Z194:Z233,\"D\")","v":4},{"$f":"COUNTIF('[1]Testee answer 2011'!AA194:AA233,\"D\")","v":0},{"$f":"COUNTIF('[1]Testee answer 2011'!AB194:AB233,\"D\")","v":32},{"$f":"COUNTIF('[1]Testee answer 2011'!AC194:AC233,\"D\")","v":6},{"$f":"COUNTIF('[1]Testee answer 2011'!AD194:AD233,\"D\")","v":2},{"$f":"COUNTIF('[1]Testee answer 2011'!AE194:AE233,\"D\")","v":9},{"$f":"COUNTIF('[1]Testee answer 2011'!AF194:AF233,\"D\")","v":18},{"$f":"COUNTIF('[1]Testee answer 2011'!AG194:AG233,\"D\")","v":9},{"$f":"COUNTIF('[1]Testee answer 2011'!AH194:AH233,\"D\")","v":1},{"$f":"COUNTIF('[1]Testee answer 2011'!AI194:AI233,\"D\")","v":5},{"$f":"COUNTIF('[1]Testee answer 2011'!AJ194:AJ233,\"D\")","v":16},{"$f":"COUNTIF('[1]Testee answer 2011'!AK194:AK233,\"D\")","v":16},{"$f":"COUNTIF('[1]Testee answer 2011'!AL194:AL233,\"D\")","v":5},{"$f":"COUNTIF('[1]Testee answer 2011'!AM194:AM233,\"D\")","v":12},{"$f":"COUNTIF('[1]Testee answer 2011'!AN194:AN233,\"D\")","v":9},{"$f":"COUNTIF('[1]Testee answer 2011'!AO194:AO233,\"D\")","v":0},{"$f":"COUNTIF('[1]Testee answer 2011'!AP194:AP233,\"D\")","v":0},{"$f":"COUNTIF('[1]Testee answer 2011'!AQ194:AQ233,\"D\")","v":0},{"$f":"COUNTIF('[1]Testee answer 2011'!AR194:AR233,\"D\")","v":0},{"$f":"COUNTIF('[1]Testee answer 2011'!AS194:AS233,\"D\")","v":0},{"$f":"COUNTIF('[1]Testee answer 2011'!AT194:AT233,\"D\")","v":18},{"$f":"COUNTIF('[1]Testee answer 2011'!AU194:AU233,\"D\")","v":26},{"$f":"COUNTIF('[1]Testee answer 2011'!AV194:AV233,\"D\")","v":21},{"$f":"COUNTIF('[1]Testee answer 2011'!AW194:AW233,\"D\")","v":2},{"$f":"COUNTIF('[1]Testee answer 2011'!AX194:AX233,\"D\")","v":0},{"$f":"COUNTIF('[1]Testee answer 2011'!AY194:AY233,\"D\")","v":6},{"$f":"COUNTIF('[1]Testee answer 2011'!AZ194:AZ233,\"D\")","v":14},{"$f":"COUNTIF('[1]Testee answer 2011'!BA194:BA233,\"D\")","v":0},{"$f":"COUNTIF('[1]Testee answer 2011'!BB194:BB233,\"D\")","v":0},{"$f":"COUNTIF('[1]Testee answer 2011'!BC194:BC233,\"D\")","v":0},{"$f":"COUNTIF('[1]Testee answer 2011'!BD194:BD233,\"D\")","v":0},{"$f":"COUNTIF('[1]Testee answer 2011'!BE194:BE233,\"D\")","v":0},{"$f":"COUNTIF('[1]Testee answer 2011'!BF194:BF233,\"D\")","v":0},{"$f":"COUNTIF('[1]Testee answer 2011'!BG194:BG233,\"D\")","v":0},{"$f":"COUNTIF('[1]Testee answer 2011'!BH194:BH233,\"D\")","v":0},{"$f":"COUNTIF('[1]Testee answer 2011'!BI194:BI233,\"D\")","v":0}]
["BF2",{"$f":"COUNTIF('[1]Testee answer 2011'!D636:D664,\"A\")","v":0},{"$f":"COUNTIF('[1]Testee answer 2011'!E636:E664,\"A\")","v":5},{"$f":"COUNTIF('[1]Testee answer 2011'!F636:F664,\"A\")","v":9},{"$f":"COUNTIF('[1]Testee answer 2011'!G636:G664,\"A\")","v":13},{"$f":"COUNTIF('[1]Testee answer 2011'!H636:H664,\"A\")","v":19},{"$f":"COUNTIF('[1]Testee answer 2011'!I636:I664,\"A\")","v":1},{"$f":"COUNTIF('[1]Testee answer 2011'!J636:J664,\"A\")","v":12},{"$f":"COUNTIF('[1]Testee answer 2011'!K636:K664,\"A\")","v":15},{"$f":"COUNTIF('[1]Testee answer 2011'!L636:L664,\"A\")","v":18},{"$f":"COUNTIF('[1]Testee answer 2011'!M636:M664,\"A\")","v":16},{"$f":"COUNTIF('[1]Testee answer 2011'!N636:N664,\"A\")","v":9},{"$f":"COUNTIF('[1]Testee answer 2011'!O636:O664,\"A\")","v":2},{"$f":"COUNTIF('[1]Testee answer 2011'!P636:P664,\"A\")","v":3},{"$f":"COUNTIF('[1]Testee answer 2011'!Q636:Q664,\"A\")","v":2},{"$f":"COUNTIF('[1]Testee answer 2011'!R636:R664,\"A\")","v":5},{"$f":"COUNTIF('[1]Testee answer 2011'!S636:S664,\"A\")","v":6},{"$f":"COUNTIF('[1]Testee answer 2011'!T636:T664,\"A\")","v":10},{"$f":"COUNTIF('[1]Testee answer 2011'!U636:U664,\"A\")","v":6},{"$f":"COUNTIF('[1]Testee answer 2011'!V636:V664,\"A\")","v":1},{"$f":"COUNTIF('[1]Testee answer 2011'!W636:W664,\"A\")","v":2},{"$f":"COUNTIF('[1]Testee answer 2011'!X636:X664,\"A\")","v":3},{"$f":"COUNTIF('[1]Testee answer 2011'!Y636:Y664,\"A\")","v":8},{"$f":"COUNTIF('[1]Testee answer 2011'!Z636:Z664,\"A\")","v":8},{"$f":"COUNTIF('[1]Testee answer 2011'!AA636:AA664,\"A\")","v":16},{"$f":"COUNTIF('[1]Testee answer 2011'!AB636:AB664,\"A\")","v":3},{"$f":"COUNTIF('[1]Testee answer 2011'!AC636:AC664,\"A\")","v":5},{"$f":"COUNTIF('[1]Testee answer 2011'!AD636:AD664,\"A\")","v":12},{"$f":"COUNTIF('[1]Testee answer 2011'!AE636:AE664,\"A\")","v":5},{"$f":"COUNTIF('[1]Testee answer 2011'!AF636:AF664,\"A\")","v":0},{"$f":"COUNTIF('[1]Testee answer 2011'!AG636:AG664,\"A\")","v":3},{"$f":"COUNTIF('[1]Testee answer 2011'!AH636:AH664,\"A\")","v":9},{"$f":"COUNTIF('[1]Testee answer 2011'!AI636:AI664,\"A\")","v":6},{"$f":"COUNTIF('[1]Testee answer 2011'!AJ636:AJ664,\"A\")","v":10},{"$f":"COUNTIF('[1]Testee answer 2011'!AK636:AK664,\"A\")","v":9},{"$f":"COUNTIF('[1]Testee answer 2011'!AL636:AL664,\"A\")","v":1},{"$f":"COUNTIF('[1]Testee answer 2011'!AM636:AM664,\"A\")","v":5},{"$f":"COUNTIF('[1]Testee answer 2011'!AN636:AN664,\"A\")","v":6},{"$f":"COUNTIF('[1]Testee answer 2011'!AO636:AO664,\"A\")","v":7},{"$f":"COUNTIF('[1]Testee answer 2011'!AP636:AP664,\"A\")","v":4},{"$f":"COUNTIF('[1]Testee answer 2011'!AQ636:AQ664,\"A\")","v":2},{"$f":"COUNTIF('[1]Testee answer 2011'!AR636:AR664,\"A\")","v":6},{"$f":"COUNTIF('[1]Testee answer 2011'!AS636:AS664,\"A\")","v":1},{"$f":"COUNTIF('[1]Testee answer 2011'!AT636:AT664,\"A\")","v":0},{"$f":"COUNTIF('[1]Testee answer 2011'!AU636:AU664,\"A\")","v":0},{"$f":"COUNTIF('[1]Testee answer 2011'!AV636:AV664,\"A\")","v":2},{"$f":"COUNTIF('[1]Testee answer 2011'!AW636:AW664,\"A\")","v":14},{"$f":"COUNTIF('[1]Testee answer 2011'!AX636:AX664,\"A\")","v":5},{"$f":"COUNTIF('[1]Testee answer 2011'!AY636:AY664,\"A\")","v":3},{"$f":"COUNTIF('[1]Testee answer 2011'!AZ636:AZ664,\"A\")","v":3},{"$f":"COUNTIF('[1]Testee answer 2011'!BA636:BA664,\"A\")","v":21},{"$f":"COUNTIF('[1]Testee answer 2011'!BB636:BB664,\"A\")","v":15},{"$f":"COUNTIF('[1]Testee answer 2011'!BC636:BC664,\"A\")","v":4},{"$f":"COUNTIF('[1]Testee answer 2011'!BD636:BD664,\"A\")","v":16},{"$f":"COUNTIF('[1]Testee answer 2011'!BE636:BE664,\"A\")","v":23},{"$f":"COUNTIF('[1]Testee answer 2011'!BF636:BF664,\"A\")","v":0},{"$f":"COUNTIF('[1]Testee answer 2011'!BG636:BG664,\"A\")","v":24},{"$f":"COUNTIF('[1]Testee answer 2011'!BH636:BH664,\"A\")","v":12},{"$f":"COUNTIF('[1]Testee answer 2011'!BI636:BI664,\"A\")","v":3}]
["BF2",{"$f":"COUNTIF('[1]Testee answer 2011'!D636:D664,\"B\")","v":25},{"$f":"COUNTIF('[1]Testee answer 2011'!E636:E664,\"B\")","v":23},{"$f":"COUNTIF('[1]Testee answer 2011'!F636:F664,\"B\")","v":17},{"$f":"COUNTIF('[1]Testee answer 2011'!G636:G664,\"B\")","v":14},{"$f":"COUNTIF('[1]Testee answer 2011'!H636:H664,\"B\")","v":5},{"$f":"COUNTIF('[1]Testee answer 2011'!I636:I664,\"B\")","v":13},{"$f":"COUNTIF('[1]Testee answer 2011'!J636:J664,\"B\")","v":15},{"$f":"COUNTIF('[1]Testee answer 2011'!K636:K664,\"B\")","v":11},{"$f":"COUNTIF('[1]Testee answer 2011'!L636:L664,\"B\")","v":5},{"$f":"COUNTIF('[1]Testee answer 2011'!M636:M664,\"B\")","v":8},{"$f":"COUNTIF('[1]Testee answer 2011'!N636:N664,\"B\")","v":6},{"$f":"COUNTIF('[1]Testee answer 2011'!O636:O664,\"B\")","v":12},{"$f":"COUNTIF('[1]Testee answer 2011'!P636:P664,\"B\")","v":7},{"$f":"COUNTIF('[1]Testee answer 2011'!Q636:Q664,\"B\")","v":2},{"$f":"COUNTIF('[1]Testee answer 2011'!R636:R664,\"B\")","v":5},{"$f":"COUNTIF('[1]Testee answer 2011'!S636:S664,\"B\")","v":3},{"$f":"COUNTIF('[1]Testee answer 2011'!T636:T664,\"B\")","v":8},{"$f":"COUNTIF('[1]Testee answer 2011'!U636:U664,\"B\")","v":10},{"$f":"COUNTIF('[1]Testee answer 2011'!V636:V664,\"B\")","v":4},{"$f":"COUNTIF('[1]Testee answer 2011'!W636:W664,\"B\")","v":8},{"$f":"COUNTIF('[1]Testee answer 2011'!X636:X664,\"B\")","v":6},{"$f":"COUNTIF('[1]Testee answer 2011'!Y636:Y664,\"B\")","v":3},{"$f":"COUNTIF('[1]Testee answer 2011'!Z636:Z664,\"B\")","v":4},{"$f":"COUNTIF('[1]Testee answer 2011'!AA636:AA664,\"B\")","v":5},{"$f":"COUNTIF('[1]Testee answer 2011'!AB636:AB664,\"B\")","v":2},{"$f":"COUNTIF('[1]Testee answer 2011'!AC636:AC664,\"B\")","v":11},{"$f":"COUNTIF('[1]Testee answer 2011'!AD636:AD664,\"B\")","v":7},{"$f":"COUNTIF('[1]Testee answer 2011'!AE636:AE664,\"B\")","v":3},{"$f":"COUNTIF('[1]Testee answer 2011'!AF636:AF664,\"B\")","v":1},{"$f":"COUNTIF('[1]Testee answer 2011'!AG636:AG664,\"B\")","v":4},{"$f":"COUNTIF('[1]Testee answer 2011'!AH636:AH664,\"B\")","v":10},{"$f":"COUNTIF('[1]Testee answer 2011'!AI636:AI664,\"B\")","v":4},{"$f":"COUNTIF('[1]Testee answer 2011'!AJ636:AJ664,\"B\")","v":2},{"$f":"COUNTIF('[1]Testee answer 2011'!AK636:AK664,\"B\")","v":3},{"$f":"COUNTIF('[1]Testee answer 2011'!AL636:AL664,\"B\")","v":7},{"$f":"COUNTIF('[1]Testee answer 2011'!AM636:AM664,\"B\")","v":1},{"$f":"COUNTIF('[1]Testee answer 2011'!AN636:AN664,\"B\")","v":4},{"$f":"COUNTIF('[1]Testee answer 2011'!AO636:AO664,\"B\")","v":21},{"$f":"COUNTIF('[1]Testee answer 2011'!AP636:AP664,\"B\")","v":24},{"$f":"COUNTIF('[1]Testee answer 2011'!AQ636:AQ664,\"B\")","v":26},{"$f":"COUNTIF('[1]Testee answer 2011'!AR636:AR664,\"B\")","v":22},{"$f":"COUNTIF('[1]Testee answer 2011'!AS636:AS664,\"B\")","v":27},{"$f":"COUNTIF('[1]Testee answer 2011'!AT636:AT664,\"B\")","v":7},{"$f":"COUNTIF('[1]Testee answer 2011'!AU636:AU664,\"B\")","v":1},{"$f":"COUNTIF('[1]Testee answer 2011'!AV636:AV664,\"B\")","v":2},{"$f":"COUNTIF('[1]Testee answer 2011'!AW636:AW664,\"B\")","v":7},{"$f":"COUNTIF('[1]Testee answer 2011'!AX636:AX664,\"B\")","v":9},{"$f":"COUNTIF('[1]Testee answer 2011'!AY636:AY664,\"B\")","v":7},{"$f":"COUNTIF('[1]Testee answer 2011'!AZ636:AZ664,\"B\")","v":5},{"$f":"COUNTIF('[1]Testee answer 2011'!BA636:BA664,\"B\")","v":7},{"$f":"COUNTIF('[1]Testee answer 2011'!BB636:BB664,\"B\")","v":13},{"$f":"COUNTIF('[1]Testee answer 2011'!BC636:BC664,\"B\")","v":24},{"$f":"COUNTIF('[1]Testee answer 2011'!BD636:BD664,\"B\")","v":12},{"$f":"COUNTIF('[1]Testee answer 2011'!BE636:BE664,\"B\")","v":5},{"$f":"COUNTIF('[1]Testee answer 2011'!BF636:BF664,\"B\")","v":28},{"$f":"COUNTIF('[1]Testee answer 2011'!BG636:BG664,\"B\")","v":4},{"$f":"COUNTIF('[1]Testee answer 2011'!BH636:BH664,\"B\")","v":16},{"$f":"COUNTIF('[1]Testee answer 2011'!BI636:BI664,\"B\")","v":25}]
["BF2",{"$f":"COUNTIF('[1]Testee answer 2011'!D636:D664,\"C\")","v":3},{"$f":"COUNTIF('[1]Testee answer 2011'!E636:E664,\"C\")","v":0},{"$f":"COUNTIF('[1]Testee answer 2011'!F636:F664,\"C\")","v":2},{"$f":"COUNTIF('[1]Testee answer 2011'!G636:G664,\"C\")","v":1},{"$f":"COUNTIF('[1]Testee answer 2011'!H636:H664,\"C\")","v":1},{"$f":"COUNTIF('[1]Testee answer 2011'!I636:I664,\"C\")","v":13},{"$f":"COUNTIF('[1]Testee answer 2011'!J636:J664,\"C\")","v":1},{"$f":"COUNTIF('[1]Testee answer 2011'!K636:K664,\"C\")","v":2},{"$f":"COUNTIF('[1]Testee answer 2011'!L636:L664,\"C\")","v":5},{"$f":"COUNTIF('[1]Testee answer 2011'!M636:M664,\"C\")","v":4},{"$f":"COUNTIF('[1]Testee answer 2011'!N636:N664,\"C\")","v":12},{"$f":"COUNTIF('[1]Testee answer 2011'!O636:O664,\"C\")","v":13},{"$f":"COUNTIF('[1]Testee answer 2011'!P636:P664,\"C\")","v":16},{"$f":"COUNTIF('[1]Testee answer 2011'!Q636:Q664,\"C\")","v":16},{"$f":"COUNTIF('[1]Testee answer 2011'!R636:R664,\"C\")","v":9},{"$f":"COUNTIF('[1]Testee answer 2011'!S636:S664,\"C\")","v":9},{"$f":"COUNTIF('[1]Testee answer 2011'!T636:T664,\"C\")","v":4},{"$f":"COUNTIF('[1]Testee answer 2011'!U636:U664,\"C\")","v":11},{"$f":"COUNTIF('[1]Testee answer 2011'!V636:V664,\"C\")","v":13},{"$f":"COUNTIF('[1]Testee answer 2011'!W636:W664,\"C\")","v":11},{"$f":"COUNTIF('[1]Testee answer 2011'!X636:X664,\"C\")","v":11},{"$f":"COUNTIF('[1]Testee answer 2011'!Y636:Y664,\"C\")","v":6},{"$f":"COUNTIF('[1]Testee answer 2011'!Z636:Z664,\"C\")","v":7},{"$f":"COUNTIF('[1]Testee answer 2011'!AA636:AA664,\"C\")","v":5},{"$f":"COUNTIF('[1]Testee answer 2011'!AB636:AB664,\"C\")","v":3},{"$f":"COUNTIF('[1]Testee answer 2011'!AC636:AC664,\"C\")","v":8},{"$f":"COUNTIF('[1]Testee answer 2011'!AD636:AD664,\"C\")","v":5},{"$f":"COUNTIF('[1]Testee answer 2011'!AE636:AE664,\"C\")","v":8},{"$f":"COUNTIF('[1]Testee answer 2011'!AF636:AF664,\"C\")","v":5},{"$f":"COUNTIF('[1]Testee answer 2011'!AG636:AG664,\"C\")","v":6},{"$f":"COUNTIF('[1]Testee answer 2011'!AH636:AH664,\"C\")","v":9},{"$f":"COUNTIF('[1]Testee answer 2011'!AI636:AI664,\"C\")","v":14},{"$f":"COUNTIF('[1]Testee answer 2011'!AJ636:AJ664,\"C\")","v":7},{"$f":"COUNTIF('[1]Testee answer 2011'!AK636:AK664,\"C\")","v":7},{"$f":"COUNTIF('[1]Testee answer 2011'!AL636:AL664,\"C\")","v":7},{"$f":"COUNTIF('[1]Testee answer 2011'!AM636:AM664,\"C\")","v":10},{"$f":"COUNTIF('[1]Testee answer 2011'!AN636:AN664,\"C\")","v":9},{"$f":"COUNTIF('[1]Testee answer 2011'!AO636:AO664,\"C\")","v":0},{"$f":"COUNTIF('[1]Testee answer 2011'!AP636:AP664,\"C\")","v":0},{"$f":"COUNTIF('[1]Testee answer 2011'!AQ636:AQ664,\"C\")","v":0},{"$f":"COUNTIF('[1]Testee answer 2011'!AR636:AR664,\"C\")","v":0},{"$f":"COUNTIF('[1]Testee answer 2011'!AS636:AS664,\"C\")","v":0},{"$f":"COUNTIF('[1]Testee answer 2011'!AT636:AT664,\"C\")","v":12},{"$f":"COUNTIF('[1]Testee answer 2011'!AU636:AU664,\"C\")","v":7},{"$f":"COUNTIF('[1]Testee answer 2011'!AV636:AV664,\"C\")","v":9},{"$f":"COUNTIF('[1]Testee answer 2011'!AW636:AW664,\"C\")","v":5},{"$f":"COUNTIF('[1]Testee answer 2011'!AX636:AX664,\"C\")","v":12},{"$f":"COUNTIF('[1]Testee answer 2011'!AY636:AY664,\"C\")","v":10},{"$f":"COUNTIF('[1]Testee answer 2011'!AZ636:AZ664,\"C\")","v":7},{"$f":"COUNTIF('[1]Testee answer 2011'!BA636:BA664,\"C\")","v":0},{"$f":"COUNTIF('[1]Testee answer 2011'!BB636:BB664,\"C\")","v":0},{"$f":"COUNTIF('[1]Testee answer 2011'!BC636:BC664,\"C\")","v":0},{"$f":"COUNTIF('[1]Testee answer 2011'!BD636:BD664,\"C\")","v":0},{"$f":"COUNTIF('[1]Testee answer 2011'!BE636:BE664,\"C\")","v":0},{"$f":"COUNTIF('[1]Testee answer 2011'!BF636:BF664,\"C\")","v":0},{"$f":"COUNTIF('[1]Testee answer 2011'!BG636:BG664,\"C\")","v":0},{"$f":"COUNTIF('[1]Testee answer 2011'!BH636:BH664,\"C\")","v":0},{"$f":"COUNTIF('[1]Testee answer 2011'!BI636:BI664,\"C\")","v":0}]
["BF2",{"$f":"COUNTIF('[1]Testee answer 2011'!D636:D664,\"D\")","v":0},{"$f":"COUNTIF('[1]Testee answer 2011'!E636:E664,\"D\")","v":0},{"$f":"COUNTIF('[1]Testee answer 2011'!F636:F664,\"D\")","v":0},{"$f":"COUNTIF('[1]Testee answer 2011'!G636:G664,\"D\")","v":0},{"$f":"COUNTIF('[1]Testee answer 2011'!H636:H664,\"D\")","v":3},{"$f":"COUNTIF('[1]Testee answer 2011'!I636:I664,\"D\")","v":1},{"$f":"COUNTIF('[1]Testee answer 2011'!J636:J664,\"D\")","v":0},{"$f":"COUNTIF('[1]Testee answer 2011'!K636:K664,\"D\")","v":0},{"$f":"COUNTIF('[1]Testee answer 2011'!L636:L664,\"D\")","v":0},{"$f":"COUNTIF('[1]Testee answer 2011'!M636:M664,\"D\")","v":0},{"$f":"COUNTIF('[1]Testee answer 2011'!N636:N664,\"D\")","v":1},{"$f":"COUNTIF('[1]Testee answer 2011'!O636:O664,\"D\")","v":1},{"$f":"COUNTIF('[1]Testee answer 2011'!P636:P664,\"D\")","v":2},{"$f":"COUNTIF('[1]Testee answer 2011'!Q636:Q664,\"D\")","v":8},{"$f":"COUNTIF('[1]Testee answer 2011'!R636:R664,\"D\")","v":9},{"$f":"COUNTIF('[1]Testee answer 2011'!S636:S664,\"D\")","v":10},{"$f":"COUNTIF('[1]Testee answer 2011'!T636:T664,\"D\")","v":6},{"$f":"COUNTIF('[1]Testee answer 2011'!U636:U664,\"D\")","v":1},{"$f":"COUNTIF('[1]Testee answer 2011'!V636:V664,\"D\")","v":10},{"$f":"COUNTIF('[1]Testee answer 2011'!W636:W664,\"D\")","v":7},{"$f":"COUNTIF('[1]Testee answer 2011'!X636:X664,\"D\")","v":8},{"$f":"COUNTIF('[1]Testee answer 2011'!Y636:Y664,\"D\")","v":11},{"$f":"COUNTIF('[1]Testee answer 2011'!Z636:Z664,\"D\")","v":9},{"$f":"COUNTIF('[1]Testee answer 2011'!AA636:AA664,\"D\")","v":2},{"$f":"COUNTIF('[1]Testee answer 2011'!AB636:AB664,\"D\")","v":20},{"$f":"COUNTIF('[1]Testee answer 2011'!AC636:AC664,\"D\")","v":4},{"$f":"COUNTIF('[1]Testee answer 2011'!AD636:AD664,\"D\")","v":4},{"$f":"COUNTIF('[1]Testee answer 2011'!AE636:AE664,\"D\")","v":12},{"$f":"COUNTIF('[1]Testee answer 2011'!AF636:AF664,\"D\")","v":22},{"$f":"COUNTIF('[1]Testee answer 2011'!AG636:AG664,\"D\")","v":15},{"$f":"COUNTIF('[1]Testee answer 2011'!AH636:AH664,\"D\")","v":0},{"$f":"COUNTIF('[1]Testee answer 2011'!AI636:AI664,\"D\")","v":4},{"$f":"COUNTIF('[1]Testee answer 2011'!AJ636:AJ664,\"D\")","v":9},{"$f":"COUNTIF('[1]Testee answer 2011'!AK636:AK664,\"D\")","v":9},{"$f":"COUNTIF('[1]Testee answer 2011'!AL636:AL664,\"D\")","v":13},{"$f":"COUNTIF('[1]Testee answer 2011'!AM636:AM664,\"D\")","v":12},{"$f":"COUNTIF('[1]Testee answer 2011'!AN636:AN664,\"D\")","v":9},{"$f":"COUNTIF('[1]Testee answer 2011'!AO636:AO664,\"D\")","v":0},{"$f":"COUNTIF('[1]Testee answer 2011'!AP636:AP664,\"D\")","v":0},{"$f":"COUNTIF('[1]Testee answer 2011'!AQ636:AQ664,\"D\")","v":0},{"$f":"COUNTIF('[1]Testee answer 2011'!AR636:AR664,\"D\")","v":0},{"$f":"COUNTIF('[1]Testee answer 2011'!AS636:AS664,\"D\")","v":0},{"$f":"COUNTIF('[1]Testee answer 2011'!AT636:AT664,\"D\")","v":9},{"$f":"COUNTIF('[1]Testee answer 2011'!AU636:AU664,\"D\")","v":20},{"$f":"COUNTIF('[1]Testee answer 2011'!AV636:AV664,\"D\")","v":15},{"$f":"COUNTIF('[1]Testee answer 2011'!AW636:AW664,\"D\")","v":2},{"$f":"COUNTIF('[1]Testee answer 2011'!AX636:AX664,\"D\")","v":2},{"$f":"COUNTIF('[1]Testee answer 2011'!AY636:AY664,\"D\")","v":8},{"$f":"COUNTIF('[1]Testee answer 2011'!AZ636:AZ664,\"D\")","v":13},{"$f":"COUNTIF('[1]Testee answer 2011'!BA636:BA664,\"D\")","v":0},{"$f":"COUNTIF('[1]Testee answer 2011'!BB636:BB664,\"D\")","v":0},{"$f":"COUNTIF('[1]Testee answer 2011'!BC636:BC664,\"D\")","v":0},{"$f":"COUNTIF('[1]Testee answer 2011'!BD636:BD664,\"D\")","v":0},{"$f":"COUNTIF('[1]Testee answer 2011'!BE636:BE664,\"D\")","v":0},{"$f":"COUNTIF('[1]Testee answer 2011'!BF636:BF664,\"D\")","v":0},{"$f":"COUNTIF('[1]Testee answer 2011'!BG636:BG664,\"D\")","v":0},{"$f":"COUNTIF('[1]Testee answer 2011'!BH636:BH664,\"D\")","v":0},{"$f":"COUNTIF('[1]Testee answer 2011'!BI636:BI664,\"D\")","v":0}]
["BF3",{"$f":"COUNTIF('[1]Testee answer 2011'!D666:D687,\"A\")","v":0},{"$f":"COUNTIF('[1]Testee answer 2011'!E666:E687,\"A\")","v":1},{"$f":"COUNTIF('[1]Testee answer 2011'!F666:F687,\"A\")","v":5},{"$f":"COUNTIF('[1]Testee answer 2011'!G666:G687,\"A\")","v":13},{"$f":"COUNTIF('[1]Testee answer 2011'!H666:H687,\"A\")","v":10},{"$f":"COUNTIF('[1]Testee answer 2011'!I666:I687,\"A\")","v":0},{"$f":"COUNTIF('[1]Testee answer 2011'!J666:J687,\"A\")","v":17},{"$f":"COUNTIF('[1]Testee answer 2011'!K666:K687,\"A\")","v":17},{"$f":"COUNTIF('[1]Testee answer 2011'!L666:L687,\"A\")","v":11},{"$f":"COUNTIF('[1]Testee answer 2011'!M666:M687,\"A\")","v":12},{"$f":"COUNTIF('[1]Testee answer 2011'!N666:N687,\"A\")","v":7},{"$f":"COUNTIF('[1]Testee answer 2011'!O666:O687,\"A\")","v":6},{"$f":"COUNTIF('[1]Testee answer 2011'!P666:P687,\"A\")","v":5},{"$f":"COUNTIF('[1]Testee answer 2011'!Q666:Q687,\"A\")","v":4},{"$f":"COUNTIF('[1]Testee answer 2011'!R666:R687,\"A\")","v":2},{"$f":"COUNTIF('[1]Testee answer 2011'!S666:S687,\"A\")","v":6},{"$f":"COUNTIF('[1]Testee answer 2011'!T666:T687,\"A\")","v":14},{"$f":"COUNTIF('[1]Testee answer 2011'!U666:U687,\"A\")","v":4},{"$f":"COUNTIF('[1]Testee answer 2011'!V666:V687,\"A\")","v":2},{"$f":"COUNTIF('[1]Testee answer 2011'!W666:W687,\"A\")","v":5},{"$f":"COUNTIF('[1]Testee answer 2011'!X666:X687,\"A\")","v":3},{"$f":"COUNTIF('[1]Testee answer 2011'!Y666:Y687,\"A\")","v":3},{"$f":"COUNTIF('[1]Testee answer 2011'!Z666:Z687,\"A\")","v":6},{"$f":"COUNTIF('[1]Testee answer 2011'!AA666:AA687,\"A\")","v":10},{"$f":"COUNTIF('[1]Testee answer 2011'!AB666:AB687,\"A\")","v":2},{"$f":"COUNTIF('[1]Testee answer 2011'!AC666:AC687,\"A\")","v":4},{"$f":"COUNTIF('[1]Testee answer 2011'!AD666:AD687,\"A\")","v":7},{"$f":"COUNTIF('[1]Testee answer 2011'!AE666:AE687,\"A\")","v":3},{"$f":"COUNTIF('[1]Testee answer 2011'!AF666:AF687,\"A\")","v":1},{"$f":"COUNTIF('[1]Testee answer 2011'!AG666:AG687,\"A\")","v":4},{"$f":"COUNTIF('[1]Testee answer 2011'!AH666:AH687,\"A\")","v":10},{"$f":"COUNTIF('[1]Testee answer 2011'!AI666:AI687,\"A\")","v":3},{"$f":"COUNTIF('[1]Testee answer 2011'!AJ666:AJ687,\"A\")","v":9},{"$f":"COUNTIF('[1]Testee answer 2011'!AK666:AK687,\"A\")","v":8},{"$f":"COUNTIF('[1]Testee answer 2011'!AL666:AL687,\"A\")","v":1},{"$f":"COUNTIF('[1]Testee answer 2011'!AM666:AM687,\"A\")","v":1},{"$f":"COUNTIF('[1]Testee answer 2011'!AN666:AN687,\"A\")","v":1},{"$f":"COUNTIF('[1]Testee answer 2011'!AO666:AO687,\"A\")","v":12},{"$f":"COUNTIF('[1]Testee answer 2011'!AP666:AP687,\"A\")","v":4},{"$f":"COUNTIF('[1]Testee answer 2011'!AQ666:AQ687,\"A\")","v":4},{"$f":"COUNTIF('[1]Testee answer 2011'!AR666:AR687,\"A\")","v":4},{"$f":"COUNTIF('[1]Testee answer 2011'!AS666:AS687,\"A\")","v":3},{"$f":"COUNTIF('[1]Testee answer 2011'!AT666:AT687,\"A\")","v":2},{"$f":"COUNTIF('[1]Testee answer 2011'!AU666:AU687,\"A\")","v":0},{"$f":"COUNTIF('[1]Testee answer 2011'!AV666:AV687,\"A\")","v":1},{"$f":"COUNTIF('[1]Testee answer 2011'!AW666:AW687,\"A\")","v":10},{"$f":"COUNTIF('[1]Testee answer 2011'!AX666:AX687,\"A\")","v":4},{"$f":"COUNTIF('[1]Testee answer 2011'!AY666:AY687,\"A\")","v":4},{"$f":"COUNTIF('[1]Testee answer 2011'!AZ666:AZ687,\"A\")","v":4},{"$f":"COUNTIF('[1]Testee answer 2011'!BA666:BA687,\"A\")","v":20},{"$f":"COUNTIF('[1]Testee answer 2011'!BB666:BB687,\"A\")","v":7},{"$f":"COUNTIF('[1]Testee answer 2011'!BC666:BC687,\"A\")","v":3},{"$f":"COUNTIF('[1]Testee answer 2011'!BD666:BD687,\"A\")","v":9},{"$f":"COUNTIF('[1]Testee answer 2011'!BE666:BE687,\"A\")","v":18},{"$f":"COUNTIF('[1]Testee answer 2011'!BF666:BF687,\"A\")","v":6},{"$f":"COUNTIF('[1]Testee answer 2011'!BG666:BG687,\"A\")","v":16},{"$f":"COUNTIF('[1]Testee answer 2011'!BH666:BH687,\"A\")","v":11},{"$f":"COUNTIF('[1]Testee answer 2011'!BI666:BI687,\"A\")","v":0}]
["BF3",{"$f":"COUNTIF('[1]Testee answer 2011'!D666:D687,\"B\")","v":0},{"$f":"COUNTIF('[1]Testee answer 2011'!E666:E687,\"B\")","v":20},{"$f":"COUNTIF('[1]Testee answer 2011'!F666:F687,\"B\")","v":14},{"$f":"COUNTIF('[1]Testee answer 2011'!G666:G687,\"B\")","v":8},{"$f":"COUNTIF('[1]Testee answer 2011'!H666:H687,\"B\")","v":5},{"$f":"COUNTIF('[1]Testee answer 2011'!I666:I687,\"B\")","v":15},{"$f":"COUNTIF('[1]Testee answer 2011'!J666:J687,\"B\")","v":3},{"$f":"COUNTIF('[1]Testee answer 2011'!K666:K687,\"B\")","v":4},{"$f":"COUNTIF('[1]Testee answer 2011'!L666:L687,\"B\")","v":9},{"$f":"COUNTIF('[1]Testee answer 2011'!M666:M687,\"B\")","v":6},{"$f":"COUNTIF('[1]Testee answer 2011'!N666:N687,\"B\")","v":10},{"$f":"COUNTIF('[1]Testee answer 2011'!O666:O687,\"B\")","v":8},{"$f":"COUNTIF('[1]Testee answer 2011'!P666:P687,\"B\")","v":3},{"$f":"COUNTIF('[1]Testee answer 2011'!Q666:Q687,\"B\")","v":1},{"$f":"COUNTIF('[1]Testee answer 2011'!R666:R687,\"B\")","v":3},{"$f":"COUNTIF('[1]Testee answer 2011'!S666:S687,\"B\")","v":1},{"$f":"COUNTIF('[1]Testee answer 2011'!T666:T687,\"B\")","v":3},{"$f":"COUNTIF('[1]Testee answer 2011'!U666:U687,\"B\")","v":9},{"$f":"COUNTIF('[1]Testee answer 2011'!V666:V687,\"B\")","v":1},{"$f":"COUNTIF('[1]Testee answer 2011'!W666:W687,\"B\")","v":3},{"$f":"COUNTIF('[1]Testee answer 2011'!X666:X687,\"B\")","v":2},{"$f":"COUNTIF('[1]Testee answer 2011'!Y666:Y687,\"B\")","v":5},{"$f":"COUNTIF('[1]Testee answer 2011'!Z666:Z687,\"B\")","v":6},{"$f":"COUNTIF('[1]Testee answer 2011'!AA666:AA687,\"B\")","v":3},{"$f":"COUNTIF('[1]Testee answer 2011'!AB666:AB687,\"B\")","v":1},{"$f":"COUNTIF('[1]Testee answer 2011'!AC666:AC687,\"B\")","v":4},{"$f":"COUNTIF('[1]Testee answer 2011'!AD666:AD687,\"B\")","v":2},{"$f":"COUNTIF('[1]Testee answer 2011'!AE666:AE687,\"B\")","v":1},{"$f":"COUNTIF('[1]Testee answer 2011'!AF666:AF687,\"B\")","v":1},{"$f":"COUNTIF('[1]Testee answer 2011'!AG666:AG687,\"B\")","v":0},{"$f":"COUNTIF('[1]Testee answer 2011'!AH666:AH687,\"B\")","v":5},{"$f":"COUNTIF('[1]Testee answer 2011'!AI666:AI687,\"B\")","v":3},{"$f":"COUNTIF('[1]Testee answer 2011'!AJ666:AJ687,\"B\")","v":1},{"$f":"COUNTIF('[1]Testee answer 2011'!AK666:AK687,\"B\")","v":1},{"$f":"COUNTIF('[1]Testee answer 2011'!AL666:AL687,\"B\")","v":4},{"$f":"COUNTIF('[1]Testee answer 2011'!AM666:AM687,\"B\")","v":3},{"$f":"COUNTIF('[1]Testee answer 2011'!AN666:AN687,\"B\")","v":6},{"$f":"COUNTIF('[1]Testee answer 2011'!AO666:AO687,\"B\")","v":9},{"$f":"COUNTIF('[1]Testee answer 2011'!AP666:AP687,\"B\")","v":17},{"$f":"COUNTIF('[1]Testee answer 2011'!AQ666:AQ687,\"B\")","v":17},{"$f":"COUNTIF('[1]Testee answer 2011'!AR666:AR687,\"B\")","v":17},{"$f":"COUNTIF('[1]Testee answer 2011'!AS666:AS687,\"B\")","v":18},{"$f":"COUNTIF('[1]Testee answer 2011'!AT666:AT687,\"B\")","v":2},{"$f":"COUNTIF('[1]Testee answer 2011'!AU666:AU687,\"B\")","v":3},{"$f":"COUNTIF('[1]Testee answer 2011'!AV666:AV687,\"B\")","v":0},{"$f":"COUNTIF('[1]Testee answer 2011'!AW666:AW687,\"B\")","v":7},{"$f":"COUNTIF('[1]Testee answer 2011'!AX666:AX687,\"B\")","v":6},{"$f":"COUNTIF('[1]Testee answer 2011'!AY666:AY687,\"B\")","v":2},{"$f":"COUNTIF('[1]Testee answer 2011'!AZ666:AZ687,\"B\")","v":1},{"$f":"COUNTIF('[1]Testee answer 2011'!BA666:BA687,\"B\")","v":1},{"$f":"COUNTIF('[1]Testee answer 2011'!BB666:BB687,\"B\")","v":14},{"$f":"COUNTIF('[1]Testee answer 2011'!BC666:BC687,\"B\")","v":18},{"$f":"COUNTIF('[1]Testee answer 2011'!BD666:BD687,\"B\")","v":12},{"$f":"COUNTIF('[1]Testee answer 2011'!BE666:BE687,\"B\")","v":3},{"$f":"COUNTIF('[1]Testee answer 2011'!BF666:BF687,\"B\")","v":15},{"$f":"COUNTIF('[1]Testee answer 2011'!BG666:BG687,\"B\")","v":5},{"$f":"COUNTIF('[1]Testee answer 2011'!BH666:BH687,\"B\")","v":10},{"$f":"COUNTIF('[1]Testee answer 2011'!BI666:BI687,\"B\")","v":21}]
["BF3",{"$f":"COUNTIF('[1]Testee answer 2011'!D666:D687,\"C\")","v":18},{"$f":"COUNTIF('[1]Testee answer 2011'!E666:E687,\"C\")","v":0},{"$f":"COUNTIF('[1]Testee answer 2011'!F666:F687,\"C\")","v":2},{"$f":"COUNTIF('[1]Testee answer 2011'!G666:G687,\"C\")","v":0},{"$f":"COUNTIF('[1]Testee answer 2011'!H666:H687,\"C\")","v":5},{"$f":"COUNTIF('[1]Testee answer 2011'!I666:I687,\"C\")","v":6},{"$f":"COUNTIF('[1]Testee answer 2011'!J666:J687,\"C\")","v":1},{"$f":"COUNTIF('[1]Testee answer 2011'!K666:K687,\"C\")","v":0},{"$f":"COUNTIF('[1]Testee answer 2011'!L666:L687,\"C\")","v":1},{"$f":"COUNTIF('[1]Testee answer 2011'!M666:M687,\"C\")","v":3},{"$f":"COUNTIF('[1]Testee answer 2011'!N666:N687,\"C\")","v":2},{"$f":"COUNTIF('[1]Testee answer 2011'!O666:O687,\"C\")","v":5},{"$f":"COUNTIF('[1]Testee answer 2011'!P666:P687,\"C\")","v":12},{"$f":"COUNTIF('[1]Testee answer 2011'!Q666:Q687,\"C\")","v":9},{"$f":"COUNTIF('[1]Testee answer 2011'!R666:R687,\"C\")","v":11},{"$f":"COUNTIF('[1]Testee answer 2011'!S666:S687,\"C\")","v":10},{"$f":"COUNTIF('[1]Testee answer 2011'!T666:T687,\"C\")","v":2},{"$f":"COUNTIF('[1]Testee answer 2011'!U666:U687,\"C\")","v":6},{"$f":"COUNTIF('[1]Testee answer 2011'!V666:V687,\"C\")","v":10},{"$f":"COUNTIF('[1]Testee answer 2011'!W666:W687,\"C\")","v":9},{"$f":"COUNTIF('[1]Testee answer 2011'!X666:X687,\"C\")","v":11},{"$f":"COUNTIF('[1]Testee answer 2011'!Y666:Y687,\"C\")","v":7},{"$f":"COUNTIF('[1]Testee answer 2011'!Z666:Z687,\"C\")","v":7},{"$f":"COUNTIF('[1]Testee answer 2011'!AA666:AA687,\"C\")","v":6},{"$f":"COUNTIF('[1]Testee answer 2011'!AB666:AB687,\"C\")","v":8},{"$f":"COUNTIF('[1]Testee answer 2011'!AC666:AC687,\"C\")","v":2},{"$f":"COUNTIF('[1]Testee answer 2011'!AD666:AD687,\"C\")","v":6},{"$f":"COUNTIF('[1]Testee answer 2011'!AE666:AE687,\"C\")","v":2},{"$f":"COUNTIF('[1]Testee answer 2011'!AF666:AF687,\"C\")","v":6},{"$f":"COUNTIF('[1]Testee answer 2011'!AG666:AG687,\"C\")","v":10},{"$f":"COUNTIF('[1]Testee answer 2011'!AH666:AH687,\"C\")","v":4},{"$f":"COUNTIF('[1]Testee answer 2011'!AI666:AI687,\"C\")","v":12},{"$f":"COUNTIF('[1]Testee answer 2011'!AJ666:AJ687,\"C\")","v":4},{"$f":"COUNTIF('[1]Testee answer 2011'!AK666:AK687,\"C\")","v":5},{"$f":"COUNTIF('[1]Testee answer 2011'!AL666:AL687,\"C\")","v":9},{"$f":"COUNTIF('[1]Testee answer 2011'!AM666:AM687,\"C\")","v":7},{"$f":"COUNTIF('[1]Testee answer 2011'!AN666:AN687,\"C\")","v":6},{"$f":"COUNTIF('[1]Testee answer 2011'!AO666:AO687,\"C\")","v":0},{"$f":"COUNTIF('[1]Testee answer 2011'!AP666:AP687,\"C\")","v":0},{"$f":"COUNTIF('[1]Testee answer 2011'!AQ666:AQ687,\"C\")","v":0},{"$f":"COUNTIF('[1]Testee answer 2011'!AR666:AR687,\"C\")","v":0},{"$f":"COUNTIF('[1]Testee answer 2011'!AS666:AS687,\"C\")","v":0},{"$f":"COUNTIF('[1]Testee answer 2011'!AT666:AT687,\"C\")","v":11},{"$f":"COUNTIF('[1]Testee answer 2011'!AU666:AU687,\"C\")","v":2},{"$f":"COUNTIF('[1]Testee answer 2011'!AV666:AV687,\"C\")","v":7},{"$f":"COUNTIF('[1]Testee answer 2011'!AW666:AW687,\"C\")","v":3},{"$f":"COUNTIF('[1]Testee answer 2011'!AX666:AX687,\"C\")","v":10},{"$f":"COUNTIF('[1]Testee answer 2011'!AY666:AY687,\"C\")","v":10},{"$f":"COUNTIF('[1]Testee answer 2011'!AZ666:AZ687,\"C\")","v":9},{"$f":"COUNTIF('[1]Testee answer 2011'!BA666:BA687,\"C\")","v":0},{"$f":"COUNTIF('[1]Testee answer 2011'!BB666:BB687,\"C\")","v":0},{"$f":"COUNTIF('[1]Testee answer 2011'!BC666:BC687,\"C\")","v":0},{"$f":"COUNTIF('[1]Testee answer 2011'!BD666:BD687,\"C\")","v":0},{"$f":"COUNTIF('[1]Testee answer 2011'!BE666:BE687,\"C\")","v":0},{"$f":"COUNTIF('[1]Testee answer 2011'!BF666:BF687,\"C\")","v":0},{"$f":"COUNTIF('[1]Testee answer 2011'!BG666:BG687,\"C\")","v":0},{"$f":"COUNTIF('[1]Testee answer 2011'!BH666:BH687,\"C\")","v":0},{"$f":"COUNTIF('[1]Testee answer 2011'!BI666:BI687,\"C\")","v":0}]
["BF3",{"$f":"COUNTIF('[1]Testee answer 2011'!D356:D360,\"D\")","v":0},{"$f":"COUNTIF('[1]Testee answer 2011'!E356:E360,\"D\")","v":0},{"$f":"COUNTIF('[1]Testee answer 2011'!F356:F360,\"D\")","v":0},{"$f":"COUNTIF('[1]Testee answer 2011'!G356:G360,\"D\")","v":0},{"$f":"COUNTIF('[1]Testee answer 2011'!H356:H360,\"D\")","v":0},{"$f":"COUNTIF('[1]Testee answer 2011'!I356:I360,\"D\")","v":0},{"$f":"COUNTIF('[1]Testee answer 2011'!J356:J360,\"D\")","v":0},{"$f":"COUNTIF('[1]Testee answer 2011'!K356:K360,\"D\")","v":0},{"$f":"COUNTIF('[1]Testee answer 2011'!L356:L360,\"D\")","v":0},{"$f":"COUNTIF('[1]Testee answer 2011'!M356:M360,\"D\")","v":1},{"$f":"COUNTIF('[1]Testee answer 2011'!N356:N360,\"D\")","v":1},{"$f":"COUNTIF('[1]Testee answer 2011'!O356:O360,\"D\")","v":2},{"$f":"COUNTIF('[1]Testee answer 2011'!P356:P360,\"D\")","v":2},{"$f":"COUNTIF('[1]Testee answer 2011'!Q356:Q360,\"D\")","v":1},{"$f":"COUNTIF('[1]Testee answer 2011'!R356:R360,\"D\")","v":2},{"$f":"COUNTIF('[1]Testee answer 2011'!S356:S360,\"D\")","v":2},{"$f":"COUNTIF('[1]Testee answer 2011'!T356:T360,\"D\")","v":1},{"$f":"COUNTIF('[1]Testee answer 2011'!U356:U360,\"D\")","v":3},{"$f":"COUNTIF('[1]Testee answer 2011'!V356:V360,\"D\")","v":0},{"$f":"COUNTIF('[1]Testee answer 2011'!W356:W360,\"D\")","v":1},{"$f":"COUNTIF('[1]Testee answer 2011'!X356:X360,\"D\")","v":2},{"$f":"COUNTIF('[1]Testee answer 2011'!Y356:Y360,\"D\")","v":1},{"$f":"COUNTIF('[1]Testee answer 2011'!Z356:Z360,\"D\")","v":0},{"$f":"COUNTIF('[1]Testee answer 2011'!AA356:AA360,\"D\")","v":1},{"$f":"COUNTIF('[1]Testee answer 2011'!AB356:AB360,\"D\")","v":2},{"$f":"COUNTIF('[1]Testee answer 2011'!AC356:AC360,\"D\")","v":1},{"$f":"COUNTIF('[1]Testee answer 2011'!AD356:AD360,\"D\")","v":1},{"$f":"COUNTIF('[1]Testee answer 2011'!AE356:AE360,\"D\")","v":4},{"$f":"COUNTIF('[1]Testee answer 2011'!AF356:AF360,\"D\")","v":4},{"$f":"COUNTIF('[1]Testee answer 2011'!AG356:AG360,\"D\")","v":4},{"$f":"COUNTIF('[1]Testee answer 2011'!AH356:AH360,\"D\")","v":0},{"$f":"COUNTIF('[1]Testee answer 2011'!AI356:AI360,\"D\")","v":0},{"$f":"COUNTIF('[1]Testee answer 2011'!AJ356:AJ360,\"D\")","v":1},{"$f":"COUNTIF('[1]Testee answer 2011'!AK356:AK360,\"D\")","v":2},{"$f":"COUNTIF('[1]Testee answer 2011'!AL356:AL360,\"D\")","v":4},{"$f":"COUNTIF('[1]Testee answer 2011'!AM356:AM360,\"D\")","v":4},{"$f":"COUNTIF('[1]Testee answer 2011'!AN356:AN360,\"D\")","v":2},{"$f":"COUNTIF('[1]Testee answer 2011'!AO356:AO360,\"D\")","v":0},{"$f":"COUNTIF('[1]Testee answer 2011'!AP356:AP360,\"D\")","v":0},{"$f":"COUNTIF('[1]Testee answer 2011'!AQ356:AQ360,\"D\")","v":0},{"$f":"COUNTIF('[1]Testee answer 2011'!AR356:AR360,\"D\")","v":0},{"$f":"COUNTIF('[1]Testee answer 2011'!AS356:AS360,\"D\")","v":0},{"$f":"COUNTIF('[1]Testee answer 2011'!AT356:AT360,\"D\")","v":2},{"$f":"COUNTIF('[1]Testee answer 2011'!AU356:AU360,\"D\")","v":3},{"$f":"COUNTIF('[1]Testee answer 2011'!AV356:AV360,\"D\")","v":2},{"$f":"COUNTIF('[1]Testee answer 2011'!AW356:AW360,\"D\")","v":1},{"$f":"COUNTIF('[1]Testee answer 2011'!AX356:AX360,\"D\")","v":0},{"$f":"COUNTIF('[1]Testee answer 2011'!AY356:AY360,\"D\")","v":3},{"$f":"COUNTIF('[1]Testee answer 2011'!AZ356:AZ360,\"D\")","v":2},{"$f":"COUNTIF('[1]Testee answer 2011'!BA356:BA360,\"D\")","v":0},{"$f":"COUNTIF('[1]Testee answer 2011'!BB356:BB360,\"D\")","v":0},{"$f":"COUNTIF('[1]Testee answer 2011'!BC356:BC360,\"D\")","v":0},{"$f":"COUNTIF('[1]Testee answer 2011'!BD356:BD360,\"D\")","v":0},{"$f":"COUNTIF('[1]Testee answer 2011'!BE356:BE360,\"D\")","v":0},{"$f":"COUNTIF('[1]Testee answer 2011'!BF356:BF360,\"D\")","v":0},{"$f":"COUNTIF('[1]Testee answer 2011'!BG356:BG360,\"D\")","v":0},{"$f":"COUNTIF('[1]Testee answer 2011'!BH356:BH360,\"D\")","v":0},{"$f":"COUNTIF('[1]Testee answer 2011'!BI356:BI360,\"D\")","v":0}]
["BF4",{"$f":"COUNTIF('[1]Testee answer 2011'!D547:D569,\"A\")","v":0},{"$f":"COUNTIF('[1]Testee answer 2011'!E547:E569,\"A\")","v":3},{"$f":"COUNTIF('[1]Testee answer 2011'!F547:F569,\"A\")","v":2},{"$f":"COUNTIF('[1]Testee answer 2011'!G547:G569,\"A\")","v":17},{"$f":"COUNTIF('[1]Testee answer 2011'!H547:H569,\"A\")","v":9},{"$f":"COUNTIF('[1]Testee answer 2011'!I547:I569,\"A\")","v":3},{"$f":"COUNTIF('[1]Testee answer 2011'!J547:J569,\"A\")","v":14},{"$f":"COUNTIF('[1]Testee answer 2011'!K547:K569,\"A\")","v":10},{"$f":"COUNTIF('[1]Testee answer 2011'!L547:L569,\"A\")","v":9},{"$f":"COUNTIF('[1]Testee answer 2011'!M547:M569,\"A\")","v":11},{"$f":"COUNTIF('[1]Testee answer 2011'!N547:N569,\"A\")","v":3},{"$f":"COUNTIF('[1]Testee answer 2011'!O547:O569,\"A\")","v":5},{"$f":"COUNTIF('[1]Testee answer 2011'!P547:P569,\"A\")","v":3},{"$f":"COUNTIF('[1]Testee answer 2011'!Q547:Q569,\"A\")","v":0},{"$f":"COUNTIF('[1]Testee answer 2011'!R547:R569,\"A\")","v":3},{"$f":"COUNTIF('[1]Testee answer 2011'!S547:S569,\"A\")","v":6},{"$f":"COUNTIF('[1]Testee answer 2011'!T547:T569,\"A\")","v":13},{"$f":"COUNTIF('[1]Testee answer 2011'!U547:U569,\"A\")","v":6},{"$f":"COUNTIF('[1]Testee answer 2011'!V547:V569,\"A\")","v":4},{"$f":"COUNTIF('[1]Testee answer 2011'!W547:W569,\"A\")","v":7},{"$f":"COUNTIF('[1]Testee answer 2011'!X547:X569,\"A\")","v":4},{"$f":"COUNTIF('[1]Testee answer 2011'!Y547:Y569,\"A\")","v":4},{"$f":"COUNTIF('[1]Testee answer 2011'!Z547:Z569,\"A\")","v":5},{"$f":"COUNTIF('[1]Testee answer 2011'!AA547:AA569,\"A\")","v":12},{"$f":"COUNTIF('[1]Testee answer 2011'!AB547:AB569,\"A\")","v":1},{"$f":"COUNTIF('[1]Testee answer 2011'!AC547:AC569,\"A\")","v":1},{"$f":"COUNTIF('[1]Testee answer 2011'!AD547:AD569,\"A\")","v":6},{"$f":"COUNTIF('[1]Testee answer 2011'!AE547:AE569,\"A\")","v":6},{"$f":"COUNTIF('[1]Testee answer 2011'!AF547:AF569,\"A\")","v":0},{"$f":"COUNTIF('[1]Testee answer 2011'!AG547:AG569,\"A\")","v":2},{"$f":"COUNTIF('[1]Testee answer 2011'!AH547:AH569,\"A\")","v":6},{"$f":"COUNTIF('[1]Testee answer 2011'!AI547:AI569,\"A\")","v":4},{"$f":"COUNTIF('[1]Testee answer 2011'!AJ547:AJ569,\"A\")","v":4},{"$f":"COUNTIF('[1]Testee answer 2011'!AK547:AK569,\"A\")","v":6},{"$f":"COUNTIF('[1]Testee answer 2011'!AL547:AL569,\"A\")","v":3},{"$f":"COUNTIF('[1]Testee answer 2011'!AM547:AM569,\"A\")","v":0},{"$f":"COUNTIF('[1]Testee answer 2011'!AN547:AN569,\"A\")","v":2},{"$f":"COUNTIF('[1]Testee answer 2011'!AO547:AO569,\"A\")","v":15},{"$f":"COUNTIF('[1]Testee answer 2011'!AP547:AP569,\"A\")","v":3},{"$f":"COUNTIF('[1]Testee answer 2011'!AQ547:AQ569,\"A\")","v":1},{"$f":"COUNTIF('[1]Testee answer 2011'!AR547:AR569,\"A\")","v":3},{"$f":"COUNTIF('[1]Testee answer 2011'!AS547:AS569,\"A\")","v":2},{"$f":"COUNTIF('[1]Testee answer 2011'!AT547:AT569,\"A\")","v":1},{"$f":"COUNTIF('[1]Testee answer 2011'!AU547:AU569,\"A\")","v":0},{"$f":"COUNTIF('[1]Testee answer 2011'!AV547:AV569,\"A\")","v":0},{"$f":"COUNTIF('[1]Testee answer 2011'!AW547:AW569,\"A\")","v":10},{"$f":"COUNTIF('[1]Testee answer 2011'!AX547:AX569,\"A\")","v":8},{"$f":"COUNTIF('[1]Testee answer 2011'!AY547:AY569,\"A\")","v":3},{"$f":"COUNTIF('[1]Testee answer 2011'!AZ547:AZ569,\"A\")","v":2},{"$f":"COUNTIF('[1]Testee answer 2011'!BA547:BA569,\"A\")","v":15},{"$f":"COUNTIF('[1]Testee answer 2011'!BB547:BB569,\"A\")","v":6},{"$f":"COUNTIF('[1]Testee answer 2011'!BC547:BC569,\"A\")","v":4},{"$f":"COUNTIF('[1]Testee answer 2011'!BD547:BD569,\"A\")","v":10},{"$f":"COUNTIF('[1]Testee answer 2011'!BE547:BE569,\"A\")","v":17},{"$f":"COUNTIF('[1]Testee answer 2011'!BF547:BF569,\"A\")","v":2},{"$f":"COUNTIF('[1]Testee answer 2011'!BG547:BG569,\"A\")","v":21},{"$f":"COUNTIF('[1]Testee answer 2011'!BH547:BH569,\"A\")","v":10},{"$f":"COUNTIF('[1]Testee answer 2011'!BI547:BI569,\"A\")","v":5}]
["BF4",{"$f":"COUNTIF('[1]Testee answer 2011'!D547:D569,\"B\")","v":0},{"$f":"COUNTIF('[1]Testee answer 2011'!E547:E569,\"B\")","v":19},{"$f":"COUNTIF('[1]Testee answer 2011'!F547:F569,\"B\")","v":17},{"$f":"COUNTIF('[1]Testee answer 2011'!G547:G569,\"B\")","v":5},{"$f":"COUNTIF('[1]Testee answer 2011'!H547:H569,\"B\")","v":5},{"$f":"COUNTIF('[1]Testee answer 2011'!I547:I569,\"B\")","v":12},{"$f":"COUNTIF('[1]Testee answer 2011'!J547:J569,\"B\")","v":7},{"$f":"COUNTIF('[1]Testee answer 2011'!K547:K569,\"B\")","v":8},{"$f":"COUNTIF('[1]Testee answer 2011'!L547:L569,\"B\")","v":10},{"$f":"COUNTIF('[1]Testee answer 2011'!M547:M569,\"B\")","v":6},{"$f":"COUNTIF('[1]Testee answer 2011'!N547:N569,\"B\")","v":5},{"$f":"COUNTIF('[1]Testee answer 2011'!O547:O569,\"B\")","v":5},{"$f":"COUNTIF('[1]Testee answer 2011'!P547:P569,\"B\")","v":4},{"$f":"COUNTIF('[1]Testee answer 2011'!Q547:Q569,\"B\")","v":2},{"$f":"COUNTIF('[1]Testee answer 2011'!R547:R569,\"B\")","v":2},{"$f":"COUNTIF('[1]Testee answer 2011'!S547:S569,\"B\")","v":7},{"$f":"COUNTIF('[1]Testee answer 2011'!T547:T569,\"B\")","v":3},{"$f":"COUNTIF('[1]Testee answer 2011'!U547:U569,\"B\")","v":5},{"$f":"COUNTIF('[1]Testee answer 2011'!V547:V569,\"B\")","v":3},{"$f":"COUNTIF('[1]Testee answer 2011'!W547:W569,\"B\")","v":4},{"$f":"COUNTIF('[1]Testee answer 2011'!X547:X569,\"B\")","v":4},{"$f":"COUNTIF('[1]Testee answer 2011'!Y547:Y569,\"B\")","v":3},{"$f":"COUNTIF('[1]Testee answer 2011'!Z547:Z569,\"B\")","v":6},{"$f":"COUNTIF('[1]Testee answer 2011'!AA547:AA569,\"B\")","v":6},{"$f":"COUNTIF('[1]Testee answer 2011'!AB547:AB569,\"B\")","v":1},{"$f":"COUNTIF('[1]Testee answer 2011'!AC547:AC569,\"B\")","v":3},{"$f":"COUNTIF('[1]Testee answer 2011'!AD547:AD569,\"B\")","v":2},{"$f":"COUNTIF('[1]Testee answer 2011'!AE547:AE569,\"B\")","v":1},{"$f":"COUNTIF('[1]Testee answer 2011'!AF547:AF569,\"B\")","v":0},{"$f":"COUNTIF('[1]Testee answer 2011'!AG547:AG569,\"B\")","v":1},{"$f":"COUNTIF('[1]Testee answer 2011'!AH547:AH569,\"B\")","v":9},{"$f":"COUNTIF('[1]Testee answer 2011'!AI547:AI569,\"B\")","v":7},{"$f":"COUNTIF('[1]Testee answer 2011'!AJ547:AJ569,\"B\")","v":0},{"$f":"COUNTIF('[1]Testee answer 2011'!AK547:AK569,\"B\")","v":1},{"$f":"COUNTIF('[1]Testee answer 2011'!AL547:AL569,\"B\")","v":1},{"$f":"COUNTIF('[1]Testee answer 2011'!AM547:AM569,\"B\")","v":0},{"$f":"COUNTIF('[1]Testee answer 2011'!AN547:AN569,\"B\")","v":0},{"$f":"COUNTIF('[1]Testee answer 2011'!AO547:AO569,\"B\")","v":7},{"$f":"COUNTIF('[1]Testee answer 2011'!AP547:AP569,\"B\")","v":19},{"$f":"COUNTIF('[1]Testee answer 2011'!AQ547:AQ569,\"B\")","v":21},{"$f":"COUNTIF('[1]Testee answer 2011'!AR547:AR569,\"B\")","v":19},{"$f":"COUNTIF('[1]Testee answer 2011'!AS547:AS569,\"B\")","v":20},{"$f":"COUNTIF('[1]Testee answer 2011'!AT547:AT569,\"B\")","v":2},{"$f":"COUNTIF('[1]Testee answer 2011'!AU547:AU569,\"B\")","v":1},{"$f":"COUNTIF('[1]Testee answer 2011'!AV547:AV569,\"B\")","v":1},{"$f":"COUNTIF('[1]Testee answer 2011'!AW547:AW569,\"B\")","v":5},{"$f":"COUNTIF('[1]Testee answer 2011'!AX547:AX569,\"B\")","v":6},{"$f":"COUNTIF('[1]Testee answer 2011'!AY547:AY569,\"B\")","v":3},{"$f":"COUNTIF('[1]Testee answer 2011'!AZ547:AZ569,\"B\")","v":1},{"$f":"COUNTIF('[1]Testee answer 2011'!BA547:BA569,\"B\")","v":7},{"$f":"COUNTIF('[1]Testee answer 2011'!BB547:BB569,\"B\")","v":16},{"$f":"COUNTIF('[1]Testee answer 2011'!BC547:BC569,\"B\")","v":18},{"$f":"COUNTIF('[1]Testee answer 2011'!BD547:BD569,\"B\")","v":12},{"$f":"COUNTIF('[1]Testee answer 2011'!BE547:BE569,\"B\")","v":5},{"$f":"COUNTIF('[1]Testee answer 2011'!BF547:BF569,\"B\")","v":20},{"$f":"COUNTIF('[1]Testee answer 2011'!BG547:BG569,\"B\")","v":1},{"$f":"COUNTIF('[1]Testee answer 2011'!BH547:BH569,\"B\")","v":12},{"$f":"COUNTIF('[1]Testee answer 2011'!BI547:BI569,\"B\")","v":17}]
["BF4",{"$f":"COUNTIF('[1]Testee answer 2011'!D547:D569,\"C\")","v":0},{"$f":"COUNTIF('[1]Testee answer 2011'!E547:E569,\"C\")","v":0},{"$f":"COUNTIF('[1]Testee answer 2011'!F547:F569,\"C\")","v":3},{"$f":"COUNTIF('[1]Testee answer 2011'!G547:G569,\"C\")","v":0},{"$f":"COUNTIF('[1]Testee answer 2011'!H547:H569,\"C\")","v":6},{"$f":"COUNTIF('[1]Testee answer 2011'!I547:I569,\"C\")","v":5},{"$f":"COUNTIF('[1]Testee answer 2011'!J547:J569,\"C\")","v":1},{"$f":"COUNTIF('[1]Testee answer 2011'!K547:K569,\"C\")","v":4},{"$f":"COUNTIF('[1]Testee answer 2011'!L547:L569,\"C\")","v":3},{"$f":"COUNTIF('[1]Testee answer 2011'!M547:M569,\"C\")","v":4},{"$f":"COUNTIF('[1]Testee answer 2011'!N547:N569,\"C\")","v":12},{"$f":"COUNTIF('[1]Testee answer 2011'!O547:O569,\"C\")","v":7},{"$f":"COUNTIF('[1]Testee answer 2011'!P547:P569,\"C\")","v":9},{"$f":"COUNTIF('[1]Testee answer 2011'!Q547:Q569,\"C\")","v":9},{"$f":"COUNTIF('[1]Testee answer 2011'!R547:R569,\"C\")","v":5},{"$f":"COUNTIF('[1]Testee answer 2011'!S547:S569,\"C\")","v":2},{"$f":"COUNTIF('[1]Testee answer 2011'!T547:T569,\"C\")","v":5},{"$f":"COUNTIF('[1]Testee answer 2011'!U547:U569,\"C\")","v":10},{"$f":"COUNTIF('[1]Testee answer 2011'!V547:V569,\"C\")","v":8},{"$f":"COUNTIF('[1]Testee answer 2011'!W547:W569,\"C\")","v":4},{"$f":"COUNTIF('[1]Testee answer 2011'!X547:X569,\"C\")","v":9},{"$f":"COUNTIF('[1]Testee answer 2011'!Y547:Y569,\"C\")","v":7},{"$f":"COUNTIF('[1]Testee answer 2011'!Z547:Z569,\"C\")","v":7},{"$f":"COUNTIF('[1]Testee answer 2011'!AA547:AA569,\"C\")","v":3},{"$f":"COUNTIF('[1]Testee answer 2011'!AB547:AB569,\"C\")","v":4},{"$f":"COUNTIF('[1]Testee answer 2011'!AC547:AC569,\"C\")","v":7},{"$f":"COUNTIF('[1]Testee answer 2011'!AD547:AD569,\"C\")","v":5},{"$f":"COUNTIF('[1]Testee answer 2011'!AE547:AE569,\"C\")","v":3},{"$f":"COUNTIF('[1]Testee answer 2011'!AF547:AF569,\"C\")","v":0},{"$f":"COUNTIF('[1]Testee answer 2011'!AG547:AG569,\"C\")","v":3},{"$f":"COUNTIF('[1]Testee answer 2011'!AH547:AH569,\"C\")","v":6},{"$f":"COUNTIF('[1]Testee answer 2011'!AI547:AI569,\"C\")","v":9},{"$f":"COUNTIF('[1]Testee answer 2011'!AJ547:AJ569,\"C\")","v":6},{"$f":"COUNTIF('[1]Testee answer 2011'!AK547:AK569,\"C\")","v":7},{"$f":"COUNTIF('[1]Testee answer 2011'!AL547:AL569,\"C\")","v":1},{"$f":"COUNTIF('[1]Testee answer 2011'!AM547:AM569,\"C\")","v":4},{"$f":"COUNTIF('[1]Testee answer 2011'!AN547:AN569,\"C\")","v":15},{"$f":"COUNTIF('[1]Testee answer 2011'!AO547:AO569,\"C\")","v":0},{"$f":"COUNTIF('[1]Testee answer 2011'!AP547:AP569,\"C\")","v":0},{"$f":"COUNTIF('[1]Testee answer 2011'!AQ547:AQ569,\"C\")","v":0},{"$f":"COUNTIF('[1]Testee answer 2011'!AR547:AR569,\"C\")","v":0},{"$f":"COUNTIF('[1]Testee answer 2011'!AS547:AS569,\"C\")","v":0},{"$f":"COUNTIF('[1]Testee answer 2011'!AT547:AT569,\"C\")","v":15},{"$f":"COUNTIF('[1]Testee answer 2011'!AU547:AU569,\"C\")","v":4},{"$f":"COUNTIF('[1]Testee answer 2011'!AV547:AV569,\"C\")","v":12},{"$f":"COUNTIF('[1]Testee answer 2011'!AW547:AW569,\"C\")","v":5},{"$f":"COUNTIF('[1]Testee answer 2011'!AX547:AX569,\"C\")","v":6},{"$f":"COUNTIF('[1]Testee answer 2011'!AY547:AY569,\"C\")","v":10},{"$f":"COUNTIF('[1]Testee answer 2011'!AZ547:AZ569,\"C\")","v":12},{"$f":"COUNTIF('[1]Testee answer 2011'!BA547:BA569,\"C\")","v":0},{"$f":"COUNTIF('[1]Testee answer 2011'!BB547:BB569,\"C\")","v":0},{"$f":"COUNTIF('[1]Testee answer 2011'!BC547:BC569,\"C\")","v":0},{"$f":"COUNTIF('[1]Testee answer 2011'!BD547:BD569,\"C\")","v":0},{"$f":"COUNTIF('[1]Testee answer 2011'!BE547:BE569,\"C\")","v":0},{"$f":"COUNTIF('[1]Testee answer 2011'!BF547:BF569,\"C\")","v":0},{"$f":"COUNTIF('[1]Testee answer 2011'!BG547:BG569,\"C\")","v":0},{"$f":"COUNTIF('[1]Testee answer 2011'!BH547:BH569,\"C\")","v":0},{"$f":"COUNTIF('[1]Testee answer 2011'!BI547:BI569,\"C\")","v":0}]
["BF4",{"$f":"COUNTIF('[1]Testee answer 2011'!D547:D569,\"D\")","v":22},{"$f":"COUNTIF('[1]Testee answer 2011'!E547:E569,\"D\")","v":0},{"$f":"COUNTIF('[1]Testee answer 2011'!F547:F569,\"D\")","v":0},{"$f":"COUNTIF('[1]Testee answer 2011'!G547:G569,\"D\")","v":0},{"$f":"COUNTIF('[1]Testee answer 2011'!H547:H569,\"D\")","v":2},{"$f":"COUNTIF('[1]Testee answer 2011'!I547:I569,\"D\")","v":2},{"$f":"COUNTIF('[1]Testee answer 2011'!J547:J569,\"D\")","v":0},{"$f":"COUNTIF('[1]Testee answer 2011'!K547:K569,\"D\")","v":0},{"$f":"COUNTIF('[1]Testee answer 2011'!L547:L569,\"D\")","v":0},{"$f":"COUNTIF('[1]Testee answer 2011'!M547:M569,\"D\")","v":1},{"$f":"COUNTIF('[1]Testee answer 2011'!N547:N569,\"D\")","v":2},{"$f":"COUNTIF('[1]Testee answer 2011'!O547:O569,\"D\")","v":5},{"$f":"COUNTIF('[1]Testee answer 2011'!P547:P569,\"D\")","v":6},{"$f":"COUNTIF('[1]Testee answer 2011'!Q547:Q569,\"D\")","v":11},{"$f":"COUNTIF('[1]Testee answer 2011'!R547:R569,\"D\")","v":12},{"$f":"COUNTIF('[1]Testee answer 2011'!S547:S569,\"D\")","v":7},{"$f":"COUNTIF('[1]Testee answer 2011'!T547:T569,\"D\")","v":1},{"$f":"COUNTIF('[1]Testee answer 2011'!U547:U569,\"D\")","v":1},{"$f":"COUNTIF('[1]Testee answer 2011'!V547:V569,\"D\")","v":7},{"$f":"COUNTIF('[1]Testee answer 2011'!W547:W569,\"D\")","v":7},{"$f":"COUNTIF('[1]Testee answer 2011'!X547:X569,\"D\")","v":5},{"$f":"COUNTIF('[1]Testee answer 2011'!Y547:Y569,\"D\")","v":8},{"$f":"COUNTIF('[1]Testee answer 2011'!Z547:Z569,\"D\")","v":4},{"$f":"COUNTIF('[1]Testee answer 2011'!AA547:AA569,\"D\")","v":1},{"$f":"COUNTIF('[1]Testee answer 2011'!AB547:AB569,\"D\")","v":16},{"$f":"COUNTIF('[1]Testee answer 2011'!AC547:AC569,\"D\")","v":11},{"$f":"COUNTIF('[1]Testee answer 2011'!AD547:AD569,\"D\")","v":9},{"$f":"COUNTIF('[1]Testee answer 2011'!AE547:AE569,\"D\")","v":12},{"$f":"COUNTIF('[1]Testee answer 2011'!AF547:AF569,\"D\")","v":22},{"$f":"COUNTIF('[1]Testee answer 2011'!AG547:AG569,\"D\")","v":16},{"$f":"COUNTIF('[1]Testee answer 2011'!AH547:AH569,\"D\")","v":1},{"$f":"COUNTIF('[1]Testee answer 2011'!AI547:AI569,\"D\")","v":2},{"$f":"COUNTIF('[1]Testee answer 2011'!AJ547:AJ569,\"D\")","v":12},{"$f":"COUNTIF('[1]Testee answer 2011'!AK547:AK569,\"D\")","v":8},{"$f":"COUNTIF('[1]Testee answer 2011'!AL547:AL569,\"D\")","v":17},{"$f":"COUNTIF('[1]Testee answer 2011'!AM547:AM569,\"D\")","v":18},{"$f":"COUNTIF('[1]Testee answer 2011'!AN547:AN569,\"D\")","v":5},{"$f":"COUNTIF('[1]Testee answer 2011'!AO547:AO569,\"D\")","v":0},{"$f":"COUNTIF('[1]Testee answer 2011'!AP547:AP569,\"D\")","v":0},{"$f":"COUNTIF('[1]Testee answer 2011'!AQ547:AQ569,\"D\")","v":0},{"$f":"COUNTIF('[1]Testee answer 2011'!AR547:AR569,\"D\")","v":0},{"$f":"COUNTIF('[1]Testee answer 2011'!AS547:AS569,\"D\")","v":0},{"$f":"COUNTIF('[1]Testee answer 2011'!AT547:AT569,\"D\")","v":4},{"$f":"COUNTIF('[1]Testee answer 2011'!AU547:AU569,\"D\")","v":17},{"$f":"COUNTIF('[1]Testee answer 2011'!AV547:AV569,\"D\")","v":9},{"$f":"COUNTIF('[1]Testee answer 2011'!AW547:AW569,\"D\")","v":2},{"$f":"COUNTIF('[1]Testee answer 2011'!AX547:AX569,\"D\")","v":2},{"$f":"COUNTIF('[1]Testee answer 2011'!AY547:AY569,\"D\")","v":6},{"$f":"COUNTIF('[1]Testee answer 2011'!AZ547:AZ569,\"D\")","v":7},{"$f":"COUNTIF('[1]Testee answer 2011'!BA547:BA569,\"D\")","v":0},{"$f":"COUNTIF('[1]Testee answer 2011'!BB547:BB569,\"D\")","v":0},{"$f":"COUNTIF('[1]Testee answer 2011'!BC547:BC569,\"D\")","v":0},{"$f":"COUNTIF('[1]Testee answer 2011'!BD547:BD569,\"D\")","v":0},{"$f":"COUNTIF('[1]Testee answer 2011'!BE547:BE569,\"D\")","v":0},{"$f":"COUNTIF('[1]Testee answer 2011'!BF547:BF569,\"D\")","v":0},{"$f":"COUNTIF('[1]Testee answer 2011'!BG547:BG569,\"D\")","v":0},{"$f":"COUNTIF('[1]Testee answer 2011'!BH547:BH569,\"D\")","v":0},{"$f":"COUNTIF('[1]Testee answer 2011'!BI547:BI569,\"D\")","v":0}]
["LIT1",{"$f":"COUNTIF('[1]Testee answer 2011'!D170:D192,\"A\")","v":23},{"$f":"COUNTIF('[1]Testee answer 2011'!E170:E192,\"A\")","v":7},{"$f":"COUNTIF('[1]Testee answer 2011'!F170:F192,\"A\")","v":3},{"$f":"COUNTIF('[1]Testee answer 2011'!G170:G192,\"A\")","v":14},{"$f":"COUNTIF('[1]Testee answer 2011'!H170:H192,\"A\")","v":11},{"$f":"COUNTIF('[1]Testee answer 2011'!I170:I192,\"A\")","v":1},{"$f":"COUNTIF('[1]Testee answer 2011'!J170:J192,\"A\")","v":10},{"$f":"COUNTIF('[1]Testee answer 2011'!K170:K192,\"A\")","v":8},{"$f":"COUNTIF('[1]Testee answer 2011'!L170:L192,\"A\")","v":10},{"$f":"COUNTIF('[1]Testee answer 2011'!M170:M192,\"A\")","v":10},{"$f":"COUNTIF('[1]Testee answer 2011'!N170:N192,\"A\")","v":4},{"$f":"COUNTIF('[1]Testee answer 2011'!O170:O192,\"A\")","v":2},{"$f":"COUNTIF('[1]Testee answer 2011'!P170:P192,\"A\")","v":2},{"$f":"COUNTIF('[1]Testee answer 2011'!Q170:Q192,\"A\")","v":0},{"$f":"COUNTIF('[1]Testee answer 2011'!R170:R192,\"A\")","v":3},{"$f":"COUNTIF('[1]Testee answer 2011'!S170:S192,\"A\")","v":6},{"$f":"COUNTIF('[1]Testee answer 2011'!T170:T192,\"A\")","v":10},{"$f":"COUNTIF('[1]Testee answer 2011'!U170:U192,\"A\")","v":5},{"$f":"COUNTIF('[1]Testee answer 2011'!V170:V192,\"A\")","v":1},{"$f":"COUNTIF('[1]Testee answer 2011'!W170:W192,\"A\")","v":2},{"$f":"COUNTIF('[1]Testee answer 2011'!X170:X192,\"A\")","v":4},{"$f":"COUNTIF('[1]Testee answer 2011'!Y170:Y192,\"A\")","v":4},{"$f":"COUNTIF('[1]Testee answer 2011'!Z170:Z192,\"A\")","v":6},{"$f":"COUNTIF('[1]Testee answer 2011'!AA170:AA192,\"A\")","v":10},{"$f":"COUNTIF('[1]Testee answer 2011'!AB170:AB192,\"A\")","v":1},{"$f":"COUNTIF('[1]Testee answer 2011'!AC170:AC192,\"A\")","v":3},{"$f":"COUNTIF('[1]Testee answer 2011'!AD170:AD192,\"A\")","v":3},{"$f":"COUNTIF('[1]Testee answer 2011'!AE170:AE192,\"A\")","v":2},{"$f":"COUNTIF('[1]Testee answer 2011'!AF170:AF192,\"A\")","v":1},{"$f":"COUNTIF('[1]Testee answer 2011'!AG170:AG192,\"A\")","v":2},{"$f":"COUNTIF('[1]Testee answer 2011'!AH170:AH192,\"A\")","v":10},{"$f":"COUNTIF('[1]Testee answer 2011'!AI170:AI192,\"A\")","v":4},{"$f":"COUNTIF('[1]Testee answer 2011'!AJ170:AJ192,\"A\")","v":9},{"$f":"COUNTIF('[1]Testee answer 2011'!AK170:AK192,\"A\")","v":6},{"$f":"COUNTIF('[1]Testee answer 2011'!AL170:AL192,\"A\")","v":2},{"$f":"COUNTIF('[1]Testee answer 2011'!AM170:AM192,\"A\")","v":1},{"$f":"COUNTIF('[1]Testee answer 2011'!AN170:AN192,\"A\")","v":0},{"$f":"COUNTIF('[1]Testee answer 2011'!AO170:AO192,\"A\")","v":9},{"$f":"COUNTIF('[1]Testee answer 2011'!AP170:AP192,\"A\")","v":2},{"$f":"COUNTIF('[1]Testee answer 2011'!AQ170:AQ192,\"A\")","v":0},{"$f":"COUNTIF('[1]Testee answer 2011'!AR170:AR192,\"A\")","v":2},{"$f":"COUNTIF('[1]Testee answer 2011'!AS170:AS192,\"A\")","v":0},{"$f":"COUNTIF('[1]Testee answer 2011'!AT170:AT192,\"A\")","v":1},{"$f":"COUNTIF('[1]Testee answer 2011'!AU170:AU192,\"A\")","v":0},{"$f":"COUNTIF('[1]Testee answer 2011'!AV170:AV192,\"A\")","v":0},{"$f":"COUNTIF('[1]Testee answer 2011'!AW170:AW192,\"A\")","v":10},{"$f":"COUNTIF('[1]Testee answer 2011'!AX170:AX192,\"A\")","v":9},{"$f":"COUNTIF('[1]Testee answer 2011'!AY170:AY192,\"A\")","v":5},{"$f":"COUNTIF('[1]Testee answer 2011'!AZ170:AZ192,\"A\")","v":2},{"$f":"COUNTIF('[1]Testee answer 2011'!BA170:BA192,\"A\")","v":17},{"$f":"COUNTIF('[1]Testee answer 2011'!BB170:BB192,\"A\")","v":11},{"$f":"COUNTIF('[1]Testee answer 2011'!BC170:BC192,\"A\")","v":3},{"$f":"COUNTIF('[1]Testee answer 2011'!BD170:BD192,\"A\")","v":7},{"$f":"COUNTIF('[1]Testee answer 2011'!BE170:BE192,\"A\")","v":17},{"$f":"COUNTIF('[1]Testee answer 2011'!BF170:BF192,\"A\")","v":0},{"$f":"COUNTIF('[1]Testee answer 2011'!BG170:BG192,\"A\")","v":17},{"$f":"COUNTIF('[1]Testee answer 2011'!BH170:BH192,\"A\")","v":12},{"$f":"COUNTIF('[1]Testee answer 2011'!BI170:BI192,\"A\")","v":3}]
["LIT1",{"$f":"COUNTIF('[1]Testee answer 2011'!D170:D192,\"B\")","v":0},{"$f":"COUNTIF('[1]Testee answer 2011'!E170:E192,\"B\")","v":16},{"$f":"COUNTIF('[1]Testee answer 2011'!F170:F192,\"B\")","v":16},{"$f":"COUNTIF('[1]Testee answer 2011'!G170:G192,\"B\")","v":7},{"$f":"COUNTIF('[1]Testee answer 2011'!H170:H192,\"B\")","v":6},{"$f":"COUNTIF('[1]Testee answer 2011'!I170:I192,\"B\")","v":5},{"$f":"COUNTIF('[1]Testee answer 2011'!J170:J192,\"B\")","v":13},{"$f":"COUNTIF('[1]Testee answer 2011'!K170:K192,\"B\")","v":14},{"$f":"COUNTIF('[1]Testee answer 2011'!L170:L192,\"B\")","v":11},{"$f":"COUNTIF('[1]Testee answer 2011'!M170:M192,\"B\")","v":5},{"$f":"COUNTIF('[1]Testee answer 2011'!N170:N192,\"B\")","v":8},{"$f":"COUNTIF('[1]Testee answer 2011'!O170:O192,\"B\")","v":6},{"$f":"COUNTIF('[1]Testee answer 2011'!P170:P192,\"B\")","v":6},{"$f":"COUNTIF('[1]Testee answer 2011'!Q170:Q192,\"B\")","v":7},{"$f":"COUNTIF('[1]Testee answer 2011'!R170:R192,\"B\")","v":5},{"$f":"COUNTIF('[1]Testee answer 2011'!S170:S192,\"B\")","v":6},{"$f":"COUNTIF('[1]Testee answer 2011'!T170:T192,\"B\")","v":2},{"$f":"COUNTIF('[1]Testee answer 2011'!U170:U192,\"B\")","v":7},{"$f":"COUNTIF('[1]Testee answer 2011'!V170:V192,\"B\")","v":3},{"$f":"COUNTIF('[1]Testee answer 2011'!W170:W192,\"B\")","v":4},{"$f":"COUNTIF('[1]Testee answer 2011'!X170:X192,\"B\")","v":5},{"$f":"COUNTIF('[1]Testee answer 2011'!Y170:Y192,\"B\")","v":4},{"$f":"COUNTIF('[1]Testee answer 2011'!Z170:Z192,\"B\")","v":5},{"$f":"COUNTIF('[1]Testee answer 2011'!AA170:AA192,\"B\")","v":6},{"$f":"COUNTIF('[1]Testee answer 2011'!AB170:AB192,\"B\")","v":0},{"$f":"COUNTIF('[1]Testee answer 2011'!AC170:AC192,\"B\")","v":6},{"$f":"COUNTIF('[1]Testee answer 2011'!AD170:AD192,\"B\")","v":9},{"$f":"COUNTIF('[1]Testee answer 2011'!AE170:AE192,\"B\")","v":7},{"$f":"COUNTIF('[1]Testee answer 2011'!AF170:AF192,\"B\")","v":1},{"$f":"COUNTIF('[1]Testee answer 2011'!AG170:AG192,\"B\")","v":4},{"$f":"COUNTIF('[1]Testee answer 2011'!AH170:AH192,\"B\")","v":8},{"$f":"COUNTIF('[1]Testee answer 2011'!AI170:AI192,\"B\")","v":7},{"$f":"COUNTIF('[1]Testee answer 2011'!AJ170:AJ192,\"B\")","v":0},{"$f":"COUNTIF('[1]Testee answer 2011'!AK170:AK192,\"B\")","v":0},{"$f":"COUNTIF('[1]Testee answer 2011'!AL170:AL192,\"B\")","v":3},{"$f":"COUNTIF('[1]Testee answer 2011'!AM170:AM192,\"B\")","v":3},{"$f":"COUNTIF('[1]Testee answer 2011'!AN170:AN192,\"B\")","v":6},{"$f":"COUNTIF('[1]Testee answer 2011'!AO170:AO192,\"B\")","v":14},{"$f":"COUNTIF('[1]Testee answer 2011'!AP170:AP192,\"B\")","v":21},{"$f":"COUNTIF('[1]Testee answer 2011'!AQ170:AQ192,\"B\")","v":23},{"$f":"COUNTIF('[1]Testee answer 2011'!AR170:AR192,\"B\")","v":21},{"$f":"COUNTIF('[1]Testee answer 2011'!AS170:AS192,\"B\")","v":23},{"$f":"COUNTIF('[1]Testee answer 2011'!AT170:AT192,\"B\")","v":2},{"$f":"COUNTIF('[1]Testee answer 2011'!AU170:AU192,\"B\")","v":2},{"$f":"COUNTIF('[1]Testee answer 2011'!AV170:AV192,\"B\")","v":2},{"$f":"COUNTIF('[1]Testee answer 2011'!AW170:AW192,\"B\")","v":7},{"$f":"COUNTIF('[1]Testee answer 2011'!AX170:AX192,\"B\")","v":8},{"$f":"COUNTIF('[1]Testee answer 2011'!AY170:AY192,\"B\")","v":2},{"$f":"COUNTIF('[1]Testee answer 2011'!AZ170:AZ192,\"B\")","v":4},{"$f":"COUNTIF('[1]Testee answer 2011'!BA170:BA192,\"B\")","v":6},{"$f":"COUNTIF('[1]Testee answer 2011'!BB170:BB192,\"B\")","v":12},{"$f":"COUNTIF('[1]Testee answer 2011'!BC170:BC192,\"B\")","v":20},{"$f":"COUNTIF('[1]Testee answer 2011'!BD170:BD192,\"B\")","v":16},{"$f":"COUNTIF('[1]Testee answer 2011'!BE170:BE192,\"B\")","v":6},{"$f":"COUNTIF('[1]Testee answer 2011'!BF170:BF192,\"B\")","v":23},{"$f":"COUNTIF('[1]Testee answer 2011'!BG170:BG192,\"B\")","v":6},{"$f":"COUNTIF('[1]Testee answer 2011'!BH170:BH192,\"B\")","v":11},{"$f":"COUNTIF('[1]Testee answer 2011'!BI170:BI192,\"B\")","v":20}]
["LIT1",{"$f":"COUNTIF('[1]Testee answer 2011'!D170:D192,\"C\")","v":0},{"$f":"COUNTIF('[1]Testee answer 2011'!E170:E192,\"C\")","v":0},{"$f":"COUNTIF('[1]Testee answer 2011'!F170:F192,\"C\")","v":3},{"$f":"COUNTIF('[1]Testee answer 2011'!G170:G192,\"C\")","v":1},{"$f":"COUNTIF('[1]Testee answer 2011'!H170:H192,\"C\")","v":5},{"$f":"COUNTIF('[1]Testee answer 2011'!I170:I192,\"C\")","v":8},{"$f":"COUNTIF('[1]Testee answer 2011'!J170:J192,\"C\")","v":0},{"$f":"COUNTIF('[1]Testee answer 2011'!K170:K192,\"C\")","v":1},{"$f":"COUNTIF('[1]Testee answer 2011'!L170:L192,\"C\")","v":2},{"$f":"COUNTIF('[1]Testee answer 2011'!M170:M192,\"C\")","v":8},{"$f":"COUNTIF('[1]Testee answer 2011'!N170:N192,\"C\")","v":9},{"$f":"COUNTIF('[1]Testee answer 2011'!O170:O192,\"C\")","v":10},{"$f":"COUNTIF('[1]Testee answer 2011'!P170:P192,\"C\")","v":12},{"$f":"COUNTIF('[1]Testee answer 2011'!Q170:Q192,\"C\")","v":9},{"$f":"COUNTIF('[1]Testee answer 2011'!R170:R192,\"C\")","v":9},{"$f":"COUNTIF('[1]Testee answer 2011'!S170:S192,\"C\")","v":4},{"$f":"COUNTIF('[1]Testee answer 2011'!T170:T192,\"C\")","v":6},{"$f":"COUNTIF('[1]Testee answer 2011'!U170:U192,\"C\")","v":10},{"$f":"COUNTIF('[1]Testee answer 2011'!V170:V192,\"C\")","v":14},{"$f":"COUNTIF('[1]Testee answer 2011'!W170:W192,\"C\")","v":11},{"$f":"COUNTIF('[1]Testee answer 2011'!X170:X192,\"C\")","v":6},{"$f":"COUNTIF('[1]Testee answer 2011'!Y170:Y192,\"C\")","v":9},{"$f":"COUNTIF('[1]Testee answer 2011'!Z170:Z192,\"C\")","v":11},{"$f":"COUNTIF('[1]Testee answer 2011'!AA170:AA192,\"C\")","v":7},{"$f":"COUNTIF('[1]Testee answer 2011'!AB170:AB192,\"C\")","v":3},{"$f":"COUNTIF('[1]Testee answer 2011'!AC170:AC192,\"C\")","v":7},{"$f":"COUNTIF('[1]Testee answer 2011'!AD170:AD192,\"C\")","v":10},{"$f":"COUNTIF('[1]Testee answer 2011'!AE170:AE192,\"C\")","v":5},{"$f":"COUNTIF('[1]Testee answer 2011'!AF170:AF192,\"C\")","v":7},{"$f":"COUNTIF('[1]Testee answer 2011'!AG170:AG192,\"C\")","v":7},{"$f":"COUNTIF('[1]Testee answer 2011'!AH170:AH192,\"C\")","v":5},{"$f":"COUNTIF('[1]Testee answer 2011'!AI170:AI192,\"C\")","v":10},{"$f":"COUNTIF('[1]Testee answer 2011'!AJ170:AJ192,\"C\")","v":7},{"$f":"COUNTIF('[1]Testee answer 2011'!AK170:AK192,\"C\")","v":10},{"$f":"COUNTIF('[1]Testee answer 2011'!AL170:AL192,\"C\")","v":12},{"$f":"COUNTIF('[1]Testee answer 2011'!AM170:AM192,\"C\")","v":13},{"$f":"COUNTIF('[1]Testee answer 2011'!AN170:AN192,\"C\")","v":11},{"$f":"COUNTIF('[1]Testee answer 2011'!AO170:AO192,\"C\")","v":0},{"$f":"COUNTIF('[1]Testee answer 2011'!AP170:AP192,\"C\")","v":0},{"$f":"COUNTIF('[1]Testee answer 2011'!AQ170:AQ192,\"C\")","v":0},{"$f":"COUNTIF('[1]Testee answer 2011'!AR170:AR192,\"C\")","v":0},{"$f":"COUNTIF('[1]Testee answer 2011'!AS170:AS192,\"C\")","v":0},{"$f":"COUNTIF('[1]Testee answer 2011'!AT170:AT192,\"C\")","v":8},{"$f":"COUNTIF('[1]Testee answer 2011'!AU170:AU192,\"C\")","v":3},{"$f":"COUNTIF('[1]Testee answer 2011'!AV170:AV192,\"C\")","v":7},{"$f":"COUNTIF('[1]Testee answer 2011'!AW170:AW192,\"C\")","v":5},{"$f":"COUNTIF('[1]Testee answer 2011'!AX170:AX192,\"C\")","v":6},{"$f":"COUNTIF('[1]Testee answer 2011'!AY170:AY192,\"C\")","v":12},{"$f":"COUNTIF('[1]Testee answer 2011'!AZ170:AZ192,\"C\")","v":8},{"$f":"COUNTIF('[1]Testee answer 2011'!BA170:BA192,\"C\")","v":0},{"$f":"COUNTIF('[1]Testee answer 2011'!BB170:BB192,\"C\")","v":0},{"$f":"COUNTIF('[1]Testee answer 2011'!BC170:BC192,\"C\")","v":0},{"$f":"COUNTIF('[1]Testee answer 2011'!BD170:BD192,\"C\")","v":0},{"$f":"COUNTIF('[1]Testee answer 2011'!BE170:BE192,\"C\")","v":0},{"$f":"COUNTIF('[1]Testee answer 2011'!BF170:BF192,\"C\")","v":0},{"$f":"COUNTIF('[1]Testee answer 2011'!BG170:BG192,\"C\")","v":0},{"$f":"COUNTIF('[1]Testee answer 2011'!BH170:BH192,\"C\")","v":0},{"$f":"COUNTIF('[1]Testee answer 2011'!BI170:BI192,\"C\")","v":0}]
["LIT1",{"$f":"COUNTIF('[1]Testee answer 2011'!D170:D192,\"D\")","v":0},{"$f":"COUNTIF('[1]Testee answer 2011'!E170:E192,\"D\")","v":0},{"$f":"COUNTIF('[1]Testee answer 2011'!F170:F192,\"D\")","v":1},{"$f":"COUNTIF('[1]Testee answer 2011'!G170:G192,\"D\")","v":1},{"$f":"COUNTIF('[1]Testee answer 2011'!H170:H192,\"D\")","v":1},{"$f":"COUNTIF('[1]Testee answer 2011'!I170:I192,\"D\")","v":9},{"$f":"COUNTIF('[1]Testee answer 2011'!J170:J192,\"D\")","v":0},{"$f":"COUNTIF('[1]Testee answer 2011'!K170:K192,\"D\")","v":0},{"$f":"COUNTIF('[1]Testee answer 2011'!L170:L192,\"D\")","v":0},{"$f":"COUNTIF('[1]Testee answer 2011'!M170:M192,\"D\")","v":0},{"$f":"COUNTIF('[1]Testee answer 2011'!N170:N192,\"D\")","v":2},{"$f":"COUNTIF('[1]Testee answer 2011'!O170:O192,\"D\")","v":5},{"$f":"COUNTIF('[1]Testee answer 2011'!P170:P192,\"D\")","v":3},{"$f":"COUNTIF('[1]Testee answer 2011'!Q170:Q192,\"D\")","v":7},{"$f":"COUNTIF('[1]Testee answer 2011'!R170:R192,\"D\")","v":6},{"$f":"COUNTIF('[1]Testee answer 2011'!S170:S192,\"D\")","v":7},{"$f":"COUNTIF('[1]Testee answer 2011'!T170:T192,\"D\")","v":5},{"$f":"COUNTIF('[1]Testee answer 2011'!U170:U192,\"D\")","v":1},{"$f":"COUNTIF('[1]Testee answer 2011'!V170:V192,\"D\")","v":5},{"$f":"COUNTIF('[1]Testee answer 2011'!W170:W192,\"D\")","v":6},{"$f":"COUNTIF('[1]Testee answer 2011'!X170:X192,\"D\")","v":8},{"$f":"COUNTIF('[1]Testee answer 2011'!Y170:Y192,\"D\")","v":6},{"$f":"COUNTIF('[1]Testee answer 2011'!Z170:Z192,\"D\")","v":1},{"$f":"COUNTIF('[1]Testee answer 2011'!AA170:AA192,\"D\")","v":0},{"$f":"COUNTIF('[1]Testee answer 2011'!AB170:AB192,\"D\")","v":19},{"$f":"COUNTIF('[1]Testee answer 2011'!AC170:AC192,\"D\")","v":7},{"$f":"COUNTIF('[1]Testee answer 2011'!AD170:AD192,\"D\")","v":1},{"$f":"COUNTIF('[1]Testee answer 2011'!AE170:AE192,\"D\")","v":9},{"$f":"COUNTIF('[1]Testee answer 2011'!AF170:AF192,\"D\")","v":14},{"$f":"COUNTIF('[1]Testee answer 2011'!AG170:AG192,\"D\")","v":10},{"$f":"COUNTIF('[1]Testee answer 2011'!AH170:AH192,\"D\")","v":0},{"$f":"COUNTIF('[1]Testee answer 2011'!AI170:AI192,\"D\")","v":2},{"$f":"COUNTIF('[1]Testee answer 2011'!AJ170:AJ192,\"D\")","v":7},{"$f":"COUNTIF('[1]Testee answer 2011'!AK170:AK192,\"D\")","v":7},{"$f":"COUNTIF('[1]Testee answer 2011'!AL170:AL192,\"D\")","v":6},{"$f":"COUNTIF('[1]Testee answer 2011'!AM170:AM192,\"D\")","v":6},{"$f":"COUNTIF('[1]Testee answer 2011'!AN170:AN192,\"D\")","v":6},{"$f":"COUNTIF('[1]Testee answer 2011'!AO170:AO192,\"D\")","v":0},{"$f":"COUNTIF('[1]Testee answer 2011'!AP170:AP192,\"D\")","v":0},{"$f":"COUNTIF('[1]Testee answer 2011'!AQ170:AQ192,\"D\")","v":0},{"$f":"COUNTIF('[1]Testee answer 2011'!AR170:AR192,\"D\")","v":0},{"$f":"COUNTIF('[1]Testee answer 2011'!AS170:AS192,\"D\")","v":0},{"$f":"COUNTIF('[1]Testee answer 2011'!AT170:AT192,\"D\")","v":12},{"$f":"COUNTIF('[1]Testee answer 2011'!AU170:AU192,\"D\")","v":18},{"$f":"COUNTIF('[1]Testee answer 2011'!AV170:AV192,\"D\")","v":14},{"$f":"COUNTIF('[1]Testee answer 2011'!AW170:AW192,\"D\")","v":1},{"$f":"COUNTIF('[1]Testee answer 2011'!AX170:AX192,\"D\")","v":0},{"$f":"COUNTIF('[1]Testee answer 2011'!AY170:AY192,\"D\")","v":4},{"$f":"COUNTIF('[1]Testee answer 2011'!AZ170:AZ192,\"D\")","v":9},{"$f":"COUNTIF('[1]Testee answer 2011'!BA170:BA192,\"D\")","v":0},{"$f":"COUNTIF('[1]Testee answer 2011'!BB170:BB192,\"D\")","v":0},{"$f":"COUNTIF('[1]Testee answer 2011'!BC170:BC192,\"D\")","v":0},{"$f":"COUNTIF('[1]Testee answer 2011'!BD170:BD192,\"D\")","v":0},{"$f":"COUNTIF('[1]Testee answer 2011'!BE170:BE192,\"D\")","v":0},{"$f":"COUNTIF('[1]Testee answer 2011'!BF170:BF192,\"D\")","v":0},{"$f":"COUNTIF('[1]Testee answer 2011'!BG170:BG192,\"D\")","v":0},{"$f":"COUNTIF('[1]Testee answer 2011'!BH170:BH192,\"D\")","v":0},{"$f":"COUNTIF('[1]Testee answer 2011'!BI170:BI192,\"D\")","v":0}]
["LIT2",{"$f":"COUNTIF('[1]Testee answer 2011'!D311:D331,\"A\")","v":3},{"$f":"COUNTIF('[1]Testee answer 2011'!E311:E331,\"A\")","v":7},{"$f":"COUNTIF('[1]Testee answer 2011'!F311:F331,\"A\")","v":4},{"$f":"COUNTIF('[1]Testee answer 2011'!G311:G331,\"A\")","v":10},{"$f":"COUNTIF('[1]Testee answer 2011'!H311:H331,\"A\")","v":12},{"$f":"COUNTIF('[1]Testee answer 2011'!I311:I331,\"A\")","v":1},{"$f":"COUNTIF('[1]Testee answer 2011'!J311:J331,\"A\")","v":10},{"$f":"COUNTIF('[1]Testee answer 2011'!K311:K331,\"A\")","v":14},{"$f":"COUNTIF('[1]Testee answer 2011'!L311:L331,\"A\")","v":10},{"$f":"COUNTIF('[1]Testee answer 2011'!M311:M331,\"A\")","v":11},{"$f":"COUNTIF('[1]Testee answer 2011'!N311:N331,\"A\")","v":4},{"$f":"COUNTIF('[1]Testee answer 2011'!O311:O331,\"A\")","v":4},{"$f":"COUNTIF('[1]Testee answer 2011'!P311:P331,\"A\")","v":2},{"$f":"COUNTIF('[1]Testee answer 2011'!Q311:Q331,\"A\")","v":1},{"$f":"COUNTIF('[1]Testee answer 2011'!R311:R331,\"A\")","v":3},{"$f":"COUNTIF('[1]Testee answer 2011'!S311:S331,\"A\")","v":4},{"$f":"COUNTIF('[1]Testee answer 2011'!T311:T331,\"A\")","v":7},{"$f":"COUNTIF('[1]Testee answer 2011'!U311:U331,\"A\")","v":3},{"$f":"COUNTIF('[1]Testee answer 2011'!V311:V331,\"A\")","v":0},{"$f":"COUNTIF('[1]Testee answer 2011'!W311:W331,\"A\")","v":2},{"$f":"COUNTIF('[1]Testee answer 2011'!X311:X331,\"A\")","v":2},{"$f":"COUNTIF('[1]Testee answer 2011'!Y311:Y331,\"A\")","v":4},{"$f":"COUNTIF('[1]Testee answer 2011'!Z311:Z331,\"A\")","v":5},{"$f":"COUNTIF('[1]Testee answer 2011'!AA311:AA331,\"A\")","v":12},{"$f":"COUNTIF('[1]Testee answer 2011'!AB311:AB331,\"A\")","v":0},{"$f":"COUNTIF('[1]Testee answer 2011'!AC311:AC331,\"A\")","v":5},{"$f":"COUNTIF('[1]Testee answer 2011'!AD311:AD331,\"A\")","v":7},{"$f":"COUNTIF('[1]Testee answer 2011'!AE311:AE331,\"A\")","v":2},{"$f":"COUNTIF('[1]Testee answer 2011'!AF311:AF331,\"A\")","v":0},{"$f":"COUNTIF('[1]Testee answer 2011'!AG311:AG331,\"A\")","v":1},{"$f":"COUNTIF('[1]Testee answer 2011'!AH311:AH331,\"A\")","v":9},{"$f":"COUNTIF('[1]Testee answer 2011'!AI311:AI331,\"A\")","v":5},{"$f":"COUNTIF('[1]Testee answer 2011'!AJ311:AJ331,\"A\")","v":4},{"$f":"COUNTIF('[1]Testee answer 2011'!AK311:AK331,\"A\")","v":3},{"$f":"COUNTIF('[1]Testee answer 2011'!AL311:AL331,\"A\")","v":0},{"$f":"COUNTIF('[1]Testee answer 2011'!AM311:AM331,\"A\")","v":0},{"$f":"COUNTIF('[1]Testee answer 2011'!AN311:AN331,\"A\")","v":3},{"$f":"COUNTIF('[1]Testee answer 2011'!AO311:AO331,\"A\")","v":9},{"$f":"COUNTIF('[1]Testee answer 2011'!AP311:AP331,\"A\")","v":0},{"$f":"COUNTIF('[1]Testee answer 2011'!AQ311:AQ331,\"A\")","v":0},{"$f":"COUNTIF('[1]Testee answer 2011'!AR311:AR331,\"A\")","v":1},{"$f":"COUNTIF('[1]Testee answer 2011'!AS311:AS331,\"A\")","v":1},{"$f":"COUNTIF('[1]Testee answer 2011'!AT311:AT331,\"A\")","v":0},{"$f":"COUNTIF('[1]Testee answer 2011'!AU311:AU331,\"A\")","v":0},{"$f":"COUNTIF('[1]Testee answer 2011'!AV311:AV331,\"A\")","v":1},{"$f":"COUNTIF('[1]Testee answer 2011'!AW311:AW331,\"A\")","v":7},{"$f":"COUNTIF('[1]Testee answer 2011'!AX311:AX331,\"A\")","v":6},{"$f":"COUNTIF('[1]Testee answer 2011'!AY311:AY331,\"A\")","v":0},{"$f":"COUNTIF('[1]Testee answer 2011'!AZ311:AZ331,\"A\")","v":1},{"$f":"COUNTIF('[1]Testee answer 2011'!BA311:BA331,\"A\")","v":16},{"$f":"COUNTIF('[1]Testee answer 2011'!BB311:BB331,\"A\")","v":4},{"$f":"COUNTIF('[1]Testee answer 2011'!BC311:BC331,\"A\")","v":2},{"$f":"COUNTIF('[1]Testee answer 2011'!BD311:BD331,\"A\")","v":4},{"$f":"COUNTIF('[1]Testee answer 2011'!BE311:BE331,\"A\")","v":18},{"$f":"COUNTIF('[1]Testee answer 2011'!BF311:BF331,\"A\")","v":1},{"$f":"COUNTIF('[1]Testee answer 2011'!BG311:BG331,\"A\")","v":17},{"$f":"COUNTIF('[1]Testee answer 2011'!BH311:BH331,\"A\")","v":11},{"$f":"COUNTIF('[1]Testee answer 2011'!BI311:BI331,\"A\")","v":2}]
["LIT2",{"$f":"COUNTIF('[1]Testee answer 2011'!D311:D331,\"B\")","v":17},{"$f":"COUNTIF('[1]Testee answer 2011'!E311:E331,\"B\")","v":13},{"$f":"COUNTIF('[1]Testee answer 2011'!F311:F331,\"B\")","v":14},{"$f":"COUNTIF('[1]Testee answer 2011'!G311:G331,\"B\")","v":10},{"$f":"COUNTIF('[1]Testee answer 2011'!H311:H331,\"B\")","v":3},{"$f":"COUNTIF('[1]Testee answer 2011'!I311:I331,\"B\")","v":9},{"$f":"COUNTIF('[1]Testee answer 2011'!J311:J331,\"B\")","v":10},{"$f":"COUNTIF('[1]Testee answer 2011'!K311:K331,\"B\")","v":6},{"$f":"COUNTIF('[1]Testee answer 2011'!L311:L331,\"B\")","v":10},{"$f":"COUNTIF('[1]Testee answer 2011'!M311:M331,\"B\")","v":6},{"$f":"COUNTIF('[1]Testee answer 2011'!N311:N331,\"B\")","v":10},{"$f":"COUNTIF('[1]Testee answer 2011'!O311:O331,\"B\")","v":8},{"$f":"COUNTIF('[1]Testee answer 2011'!P311:P331,\"B\")","v":8},{"$f":"COUNTIF('[1]Testee answer 2011'!Q311:Q331,\"B\")","v":2},{"$f":"COUNTIF('[1]Testee answer 2011'!R311:R331,\"B\")","v":3},{"$f":"COUNTIF('[1]Testee answer 2011'!S311:S331,\"B\")","v":2},{"$f":"COUNTIF('[1]Testee answer 2011'!T311:T331,\"B\")","v":4},{"$f":"COUNTIF('[1]Testee answer 2011'!U311:U331,\"B\")","v":7},{"$f":"COUNTIF('[1]Testee answer 2011'!V311:V331,\"B\")","v":7},{"$f":"COUNTIF('[1]Testee answer 2011'!W311:W331,\"B\")","v":5},{"$f":"COUNTIF('[1]Testee answer 2011'!X311:X331,\"B\")","v":7},{"$f":"COUNTIF('[1]Testee answer 2011'!Y311:Y331,\"B\")","v":9},{"$f":"COUNTIF('[1]Testee answer 2011'!Z311:Z331,\"B\")","v":9},{"$f":"COUNTIF('[1]Testee answer 2011'!AA311:AA331,\"B\")","v":4},{"$f":"COUNTIF('[1]Testee answer 2011'!AB311:AB331,\"B\")","v":1},{"$f":"COUNTIF('[1]Testee answer 2011'!AC311:AC331,\"B\")","v":8},{"$f":"COUNTIF('[1]Testee answer 2011'!AD311:AD331,\"B\")","v":3},{"$f":"COUNTIF('[1]Testee answer 2011'!AE311:AE331,\"B\")","v":2},{"$f":"COUNTIF('[1]Testee answer 2011'!AF311:AF331,\"B\")","v":4},{"$f":"COUNTIF('[1]Testee answer 2011'!AG311:AG331,\"B\")","v":5},{"$f":"COUNTIF('[1]Testee answer 2011'!AH311:AH331,\"B\")","v":11},{"$f":"COUNTIF('[1]Testee answer 2011'!AI311:AI331,\"B\")","v":10},{"$f":"COUNTIF('[1]Testee answer 2011'!AJ311:AJ331,\"B\")","v":4},{"$f":"COUNTIF('[1]Testee answer 2011'!AK311:AK331,\"B\")","v":2},{"$f":"COUNTIF('[1]Testee answer 2011'!AL311:AL331,\"B\")","v":7},{"$f":"COUNTIF('[1]Testee answer 2011'!AM311:AM331,\"B\")","v":4},{"$f":"COUNTIF('[1]Testee answer 2011'!AN311:AN331,\"B\")","v":4},{"$f":"COUNTIF('[1]Testee answer 2011'!AO311:AO331,\"B\")","v":11},{"$f":"COUNTIF('[1]Testee answer 2011'!AP311:AP331,\"B\")","v":20},{"$f":"COUNTIF('[1]Testee answer 2011'!AQ311:AQ331,\"B\")","v":20},{"$f":"COUNTIF('[1]Testee answer 2011'!AR311:AR331,\"B\")","v":19},{"$f":"COUNTIF('[1]Testee answer 2011'!AS311:AS331,\"B\")","v":19},{"$f":"COUNTIF('[1]Testee answer 2011'!AT311:AT331,\"B\")","v":0},{"$f":"COUNTIF('[1]Testee answer 2011'!AU311:AU331,\"B\")","v":0},{"$f":"COUNTIF('[1]Testee answer 2011'!AV311:AV331,\"B\")","v":0},{"$f":"COUNTIF('[1]Testee answer 2011'!AW311:AW331,\"B\")","v":11},{"$f":"COUNTIF('[1]Testee answer 2011'!AX311:AX331,\"B\")","v":8},{"$f":"COUNTIF('[1]Testee answer 2011'!AY311:AY331,\"B\")","v":7},{"$f":"COUNTIF('[1]Testee answer 2011'!AZ311:AZ331,\"B\")","v":5},{"$f":"COUNTIF('[1]Testee answer 2011'!BA311:BA331,\"B\")","v":4},{"$f":"COUNTIF('[1]Testee answer 2011'!BB311:BB331,\"B\")","v":16},{"$f":"COUNTIF('[1]Testee answer 2011'!BC311:BC331,\"B\")","v":18},{"$f":"COUNTIF('[1]Testee answer 2011'!BD311:BD331,\"B\")","v":16},{"$f":"COUNTIF('[1]Testee answer 2011'!BE311:BE331,\"B\")","v":2},{"$f":"COUNTIF('[1]Testee answer 2011'!BF311:BF331,\"B\")","v":19},{"$f":"COUNTIF('[1]Testee answer 2011'!BG311:BG331,\"B\")","v":3},{"$f":"COUNTIF('[1]Testee answer 2011'!BH311:BH331,\"B\")","v":9},{"$f":"COUNTIF('[1]Testee answer 2011'!BI311:BI331,\"B\")","v":18}]
["LIT2",{"$f":"COUNTIF('[1]Testee answer 2011'!D311:D331,\"C\")","v":0},{"$f":"COUNTIF('[1]Testee answer 2011'!E311:E331,\"C\")","v":0},{"$f":"COUNTIF('[1]Testee answer 2011'!F311:F331,\"C\")","v":2},{"$f":"COUNTIF('[1]Testee answer 2011'!G311:G331,\"C\")","v":0},{"$f":"COUNTIF('[1]Testee answer 2011'!H311:H331,\"C\")","v":3},{"$f":"COUNTIF('[1]Testee answer 2011'!I311:I331,\"C\")","v":9},{"$f":"COUNTIF('[1]Testee answer 2011'!J311:J331,\"C\")","v":0},{"$f":"COUNTIF('[1]Testee answer 2011'!K311:K331,\"C\")","v":0},{"$f":"COUNTIF('[1]Testee answer 2011'!L311:L331,\"C\")","v":0},{"$f":"COUNTIF('[1]Testee answer 2011'!M311:M331,\"C\")","v":3},{"$f":"COUNTIF('[1]Testee answer 2011'!N311:N331,\"C\")","v":6},{"$f":"COUNTIF('[1]Testee answer 2011'!O311:O331,\"C\")","v":7},{"$f":"COUNTIF('[1]Testee answer 2011'!P311:P331,\"C\")","v":10},{"$f":"COUNTIF('[1]Testee answer 2011'!Q311:Q331,\"C\")","v":8},{"$f":"COUNTIF('[1]Testee answer 2011'!R311:R331,\"C\")","v":11},{"$f":"COUNTIF('[1]Testee answer 2011'!S311:S331,\"C\")","v":9},{"$f":"COUNTIF('[1]Testee answer 2011'!T311:T331,\"C\")","v":6},{"$f":"COUNTIF('[1]Testee answer 2011'!U311:U331,\"C\")","v":9},{"$f":"COUNTIF('[1]Testee answer 2011'!V311:V331,\"C\")","v":6},{"$f":"COUNTIF('[1]Testee answer 2011'!W311:W331,\"C\")","v":11},{"$f":"COUNTIF('[1]Testee answer 2011'!X311:X331,\"C\")","v":11},{"$f":"COUNTIF('[1]Testee answer 2011'!Y311:Y331,\"C\")","v":3},{"$f":"COUNTIF('[1]Testee answer 2011'!Z311:Z331,\"C\")","v":4},{"$f":"COUNTIF('[1]Testee answer 2011'!AA311:AA331,\"C\")","v":3},{"$f":"COUNTIF('[1]Testee answer 2011'!AB311:AB331,\"C\")","v":4},{"$f":"COUNTIF('[1]Testee answer 2011'!AC311:AC331,\"C\")","v":6},{"$f":"COUNTIF('[1]Testee answer 2011'!AD311:AD331,\"C\")","v":9},{"$f":"COUNTIF('[1]Testee answer 2011'!AE311:AE331,\"C\")","v":5},{"$f":"COUNTIF('[1]Testee answer 2011'!AF311:AF331,\"C\")","v":7},{"$f":"COUNTIF('[1]Testee answer 2011'!AG311:AG331,\"C\")","v":9},{"$f":"COUNTIF('[1]Testee answer 2011'!AH311:AH331,\"C\")","v":0},{"$f":"COUNTIF('[1]Testee answer 2011'!AI311:AI331,\"C\")","v":3},{"$f":"COUNTIF('[1]Testee answer 2011'!AJ311:AJ331,\"C\")","v":8},{"$f":"COUNTIF('[1]Testee answer 2011'!AK311:AK331,\"C\")","v":11},{"$f":"COUNTIF('[1]Testee answer 2011'!AL311:AL331,\"C\")","v":9},{"$f":"COUNTIF('[1]Testee answer 2011'!AM311:AM331,\"C\")","v":12},{"$f":"COUNTIF('[1]Testee answer 2011'!AN311:AN331,\"C\")","v":12},{"$f":"COUNTIF('[1]Testee answer 2011'!AO311:AO331,\"C\")","v":0},{"$f":"COUNTIF('[1]Testee answer 2011'!AP311:AP331,\"C\")","v":0},{"$f":"COUNTIF('[1]Testee answer 2011'!AQ311:AQ331,\"C\")","v":0},{"$f":"COUNTIF('[1]Testee answer 2011'!AR311:AR331,\"C\")","v":0},{"$f":"COUNTIF('[1]Testee answer 2011'!AS311:AS331,\"C\")","v":0},{"$f":"COUNTIF('[1]Testee answer 2011'!AT311:AT331,\"C\")","v":9},{"$f":"COUNTIF('[1]Testee answer 2011'!AU311:AU331,\"C\")","v":4},{"$f":"COUNTIF('[1]Testee answer 2011'!AV311:AV331,\"C\")","v":9},{"$f":"COUNTIF('[1]Testee answer 2011'!AW311:AW331,\"C\")","v":2},{"$f":"COUNTIF('[1]Testee answer 2011'!AX311:AX331,\"C\")","v":6},{"$f":"COUNTIF('[1]Testee answer 2011'!AY311:AY331,\"C\")","v":12},{"$f":"COUNTIF('[1]Testee answer 2011'!AZ311:AZ331,\"C\")","v":10},{"$f":"COUNTIF('[1]Testee answer 2011'!BA311:BA331,\"C\")","v":0},{"$f":"COUNTIF('[1]Testee answer 2011'!BB311:BB331,\"C\")","v":0},{"$f":"COUNTIF('[1]Testee answer 2011'!BC311:BC331,\"C\")","v":0},{"$f":"COUNTIF('[1]Testee answer 2011'!BD311:BD331,\"C\")","v":0},{"$f":"COUNTIF('[1]Testee answer 2011'!BE311:BE331,\"C\")","v":0},{"$f":"COUNTIF('[1]Testee answer 2011'!BF311:BF331,\"C\")","v":0},{"$f":"COUNTIF('[1]Testee answer 2011'!BG311:BG331,\"C\")","v":0},{"$f":"COUNTIF('[1]Testee answer 2011'!BH311:BH331,\"C\")","v":0},{"$f":"COUNTIF('[1]Testee answer 2011'!BI311:BI331,\"C\")","v":0}]
["LIT2",{"$f":"COUNTIF('[1]Testee answer 2011'!D311:D331,\"D\")","v":0},{"$f":"COUNTIF('[1]Testee answer 2011'!E311:E331,\"D\")","v":0},{"$f":"COUNTIF('[1]Testee answer 2011'!F311:F331,\"D\")","v":0},{"$f":"COUNTIF('[1]Testee answer 2011'!G311:G331,\"D\")","v":0},{"$f":"COUNTIF('[1]Testee answer 2011'!H311:H331,\"D\")","v":2},{"$f":"COUNTIF('[1]Testee answer 2011'!I311:I331,\"D\")","v":1},{"$f":"COUNTIF('[1]Testee answer 2011'!J311:J331,\"D\")","v":0},{"$f":"COUNTIF('[1]Testee answer 2011'!K311:K331,\"D\")","v":0},{"$f":"COUNTIF('[1]Testee answer 2011'!L311:L331,\"D\")","v":0},{"$f":"COUNTIF('[1]Testee answer 2011'!M311:M331,\"D\")","v":0},{"$f":"COUNTIF('[1]Testee answer 2011'!N311:N331,\"D\")","v":0},{"$f":"COUNTIF('[1]Testee answer 2011'!O311:O331,\"D\")","v":1},{"$f":"COUNTIF('[1]Testee answer 2011'!P311:P331,\"D\")","v":0},{"$f":"COUNTIF('[1]Testee answer 2011'!Q311:Q331,\"D\")","v":9},{"$f":"COUNTIF('[1]Testee answer 2011'!R311:R331,\"D\")","v":3},{"$f":"COUNTIF('[1]Testee answer 2011'!S311:S331,\"D\")","v":5},{"$f":"COUNTIF('[1]Testee answer 2011'!T311:T331,\"D\")","v":3},{"$f":"COUNTIF('[1]Testee answer 2011'!U311:U331,\"D\")","v":1},{"$f":"COUNTIF('[1]Testee answer 2011'!V311:V331,\"D\")","v":7},{"$f":"COUNTIF('[1]Testee answer 2011'!W311:W331,\"D\")","v":2},{"$f":"COUNTIF('[1]Testee answer 2011'!X311:X331,\"D\")","v":0},{"$f":"COUNTIF('[1]Testee answer 2011'!Y311:Y331,\"D\")","v":4},{"$f":"COUNTIF('[1]Testee answer 2011'!Z311:Z331,\"D\")","v":2},{"$f":"COUNTIF('[1]Testee answer 2011'!AA311:AA331,\"D\")","v":1},{"$f":"COUNTIF('[1]Testee answer 2011'!AB311:AB331,\"D\")","v":15},{"$f":"COUNTIF('[1]Testee answer 2011'!AC311:AC331,\"D\")","v":1},{"$f":"COUNTIF('[1]Testee answer 2011'!AD311:AD331,\"D\")","v":1},{"$f":"COUNTIF('[1]Testee answer 2011'!AE311:AE331,\"D\")","v":11},{"$f":"COUNTIF('[1]Testee answer 2011'!AF311:AF331,\"D\")","v":9},{"$f":"COUNTIF('[1]Testee answer 2011'!AG311:AG331,\"D\")","v":5},{"$f":"COUNTIF('[1]Testee answer 2011'!AH311:AH331,\"D\")","v":0},{"$f":"COUNTIF('[1]Testee answer 2011'!AI311:AI331,\"D\")","v":2},{"$f":"COUNTIF('[1]Testee answer 2011'!AJ311:AJ331,\"D\")","v":4},{"$f":"COUNTIF('[1]Testee answer 2011'!AK311:AK331,\"D\")","v":4},{"$f":"COUNTIF('[1]Testee answer 2011'!AL311:AL331,\"D\")","v":4},{"$f":"COUNTIF('[1]Testee answer 2011'!AM311:AM331,\"D\")","v":4},{"$f":"COUNTIF('[1]Testee answer 2011'!AN311:AN331,\"D\")","v":1},{"$f":"COUNTIF('[1]Testee answer 2011'!AO311:AO331,\"D\")","v":0},{"$f":"COUNTIF('[1]Testee answer 2011'!AP311:AP331,\"D\")","v":0},{"$f":"COUNTIF('[1]Testee answer 2011'!AQ311:AQ331,\"D\")","v":0},{"$f":"COUNTIF('[1]Testee answer 2011'!AR311:AR331,\"D\")","v":0},{"$f":"COUNTIF('[1]Testee answer 2011'!AS311:AS331,\"D\")","v":0},{"$f":"COUNTIF('[1]Testee answer 2011'!AT311:AT331,\"D\")","v":11},{"$f":"COUNTIF('[1]Testee answer 2011'!AU311:AU331,\"D\")","v":16},{"$f":"COUNTIF('[1]Testee answer 2011'!AV311:AV331,\"D\")","v":10},{"$f":"COUNTIF('[1]Testee answer 2011'!AW311:AW331,\"D\")","v":0},{"$f":"COUNTIF('[1]Testee answer 2011'!AX311:AX331,\"D\")","v":0},{"$f":"COUNTIF('[1]Testee answer 2011'!AY311:AY331,\"D\")","v":1},{"$f":"COUNTIF('[1]Testee answer 2011'!AZ311:AZ331,\"D\")","v":4},{"$f":"COUNTIF('[1]Testee answer 2011'!BA311:BA331,\"D\")","v":0},{"$f":"COUNTIF('[1]Testee answer 2011'!BB311:BB331,\"D\")","v":0},{"$f":"COUNTIF('[1]Testee answer 2011'!BC311:BC331,\"D\")","v":0},{"$f":"COUNTIF('[1]Testee answer 2011'!BD311:BD331,\"D\")","v":0},{"$f":"COUNTIF('[1]Testee answer 2011'!BE311:BE331,\"D\")","v":0},{"$f":"COUNTIF('[1]Testee answer 2011'!BF311:BF331,\"D\")","v":0},{"$f":"COUNTIF('[1]Testee answer 2011'!BG311:BG331,\"D\")","v":0},{"$f":"COUNTIF('[1]Testee answer 2011'!BH311:BH331,\"D\")","v":0},{"$f":"COUNTIF('[1]Testee answer 2011'!BI311:BI331,\"D\")","v":0}]
["LIT3",{"$f":"COUNTIF('[1]Testee answer 2011'!D458:D474,\"A\")","v":0},{"$f":"COUNTIF('[1]Testee answer 2011'!E458:E474,\"A\")","v":4},{"$f":"COUNTIF('[1]Testee answer 2011'!F458:F474,\"A\")","v":7},{"$f":"COUNTIF('[1]Testee answer 2011'!G458:G474,\"A\")","v":12},{"$f":"COUNTIF('[1]Testee answer 2011'!H458:H474,\"A\")","v":14},{"$f":"COUNTIF('[1]Testee answer 2011'!I458:I474,\"A\")","v":4},{"$f":"COUNTIF('[1]Testee answer 2011'!J458:J474,\"A\")","v":7},{"$f":"COUNTIF('[1]Testee answer 2011'!K458:K474,\"A\")","v":13},{"$f":"COUNTIF('[1]Testee answer 2011'!L458:L474,\"A\")","v":9},{"$f":"COUNTIF('[1]Testee answer 2011'!M458:M474,\"A\")","v":4},{"$f":"COUNTIF('[1]Testee answer 2011'!N458:N474,\"A\")","v":3},{"$f":"COUNTIF('[1]Testee answer 2011'!O458:O474,\"A\")","v":3},{"$f":"COUNTIF('[1]Testee answer 2011'!P458:P474,\"A\")","v":2},{"$f":"COUNTIF('[1]Testee answer 2011'!Q458:Q474,\"A\")","v":1},{"$f":"COUNTIF('[1]Testee answer 2011'!R458:R474,\"A\")","v":3},{"$f":"COUNTIF('[1]Testee answer 2011'!S458:S474,\"A\")","v":5},{"$f":"COUNTIF('[1]Testee answer 2011'!T458:T474,\"A\")","v":7},{"$f":"COUNTIF('[1]Testee answer 2011'!U458:U474,\"A\")","v":2},{"$f":"COUNTIF('[1]Testee answer 2011'!V458:V474,\"A\")","v":2},{"$f":"COUNTIF('[1]Testee answer 2011'!W458:W474,\"A\")","v":0},{"$f":"COUNTIF('[1]Testee answer 2011'!X458:X474,\"A\")","v":1},{"$f":"COUNTIF('[1]Testee answer 2011'!Y458:Y474,\"A\")","v":3},{"$f":"COUNTIF('[1]Testee answer 2011'!Z458:Z474,\"A\")","v":3},{"$f":"COUNTIF('[1]Testee answer 2011'!AA458:AA474,\"A\")","v":10},{"$f":"COUNTIF('[1]Testee answer 2011'!AB458:AB474,\"A\")","v":0},{"$f":"COUNTIF('[1]Testee answer 2011'!AC458:AC474,\"A\")","v":0},{"$f":"COUNTIF('[1]Testee answer 2011'!AD458:AD474,\"A\")","v":4},{"$f":"COUNTIF('[1]Testee answer 2011'!AE458:AE474,\"A\")","v":1},{"$f":"COUNTIF('[1]Testee answer 2011'!AF458:AF474,\"A\")","v":3},{"$f":"COUNTIF('[1]Testee answer 2011'!AG458:AG474,\"A\")","v":2},{"$f":"COUNTIF('[1]Testee answer 2011'!AH458:AH474,\"A\")","v":7},{"$f":"COUNTIF('[1]Testee answer 2011'!AI458:AI474,\"A\")","v":5},{"$f":"COUNTIF('[1]Testee answer 2011'!AJ458:AJ474,\"A\")","v":2},{"$f":"COUNTIF('[1]Testee answer 2011'!AK458:AK474,\"A\")","v":3},{"$f":"COUNTIF('[1]Testee answer 2011'!AL458:AL474,\"A\")","v":0},{"$f":"COUNTIF('[1]Testee answer 2011'!AM458:AM474,\"A\")","v":0},{"$f":"COUNTIF('[1]Testee answer 2011'!AN458:AN474,\"A\")","v":3},{"$f":"COUNTIF('[1]Testee answer 2011'!AO458:AO474,\"A\")","v":9},{"$f":"COUNTIF('[1]Testee answer 2011'!AP458:AP474,\"A\")","v":9},{"$f":"COUNTIF('[1]Testee answer 2011'!AQ458:AQ474,\"A\")","v":5},{"$f":"COUNTIF('[1]Testee answer 2011'!AR458:AR474,\"A\")","v":8},{"$f":"COUNTIF('[1]Testee answer 2011'!AS458:AS474,\"A\")","v":3},{"$f":"COUNTIF('[1]Testee answer 2011'!AT458:AT474,\"A\")","v":4},{"$f":"COUNTIF('[1]Testee answer 2011'!AU458:AU474,\"A\")","v":1},{"$f":"COUNTIF('[1]Testee answer 2011'!AV458:AV474,\"A\")","v":1},{"$f":"COUNTIF('[1]Testee answer 2011'!AW458:AW474,\"A\")","v":6},{"$f":"COUNTIF('[1]Testee answer 2011'!AX458:AX474,\"A\")","v":2},{"$f":"COUNTIF('[1]Testee answer 2011'!AY458:AY474,\"A\")","v":2},{"$f":"COUNTIF('[1]Testee answer 2011'!AZ458:AZ474,\"A\")","v":3},{"$f":"COUNTIF('[1]Testee answer 2011'!BA458:BA474,\"A\")","v":14},{"$f":"COUNTIF('[1]Testee answer 2011'!BB458:BB474,\"A\")","v":4},{"$f":"COUNTIF('[1]Testee answer 2011'!BC458:BC474,\"A\")","v":1},{"$f":"COUNTIF('[1]Testee answer 2011'!BD458:BD474,\"A\")","v":7},{"$f":"COUNTIF('[1]Testee answer 2011'!BE458:BE474,\"A\")","v":14},{"$f":"COUNTIF('[1]Testee answer 2011'!BF458:BF474,\"A\")","v":2},{"$f":"COUNTIF('[1]Testee answer 2011'!BG458:BG474,\"A\")","v":11},{"$f":"COUNTIF('[1]Testee answer 2011'!BH458:BH474,\"A\")","v":8},{"$f":"COUNTIF('[1]Testee answer 2011'!BI458:BI474,\"A\")","v":3}]
["LIT3",{"$f":"COUNTIF('[1]Testee answer 2011'!D458:D474,\"B\")","v":0},{"$f":"COUNTIF('[1]Testee answer 2011'!E458:E474,\"B\")","v":12},{"$f":"COUNTIF('[1]Testee answer 2011'!F458:F474,\"B\")","v":8},{"$f":"COUNTIF('[1]Testee answer 2011'!G458:G474,\"B\")","v":4},{"$f":"COUNTIF('[1]Testee answer 2011'!H458:H474,\"B\")","v":1},{"$f":"COUNTIF('[1]Testee answer 2011'!I458:I474,\"B\")","v":8},{"$f":"COUNTIF('[1]Testee answer 2011'!J458:J474,\"B\")","v":8},{"$f":"COUNTIF('[1]Testee answer 2011'!K458:K474,\"B\")","v":2},{"$f":"COUNTIF('[1]Testee answer 2011'!L458:L474,\"B\")","v":7},{"$f":"COUNTIF('[1]Testee answer 2011'!M458:M474,\"B\")","v":7},{"$f":"COUNTIF('[1]Testee answer 2011'!N458:N474,\"B\")","v":3},{"$f":"COUNTIF('[1]Testee answer 2011'!O458:O474,\"B\")","v":3},{"$f":"COUNTIF('[1]Testee answer 2011'!P458:P474,\"B\")","v":2},{"$f":"COUNTIF('[1]Testee answer 2011'!Q458:Q474,\"B\")","v":2},{"$f":"COUNTIF('[1]Testee answer 2011'!R458:R474,\"B\")","v":0},{"$f":"COUNTIF('[1]Testee answer 2011'!S458:S474,\"B\")","v":5},{"$f":"COUNTIF('[1]Testee answer 2011'!T458:T474,\"B\")","v":4},{"$f":"COUNTIF('[1]Testee answer 2011'!U458:U474,\"B\")","v":6},{"$f":"COUNTIF('[1]Testee answer 2011'!V458:V474,\"B\")","v":2},{"$f":"COUNTIF('[1]Testee answer 2011'!W458:W474,\"B\")","v":6},{"$f":"COUNTIF('[1]Testee answer 2011'!X458:X474,\"B\")","v":4},{"$f":"COUNTIF('[1]Testee answer 2011'!Y458:Y474,\"B\")","v":3},{"$f":"COUNTIF('[1]Testee answer 2011'!Z458:Z474,\"B\")","v":4},{"$f":"COUNTIF('[1]Testee answer 2011'!AA458:AA474,\"B\")","v":4},{"$f":"COUNTIF('[1]Testee answer 2011'!AB458:AB474,\"B\")","v":0},{"$f":"COUNTIF('[1]Testee answer 2011'!AC458:AC474,\"B\")","v":2},{"$f":"COUNTIF('[1]Testee answer 2011'!AD458:AD474,\"B\")","v":2},{"$f":"COUNTIF('[1]Testee answer 2011'!AE458:AE474,\"B\")","v":1},{"$f":"COUNTIF('[1]Testee answer 2011'!AF458:AF474,\"B\")","v":0},{"$f":"COUNTIF('[1]Testee answer 2011'!AG458:AG474,\"B\")","v":3},{"$f":"COUNTIF('[1]Testee answer 2011'!AH458:AH474,\"B\")","v":6},{"$f":"COUNTIF('[1]Testee answer 2011'!AI458:AI474,\"B\")","v":5},{"$f":"COUNTIF('[1]Testee answer 2011'!AJ458:AJ474,\"B\")","v":1},{"$f":"COUNTIF('[1]Testee answer 2011'!AK458:AK474,\"B\")","v":1},{"$f":"COUNTIF('[1]Testee answer 2011'!AL458:AL474,\"B\")","v":2},{"$f":"COUNTIF('[1]Testee answer 2011'!AM458:AM474,\"B\")","v":1},{"$f":"COUNTIF('[1]Testee answer 2011'!AN458:AN474,\"B\")","v":1},{"$f":"COUNTIF('[1]Testee answer 2011'!AO458:AO474,\"B\")","v":7},{"$f":"COUNTIF('[1]Testee answer 2011'!AP458:AP474,\"B\")","v":7},{"$f":"COUNTIF('[1]Testee answer 2011'!AQ458:AQ474,\"B\")","v":11},{"$f":"COUNTIF('[1]Testee answer 2011'!AR458:AR474,\"B\")","v":8},{"$f":"COUNTIF('[1]Testee answer 2011'!AS458:AS474,\"B\")","v":13},{"$f":"COUNTIF('[1]Testee answer 2011'!AT458:AT474,\"B\")","v":2},{"$f":"COUNTIF('[1]Testee answer 2011'!AU458:AU474,\"B\")","v":0},{"$f":"COUNTIF('[1]Testee answer 2011'!AV458:AV474,\"B\")","v":0},{"$f":"COUNTIF('[1]Testee answer 2011'!AW458:AW474,\"B\")","v":7},{"$f":"COUNTIF('[1]Testee answer 2011'!AX458:AX474,\"B\")","v":11},{"$f":"COUNTIF('[1]Testee answer 2011'!AY458:AY474,\"B\")","v":5},{"$f":"COUNTIF('[1]Testee answer 2011'!AZ458:AZ474,\"B\")","v":5},{"$f":"COUNTIF('[1]Testee answer 2011'!BA458:BA474,\"B\")","v":2},{"$f":"COUNTIF('[1]Testee answer 2011'!BB458:BB474,\"B\")","v":12},{"$f":"COUNTIF('[1]Testee answer 2011'!BC458:BC474,\"B\")","v":15},{"$f":"COUNTIF('[1]Testee answer 2011'!BD458:BD474,\"B\")","v":9},{"$f":"COUNTIF('[1]Testee answer 2011'!BE458:BE474,\"B\")","v":2},{"$f":"COUNTIF('[1]Testee answer 2011'!BF458:BF474,\"B\")","v":14},{"$f":"COUNTIF('[1]Testee answer 2011'!BG458:BG474,\"B\")","v":5},{"$f":"COUNTIF('[1]Testee answer 2011'!BH458:BH474,\"B\")","v":8},{"$f":"COUNTIF('[1]Testee answer 2011'!BI458:BI474,\"B\")","v":13}]
["LIT3",{"$f":"COUNTIF('[1]Testee answer 2011'!D458:D474,\"C\")","v":16},{"$f":"COUNTIF('[1]Testee answer 2011'!E458:E474,\"C\")","v":0},{"$f":"COUNTIF('[1]Testee answer 2011'!F458:F474,\"C\")","v":1},{"$f":"COUNTIF('[1]Testee answer 2011'!G458:G474,\"C\")","v":0},{"$f":"COUNTIF('[1]Testee answer 2011'!H458:H474,\"C\")","v":1},{"$f":"COUNTIF('[1]Testee answer 2011'!I458:I474,\"C\")","v":4},{"$f":"COUNTIF('[1]Testee answer 2011'!J458:J474,\"C\")","v":1},{"$f":"COUNTIF('[1]Testee answer 2011'!K458:K474,\"C\")","v":1},{"$f":"COUNTIF('[1]Testee answer 2011'!L458:L474,\"C\")","v":0},{"$f":"COUNTIF('[1]Testee answer 2011'!M458:M474,\"C\")","v":4},{"$f":"COUNTIF('[1]Testee answer 2011'!N458:N474,\"C\")","v":10},{"$f":"COUNTIF('[1]Testee answer 2011'!O458:O474,\"C\")","v":9},{"$f":"COUNTIF('[1]Testee answer 2011'!P458:P474,\"C\")","v":9},{"$f":"COUNTIF('[1]Testee answer 2011'!Q458:Q474,\"C\")","v":8},{"$f":"COUNTIF('[1]Testee answer 2011'!R458:R474,\"C\")","v":9},{"$f":"COUNTIF('[1]Testee answer 2011'!S458:S474,\"C\")","v":2},{"$f":"COUNTIF('[1]Testee answer 2011'!T458:T474,\"C\")","v":4},{"$f":"COUNTIF('[1]Testee answer 2011'!U458:U474,\"C\")","v":7},{"$f":"COUNTIF('[1]Testee answer 2011'!V458:V474,\"C\")","v":6},{"$f":"COUNTIF('[1]Testee answer 2011'!W458:W474,\"C\")","v":5},{"$f":"COUNTIF('[1]Testee answer 2011'!X458:X474,\"C\")","v":6},{"$f":"COUNTIF('[1]Testee answer 2011'!Y458:Y474,\"C\")","v":4},{"$f":"COUNTIF('[1]Testee answer 2011'!Z458:Z474,\"C\")","v":5},{"$f":"COUNTIF('[1]Testee answer 2011'!AA458:AA474,\"C\")","v":2},{"$f":"COUNTIF('[1]Testee answer 2011'!AB458:AB474,\"C\")","v":3},{"$f":"COUNTIF('[1]Testee answer 2011'!AC458:AC474,\"C\")","v":6},{"$f":"COUNTIF('[1]Testee answer 2011'!AD458:AD474,\"C\")","v":4},{"$f":"COUNTIF('[1]Testee answer 2011'!AE458:AE474,\"C\")","v":7},{"$f":"COUNTIF('[1]Testee answer 2011'!AF458:AF474,\"C\")","v":2},{"$f":"COUNTIF('[1]Testee answer 2011'!AG458:AG474,\"C\")","v":2},{"$f":"COUNTIF('[1]Testee answer 2011'!AH458:AH474,\"C\")","v":3},{"$f":"COUNTIF('[1]Testee answer 2011'!AI458:AI474,\"C\")","v":5},{"$f":"COUNTIF('[1]Testee answer 2011'!AJ458:AJ474,\"C\")","v":9},{"$f":"COUNTIF('[1]Testee answer 2011'!AK458:AK474,\"C\")","v":9},{"$f":"COUNTIF('[1]Testee answer 2011'!AL458:AL474,\"C\")","v":6},{"$f":"COUNTIF('[1]Testee answer 2011'!AM458:AM474,\"C\")","v":7},{"$f":"COUNTIF('[1]Testee answer 2011'!AN458:AN474,\"C\")","v":5},{"$f":"COUNTIF('[1]Testee answer 2011'!AO458:AO474,\"C\")","v":0},{"$f":"COUNTIF('[1]Testee answer 2011'!AP458:AP474,\"C\")","v":0},{"$f":"COUNTIF('[1]Testee answer 2011'!AQ458:AQ474,\"C\")","v":0},{"$f":"COUNTIF('[1]Testee answer 2011'!AR458:AR474,\"C\")","v":0},{"$f":"COUNTIF('[1]Testee answer 2011'!AS458:AS474,\"C\")","v":0},{"$f":"COUNTIF('[1]Testee answer 2011'!AT458:AT474,\"C\")","v":7},{"$f":"COUNTIF('[1]Testee answer 2011'!AU458:AU474,\"C\")","v":8},{"$f":"COUNTIF('[1]Testee answer 2011'!AV458:AV474,\"C\")","v":8},{"$f":"COUNTIF('[1]Testee answer 2011'!AW458:AW474,\"C\")","v":3},{"$f":"COUNTIF('[1]Testee answer 2011'!AX458:AX474,\"C\")","v":2},{"$f":"COUNTIF('[1]Testee answer 2011'!AY458:AY474,\"C\")","v":7},{"$f":"COUNTIF('[1]Testee answer 2011'!AZ458:AZ474,\"C\")","v":2},{"$f":"COUNTIF('[1]Testee answer 2011'!BA458:BA474,\"C\")","v":0},{"$f":"COUNTIF('[1]Testee answer 2011'!BB458:BB474,\"C\")","v":0},{"$f":"COUNTIF('[1]Testee answer 2011'!BC458:BC474,\"C\")","v":0},{"$f":"COUNTIF('[1]Testee answer 2011'!BD458:BD474,\"C\")","v":0},{"$f":"COUNTIF('[1]Testee answer 2011'!BE458:BE474,\"C\")","v":0},{"$f":"COUNTIF('[1]Testee answer 2011'!BF458:BF474,\"C\")","v":0},{"$f":"COUNTIF('[1]Testee answer 2011'!BG458:BG474,\"C\")","v":0},{"$f":"COUNTIF('[1]Testee answer 2011'!BH458:BH474,\"C\")","v":0},{"$f":"COUNTIF('[1]Testee answer 2011'!BI458:BI474,\"C\")","v":0}]
["LIT3",{"$f":"COUNTIF('[1]Testee answer 2011'!D458:D474,\"D\")","v":0},{"$f":"COUNTIF('[1]Testee answer 2011'!E458:E474,\"D\")","v":0},{"$f":"COUNTIF('[1]Testee answer 2011'!F458:F474,\"D\")","v":0},{"$f":"COUNTIF('[1]Testee answer 2011'!G458:G474,\"D\")","v":0},{"$f":"COUNTIF('[1]Testee answer 2011'!H458:H474,\"D\")","v":0},{"$f":"COUNTIF('[1]Testee answer 2011'!I458:I474,\"D\")","v":0},{"$f":"COUNTIF('[1]Testee answer 2011'!J458:J474,\"D\")","v":0},{"$f":"COUNTIF('[1]Testee answer 2011'!K458:K474,\"D\")","v":0},{"$f":"COUNTIF('[1]Testee answer 2011'!L458:L474,\"D\")","v":0},{"$f":"COUNTIF('[1]Testee answer 2011'!M458:M474,\"D\")","v":1},{"$f":"COUNTIF('[1]Testee answer 2011'!N458:N474,\"D\")","v":0},{"$f":"COUNTIF('[1]Testee answer 2011'!O458:O474,\"D\")","v":1},{"$f":"COUNTIF('[1]Testee answer 2011'!P458:P474,\"D\")","v":3},{"$f":"COUNTIF('[1]Testee answer 2011'!Q458:Q474,\"D\")","v":5},{"$f":"COUNTIF('[1]Testee answer 2011'!R458:R474,\"D\")","v":4},{"$f":"COUNTIF('[1]Testee answer 2011'!S458:S474,\"D\")","v":4},{"$f":"COUNTIF('[1]Testee answer 2011'!T458:T474,\"D\")","v":1},{"$f":"COUNTIF('[1]Testee answer 2011'!U458:U474,\"D\")","v":1},{"$f":"COUNTIF('[1]Testee answer 2011'!V458:V474,\"D\")","v":6},{"$f":"COUNTIF('[1]Testee answer 2011'!W458:W474,\"D\")","v":5},{"$f":"COUNTIF('[1]Testee answer 2011'!X458:X474,\"D\")","v":5},{"$f":"COUNTIF('[1]Testee answer 2011'!Y458:Y474,\"D\")","v":6},{"$f":"COUNTIF('[1]Testee answer 2011'!Z458:Z474,\"D\")","v":4},{"$f":"COUNTIF('[1]Testee answer 2011'!AA458:AA474,\"D\")","v":0},{"$f":"COUNTIF('[1]Testee answer 2011'!AB458:AB474,\"D\")","v":13},{"$f":"COUNTIF('[1]Testee answer 2011'!AC458:AC474,\"D\")","v":8},{"$f":"COUNTIF('[1]Testee answer 2011'!AD458:AD474,\"D\")","v":6},{"$f":"COUNTIF('[1]Testee answer 2011'!AE458:AE474,\"D\")","v":7},{"$f":"COUNTIF('[1]Testee answer 2011'!AF458:AF474,\"D\")","v":11},{"$f":"COUNTIF('[1]Testee answer 2011'!AG458:AG474,\"D\")","v":9},{"$f":"COUNTIF('[1]Testee answer 2011'!AH458:AH474,\"D\")","v":0},{"$f":"COUNTIF('[1]Testee answer 2011'!AI458:AI474,\"D\")","v":1},{"$f":"COUNTIF('[1]Testee answer 2011'!AJ458:AJ474,\"D\")","v":4},{"$f":"COUNTIF('[1]Testee answer 2011'!AK458:AK474,\"D\")","v":3},{"$f":"COUNTIF('[1]Testee answer 2011'!AL458:AL474,\"D\")","v":8},{"$f":"COUNTIF('[1]Testee answer 2011'!AM458:AM474,\"D\")","v":8},{"$f":"COUNTIF('[1]Testee answer 2011'!AN458:AN474,\"D\")","v":7},{"$f":"COUNTIF('[1]Testee answer 2011'!AO458:AO474,\"D\")","v":0},{"$f":"COUNTIF('[1]Testee answer 2011'!AP458:AP474,\"D\")","v":0},{"$f":"COUNTIF('[1]Testee answer 2011'!AQ458:AQ474,\"D\")","v":0},{"$f":"COUNTIF('[1]Testee answer 2011'!AR458:AR474,\"D\")","v":0},{"$f":"COUNTIF('[1]Testee answer 2011'!AS458:AS474,\"D\")","v":0},{"$f":"COUNTIF('[1]Testee answer 2011'!AT458:AT474,\"D\")","v":3},{"$f":"COUNTIF('[1]Testee answer 2011'!AU458:AU474,\"D\")","v":7},{"$f":"COUNTIF('[1]Testee answer 2011'!AV458:AV474,\"D\")","v":7},{"$f":"COUNTIF('[1]Testee answer 2011'!AW458:AW474,\"D\")","v":0},{"$f":"COUNTIF('[1]Testee answer 2011'!AX458:AX474,\"D\")","v":1},{"$f":"COUNTIF('[1]Testee answer 2011'!AY458:AY474,\"D\")","v":2},{"$f":"COUNTIF('[1]Testee answer 2011'!AZ458:AZ474,\"D\")","v":6},{"$f":"COUNTIF('[1]Testee answer 2011'!BA458:BA474,\"D\")","v":0},{"$f":"COUNTIF('[1]Testee answer 2011'!BB458:BB474,\"D\")","v":0},{"$f":"COUNTIF('[1]Testee answer 2011'!BC458:BC474,\"D\")","v":0},{"$f":"COUNTIF('[1]Testee answer 2011'!BD458:BD474,\"D\")","v":0},{"$f":"COUNTIF('[1]Testee answer 2011'!BE458:BE474,\"D\")","v":0},{"$f":"COUNTIF('[1]Testee answer 2011'!BF458:BF474,\"D\")","v":0},{"$f":"COUNTIF('[1]Testee answer 2011'!BG458:BG474,\"D\")","v":0},{"$f":"COUNTIF('[1]Testee answer 2011'!BH458:BH474,\"D\")","v":0},{"$f":"COUNTIF('[1]Testee answer 2011'!BI458:BI474,\"D\")","v":0}]
["LIT4",{"$f":"COUNTIF('[1]Testee answer 2011'!D689:D699,\"A\")","v":0},{"$f":"COUNTIF('[1]Testee answer 2011'!E689:E699,\"A\")","v":1},{"$f":"COUNTIF('[1]Testee answer 2011'!F689:F699,\"A\")","v":3},{"$f":"COUNTIF('[1]Testee answer 2011'!G689:G699,\"A\")","v":5},{"$f":"COUNTIF('[1]Testee answer 2011'!H689:H699,\"A\")","v":5},{"$f":"COUNTIF('[1]Testee answer 2011'!I689:I699,\"A\")","v":0},{"$f":"COUNTIF('[1]Testee answer 2011'!J689:J699,\"A\")","v":8},{"$f":"COUNTIF('[1]Testee answer 2011'!K689:K699,\"A\")","v":6},{"$f":"COUNTIF('[1]Testee answer 2011'!L689:L699,\"A\")","v":7},{"$f":"COUNTIF('[1]Testee answer 2011'!M689:M699,\"A\")","v":6},{"$f":"COUNTIF('[1]Testee answer 2011'!N689:N699,\"A\")","v":2},{"$f":"COUNTIF('[1]Testee answer 2011'!O689:O699,\"A\")","v":3},{"$f":"COUNTIF('[1]Testee answer 2011'!P689:P699,\"A\")","v":0},{"$f":"COUNTIF('[1]Testee answer 2011'!Q689:Q699,\"A\")","v":0},{"$f":"COUNTIF('[1]Testee answer 2011'!R689:R699,\"A\")","v":0},{"$f":"COUNTIF('[1]Testee answer 2011'!S689:S699,\"A\")","v":3},{"$f":"COUNTIF('[1]Testee answer 2011'!T689:T699,\"A\")","v":5},{"$f":"COUNTIF('[1]Testee answer 2011'!U689:U699,\"A\")","v":2},{"$f":"COUNTIF('[1]Testee answer 2011'!V689:V699,\"A\")","v":0},{"$f":"COUNTIF('[1]Testee answer 2011'!W689:W699,\"A\")","v":3},{"$f":"COUNTIF('[1]Testee answer 2011'!X689:X699,\"A\")","v":1},{"$f":"COUNTIF('[1]Testee answer 2011'!Y689:Y699,\"A\")","v":2},{"$f":"COUNTIF('[1]Testee answer 2011'!Z689:Z699,\"A\")","v":3},{"$f":"COUNTIF('[1]Testee answer 2011'!AA689:AA699,\"A\")","v":6},{"$f":"COUNTIF('[1]Testee answer 2011'!AB689:AB699,\"A\")","v":0},{"$f":"COUNTIF('[1]Testee answer 2011'!AC689:AC699,\"A\")","v":0},{"$f":"COUNTIF('[1]Testee answer 2011'!AD689:AD699,\"A\")","v":6},{"$f":"COUNTIF('[1]Testee answer 2011'!AE689:AE699,\"A\")","v":1},{"$f":"COUNTIF('[1]Testee answer 2011'!AF689:AF699,\"A\")","v":0},{"$f":"COUNTIF('[1]Testee answer 2011'!AG689:AG699,\"A\")","v":0},{"$f":"COUNTIF('[1]Testee answer 2011'!AH689:AH699,\"A\")","v":4},{"$f":"COUNTIF('[1]Testee answer 2011'!AI689:AI699,\"A\")","v":2},{"$f":"COUNTIF('[1]Testee answer 2011'!AJ689:AJ699,\"A\")","v":3},{"$f":"COUNTIF('[1]Testee answer 2011'!AK689:AK699,\"A\")","v":3},{"$f":"COUNTIF('[1]Testee answer 2011'!AL689:AL699,\"A\")","v":0},{"$f":"COUNTIF('[1]Testee answer 2011'!AM689:AM699,\"A\")","v":0},{"$f":"COUNTIF('[1]Testee answer 2011'!AN689:AN699,\"A\")","v":1},{"$f":"COUNTIF('[1]Testee answer 2011'!AO689:AO699,\"A\")","v":5},{"$f":"COUNTIF('[1]Testee answer 2011'!AP689:AP699,\"A\")","v":2},{"$f":"COUNTIF('[1]Testee answer 2011'!AQ689:AQ699,\"A\")","v":0},{"$f":"COUNTIF('[1]Testee answer 2011'!AR689:AR699,\"A\")","v":2},{"$f":"COUNTIF('[1]Testee answer 2011'!AS689:AS699,\"A\")","v":0},{"$f":"COUNTIF('[1]Testee answer 2011'!AT689:AT699,\"A\")","v":0},{"$f":"COUNTIF('[1]Testee answer 2011'!AU689:AU699,\"A\")","v":0},{"$f":"COUNTIF('[1]Testee answer 2011'!AV689:AV699,\"A\")","v":1},{"$f":"COUNTIF('[1]Testee answer 2011'!AW689:AW699,\"A\")","v":5},{"$f":"COUNTIF('[1]Testee answer 2011'!AX689:AX699,\"A\")","v":4},{"$f":"COUNTIF('[1]Testee answer 2011'!AY689:AY699,\"A\")","v":1},{"$f":"COUNTIF('[1]Testee answer 2011'!AZ689:AZ699,\"A\")","v":2},{"$f":"COUNTIF('[1]Testee answer 2011'!BA689:BA699,\"A\")","v":5},{"$f":"COUNTIF('[1]Testee answer 2011'!BB689:BB699,\"A\")","v":4},{"$f":"COUNTIF('[1]Testee answer 2011'!BC689:BC699,\"A\")","v":2},{"$f":"COUNTIF('[1]Testee answer 2011'!BD689:BD699,\"A\")","v":7},{"$f":"COUNTIF('[1]Testee answer 2011'!BE689:BE699,\"A\")","v":9},{"$f":"COUNTIF('[1]Testee answer 2011'!BF689:BF699,\"A\")","v":0},{"$f":"COUNTIF('[1]Testee answer 2011'!BG689:BG699,\"A\")","v":7},{"$f":"COUNTIF('[1]Testee answer 2011'!BH689:BH699,\"A\")","v":8},{"$f":"COUNTIF('[1]Testee answer 2011'!BI689:BI699,\"A\")","v":0}]
["LIT4",{"$f":"COUNTIF('[1]Testee answer 2011'!D689:D699,\"B\")","v":0},{"$f":"COUNTIF('[1]Testee answer 2011'!E689:E699,\"B\")","v":9},{"$f":"COUNTIF('[1]Testee answer 2011'!F689:F699,\"B\")","v":6},{"$f":"COUNTIF('[1]Testee answer 2011'!G689:G699,\"B\")","v":5},{"$f":"COUNTIF('[1]Testee answer 2011'!H689:H699,\"B\")","v":1},{"$f":"COUNTIF('[1]Testee answer 2011'!I689:I699,\"B\")","v":6},{"$f":"COUNTIF('[1]Testee answer 2011'!J689:J699,\"B\")","v":2},{"$f":"COUNTIF('[1]Testee answer 2011'!K689:K699,\"B\")","v":4},{"$f":"COUNTIF('[1]Testee answer 2011'!L689:L699,\"B\")","v":3},{"$f":"COUNTIF('[1]Testee answer 2011'!M689:M699,\"B\")","v":2},{"$f":"COUNTIF('[1]Testee answer 2011'!N689:N699,\"B\")","v":4},{"$f":"COUNTIF('[1]Testee answer 2011'!O689:O699,\"B\")","v":3},{"$f":"COUNTIF('[1]Testee answer 2011'!P689:P699,\"B\")","v":2},{"$f":"COUNTIF('[1]Testee answer 2011'!Q689:Q699,\"B\")","v":0},{"$f":"COUNTIF('[1]Testee answer 2011'!R689:R699,\"B\")","v":1},{"$f":"COUNTIF('[1]Testee answer 2011'!S689:S699,\"B\")","v":1},{"$f":"COUNTIF('[1]Testee answer 2011'!T689:T699,\"B\")","v":4},{"$f":"COUNTIF('[1]Testee answer 2011'!U689:U699,\"B\")","v":2},{"$f":"COUNTIF('[1]Testee answer 2011'!V689:V699,\"B\")","v":2},{"$f":"COUNTIF('[1]Testee answer 2011'!W689:W699,\"B\")","v":1},{"$f":"COUNTIF('[1]Testee answer 2011'!X689:X699,\"B\")","v":0},{"$f":"COUNTIF('[1]Testee answer 2011'!Y689:Y699,\"B\")","v":2},{"$f":"COUNTIF('[1]Testee answer 2011'!Z689:Z699,\"B\")","v":3},{"$f":"COUNTIF('[1]Testee answer 2011'!AA689:AA699,\"B\")","v":1},{"$f":"COUNTIF('[1]Testee answer 2011'!AB689:AB699,\"B\")","v":1},{"$f":"COUNTIF('[1]Testee answer 2011'!AC689:AC699,\"B\")","v":1},{"$f":"COUNTIF('[1]Testee answer 2011'!AD689:AD699,\"B\")","v":0},{"$f":"COUNTIF('[1]Testee answer 2011'!AE689:AE699,\"B\")","v":3},{"$f":"COUNTIF('[1]Testee answer 2011'!AF689:AF699,\"B\")","v":0},{"$f":"COUNTIF('[1]Testee answer 2011'!AG689:AG699,\"B\")","v":0},{"$f":"COUNTIF('[1]Testee answer 2011'!AH689:AH699,\"B\")","v":1},{"$f":"COUNTIF('[1]Testee answer 2011'!AI689:AI699,\"B\")","v":1},{"$f":"COUNTIF('[1]Testee answer 2011'!AJ689:AJ699,\"B\")","v":1},{"$f":"COUNTIF('[1]Testee answer 2011'!AK689:AK699,\"B\")","v":2},{"$f":"COUNTIF('[1]Testee answer 2011'!AL689:AL699,\"B\")","v":1},{"$f":"COUNTIF('[1]Testee answer 2011'!AM689:AM699,\"B\")","v":0},{"$f":"COUNTIF('[1]Testee answer 2011'!AN689:AN699,\"B\")","v":0},{"$f":"COUNTIF('[1]Testee answer 2011'!AO689:AO699,\"B\")","v":5},{"$f":"COUNTIF('[1]Testee answer 2011'!AP689:AP699,\"B\")","v":8},{"$f":"COUNTIF('[1]Testee answer 2011'!AQ689:AQ699,\"B\")","v":10},{"$f":"COUNTIF('[1]Testee answer 2011'!AR689:AR699,\"B\")","v":8},{"$f":"COUNTIF('[1]Testee answer 2011'!AS689:AS699,\"B\")","v":10},{"$f":"COUNTIF('[1]Testee answer 2011'!AT689:AT699,\"B\")","v":1},{"$f":"COUNTIF('[1]Testee answer 2011'!AU689:AU699,\"B\")","v":1},{"$f":"COUNTIF('[1]Testee answer 2011'!AV689:AV699,\"B\")","v":2},{"$f":"COUNTIF('[1]Testee answer 2011'!AW689:AW699,\"B\")","v":2},{"$f":"COUNTIF('[1]Testee answer 2011'!AX689:AX699,\"B\")","v":3},{"$f":"COUNTIF('[1]Testee answer 2011'!AY689:AY699,\"B\")","v":1},{"$f":"COUNTIF('[1]Testee answer 2011'!AZ689:AZ699,\"B\")","v":1},{"$f":"COUNTIF('[1]Testee answer 2011'!BA689:BA699,\"B\")","v":5},{"$f":"COUNTIF('[1]Testee answer 2011'!BB689:BB699,\"B\")","v":6},{"$f":"COUNTIF('[1]Testee answer 2011'!BC689:BC699,\"B\")","v":8},{"$f":"COUNTIF('[1]Testee answer 2011'!BD689:BD699,\"B\")","v":3},{"$f":"COUNTIF('[1]Testee answer 2011'!BE689:BE699,\"B\")","v":1},{"$f":"COUNTIF('[1]Testee answer 2011'!BF689:BF699,\"B\")","v":10},{"$f":"COUNTIF('[1]Testee answer 2011'!BG689:BG699,\"B\")","v":3},{"$f":"COUNTIF('[1]Testee answer 2011'!BH689:BH699,\"B\")","v":2},{"$f":"COUNTIF('[1]Testee answer 2011'!BI689:BI699,\"B\")","v":10}]
["LIT4",{"$f":"COUNTIF('[1]Testee answer 2011'!D689:D699,\"C\")","v":0},{"$f":"COUNTIF('[1]Testee answer 2011'!E689:E699,\"C\")","v":0},{"$f":"COUNTIF('[1]Testee answer 2011'!F689:F699,\"C\")","v":1},{"$f":"COUNTIF('[1]Testee answer 2011'!G689:G699,\"C\")","v":0},{"$f":"COUNTIF('[1]Testee answer 2011'!H689:H699,\"C\")","v":4},{"$f":"COUNTIF('[1]Testee answer 2011'!I689:I699,\"C\")","v":4},{"$f":"COUNTIF('[1]Testee answer 2011'!J689:J699,\"C\")","v":0},{"$f":"COUNTIF('[1]Testee answer 2011'!K689:K699,\"C\")","v":0},{"$f":"COUNTIF('[1]Testee answer 2011'!L689:L699,\"C\")","v":0},{"$f":"COUNTIF('[1]Testee answer 2011'!M689:M699,\"C\")","v":2},{"$f":"COUNTIF('[1]Testee answer 2011'!N689:N699,\"C\")","v":4},{"$f":"COUNTIF('[1]Testee answer 2011'!O689:O699,\"C\")","v":3},{"$f":"COUNTIF('[1]Testee answer 2011'!P689:P699,\"C\")","v":7},{"$f":"COUNTIF('[1]Testee answer 2011'!Q689:Q699,\"C\")","v":3},{"$f":"COUNTIF('[1]Testee answer 2011'!R689:R699,\"C\")","v":5},{"$f":"COUNTIF('[1]Testee answer 2011'!S689:S699,\"C\")","v":3},{"$f":"COUNTIF('[1]Testee answer 2011'!T689:T699,\"C\")","v":0},{"$f":"COUNTIF('[1]Testee answer 2011'!U689:U699,\"C\")","v":5},{"$f":"COUNTIF('[1]Testee answer 2011'!V689:V699,\"C\")","v":3},{"$f":"COUNTIF('[1]Testee answer 2011'!W689:W699,\"C\")","v":4},{"$f":"COUNTIF('[1]Testee answer 2011'!X689:X699,\"C\")","v":7},{"$f":"COUNTIF('[1]Testee answer 2011'!Y689:Y699,\"C\")","v":3},{"$f":"COUNTIF('[1]Testee answer 2011'!Z689:Z699,\"C\")","v":2},{"$f":"COUNTIF('[1]Testee answer 2011'!AA689:AA699,\"C\")","v":2},{"$f":"COUNTIF('[1]Testee answer 2011'!AB689:AB699,\"C\")","v":1},{"$f":"COUNTIF('[1]Testee answer 2011'!AC689:AC699,\"C\")","v":7},{"$f":"COUNTIF('[1]Testee answer 2011'!AD689:AD699,\"C\")","v":2},{"$f":"COUNTIF('[1]Testee answer 2011'!AE689:AE699,\"C\")","v":3},{"$f":"COUNTIF('[1]Testee answer 2011'!AF689:AF699,\"C\")","v":0},{"$f":"COUNTIF('[1]Testee answer 2011'!AG689:AG699,\"C\")","v":3},{"$f":"COUNTIF('[1]Testee answer 2011'!AH689:AH699,\"C\")","v":5},{"$f":"COUNTIF('[1]Testee answer 2011'!AI689:AI699,\"C\")","v":6},{"$f":"COUNTIF('[1]Testee answer 2011'!AJ689:AJ699,\"C\")","v":4},{"$f":"COUNTIF('[1]Testee answer 2011'!AK689:AK699,\"C\")","v":3},{"$f":"COUNTIF('[1]Testee answer 2011'!AL689:AL699,\"C\")","v":4},{"$f":"COUNTIF('[1]Testee answer 2011'!AM689:AM699,\"C\")","v":4},{"$f":"COUNTIF('[1]Testee answer 2011'!AN689:AN699,\"C\")","v":7},{"$f":"COUNTIF('[1]Testee answer 2011'!AO689:AO699,\"C\")","v":0},{"$f":"COUNTIF('[1]Testee answer 2011'!AP689:AP699,\"C\")","v":0},{"$f":"COUNTIF('[1]Testee answer 2011'!AQ689:AQ699,\"C\")","v":0},{"$f":"COUNTIF('[1]Testee answer 2011'!AR689:AR699,\"C\")","v":0},{"$f":"COUNTIF('[1]Testee answer 2011'!AS689:AS699,\"C\")","v":0},{"$f":"COUNTIF('[1]Testee answer 2011'!AT689:AT699,\"C\")","v":6},{"$f":"COUNTIF('[1]Testee answer 2011'!AU689:AU699,\"C\")","v":2},{"$f":"COUNTIF('[1]Testee answer 2011'!AV689:AV699,\"C\")","v":2},{"$f":"COUNTIF('[1]Testee answer 2011'!AW689:AW699,\"C\")","v":3},{"$f":"COUNTIF('[1]Testee answer 2011'!AX689:AX699,\"C\")","v":3},{"$f":"COUNTIF('[1]Testee answer 2011'!AY689:AY699,\"C\")","v":4},{"$f":"COUNTIF('[1]Testee answer 2011'!AZ689:AZ699,\"C\")","v":4},{"$f":"COUNTIF('[1]Testee answer 2011'!BA689:BA699,\"C\")","v":0},{"$f":"COUNTIF('[1]Testee answer 2011'!BB689:BB699,\"C\")","v":0},{"$f":"COUNTIF('[1]Testee answer 2011'!BC689:BC699,\"C\")","v":0},{"$f":"COUNTIF('[1]Testee answer 2011'!BD689:BD699,\"C\")","v":0},{"$f":"COUNTIF('[1]Testee answer 2011'!BE689:BE699,\"C\")","v":0},{"$f":"COUNTIF('[1]Testee answer 2011'!BF689:BF699,\"C\")","v":0},{"$f":"COUNTIF('[1]Testee answer 2011'!BG689:BG699,\"C\")","v":0},{"$f":"COUNTIF('[1]Testee answer 2011'!BH689:BH699,\"C\")","v":0},{"$f":"COUNTIF('[1]Testee answer 2011'!BI689:BI699,\"C\")","v":0}]
["LIT4",{"$f":"COUNTIF('[1]Testee answer 2011'!D689:D699,\"D\")","v":10},{"$f":"COUNTIF('[1]Testee answer 2011'!E689:E699,\"D\")","v":0},{"$f":"COUNTIF('[1]Testee answer 2011'!F689:F699,\"D\")","v":0},{"$f":"COUNTIF('[1]Testee answer 2011'!G689:G699,\"D\")","v":0},{"$f":"COUNTIF('[1]Testee answer 2011'!H689:H699,\"D\")","v":0},{"$f":"COUNTIF('[1]Testee answer 2011'!I689:I699,\"D\")","v":0},{"$f":"COUNTIF('[1]Testee answer 2011'!J689:J699,\"D\")","v":0},{"$f":"COUNTIF('[1]Testee answer 2011'!K689:K699,\"D\")","v":0},{"$f":"COUNTIF('[1]Testee answer 2011'!L689:L699,\"D\")","v":0},{"$f":"COUNTIF('[1]Testee answer 2011'!M689:M699,\"D\")","v":0},{"$f":"COUNTIF('[1]Testee answer 2011'!N689:N699,\"D\")","v":0},{"$f":"COUNTIF('[1]Testee answer 2011'!O689:O699,\"D\")","v":1},{"$f":"COUNTIF('[1]Testee answer 2011'!P689:P699,\"D\")","v":1},{"$f":"COUNTIF('[1]Testee answer 2011'!Q689:Q699,\"D\")","v":7},{"$f":"COUNTIF('[1]Testee answer 2011'!R689:R699,\"D\")","v":4},{"$f":"COUNTIF('[1]Testee answer 2011'!S689:S699,\"D\")","v":3},{"$f":"COUNTIF('[1]Testee answer 2011'!T689:T699,\"D\")","v":1},{"$f":"COUNTIF('[1]Testee answer 2011'!U689:U699,\"D\")","v":1},{"$f":"COUNTIF('[1]Testee answer 2011'!V689:V699,\"D\")","v":5},{"$f":"COUNTIF('[1]Testee answer 2011'!W689:W699,\"D\")","v":2},{"$f":"COUNTIF('[1]Testee answer 2011'!X689:X699,\"D\")","v":2},{"$f":"COUNTIF('[1]Testee answer 2011'!Y689:Y699,\"D\")","v":3},{"$f":"COUNTIF('[1]Testee answer 2011'!Z689:Z699,\"D\")","v":2},{"$f":"COUNTIF('[1]Testee answer 2011'!AA689:AA699,\"D\")","v":1},{"$f":"COUNTIF('[1]Testee answer 2011'!AB689:AB699,\"D\")","v":8},{"$f":"COUNTIF('[1]Testee answer 2011'!AC689:AC699,\"D\")","v":2},{"$f":"COUNTIF('[1]Testee answer 2011'!AD689:AD699,\"D\")","v":2},{"$f":"COUNTIF('[1]Testee answer 2011'!AE689:AE699,\"D\")","v":3},{"$f":"COUNTIF('[1]Testee answer 2011'!AF689:AF699,\"D\")","v":10},{"$f":"COUNTIF('[1]Testee answer 2011'!AG689:AG699,\"D\")","v":7},{"$f":"COUNTIF('[1]Testee answer 2011'!AH689:AH699,\"D\")","v":0},{"$f":"COUNTIF('[1]Testee answer 2011'!AI689:AI699,\"D\")","v":1},{"$f":"COUNTIF('[1]Testee answer 2011'!AJ689:AJ699,\"D\")","v":2},{"$f":"COUNTIF('[1]Testee answer 2011'!AK689:AK699,\"D\")","v":2},{"$f":"COUNTIF('[1]Testee answer 2011'!AL689:AL699,\"D\")","v":5},{"$f":"COUNTIF('[1]Testee answer 2011'!AM689:AM699,\"D\")","v":6},{"$f":"COUNTIF('[1]Testee answer 2011'!AN689:AN699,\"D\")","v":2},{"$f":"COUNTIF('[1]Testee answer 2011'!AO689:AO699,\"D\")","v":0},{"$f":"COUNTIF('[1]Testee answer 2011'!AP689:AP699,\"D\")","v":0},{"$f":"COUNTIF('[1]Testee answer 2011'!AQ689:AQ699,\"D\")","v":0},{"$f":"COUNTIF('[1]Testee answer 2011'!AR689:AR699,\"D\")","v":0},{"$f":"COUNTIF('[1]Testee answer 2011'!AS689:AS699,\"D\")","v":0},{"$f":"COUNTIF('[1]Testee answer 2011'!AT689:AT699,\"D\")","v":3},{"$f":"COUNTIF('[1]Testee answer 2011'!AU689:AU699,\"D\")","v":7},{"$f":"COUNTIF('[1]Testee answer 2011'!AV689:AV699,\"D\")","v":5},{"$f":"COUNTIF('[1]Testee answer 2011'!AW689:AW699,\"D\")","v":0},{"$f":"COUNTIF('[1]Testee answer 2011'!AX689:AX699,\"D\")","v":0},{"$f":"COUNTIF('[1]Testee answer 2011'!AY689:AY699,\"D\")","v":4},{"$f":"COUNTIF('[1]Testee answer 2011'!AZ689:AZ699,\"D\")","v":3},{"$f":"COUNTIF('[1]Testee answer 2011'!BA689:BA699,\"D\")","v":0},{"$f":"COUNTIF('[1]Testee answer 2011'!BB689:BB699,\"D\")","v":0},{"$f":"COUNTIF('[1]Testee answer 2011'!BC689:BC699,\"D\")","v":0},{"$f":"COUNTIF('[1]Testee answer 2011'!BD689:BD699,\"D\")","v":0},{"$f":"COUNTIF('[1]Testee answer 2011'!BE689:BE699,\"D\")","v":0},{"$f":"COUNTIF('[1]Testee answer 2011'!BF689:BF699,\"D\")","v":0},{"$f":"COUNTIF('[1]Testee answer 2011'!BG689:BG699,\"D\")","v":0},{"$f":"COUNTIF('[1]Testee answer 2011'!BH689:BH699,\"D\")","v":0},{"$f":"COUNTIF('[1]Testee answer 2011'!BI689:BI699,\"D\")","v":0}]
["PLEng1",{"$f":"COUNTIF('[1]Testee answer 2011'!D111:D124,\"A\")","v":14},{"$f":"COUNTIF('[1]Testee answer 2011'!E111:E124,\"A\")","v":7},{"$f":"COUNTIF('[1]Testee answer 2011'!F111:F124,\"A\")","v":4},{"$f":"COUNTIF('[1]Testee answer 2011'!G111:G124,\"A\")","v":9},{"$f":"COUNTIF('[1]Testee answer 2011'!H111:H124,\"A\")","v":6},{"$f":"COUNTIF('[1]Testee answer 2011'!I111:I124,\"A\")","v":1},{"$f":"COUNTIF('[1]Testee answer 2011'!J111:J124,\"A\")","v":7},{"$f":"COUNTIF('[1]Testee answer 2011'!K111:K124,\"A\")","v":9},{"$f":"COUNTIF('[1]Testee answer 2011'!L111:L124,\"A\")","v":9},{"$f":"COUNTIF('[1]Testee answer 2011'!M111:M124,\"A\")","v":8},{"$f":"COUNTIF('[1]Testee answer 2011'!N111:N124,\"A\")","v":4},{"$f":"COUNTIF('[1]Testee answer 2011'!O111:O124,\"A\")","v":2},{"$f":"COUNTIF('[1]Testee answer 2011'!P111:P124,\"A\")","v":0},{"$f":"COUNTIF('[1]Testee answer 2011'!Q111:Q124,\"A\")","v":3},{"$f":"COUNTIF('[1]Testee answer 2011'!R111:R124,\"A\")","v":2},{"$f":"COUNTIF('[1]Testee answer 2011'!S111:S124,\"A\")","v":2},{"$f":"COUNTIF('[1]Testee answer 2011'!T111:T124,\"A\")","v":3},{"$f":"COUNTIF('[1]Testee answer 2011'!U111:U124,\"A\")","v":7},{"$f":"COUNTIF('[1]Testee answer 2011'!V111:V124,\"A\")","v":0},{"$f":"COUNTIF('[1]Testee answer 2011'!W111:W124,\"A\")","v":5},{"$f":"COUNTIF('[1]Testee answer 2011'!X111:X124,\"A\")","v":3},{"$f":"COUNTIF('[1]Testee answer 2011'!Y111:Y124,\"A\")","v":10},{"$f":"COUNTIF('[1]Testee answer 2011'!Z111:Z124,\"A\")","v":11},{"$f":"COUNTIF('[1]Testee answer 2011'!AA111:AA124,\"A\")","v":3},{"$f":"COUNTIF('[1]Testee answer 2011'!AB111:AB124,\"A\")","v":0},{"$f":"COUNTIF('[1]Testee answer 2011'!AC111:AC124,\"A\")","v":4},{"$f":"COUNTIF('[1]Testee answer 2011'!AD111:AD124,\"A\")","v":8},{"$f":"COUNTIF('[1]Testee answer 2011'!AE111:AE124,\"A\")","v":3},{"$f":"COUNTIF('[1]Testee answer 2011'!AF111:AF124,\"A\")","v":0},{"$f":"COUNTIF('[1]Testee answer 2011'!AG111:AG124,\"A\")","v":2},{"$f":"COUNTIF('[1]Testee answer 2011'!AH111:AH124,\"A\")","v":8},{"$f":"COUNTIF('[1]Testee answer 2011'!AI111:AI124,\"A\")","v":5},{"$f":"COUNTIF('[1]Testee answer 2011'!AJ111:AJ124,\"A\")","v":2},{"$f":"COUNTIF('[1]Testee answer 2011'!AK111:AK124,\"A\")","v":3},{"$f":"COUNTIF('[1]Testee answer 2011'!AL111:AL124,\"A\")","v":1},{"$f":"COUNTIF('[1]Testee answer 2011'!AM111:AM124,\"A\")","v":3},{"$f":"COUNTIF('[1]Testee answer 2011'!AN111:AN124,\"A\")","v":4},{"$f":"COUNTIF('[1]Testee answer 2011'!AO111:AO124,\"A\")","v":1},{"$f":"COUNTIF('[1]Testee answer 2011'!AP111:AP124,\"A\")","v":4},{"$f":"COUNTIF('[1]Testee answer 2011'!AQ111:AQ124,\"A\")","v":1},{"$f":"COUNTIF('[1]Testee answer 2011'!AR111:AR124,\"A\")","v":1},{"$f":"COUNTIF('[1]Testee answer 2011'!AS111:AS124,\"A\")","v":2},{"$f":"COUNTIF('[1]Testee answer 2011'!AT111:AT124,\"A\")","v":1},{"$f":"COUNTIF('[1]Testee answer 2011'!AU111:AU124,\"A\")","v":0},{"$f":"COUNTIF('[1]Testee answer 2011'!AV111:AV124,\"A\")","v":1},{"$f":"COUNTIF('[1]Testee answer 2011'!AW111:AW124,\"A\")","v":8},{"$f":"COUNTIF('[1]Testee answer 2011'!AX111:AX124,\"A\")","v":7},{"$f":"COUNTIF('[1]Testee answer 2011'!AY111:AY124,\"A\")","v":4},{"$f":"COUNTIF('[1]Testee answer 2011'!AZ111:AZ124,\"A\")","v":3},{"$f":"COUNTIF('[1]Testee answer 2011'!BA111:BA124,\"A\")","v":9},{"$f":"COUNTIF('[1]Testee answer 2011'!BB111:BB124,\"A\")","v":5},{"$f":"COUNTIF('[1]Testee answer 2011'!BC111:BC124,\"A\")","v":2},{"$f":"COUNTIF('[1]Testee answer 2011'!BD111:BD124,\"A\")","v":7},{"$f":"COUNTIF('[1]Testee answer 2011'!BE111:BE124,\"A\")","v":11},{"$f":"COUNTIF('[1]Testee answer 2011'!BF111:BF124,\"A\")","v":0},{"$f":"COUNTIF('[1]Testee answer 2011'!BG111:BG124,\"A\")","v":14},{"$f":"COUNTIF('[1]Testee answer 2011'!BH111:BH124,\"A\")","v":2},{"$f":"COUNTIF('[1]Testee answer 2011'!BI111:BI124,\"A\")","v":3}]
["PLEng1",{"$f":"COUNTIF('[1]Testee answer 2011'!D111:D124,\"B\")","v":0},{"$f":"COUNTIF('[1]Testee answer 2011'!E111:E124,\"B\")","v":7},{"$f":"COUNTIF('[1]Testee answer 2011'!F111:F124,\"B\")","v":8},{"$f":"COUNTIF('[1]Testee answer 2011'!G111:G124,\"B\")","v":5},{"$f":"COUNTIF('[1]Testee answer 2011'!H111:H124,\"B\")","v":4},{"$f":"COUNTIF('[1]Testee answer 2011'!I111:I124,\"B\")","v":4},{"$f":"COUNTIF('[1]Testee answer 2011'!J111:J124,\"B\")","v":6},{"$f":"COUNTIF('[1]Testee answer 2011'!K111:K124,\"B\")","v":4},{"$f":"COUNTIF('[1]Testee answer 2011'!L111:L124,\"B\")","v":4},{"$f":"COUNTIF('[1]Testee answer 2011'!M111:M124,\"B\")","v":3},{"$f":"COUNTIF('[1]Testee answer 2011'!N111:N124,\"B\")","v":4},{"$f":"COUNTIF('[1]Testee answer 2011'!O111:O124,\"B\")","v":4},{"$f":"COUNTIF('[1]Testee answer 2011'!P111:P124,\"B\")","v":9},{"$f":"COUNTIF('[1]Testee answer 2011'!Q111:Q124,\"B\")","v":3},{"$f":"COUNTIF('[1]Testee answer 2011'!R111:R124,\"B\")","v":5},{"$f":"COUNTIF('[1]Testee answer 2011'!S111:S124,\"B\")","v":4},{"$f":"COUNTIF('[1]Testee answer 2011'!T111:T124,\"B\")","v":0},{"$f":"COUNTIF('[1]Testee answer 2011'!U111:U124,\"B\")","v":4},{"$f":"COUNTIF('[1]Testee answer 2011'!V111:V124,\"B\")","v":0},{"$f":"COUNTIF('[1]Testee answer 2011'!W111:W124,\"B\")","v":5},{"$f":"COUNTIF('[1]Testee answer 2011'!X111:X124,\"B\")","v":3},{"$f":"COUNTIF('[1]Testee answer 2011'!Y111:Y124,\"B\")","v":2},{"$f":"COUNTIF('[1]Testee answer 2011'!Z111:Z124,\"B\")","v":1},{"$f":"COUNTIF('[1]Testee answer 2011'!AA111:AA124,\"B\")","v":5},{"$f":"COUNTIF('[1]Testee answer 2011'!AB111:AB124,\"B\")","v":0},{"$f":"COUNTIF('[1]Testee answer 2011'!AC111:AC124,\"B\")","v":4},{"$f":"COUNTIF('[1]Testee answer 2011'!AD111:AD124,\"B\")","v":3},{"$f":"COUNTIF('[1]Testee answer 2011'!AE111:AE124,\"B\")","v":0},{"$f":"COUNTIF('[1]Testee answer 2011'!AF111:AF124,\"B\")","v":2},{"$f":"COUNTIF('[1]Testee answer 2011'!AG111:AG124,\"B\")","v":1},{"$f":"COUNTIF('[1]Testee answer 2011'!AH111:AH124,\"B\")","v":5},{"$f":"COUNTIF('[1]Testee answer 2011'!AI111:AI124,\"B\")","v":8},{"$f":"COUNTIF('[1]Testee answer 2011'!AJ111:AJ124,\"B\")","v":1},{"$f":"COUNTIF('[1]Testee answer 2011'!AK111:AK124,\"B\")","v":2},{"$f":"COUNTIF('[1]Testee answer 2011'!AL111:AL124,\"B\")","v":4},{"$f":"COUNTIF('[1]Testee answer 2011'!AM111:AM124,\"B\")","v":4},{"$f":"COUNTIF('[1]Testee answer 2011'!AN111:AN124,\"B\")","v":3},{"$f":"COUNTIF('[1]Testee answer 2011'!AO111:AO124,\"B\")","v":13},{"$f":"COUNTIF('[1]Testee answer 2011'!AP111:AP124,\"B\")","v":10},{"$f":"COUNTIF('[1]Testee answer 2011'!AQ111:AQ124,\"B\")","v":13},{"$f":"COUNTIF('[1]Testee answer 2011'!AR111:AR124,\"B\")","v":13},{"$f":"COUNTIF('[1]Testee answer 2011'!AS111:AS124,\"B\")","v":12},{"$f":"COUNTIF('[1]Testee answer 2011'!AT111:AT124,\"B\")","v":0},{"$f":"COUNTIF('[1]Testee answer 2011'!AU111:AU124,\"B\")","v":0},{"$f":"COUNTIF('[1]Testee answer 2011'!AV111:AV124,\"B\")","v":1},{"$f":"COUNTIF('[1]Testee answer 2011'!AW111:AW124,\"B\")","v":4},{"$f":"COUNTIF('[1]Testee answer 2011'!AX111:AX124,\"B\")","v":5},{"$f":"COUNTIF('[1]Testee answer 2011'!AY111:AY124,\"B\")","v":8},{"$f":"COUNTIF('[1]Testee answer 2011'!AZ111:AZ124,\"B\")","v":4},{"$f":"COUNTIF('[1]Testee answer 2011'!BA111:BA124,\"B\")","v":5},{"$f":"COUNTIF('[1]Testee answer 2011'!BB111:BB124,\"B\")","v":9},{"$f":"COUNTIF('[1]Testee answer 2011'!BC111:BC124,\"B\")","v":12},{"$f":"COUNTIF('[1]Testee answer 2011'!BD111:BD124,\"B\")","v":7},{"$f":"COUNTIF('[1]Testee answer 2011'!BE111:BE124,\"B\")","v":3},{"$f":"COUNTIF('[1]Testee answer 2011'!BF111:BF124,\"B\")","v":14},{"$f":"COUNTIF('[1]Testee answer 2011'!BG111:BG124,\"B\")","v":0},{"$f":"COUNTIF('[1]Testee answer 2011'!BH111:BH124,\"B\")","v":12},{"$f":"COUNTIF('[1]Testee answer 2011'!BI111:BI124,\"B\")","v":11}]
["PLEng1",{"$f":"COUNTIF('[1]Testee answer 2011'!D111:D124,\"C\")","v":0},{"$f":"COUNTIF('[1]Testee answer 2011'!E111:E124,\"C\")","v":0},{"$f":"COUNTIF('[1]Testee answer 2011'!F111:F124,\"C\")","v":2},{"$f":"COUNTIF('[1]Testee answer 2011'!G111:G124,\"C\")","v":0},{"$f":"COUNTIF('[1]Testee answer 2011'!H111:H124,\"C\")","v":1},{"$f":"COUNTIF('[1]Testee answer 2011'!I111:I124,\"C\")","v":7},{"$f":"COUNTIF('[1]Testee answer 2011'!J111:J124,\"C\")","v":1},{"$f":"COUNTIF('[1]Testee answer 2011'!K111:K124,\"C\")","v":1},{"$f":"COUNTIF('[1]Testee answer 2011'!L111:L124,\"C\")","v":1},{"$f":"COUNTIF('[1]Testee answer 2011'!M111:M124,\"C\")","v":3},{"$f":"COUNTIF('[1]Testee answer 2011'!N111:N124,\"C\")","v":6},{"$f":"COUNTIF('[1]Testee answer 2011'!O111:O124,\"C\")","v":8},{"$f":"COUNTIF('[1]Testee answer 2011'!P111:P124,\"C\")","v":5},{"$f":"COUNTIF('[1]Testee answer 2011'!Q111:Q124,\"C\")","v":3},{"$f":"COUNTIF('[1]Testee answer 2011'!R111:R124,\"C\")","v":4},{"$f":"COUNTIF('[1]Testee answer 2011'!S111:S124,\"C\")","v":1},{"$f":"COUNTIF('[1]Testee answer 2011'!T111:T124,\"C\")","v":7},{"$f":"COUNTIF('[1]Testee answer 2011'!U111:U124,\"C\")","v":3},{"$f":"COUNTIF('[1]Testee answer 2011'!V111:V124,\"C\")","v":3},{"$f":"COUNTIF('[1]Testee answer 2011'!W111:W124,\"C\")","v":2},{"$f":"COUNTIF('[1]Testee answer 2011'!X111:X124,\"C\")","v":4},{"$f":"COUNTIF('[1]Testee answer 2011'!Y111:Y124,\"C\")","v":1},{"$f":"COUNTIF('[1]Testee answer 2011'!Z111:Z124,\"C\")","v":2},{"$f":"COUNTIF('[1]Testee answer 2011'!AA111:AA124,\"C\")","v":6},{"$f":"COUNTIF('[1]Testee answer 2011'!AB111:AB124,\"C\")","v":7},{"$f":"COUNTIF('[1]Testee answer 2011'!AC111:AC124,\"C\")","v":4},{"$f":"COUNTIF('[1]Testee answer 2011'!AD111:AD124,\"C\")","v":2},{"$f":"COUNTIF('[1]Testee answer 2011'!AE111:AE124,\"C\")","v":3},{"$f":"COUNTIF('[1]Testee answer 2011'!AF111:AF124,\"C\")","v":3},{"$f":"COUNTIF('[1]Testee answer 2011'!AG111:AG124,\"C\")","v":4},{"$f":"COUNTIF('[1]Testee answer 2011'!AH111:AH124,\"C\")","v":1},{"$f":"COUNTIF('[1]Testee answer 2011'!AI111:AI124,\"C\")","v":1},{"$f":"COUNTIF('[1]Testee answer 2011'!AJ111:AJ124,\"C\")","v":3},{"$f":"COUNTIF('[1]Testee answer 2011'!AK111:AK124,\"C\")","v":3},{"$f":"COUNTIF('[1]Testee answer 2011'!AL111:AL124,\"C\")","v":3},{"$f":"COUNTIF('[1]Testee answer 2011'!AM111:AM124,\"C\")","v":6},{"$f":"COUNTIF('[1]Testee answer 2011'!AN111:AN124,\"C\")","v":6},{"$f":"COUNTIF('[1]Testee answer 2011'!AO111:AO124,\"C\")","v":0},{"$f":"COUNTIF('[1]Testee answer 2011'!AP111:AP124,\"C\")","v":0},{"$f":"COUNTIF('[1]Testee answer 2011'!AQ111:AQ124,\"C\")","v":0},{"$f":"COUNTIF('[1]Testee answer 2011'!AR111:AR124,\"C\")","v":0},{"$f":"COUNTIF('[1]Testee answer 2011'!AS111:AS124,\"C\")","v":0},{"$f":"COUNTIF('[1]Testee answer 2011'!AT111:AT124,\"C\")","v":5},{"$f":"COUNTIF('[1]Testee answer 2011'!AU111:AU124,\"C\")","v":3},{"$f":"COUNTIF('[1]Testee answer 2011'!AV111:AV124,\"C\")","v":7},{"$f":"COUNTIF('[1]Testee answer 2011'!AW111:AW124,\"C\")","v":2},{"$f":"COUNTIF('[1]Testee answer 2011'!AX111:AX124,\"C\")","v":2},{"$f":"COUNTIF('[1]Testee answer 2011'!AY111:AY124,\"C\")","v":2},{"$f":"COUNTIF('[1]Testee answer 2011'!AZ111:AZ124,\"C\")","v":5},{"$f":"COUNTIF('[1]Testee answer 2011'!BA111:BA124,\"C\")","v":0},{"$f":"COUNTIF('[1]Testee answer 2011'!BB111:BB124,\"C\")","v":0},{"$f":"COUNTIF('[1]Testee answer 2011'!BC111:BC124,\"C\")","v":0},{"$f":"COUNTIF('[1]Testee answer 2011'!BD111:BD124,\"C\")","v":0},{"$f":"COUNTIF('[1]Testee answer 2011'!BE111:BE124,\"C\")","v":0},{"$f":"COUNTIF('[1]Testee answer 2011'!BF111:BF124,\"C\")","v":0},{"$f":"COUNTIF('[1]Testee answer 2011'!BG111:BG124,\"C\")","v":0},{"$f":"COUNTIF('[1]Testee answer 2011'!BH111:BH124,\"C\")","v":0},{"$f":"COUNTIF('[1]Testee answer 2011'!BI111:BI124,\"C\")","v":0}]
["PLEng1",{"$f":"COUNTIF('[1]Testee answer 2011'!D111:D124,\"D\")","v":0},{"$f":"COUNTIF('[1]Testee answer 2011'!E111:E124,\"D\")","v":0},{"$f":"COUNTIF('[1]Testee answer 2011'!F111:F124,\"D\")","v":0},{"$f":"COUNTIF('[1]Testee answer 2011'!G111:G124,\"D\")","v":0},{"$f":"COUNTIF('[1]Testee answer 2011'!H111:H124,\"D\")","v":3},{"$f":"COUNTIF('[1]Testee answer 2011'!I111:I124,\"D\")","v":2},{"$f":"COUNTIF('[1]Testee answer 2011'!J111:J124,\"D\")","v":0},{"$f":"COUNTIF('[1]Testee answer 2011'!K111:K124,\"D\")","v":0},{"$f":"COUNTIF('[1]Testee answer 2011'!L111:L124,\"D\")","v":0},{"$f":"COUNTIF('[1]Testee answer 2011'!M111:M124,\"D\")","v":0},{"$f":"COUNTIF('[1]Testee answer 2011'!N111:N124,\"D\")","v":0},{"$f":"COUNTIF('[1]Testee answer 2011'!O111:O124,\"D\")","v":0},{"$f":"COUNTIF('[1]Testee answer 2011'!P111:P124,\"D\")","v":0},{"$f":"COUNTIF('[1]Testee answer 2011'!Q111:Q124,\"D\")","v":5},{"$f":"COUNTIF('[1]Testee answer 2011'!R111:R124,\"D\")","v":3},{"$f":"COUNTIF('[1]Testee answer 2011'!S111:S124,\"D\")","v":7},{"$f":"COUNTIF('[1]Testee answer 2011'!T111:T124,\"D\")","v":4},{"$f":"COUNTIF('[1]Testee answer 2011'!U111:U124,\"D\")","v":0},{"$f":"COUNTIF('[1]Testee answer 2011'!V111:V124,\"D\")","v":11},{"$f":"COUNTIF('[1]Testee answer 2011'!W111:W124,\"D\")","v":2},{"$f":"COUNTIF('[1]Testee answer 2011'!X111:X124,\"D\")","v":4},{"$f":"COUNTIF('[1]Testee answer 2011'!Y111:Y124,\"D\")","v":1},{"$f":"COUNTIF('[1]Testee answer 2011'!Z111:Z124,\"D\")","v":0},{"$f":"COUNTIF('[1]Testee answer 2011'!AA111:AA124,\"D\")","v":0},{"$f":"COUNTIF('[1]Testee answer 2011'!AB111:AB124,\"D\")","v":7},{"$f":"COUNTIF('[1]Testee answer 2011'!AC111:AC124,\"D\")","v":2},{"$f":"COUNTIF('[1]Testee answer 2011'!AD111:AD124,\"D\")","v":1},{"$f":"COUNTIF('[1]Testee answer 2011'!AE111:AE124,\"D\")","v":8},{"$f":"COUNTIF('[1]Testee answer 2011'!AF111:AF124,\"D\")","v":9},{"$f":"COUNTIF('[1]Testee answer 2011'!AG111:AG124,\"D\")","v":7},{"$f":"COUNTIF('[1]Testee answer 2011'!AH111:AH124,\"D\")","v":0},{"$f":"COUNTIF('[1]Testee answer 2011'!AI111:AI124,\"D\")","v":0},{"$f":"COUNTIF('[1]Testee answer 2011'!AJ111:AJ124,\"D\")","v":8},{"$f":"COUNTIF('[1]Testee answer 2011'!AK111:AK124,\"D\")","v":6},{"$f":"COUNTIF('[1]Testee answer 2011'!AL111:AL124,\"D\")","v":6},{"$f":"COUNTIF('[1]Testee answer 2011'!AM111:AM124,\"D\")","v":1},{"$f":"COUNTIF('[1]Testee answer 2011'!AN111:AN124,\"D\")","v":1},{"$f":"COUNTIF('[1]Testee answer 2011'!AO111:AO124,\"D\")","v":0},{"$f":"COUNTIF('[1]Testee answer 2011'!AP111:AP124,\"D\")","v":0},{"$f":"COUNTIF('[1]Testee answer 2011'!AQ111:AQ124,\"D\")","v":0},{"$f":"COUNTIF('[1]Testee answer 2011'!AR111:AR124,\"D\")","v":0},{"$f":"COUNTIF('[1]Testee answer 2011'!AS111:AS124,\"D\")","v":0},{"$f":"COUNTIF('[1]Testee answer 2011'!AT111:AT124,\"D\")","v":8},{"$f":"COUNTIF('[1]Testee answer 2011'!AU111:AU124,\"D\")","v":11},{"$f":"COUNTIF('[1]Testee answer 2011'!AV111:AV124,\"D\")","v":5},{"$f":"COUNTIF('[1]Testee answer 2011'!AW111:AW124,\"D\")","v":0},{"$f":"COUNTIF('[1]Testee answer 2011'!AX111:AX124,\"D\")","v":0},{"$f":"COUNTIF('[1]Testee answer 2011'!AY111:AY124,\"D\")","v":0},{"$f":"COUNTIF('[1]Testee answer 2011'!AZ111:AZ124,\"D\")","v":2},{"$f":"COUNTIF('[1]Testee answer 2011'!BA111:BA124,\"D\")","v":0},{"$f":"COUNTIF('[1]Testee answer 2011'!BB111:BB124,\"D\")","v":0},{"$f":"COUNTIF('[1]Testee answer 2011'!BC111:BC124,\"D\")","v":0},{"$f":"COUNTIF('[1]Testee answer 2011'!BD111:BD124,\"D\")","v":0},{"$f":"COUNTIF('[1]Testee answer 2011'!BE111:BE124,\"D\")","v":0},{"$f":"COUNTIF('[1]Testee answer 2011'!BF111:BF124,\"D\")","v":0},{"$f":"COUNTIF('[1]Testee answer 2011'!BG111:BG124,\"D\")","v":0},{"$f":"COUNTIF('[1]Testee answer 2011'!BH111:BH124,\"D\")","v":0},{"$f":"COUNTIF('[1]Testee answer 2011'!BI111:BI124,\"D\")","v":0}]
["PLEng2",{"$f":"COUNTIF('[1]Testee answer 2011'!D620:D634,\"A\")","v":0},{"$f":"COUNTIF('[1]Testee answer 2011'!E620:E634,\"A\")","v":6},{"$f":"COUNTIF('[1]Testee answer 2011'!F620:F634,\"A\")","v":3},{"$f":"COUNTIF('[1]Testee answer 2011'!G620:G634,\"A\")","v":7},{"$f":"COUNTIF('[1]Testee answer 2011'!H620:H634,\"A\")","v":7},{"$f":"COUNTIF('[1]Testee answer 2011'!I620:I634,\"A\")","v":1},{"$f":"COUNTIF('[1]Testee answer 2011'!J620:J634,\"A\")","v":7},{"$f":"COUNTIF('[1]Testee answer 2011'!K620:K634,\"A\")","v":9},{"$f":"COUNTIF('[1]Testee answer 2011'!L620:L634,\"A\")","v":6},{"$f":"COUNTIF('[1]Testee answer 2011'!M620:M634,\"A\")","v":5},{"$f":"COUNTIF('[1]Testee answer 2011'!N620:N634,\"A\")","v":5},{"$f":"COUNTIF('[1]Testee answer 2011'!O620:O634,\"A\")","v":5},{"$f":"COUNTIF('[1]Testee answer 2011'!P620:P634,\"A\")","v":3},{"$f":"COUNTIF('[1]Testee answer 2011'!Q620:Q634,\"A\")","v":1},{"$f":"COUNTIF('[1]Testee answer 2011'!R620:R634,\"A\")","v":2},{"$f":"COUNTIF('[1]Testee answer 2011'!S620:S634,\"A\")","v":4},{"$f":"COUNTIF('[1]Testee answer 2011'!T620:T634,\"A\")","v":6},{"$f":"COUNTIF('[1]Testee answer 2011'!U620:U634,\"A\")","v":5},{"$f":"COUNTIF('[1]Testee answer 2011'!V620:V634,\"A\")","v":0},{"$f":"COUNTIF('[1]Testee answer 2011'!W620:W634,\"A\")","v":3},{"$f":"COUNTIF('[1]Testee answer 2011'!X620:X634,\"A\")","v":1},{"$f":"COUNTIF('[1]Testee answer 2011'!Y620:Y634,\"A\")","v":3},{"$f":"COUNTIF('[1]Testee answer 2011'!Z620:Z634,\"A\")","v":3},{"$f":"COUNTIF('[1]Testee answer 2011'!AA620:AA634,\"A\")","v":8},{"$f":"COUNTIF('[1]Testee answer 2011'!AB620:AB634,\"A\")","v":0},{"$f":"COUNTIF('[1]Testee answer 2011'!AC620:AC634,\"A\")","v":4},{"$f":"COUNTIF('[1]Testee answer 2011'!AD620:AD634,\"A\")","v":3},{"$f":"COUNTIF('[1]Testee answer 2011'!AE620:AE634,\"A\")","v":4},{"$f":"COUNTIF('[1]Testee answer 2011'!AF620:AF634,\"A\")","v":0},{"$f":"COUNTIF('[1]Testee answer 2011'!AG620:AG634,\"A\")","v":4},{"$f":"COUNTIF('[1]Testee answer 2011'!AH620:AH634,\"A\")","v":7},{"$f":"COUNTIF('[1]Testee answer 2011'!AI620:AI634,\"A\")","v":5},{"$f":"COUNTIF('[1]Testee answer 2011'!AJ620:AJ634,\"A\")","v":2},{"$f":"COUNTIF('[1]Testee answer 2011'!AK620:AK634,\"A\")","v":2},{"$f":"COUNTIF('[1]Testee answer 2011'!AL620:AL634,\"A\")","v":1},{"$f":"COUNTIF('[1]Testee answer 2011'!AM620:AM634,\"A\")","v":1},{"$f":"COUNTIF('[1]Testee answer 2011'!AN620:AN634,\"A\")","v":2},{"$f":"COUNTIF('[1]Testee answer 2011'!AO620:AO634,\"A\")","v":8},{"$f":"COUNTIF('[1]Testee answer 2011'!AP620:AP634,\"A\")","v":2},{"$f":"COUNTIF('[1]Testee answer 2011'!AQ620:AQ634,\"A\")","v":1},{"$f":"COUNTIF('[1]Testee answer 2011'!AR620:AR634,\"A\")","v":1},{"$f":"COUNTIF('[1]Testee answer 2011'!AS620:AS634,\"A\")","v":1},{"$f":"COUNTIF('[1]Testee answer 2011'!AT620:AT634,\"A\")","v":0},{"$f":"COUNTIF('[1]Testee answer 2011'!AU620:AU634,\"A\")","v":0},{"$f":"COUNTIF('[1]Testee answer 2011'!AV620:AV634,\"A\")","v":0},{"$f":"COUNTIF('[1]Testee answer 2011'!AW620:AW634,\"A\")","v":6},{"$f":"COUNTIF('[1]Testee answer 2011'!AX620:AX634,\"A\")","v":4},{"$f":"COUNTIF('[1]Testee answer 2011'!AY620:AY634,\"A\")","v":2},{"$f":"COUNTIF('[1]Testee answer 2011'!AZ620:AZ634,\"A\")","v":2},{"$f":"COUNTIF('[1]Testee answer 2011'!BA620:BA634,\"A\")","v":12},{"$f":"COUNTIF('[1]Testee answer 2011'!BB620:BB634,\"A\")","v":1},{"$f":"COUNTIF('[1]Testee answer 2011'!BC620:BC634,\"A\")","v":2},{"$f":"COUNTIF('[1]Testee answer 2011'!BD620:BD634,\"A\")","v":3},{"$f":"COUNTIF('[1]Testee answer 2011'!BE620:BE634,\"A\")","v":12},{"$f":"COUNTIF('[1]Testee answer 2011'!BF620:BF634,\"A\")","v":1},{"$f":"COUNTIF('[1]Testee answer 2011'!BG620:BG634,\"A\")","v":10},{"$f":"COUNTIF('[1]Testee answer 2011'!BH620:BH634,\"A\")","v":9},{"$f":"COUNTIF('[1]Testee answer 2011'!BI620:BI634,\"A\")","v":2}]
["PLEng2",{"$f":"COUNTIF('[1]Testee answer 2011'!D620:D634,\"B\")","v":14},{"$f":"COUNTIF('[1]Testee answer 2011'!E620:E634,\"B\")","v":8},{"$f":"COUNTIF('[1]Testee answer 2011'!F620:F634,\"B\")","v":9},{"$f":"COUNTIF('[1]Testee answer 2011'!G620:G634,\"B\")","v":7},{"$f":"COUNTIF('[1]Testee answer 2011'!H620:H634,\"B\")","v":4},{"$f":"COUNTIF('[1]Testee answer 2011'!I620:I634,\"B\")","v":6},{"$f":"COUNTIF('[1]Testee answer 2011'!J620:J634,\"B\")","v":7},{"$f":"COUNTIF('[1]Testee answer 2011'!K620:K634,\"B\")","v":5},{"$f":"COUNTIF('[1]Testee answer 2011'!L620:L634,\"B\")","v":8},{"$f":"COUNTIF('[1]Testee answer 2011'!M620:M634,\"B\")","v":6},{"$f":"COUNTIF('[1]Testee answer 2011'!N620:N634,\"B\")","v":8},{"$f":"COUNTIF('[1]Testee answer 2011'!O620:O634,\"B\")","v":4},{"$f":"COUNTIF('[1]Testee answer 2011'!P620:P634,\"B\")","v":7},{"$f":"COUNTIF('[1]Testee answer 2011'!Q620:Q634,\"B\")","v":1},{"$f":"COUNTIF('[1]Testee answer 2011'!R620:R634,\"B\")","v":1},{"$f":"COUNTIF('[1]Testee answer 2011'!S620:S634,\"B\")","v":0},{"$f":"COUNTIF('[1]Testee answer 2011'!T620:T634,\"B\")","v":3},{"$f":"COUNTIF('[1]Testee answer 2011'!U620:U634,\"B\")","v":2},{"$f":"COUNTIF('[1]Testee answer 2011'!V620:V634,\"B\")","v":6},{"$f":"COUNTIF('[1]Testee answer 2011'!W620:W634,\"B\")","v":2},{"$f":"COUNTIF('[1]Testee answer 2011'!X620:X634,\"B\")","v":7},{"$f":"COUNTIF('[1]Testee answer 2011'!Y620:Y634,\"B\")","v":6},{"$f":"COUNTIF('[1]Testee answer 2011'!Z620:Z634,\"B\")","v":8},{"$f":"COUNTIF('[1]Testee answer 2011'!AA620:AA634,\"B\")","v":2},{"$f":"COUNTIF('[1]Testee answer 2011'!AB620:AB634,\"B\")","v":1},{"$f":"COUNTIF('[1]Testee answer 2011'!AC620:AC634,\"B\")","v":5},{"$f":"COUNTIF('[1]Testee answer 2011'!AD620:AD634,\"B\")","v":3},{"$f":"COUNTIF('[1]Testee answer 2011'!AE620:AE634,\"B\")","v":1},{"$f":"COUNTIF('[1]Testee answer 2011'!AF620:AF634,\"B\")","v":3},{"$f":"COUNTIF('[1]Testee answer 2011'!AG620:AG634,\"B\")","v":2},{"$f":"COUNTIF('[1]Testee answer 2011'!AH620:AH634,\"B\")","v":7},{"$f":"COUNTIF('[1]Testee answer 2011'!AI620:AI634,\"B\")","v":6},{"$f":"COUNTIF('[1]Testee answer 2011'!AJ620:AJ634,\"B\")","v":3},{"$f":"COUNTIF('[1]Testee answer 2011'!AK620:AK634,\"B\")","v":2},{"$f":"COUNTIF('[1]Testee answer 2011'!AL620:AL634,\"B\")","v":3},{"$f":"COUNTIF('[1]Testee answer 2011'!AM620:AM634,\"B\")","v":3},{"$f":"COUNTIF('[1]Testee answer 2011'!AN620:AN634,\"B\")","v":2},{"$f":"COUNTIF('[1]Testee answer 2011'!AO620:AO634,\"B\")","v":6},{"$f":"COUNTIF('[1]Testee answer 2011'!AP620:AP634,\"B\")","v":12},{"$f":"COUNTIF('[1]Testee answer 2011'!AQ620:AQ634,\"B\")","v":13},{"$f":"COUNTIF('[1]Testee answer 2011'!AR620:AR634,\"B\")","v":13},{"$f":"COUNTIF('[1]Testee answer 2011'!AS620:AS634,\"B\")","v":13},{"$f":"COUNTIF('[1]Testee answer 2011'!AT620:AT634,\"B\")","v":0},{"$f":"COUNTIF('[1]Testee answer 2011'!AU620:AU634,\"B\")","v":0},{"$f":"COUNTIF('[1]Testee answer 2011'!AV620:AV634,\"B\")","v":0},{"$f":"COUNTIF('[1]Testee answer 2011'!AW620:AW634,\"B\")","v":7},{"$f":"COUNTIF('[1]Testee answer 2011'!AX620:AX634,\"B\")","v":7},{"$f":"COUNTIF('[1]Testee answer 2011'!AY620:AY634,\"B\")","v":2},{"$f":"COUNTIF('[1]Testee answer 2011'!AZ620:AZ634,\"B\")","v":1},{"$f":"COUNTIF('[1]Testee answer 2011'!BA620:BA634,\"B\")","v":2},{"$f":"COUNTIF('[1]Testee answer 2011'!BB620:BB634,\"B\")","v":13},{"$f":"COUNTIF('[1]Testee answer 2011'!BC620:BC634,\"B\")","v":12},{"$f":"COUNTIF('[1]Testee answer 2011'!BD620:BD634,\"B\")","v":11},{"$f":"COUNTIF('[1]Testee answer 2011'!BE620:BE634,\"B\")","v":2},{"$f":"COUNTIF('[1]Testee answer 2011'!BF620:BF634,\"B\")","v":13},{"$f":"COUNTIF('[1]Testee answer 2011'!BG620:BG634,\"B\")","v":4},{"$f":"COUNTIF('[1]Testee answer 2011'!BH620:BH634,\"B\")","v":5},{"$f":"COUNTIF('[1]Testee answer 2011'!BI620:BI634,\"B\")","v":12}]
["PLEng2",{"$f":"COUNTIF('[1]Testee answer 2011'!D620:D634,\"C\")","v":0},{"$f":"COUNTIF('[1]Testee answer 2011'!E620:E634,\"C\")","v":0},{"$f":"COUNTIF('[1]Testee answer 2011'!F620:F634,\"C\")","v":2},{"$f":"COUNTIF('[1]Testee answer 2011'!G620:G634,\"C\")","v":0},{"$f":"COUNTIF('[1]Testee answer 2011'!H620:H634,\"C\")","v":2},{"$f":"COUNTIF('[1]Testee answer 2011'!I620:I634,\"C\")","v":6},{"$f":"COUNTIF('[1]Testee answer 2011'!J620:J634,\"C\")","v":0},{"$f":"COUNTIF('[1]Testee answer 2011'!K620:K634,\"C\")","v":0},{"$f":"COUNTIF('[1]Testee answer 2011'!L620:L634,\"C\")","v":0},{"$f":"COUNTIF('[1]Testee answer 2011'!M620:M634,\"C\")","v":3},{"$f":"COUNTIF('[1]Testee answer 2011'!N620:N634,\"C\")","v":1},{"$f":"COUNTIF('[1]Testee answer 2011'!O620:O634,\"C\")","v":5},{"$f":"COUNTIF('[1]Testee answer 2011'!P620:P634,\"C\")","v":4},{"$f":"COUNTIF('[1]Testee answer 2011'!Q620:Q634,\"C\")","v":7},{"$f":"COUNTIF('[1]Testee answer 2011'!R620:R634,\"C\")","v":8},{"$f":"COUNTIF('[1]Testee answer 2011'!S620:S634,\"C\")","v":6},{"$f":"COUNTIF('[1]Testee answer 2011'!T620:T634,\"C\")","v":3},{"$f":"COUNTIF('[1]Testee answer 2011'!U620:U634,\"C\")","v":6},{"$f":"COUNTIF('[1]Testee answer 2011'!V620:V634,\"C\")","v":1},{"$f":"COUNTIF('[1]Testee answer 2011'!W620:W634,\"C\")","v":8},{"$f":"COUNTIF('[1]Testee answer 2011'!X620:X634,\"C\")","v":6},{"$f":"COUNTIF('[1]Testee answer 2011'!Y620:Y634,\"C\")","v":1},{"$f":"COUNTIF('[1]Testee answer 2011'!Z620:Z634,\"C\")","v":2},{"$f":"COUNTIF('[1]Testee answer 2011'!AA620:AA634,\"C\")","v":3},{"$f":"COUNTIF('[1]Testee answer 2011'!AB620:AB634,\"C\")","v":2},{"$f":"COUNTIF('[1]Testee answer 2011'!AC620:AC634,\"C\")","v":4},{"$f":"COUNTIF('[1]Testee answer 2011'!AD620:AD634,\"C\")","v":8},{"$f":"COUNTIF('[1]Testee answer 2011'!AE620:AE634,\"C\")","v":3},{"$f":"COUNTIF('[1]Testee answer 2011'!AF620:AF634,\"C\")","v":4},{"$f":"COUNTIF('[1]Testee answer 2011'!AG620:AG634,\"C\")","v":5},{"$f":"COUNTIF('[1]Testee answer 2011'!AH620:AH634,\"C\")","v":0},{"$f":"COUNTIF('[1]Testee answer 2011'!AI620:AI634,\"C\")","v":2},{"$f":"COUNTIF('[1]Testee answer 2011'!AJ620:AJ634,\"C\")","v":3},{"$f":"COUNTIF('[1]Testee answer 2011'!AK620:AK634,\"C\")","v":6},{"$f":"COUNTIF('[1]Testee answer 2011'!AL620:AL634,\"C\")","v":9},{"$f":"COUNTIF('[1]Testee answer 2011'!AM620:AM634,\"C\")","v":8},{"$f":"COUNTIF('[1]Testee answer 2011'!AN620:AN634,\"C\")","v":9},{"$f":"COUNTIF('[1]Testee answer 2011'!AO620:AO634,\"C\")","v":0},{"$f":"COUNTIF('[1]Testee answer 2011'!AP620:AP634,\"C\")","v":0},{"$f":"COUNTIF('[1]Testee answer 2011'!AQ620:AQ634,\"C\")","v":0},{"$f":"COUNTIF('[1]Testee answer 2011'!AR620:AR634,\"C\")","v":0},{"$f":"COUNTIF('[1]Testee answer 2011'!AS620:AS634,\"C\")","v":0},{"$f":"COUNTIF('[1]Testee answer 2011'!AT620:AT634,\"C\")","v":3},{"$f":"COUNTIF('[1]Testee answer 2011'!AU620:AU634,\"C\")","v":3},{"$f":"COUNTIF('[1]Testee answer 2011'!AV620:AV634,\"C\")","v":5},{"$f":"COUNTIF('[1]Testee answer 2011'!AW620:AW634,\"C\")","v":1},{"$f":"COUNTIF('[1]Testee answer 2011'!AX620:AX634,\"C\")","v":3},{"$f":"COUNTIF('[1]Testee answer 2011'!AY620:AY634,\"C\")","v":9},{"$f":"COUNTIF('[1]Testee answer 2011'!AZ620:AZ634,\"C\")","v":8},{"$f":"COUNTIF('[1]Testee answer 2011'!BA620:BA634,\"C\")","v":0},{"$f":"COUNTIF('[1]Testee answer 2011'!BB620:BB634,\"C\")","v":0},{"$f":"COUNTIF('[1]Testee answer 2011'!BC620:BC634,\"C\")","v":0},{"$f":"COUNTIF('[1]Testee answer 2011'!BD620:BD634,\"C\")","v":0},{"$f":"COUNTIF('[1]Testee answer 2011'!BE620:BE634,\"C\")","v":0},{"$f":"COUNTIF('[1]Testee answer 2011'!BF620:BF634,\"C\")","v":0},{"$f":"COUNTIF('[1]Testee answer 2011'!BG620:BG634,\"C\")","v":0},{"$f":"COUNTIF('[1]Testee answer 2011'!BH620:BH634,\"C\")","v":0},{"$f":"COUNTIF('[1]Testee answer 2011'!BI620:BI634,\"C\")","v":0}]
["PLEng2",{"$f":"COUNTIF('[1]Testee answer 2011'!D620:D634,\"D\")","v":0},{"$f":"COUNTIF('[1]Testee answer 2011'!E620:E634,\"D\")","v":0},{"$f":"COUNTIF('[1]Testee answer 2011'!F620:F634,\"D\")","v":0},{"$f":"COUNTIF('[1]Testee answer 2011'!G620:G634,\"D\")","v":0},{"$f":"COUNTIF('[1]Testee answer 2011'!H620:H634,\"D\")","v":1},{"$f":"COUNTIF('[1]Testee answer 2011'!I620:I634,\"D\")","v":1},{"$f":"COUNTIF('[1]Testee answer 2011'!J620:J634,\"D\")","v":0},{"$f":"COUNTIF('[1]Testee answer 2011'!K620:K634,\"D\")","v":0},{"$f":"COUNTIF('[1]Testee answer 2011'!L620:L634,\"D\")","v":0},{"$f":"COUNTIF('[1]Testee answer 2011'!M620:M634,\"D\")","v":0},{"$f":"COUNTIF('[1]Testee answer 2011'!N620:N634,\"D\")","v":0},{"$f":"COUNTIF('[1]Testee answer 2011'!O620:O634,\"D\")","v":0},{"$f":"COUNTIF('[1]Testee answer 2011'!P620:P634,\"D\")","v":0},{"$f":"COUNTIF('[1]Testee answer 2011'!Q620:Q634,\"D\")","v":5},{"$f":"COUNTIF('[1]Testee answer 2011'!R620:R634,\"D\")","v":3},{"$f":"COUNTIF('[1]Testee answer 2011'!S620:S634,\"D\")","v":4},{"$f":"COUNTIF('[1]Testee answer 2011'!T620:T634,\"D\")","v":2},{"$f":"COUNTIF('[1]Testee answer 2011'!U620:U634,\"D\")","v":1},{"$f":"COUNTIF('[1]Testee answer 2011'!V620:V634,\"D\")","v":7},{"$f":"COUNTIF('[1]Testee answer 2011'!W620:W634,\"D\")","v":1},{"$f":"COUNTIF('[1]Testee answer 2011'!X620:X634,\"D\")","v":0},{"$f":"COUNTIF('[1]Testee answer 2011'!Y620:Y634,\"D\")","v":4},{"$f":"COUNTIF('[1]Testee answer 2011'!Z620:Z634,\"D\")","v":1},{"$f":"COUNTIF('[1]Testee answer 2011'!AA620:AA634,\"D\")","v":1},{"$f":"COUNTIF('[1]Testee answer 2011'!AB620:AB634,\"D\")","v":11},{"$f":"COUNTIF('[1]Testee answer 2011'!AC620:AC634,\"D\")","v":1},{"$f":"COUNTIF('[1]Testee answer 2011'!AD620:AD634,\"D\")","v":0},{"$f":"COUNTIF('[1]Testee answer 2011'!AE620:AE634,\"D\")","v":6},{"$f":"COUNTIF('[1]Testee answer 2011'!AF620:AF634,\"D\")","v":7},{"$f":"COUNTIF('[1]Testee answer 2011'!AG620:AG634,\"D\")","v":3},{"$f":"COUNTIF('[1]Testee answer 2011'!AH620:AH634,\"D\")","v":0},{"$f":"COUNTIF('[1]Testee answer 2011'!AI620:AI634,\"D\")","v":1},{"$f":"COUNTIF('[1]Testee answer 2011'!AJ620:AJ634,\"D\")","v":6},{"$f":"COUNTIF('[1]Testee answer 2011'!AK620:AK634,\"D\")","v":4},{"$f":"COUNTIF('[1]Testee answer 2011'!AL620:AL634,\"D\")","v":1},{"$f":"COUNTIF('[1]Testee answer 2011'!AM620:AM634,\"D\")","v":2},{"$f":"COUNTIF('[1]Testee answer 2011'!AN620:AN634,\"D\")","v":1},{"$f":"COUNTIF('[1]Testee answer 2011'!AO620:AO634,\"D\")","v":0},{"$f":"COUNTIF('[1]Testee answer 2011'!AP620:AP634,\"D\")","v":0},{"$f":"COUNTIF('[1]Testee answer 2011'!AQ620:AQ634,\"D\")","v":0},{"$f":"COUNTIF('[1]Testee answer 2011'!AR620:AR634,\"D\")","v":0},{"$f":"COUNTIF('[1]Testee answer 2011'!AS620:AS634,\"D\")","v":0},{"$f":"COUNTIF('[1]Testee answer 2011'!AT620:AT634,\"D\")","v":11},{"$f":"COUNTIF('[1]Testee answer 2011'!AU620:AU634,\"D\")","v":11},{"$f":"COUNTIF('[1]Testee answer 2011'!AV620:AV634,\"D\")","v":9},{"$f":"COUNTIF('[1]Testee answer 2011'!AW620:AW634,\"D\")","v":0},{"$f":"COUNTIF('[1]Testee answer 2011'!AX620:AX634,\"D\")","v":0},{"$f":"COUNTIF('[1]Testee answer 2011'!AY620:AY634,\"D\")","v":1},{"$f":"COUNTIF('[1]Testee answer 2011'!AZ620:AZ634,\"D\")","v":3},{"$f":"COUNTIF('[1]Testee answer 2011'!BA620:BA634,\"D\")","v":0},{"$f":"COUNTIF('[1]Testee answer 2011'!BB620:BB634,\"D\")","v":0},{"$f":"COUNTIF('[1]Testee answer 2011'!BC620:BC634,\"D\")","v":0},{"$f":"COUNTIF('[1]Testee answer 2011'!BD620:BD634,\"D\")","v":0},{"$f":"COUNTIF('[1]Testee answer 2011'!BE620:BE634,\"D\")","v":0},{"$f":"COUNTIF('[1]Testee answer 2011'!BF620:BF634,\"D\")","v":0},{"$f":"COUNTIF('[1]Testee answer 2011'!BG620:BG634,\"D\")","v":0},{"$f":"COUNTIF('[1]Testee answer 2011'!BH620:BH634,\"D\")","v":0},{"$f":"COUNTIF('[1]Testee answer 2011'!BI620:BI634,\"D\")","v":0}]
["PLEng3",{"$f":"COUNTIF('[1]Testee answer 2011'!D427:D442,\"A\")","v":0},{"$f":"COUNTIF('[1]Testee answer 2011'!E427:E442,\"A\")","v":1},{"$f":"COUNTIF('[1]Testee answer 2011'!F427:F442,\"A\")","v":2},{"$f":"COUNTIF('[1]Testee answer 2011'!G427:G442,\"A\")","v":8},{"$f":"COUNTIF('[1]Testee answer 2011'!H427:H442,\"A\")","v":8},{"$f":"COUNTIF('[1]Testee answer 2011'!I427:I442,\"A\")","v":0},{"$f":"COUNTIF('[1]Testee answer 2011'!J427:J442,\"A\")","v":10},{"$f":"COUNTIF('[1]Testee answer 2011'!K427:K442,\"A\")","v":10},{"$f":"COUNTIF('[1]Testee answer 2011'!L427:L442,\"A\")","v":7},{"$f":"COUNTIF('[1]Testee answer 2011'!M427:M442,\"A\")","v":9},{"$f":"COUNTIF('[1]Testee answer 2011'!N427:N442,\"A\")","v":6},{"$f":"COUNTIF('[1]Testee answer 2011'!O427:O442,\"A\")","v":5},{"$f":"COUNTIF('[1]Testee answer 2011'!P427:P442,\"A\")","v":5},{"$f":"COUNTIF('[1]Testee answer 2011'!Q427:Q442,\"A\")","v":3},{"$f":"COUNTIF('[1]Testee answer 2011'!R427:R442,\"A\")","v":1},{"$f":"COUNTIF('[1]Testee answer 2011'!S427:S442,\"A\")","v":4},{"$f":"COUNTIF('[1]Testee answer 2011'!T427:T442,\"A\")","v":10},{"$f":"COUNTIF('[1]Testee answer 2011'!U427:U442,\"A\")","v":3},{"$f":"COUNTIF('[1]Testee answer 2011'!V427:V442,\"A\")","v":2},{"$f":"COUNTIF('[1]Testee answer 2011'!W427:W442,\"A\")","v":4},{"$f":"COUNTIF('[1]Testee answer 2011'!X427:X442,\"A\")","v":2},{"$f":"COUNTIF('[1]Testee answer 2011'!Y427:Y442,\"A\")","v":2},{"$f":"COUNTIF('[1]Testee answer 2011'!Z427:Z442,\"A\")","v":5},{"$f":"COUNTIF('[1]Testee answer 2011'!AA427:AA442,\"A\")","v":6},{"$f":"COUNTIF('[1]Testee answer 2011'!AB427:AB442,\"A\")","v":2},{"$f":"COUNTIF('[1]Testee answer 2011'!AC427:AC442,\"A\")","v":0},{"$f":"COUNTIF('[1]Testee answer 2011'!AD427:AD442,\"A\")","v":5},{"$f":"COUNTIF('[1]Testee answer 2011'!AE427:AE442,\"A\")","v":1},{"$f":"COUNTIF('[1]Testee answer 2011'!AF427:AF442,\"A\")","v":1},{"$f":"COUNTIF('[1]Testee answer 2011'!AG427:AG442,\"A\")","v":3},{"$f":"COUNTIF('[1]Testee answer 2011'!AH427:AH442,\"A\")","v":7},{"$f":"COUNTIF('[1]Testee answer 2011'!AI427:AI442,\"A\")","v":3},{"$f":"COUNTIF('[1]Testee answer 2011'!AJ427:AJ442,\"A\")","v":5},{"$f":"COUNTIF('[1]Testee answer 2011'!AK427:AK442,\"A\")","v":4},{"$f":"COUNTIF('[1]Testee answer 2011'!AL427:AL442,\"A\")","v":1},{"$f":"COUNTIF('[1]Testee answer 2011'!AM427:AM442,\"A\")","v":1},{"$f":"COUNTIF('[1]Testee answer 2011'!AN427:AN442,\"A\")","v":1},{"$f":"COUNTIF('[1]Testee answer 2011'!AO427:AO442,\"A\")","v":5},{"$f":"COUNTIF('[1]Testee answer 2011'!AP427:AP442,\"A\")","v":2},{"$f":"COUNTIF('[1]Testee answer 2011'!AQ427:AQ442,\"A\")","v":2},{"$f":"COUNTIF('[1]Testee answer 2011'!AR427:AR442,\"A\")","v":1},{"$f":"COUNTIF('[1]Testee answer 2011'!AS427:AS442,\"A\")","v":0},{"$f":"COUNTIF('[1]Testee answer 2011'!AT427:AT442,\"A\")","v":2},{"$f":"COUNTIF('[1]Testee answer 2011'!AU427:AU442,\"A\")","v":0},{"$f":"COUNTIF('[1]Testee answer 2011'!AV427:AV442,\"A\")","v":0},{"$f":"COUNTIF('[1]Testee answer 2011'!AW427:AW442,\"A\")","v":7},{"$f":"COUNTIF('[1]Testee answer 2011'!AX427:AX442,\"A\")","v":5},{"$f":"COUNTIF('[1]Testee answer 2011'!AY427:AY442,\"A\")","v":4},{"$f":"COUNTIF('[1]Testee answer 2011'!AZ427:AZ442,\"A\")","v":5},{"$f":"COUNTIF('[1]Testee answer 2011'!BA427:BA442,\"A\")","v":14},{"$f":"COUNTIF('[1]Testee answer 2011'!BB427:BB442,\"A\")","v":6},{"$f":"COUNTIF('[1]Testee answer 2011'!BC427:BC442,\"A\")","v":3},{"$f":"COUNTIF('[1]Testee answer 2011'!BD427:BD442,\"A\")","v":6},{"$f":"COUNTIF('[1]Testee answer 2011'!BE427:BE442,\"A\")","v":11},{"$f":"COUNTIF('[1]Testee answer 2011'!BF427:BF442,\"A\")","v":3},{"$f":"COUNTIF('[1]Testee answer 2011'!BG427:BG442,\"A\")","v":11},{"$f":"COUNTIF('[1]Testee answer 2011'!BH427:BH442,\"A\")","v":6},{"$f":"COUNTIF('[1]Testee answer 2011'!BI427:BI442,\"A\")","v":0}]
["PLEng3",{"$f":"COUNTIF('[1]Testee answer 2011'!D427:D442,\"B\")","v":0},{"$f":"COUNTIF('[1]Testee answer 2011'!E427:E442,\"B\")","v":14},{"$f":"COUNTIF('[1]Testee answer 2011'!F427:F442,\"B\")","v":12},{"$f":"COUNTIF('[1]Testee answer 2011'!G427:G442,\"B\")","v":7},{"$f":"COUNTIF('[1]Testee answer 2011'!H427:H442,\"B\")","v":2},{"$f":"COUNTIF('[1]Testee answer 2011'!I427:I442,\"B\")","v":10},{"$f":"COUNTIF('[1]Testee answer 2011'!J427:J442,\"B\")","v":3},{"$f":"COUNTIF('[1]Testee answer 2011'!K427:K442,\"B\")","v":5},{"$f":"COUNTIF('[1]Testee answer 2011'!L427:L442,\"B\")","v":7},{"$f":"COUNTIF('[1]Testee answer 2011'!M427:M442,\"B\")","v":4},{"$f":"COUNTIF('[1]Testee answer 2011'!N427:N442,\"B\")","v":6},{"$f":"COUNTIF('[1]Testee answer 2011'!O427:O442,\"B\")","v":5},{"$f":"COUNTIF('[1]Testee answer 2011'!P427:P442,\"B\")","v":3},{"$f":"COUNTIF('[1]Testee answer 2011'!Q427:Q442,\"B\")","v":1},{"$f":"COUNTIF('[1]Testee answer 2011'!R427:R442,\"B\")","v":1},{"$f":"COUNTIF('[1]Testee answer 2011'!S427:S442,\"B\")","v":1},{"$f":"COUNTIF('[1]Testee answer 2011'!T427:T442,\"B\")","v":2},{"$f":"COUNTIF('[1]Testee answer 2011'!U427:U442,\"B\")","v":5},{"$f":"COUNTIF('[1]Testee answer 2011'!V427:V442,\"B\")","v":1},{"$f":"COUNTIF('[1]Testee answer 2011'!W427:W442,\"B\")","v":1},{"$f":"COUNTIF('[1]Testee answer 2011'!X427:X442,\"B\")","v":2},{"$f":"COUNTIF('[1]Testee answer 2011'!Y427:Y442,\"B\")","v":3},{"$f":"COUNTIF('[1]Testee answer 2011'!Z427:Z442,\"B\")","v":2},{"$f":"COUNTIF('[1]Testee answer 2011'!AA427:AA442,\"B\")","v":4},{"$f":"COUNTIF('[1]Testee answer 2011'!AB427:AB442,\"B\")","v":1},{"$f":"COUNTIF('[1]Testee answer 2011'!AC427:AC442,\"B\")","v":4},{"$f":"COUNTIF('[1]Testee answer 2011'!AD427:AD442,\"B\")","v":2},{"$f":"COUNTIF('[1]Testee answer 2011'!AE427:AE442,\"B\")","v":1},{"$f":"COUNTIF('[1]Testee answer 2011'!AF427:AF442,\"B\")","v":1},{"$f":"COUNTIF('[1]Testee answer 2011'!AG427:AG442,\"B\")","v":0},{"$f":"COUNTIF('[1]Testee answer 2011'!AH427:AH442,\"B\")","v":4},{"$f":"COUNTIF('[1]Testee answer 2011'!AI427:AI442,\"B\")","v":3},{"$f":"COUNTIF('[1]Testee answer 2011'!AJ427:AJ442,\"B\")","v":1},{"$f":"COUNTIF('[1]Testee answer 2011'!AK427:AK442,\"B\")","v":1},{"$f":"COUNTIF('[1]Testee answer 2011'!AL427:AL442,\"B\")","v":2},{"$f":"COUNTIF('[1]Testee answer 2011'!AM427:AM442,\"B\")","v":2},{"$f":"COUNTIF('[1]Testee answer 2011'!AN427:AN442,\"B\")","v":5},{"$f":"COUNTIF('[1]Testee answer 2011'!AO427:AO442,\"B\")","v":10},{"$f":"COUNTIF('[1]Testee answer 2011'!AP427:AP442,\"B\")","v":13},{"$f":"COUNTIF('[1]Testee answer 2011'!AQ427:AQ442,\"B\")","v":13},{"$f":"COUNTIF('[1]Testee answer 2011'!AR427:AR442,\"B\")","v":14},{"$f":"COUNTIF('[1]Testee answer 2011'!AS427:AS442,\"B\")","v":15},{"$f":"COUNTIF('[1]Testee answer 2011'!AT427:AT442,\"B\")","v":2},{"$f":"COUNTIF('[1]Testee answer 2011'!AU427:AU442,\"B\")","v":2},{"$f":"COUNTIF('[1]Testee answer 2011'!AV427:AV442,\"B\")","v":0},{"$f":"COUNTIF('[1]Testee answer 2011'!AW427:AW442,\"B\")","v":4},{"$f":"COUNTIF('[1]Testee answer 2011'!AX427:AX442,\"B\")","v":4},{"$f":"COUNTIF('[1]Testee answer 2011'!AY427:AY442,\"B\")","v":1},{"$f":"COUNTIF('[1]Testee answer 2011'!AZ427:AZ442,\"B\")","v":0},{"$f":"COUNTIF('[1]Testee answer 2011'!BA427:BA442,\"B\")","v":1},{"$f":"COUNTIF('[1]Testee answer 2011'!BB427:BB442,\"B\")","v":9},{"$f":"COUNTIF('[1]Testee answer 2011'!BC427:BC442,\"B\")","v":12},{"$f":"COUNTIF('[1]Testee answer 2011'!BD427:BD442,\"B\")","v":9},{"$f":"COUNTIF('[1]Testee answer 2011'!BE427:BE442,\"B\")","v":4},{"$f":"COUNTIF('[1]Testee answer 2011'!BF427:BF442,\"B\")","v":12},{"$f":"COUNTIF('[1]Testee answer 2011'!BG427:BG442,\"B\")","v":4},{"$f":"COUNTIF('[1]Testee answer 2011'!BH427:BH442,\"B\")","v":9},{"$f":"COUNTIF('[1]Testee answer 2011'!BI427:BI442,\"B\")","v":15}]
["PLEng3",{"$f":"COUNTIF('[1]Testee answer 2011'!D427:D442,\"C\")","v":15},{"$f":"COUNTIF('[1]Testee answer 2011'!E427:E442,\"C\")","v":0},{"$f":"COUNTIF('[1]Testee answer 2011'!F427:F442,\"C\")","v":1},{"$f":"COUNTIF('[1]Testee answer 2011'!G427:G442,\"C\")","v":0},{"$f":"COUNTIF('[1]Testee answer 2011'!H427:H442,\"C\")","v":4},{"$f":"COUNTIF('[1]Testee answer 2011'!I427:I442,\"C\")","v":5},{"$f":"COUNTIF('[1]Testee answer 2011'!J427:J442,\"C\")","v":2},{"$f":"COUNTIF('[1]Testee answer 2011'!K427:K442,\"C\")","v":0},{"$f":"COUNTIF('[1]Testee answer 2011'!L427:L442,\"C\")","v":1},{"$f":"COUNTIF('[1]Testee answer 2011'!M427:M442,\"C\")","v":2},{"$f":"COUNTIF('[1]Testee answer 2011'!N427:N442,\"C\")","v":2},{"$f":"COUNTIF('[1]Testee answer 2011'!O427:O442,\"C\")","v":3},{"$f":"COUNTIF('[1]Testee answer 2011'!P427:P442,\"C\")","v":6},{"$f":"COUNTIF('[1]Testee answer 2011'!Q427:Q442,\"C\")","v":6},{"$f":"COUNTIF('[1]Testee answer 2011'!R427:R442,\"C\")","v":9},{"$f":"COUNTIF('[1]Testee answer 2011'!S427:S442,\"C\")","v":10},{"$f":"COUNTIF('[1]Testee answer 2011'!T427:T442,\"C\")","v":1},{"$f":"COUNTIF('[1]Testee answer 2011'!U427:U442,\"C\")","v":4},{"$f":"COUNTIF('[1]Testee answer 2011'!V427:V442,\"C\")","v":6},{"$f":"COUNTIF('[1]Testee answer 2011'!W427:W442,\"C\")","v":8},{"$f":"COUNTIF('[1]Testee answer 2011'!X427:X442,\"C\")","v":8},{"$f":"COUNTIF('[1]Testee answer 2011'!Y427:Y442,\"C\")","v":6},{"$f":"COUNTIF('[1]Testee answer 2011'!Z427:Z442,\"C\")","v":6},{"$f":"COUNTIF('[1]Testee answer 2011'!AA427:AA442,\"C\")","v":3},{"$f":"COUNTIF('[1]Testee answer 2011'!AB427:AB442,\"C\")","v":3},{"$f":"COUNTIF('[1]Testee answer 2011'!AC427:AC442,\"C\")","v":1},{"$f":"COUNTIF('[1]Testee answer 2011'!AD427:AD442,\"C\")","v":3},{"$f":"COUNTIF('[1]Testee answer 2011'!AE427:AE442,\"C\")","v":1},{"$f":"COUNTIF('[1]Testee answer 2011'!AF427:AF442,\"C\")","v":1},{"$f":"COUNTIF('[1]Testee answer 2011'!AG427:AG442,\"C\")","v":6},{"$f":"COUNTIF('[1]Testee answer 2011'!AH427:AH442,\"C\")","v":3},{"$f":"COUNTIF('[1]Testee answer 2011'!AI427:AI442,\"C\")","v":7},{"$f":"COUNTIF('[1]Testee answer 2011'!AJ427:AJ442,\"C\")","v":3},{"$f":"COUNTIF('[1]Testee answer 2011'!AK427:AK442,\"C\")","v":4},{"$f":"COUNTIF('[1]Testee answer 2011'!AL427:AL442,\"C\")","v":7},{"$f":"COUNTIF('[1]Testee answer 2011'!AM427:AM442,\"C\")","v":6},{"$f":"COUNTIF('[1]Testee answer 2011'!AN427:AN442,\"C\")","v":4},{"$f":"COUNTIF('[1]Testee answer 2011'!AO427:AO442,\"C\")","v":0},{"$f":"COUNTIF('[1]Testee answer 2011'!AP427:AP442,\"C\")","v":0},{"$f":"COUNTIF('[1]Testee answer 2011'!AQ427:AQ442,\"C\")","v":0},{"$f":"COUNTIF('[1]Testee answer 2011'!AR427:AR442,\"C\")","v":0},{"$f":"COUNTIF('[1]Testee answer 2011'!AS427:AS442,\"C\")","v":0},{"$f":"COUNTIF('[1]Testee answer 2011'!AT427:AT442,\"C\")","v":7},{"$f":"COUNTIF('[1]Testee answer 2011'!AU427:AU442,\"C\")","v":2},{"$f":"COUNTIF('[1]Testee answer 2011'!AV427:AV442,\"C\")","v":7},{"$f":"COUNTIF('[1]Testee answer 2011'!AW427:AW442,\"C\")","v":3},{"$f":"COUNTIF('[1]Testee answer 2011'!AX427:AX442,\"C\")","v":5},{"$f":"COUNTIF('[1]Testee answer 2011'!AY427:AY442,\"C\")","v":6},{"$f":"COUNTIF('[1]Testee answer 2011'!AZ427:AZ442,\"C\")","v":5},{"$f":"COUNTIF('[1]Testee answer 2011'!BA427:BA442,\"C\")","v":0},{"$f":"COUNTIF('[1]Testee answer 2011'!BB427:BB442,\"C\")","v":0},{"$f":"COUNTIF('[1]Testee answer 2011'!BC427:BC442,\"C\")","v":0},{"$f":"COUNTIF('[1]Testee answer 2011'!BD427:BD442,\"C\")","v":0},{"$f":"COUNTIF('[1]Testee answer 2011'!BE427:BE442,\"C\")","v":0},{"$f":"COUNTIF('[1]Testee answer 2011'!BF427:BF442,\"C\")","v":0},{"$f":"COUNTIF('[1]Testee answer 2011'!BG427:BG442,\"C\")","v":0},{"$f":"COUNTIF('[1]Testee answer 2011'!BH427:BH442,\"C\")","v":0},{"$f":"COUNTIF('[1]Testee answer 2011'!BI427:BI442,\"C\")","v":0}]
["PLEng3",{"$f":"COUNTIF('[1]Testee answer 2011'!D427:D442,\"D\")","v":0},{"$f":"COUNTIF('[1]Testee answer 2011'!E427:E442,\"D\")","v":0},{"$f":"COUNTIF('[1]Testee answer 2011'!F427:F442,\"D\")","v":0},{"$f":"COUNTIF('[1]Testee answer 2011'!G427:G442,\"D\")","v":0},{"$f":"COUNTIF('[1]Testee answer 2011'!H427:H442,\"D\")","v":1},{"$f":"COUNTIF('[1]Testee answer 2011'!I427:I442,\"D\")","v":0},{"$f":"COUNTIF('[1]Testee answer 2011'!J427:J442,\"D\")","v":0},{"$f":"COUNTIF('[1]Testee answer 2011'!K427:K442,\"D\")","v":0},{"$f":"COUNTIF('[1]Testee answer 2011'!L427:L442,\"D\")","v":0},{"$f":"COUNTIF('[1]Testee answer 2011'!M427:M442,\"D\")","v":0},{"$f":"COUNTIF('[1]Testee answer 2011'!N427:N442,\"D\")","v":1},{"$f":"COUNTIF('[1]Testee answer 2011'!O427:O442,\"D\")","v":2},{"$f":"COUNTIF('[1]Testee answer 2011'!P427:P442,\"D\")","v":1},{"$f":"COUNTIF('[1]Testee answer 2011'!Q427:Q442,\"D\")","v":5},{"$f":"COUNTIF('[1]Testee answer 2011'!R427:R442,\"D\")","v":4},{"$f":"COUNTIF('[1]Testee answer 2011'!S427:S442,\"D\")","v":0},{"$f":"COUNTIF('[1]Testee answer 2011'!T427:T442,\"D\")","v":2},{"$f":"COUNTIF('[1]Testee answer 2011'!U427:U442,\"D\")","v":3},{"$f":"COUNTIF('[1]Testee answer 2011'!V427:V442,\"D\")","v":6},{"$f":"COUNTIF('[1]Testee answer 2011'!W427:W442,\"D\")","v":2},{"$f":"COUNTIF('[1]Testee answer 2011'!X427:X442,\"D\")","v":3},{"$f":"COUNTIF('[1]Testee answer 2011'!Y427:Y442,\"D\")","v":4},{"$f":"COUNTIF('[1]Testee answer 2011'!Z427:Z442,\"D\")","v":2},{"$f":"COUNTIF('[1]Testee answer 2011'!AA427:AA442,\"D\")","v":2},{"$f":"COUNTIF('[1]Testee answer 2011'!AB427:AB442,\"D\")","v":9},{"$f":"COUNTIF('[1]Testee answer 2011'!AC427:AC442,\"D\")","v":10},{"$f":"COUNTIF('[1]Testee answer 2011'!AD427:AD442,\"D\")","v":5},{"$f":"COUNTIF('[1]Testee answer 2011'!AE427:AE442,\"D\")","v":12},{"$f":"COUNTIF('[1]Testee answer 2011'!AF427:AF442,\"D\")","v":12},{"$f":"COUNTIF('[1]Testee answer 2011'!AG427:AG442,\"D\")","v":6},{"$f":"COUNTIF('[1]Testee answer 2011'!AH427:AH442,\"D\")","v":1},{"$f":"COUNTIF('[1]Testee answer 2011'!AI427:AI442,\"D\")","v":2},{"$f":"COUNTIF('[1]Testee answer 2011'!AJ427:AJ442,\"D\")","v":6},{"$f":"COUNTIF('[1]Testee answer 2011'!AK427:AK442,\"D\")","v":6},{"$f":"COUNTIF('[1]Testee answer 2011'!AL427:AL442,\"D\")","v":5},{"$f":"COUNTIF('[1]Testee answer 2011'!AM427:AM442,\"D\")","v":6},{"$f":"COUNTIF('[1]Testee answer 2011'!AN427:AN442,\"D\")","v":5},{"$f":"COUNTIF('[1]Testee answer 2011'!AO427:AO442,\"D\")","v":0},{"$f":"COUNTIF('[1]Testee answer 2011'!AP427:AP442,\"D\")","v":0},{"$f":"COUNTIF('[1]Testee answer 2011'!AQ427:AQ442,\"D\")","v":0},{"$f":"COUNTIF('[1]Testee answer 2011'!AR427:AR442,\"D\")","v":0},{"$f":"COUNTIF('[1]Testee answer 2011'!AS427:AS442,\"D\")","v":0},{"$f":"COUNTIF('[1]Testee answer 2011'!AT427:AT442,\"D\")","v":4},{"$f":"COUNTIF('[1]Testee answer 2011'!AU427:AU442,\"D\")","v":11},{"$f":"COUNTIF('[1]Testee answer 2011'!AV427:AV442,\"D\")","v":8},{"$f":"COUNTIF('[1]Testee answer 2011'!AW427:AW442,\"D\")","v":1},{"$f":"COUNTIF('[1]Testee answer 2011'!AX427:AX442,\"D\")","v":1},{"$f":"COUNTIF('[1]Testee answer 2011'!AY427:AY442,\"D\")","v":4},{"$f":"COUNTIF('[1]Testee answer 2011'!AZ427:AZ442,\"D\")","v":5},{"$f":"COUNTIF('[1]Testee answer 2011'!BA427:BA442,\"D\")","v":0},{"$f":"COUNTIF('[1]Testee answer 2011'!BB427:BB442,\"D\")","v":0},{"$f":"COUNTIF('[1]Testee answer 2011'!BC427:BC442,\"D\")","v":0},{"$f":"COUNTIF('[1]Testee answer 2011'!BD427:BD442,\"D\")","v":0},{"$f":"COUNTIF('[1]Testee answer 2011'!BE427:BE442,\"D\")","v":0},{"$f":"COUNTIF('[1]Testee answer 2011'!BF427:BF442,\"D\")","v":0},{"$f":"COUNTIF('[1]Testee answer 2011'!BG427:BG442,\"D\")","v":0},{"$f":"COUNTIF('[1]Testee answer 2011'!BH427:BH442,\"D\")","v":0},{"$f":"COUNTIF('[1]Testee answer 2011'!BI427:BI442,\"D\")","v":0}]
["PLNem1",{"$f":"COUNTIF('[1]Testee answer 2011'!D333:D341,\"A\")","v":5},{"$f":"COUNTIF('[1]Testee answer 2011'!E111:E122,\"A\")","v":6},{"$f":"COUNTIF('[1]Testee answer 2011'!F111:F122,\"A\")","v":4},{"$f":"COUNTIF('[1]Testee answer 2011'!G111:G122,\"A\")","v":9},{"$f":"COUNTIF('[1]Testee answer 2011'!H111:H122,\"A\")","v":6},{"$f":"COUNTIF('[1]Testee answer 2011'!I111:I122,\"A\")","v":1},{"$f":"COUNTIF('[1]Testee answer 2011'!J111:J122,\"A\")","v":6},{"$f":"COUNTIF('[1]Testee answer 2011'!K111:K122,\"A\")","v":7},{"$f":"COUNTIF('[1]Testee answer 2011'!L111:L122,\"A\")","v":7},{"$f":"COUNTIF('[1]Testee answer 2011'!M111:M122,\"A\")","v":7},{"$f":"COUNTIF('[1]Testee answer 2011'!N111:N122,\"A\")","v":4},{"$f":"COUNTIF('[1]Testee answer 2011'!O111:O122,\"A\")","v":2},{"$f":"COUNTIF('[1]Testee answer 2011'!P111:P122,\"A\")","v":0},{"$f":"COUNTIF('[1]Testee answer 2011'!Q111:Q122,\"A\")","v":3},{"$f":"COUNTIF('[1]Testee answer 2011'!R111:R122,\"A\")","v":2},{"$f":"COUNTIF('[1]Testee answer 2011'!S111:S122,\"A\")","v":1},{"$f":"COUNTIF('[1]Testee answer 2011'!T111:T122,\"A\")","v":1},{"$f":"COUNTIF('[1]Testee answer 2011'!U111:U122,\"A\")","v":5},{"$f":"COUNTIF('[1]Testee answer 2011'!V111:V122,\"A\")","v":0},{"$f":"COUNTIF('[1]Testee answer 2011'!W111:W122,\"A\")","v":4},{"$f":"COUNTIF('[1]Testee answer 2011'!X111:X122,\"A\")","v":2},{"$f":"COUNTIF('[1]Testee answer 2011'!Y111:Y122,\"A\")","v":9},{"$f":"COUNTIF('[1]Testee answer 2011'!Z111:Z122,\"A\")","v":10},{"$f":"COUNTIF('[1]Testee answer 2011'!AA111:AA122,\"A\")","v":1},{"$f":"COUNTIF('[1]Testee answer 2011'!AB111:AB122,\"A\")","v":0},{"$f":"COUNTIF('[1]Testee answer 2011'!AC111:AC122,\"A\")","v":4},{"$f":"COUNTIF('[1]Testee answer 2011'!AD111:AD122,\"A\")","v":7},{"$f":"COUNTIF('[1]Testee answer 2011'!AE111:AE122,\"A\")","v":3},{"$f":"COUNTIF('[1]Testee answer 2011'!AF111:AF122,\"A\")","v":0},{"$f":"COUNTIF('[1]Testee answer 2011'!AG111:AG122,\"A\")","v":2},{"$f":"COUNTIF('[1]Testee answer 2011'!AH111:AH122,\"A\")","v":7},{"$f":"COUNTIF('[1]Testee answer 2011'!AI111:AI122,\"A\")","v":5},{"$f":"COUNTIF('[1]Testee answer 2011'!AJ111:AJ122,\"A\")","v":1},{"$f":"COUNTIF('[1]Testee answer 2011'!AK111:AK122,\"A\")","v":2},{"$f":"COUNTIF('[1]Testee answer 2011'!AL111:AL122,\"A\")","v":1},{"$f":"COUNTIF('[1]Testee answer 2011'!AM111:AM122,\"A\")","v":3},{"$f":"COUNTIF('[1]Testee answer 2011'!AN111:AN122,\"A\")","v":4},{"$f":"COUNTIF('[1]Testee answer 2011'!AO111:AO122,\"A\")","v":1},{"$f":"COUNTIF('[1]Testee answer 2011'!AP111:AP122,\"A\")","v":3},{"$f":"COUNTIF('[1]Testee answer 2011'!AQ111:AQ122,\"A\")","v":1},{"$f":"COUNTIF('[1]Testee answer 2011'!AR111:AR122,\"A\")","v":1},{"$f":"COUNTIF('[1]Testee answer 2011'!AS111:AS122,\"A\")","v":1},{"$f":"COUNTIF('[1]Testee answer 2011'!AT111:AT122,\"A\")","v":1},{"$f":"COUNTIF('[1]Testee answer 2011'!AU111:AU122,\"A\")","v":0},{"$f":"COUNTIF('[1]Testee answer 2011'!AV111:AV122,\"A\")","v":1},{"$f":"COUNTIF('[1]Testee answer 2011'!AW111:AW122,\"A\")","v":7},{"$f":"COUNTIF('[1]Testee answer 2011'!AX111:AX122,\"A\")","v":5},{"$f":"COUNTIF('[1]Testee answer 2011'!AY111:AY122,\"A\")","v":3},{"$f":"COUNTIF('[1]Testee answer 2011'!AZ111:AZ122,\"A\")","v":2},{"$f":"COUNTIF('[1]Testee answer 2011'!BA111:BA122,\"A\")","v":7},{"$f":"COUNTIF('[1]Testee answer 2011'!BB111:BB122,\"A\")","v":3},{"$f":"COUNTIF('[1]Testee answer 2011'!BC111:BC122,\"A\")","v":0},{"$f":"COUNTIF('[1]Testee answer 2011'!BD111:BD122,\"A\")","v":6},{"$f":"COUNTIF('[1]Testee answer 2011'!BE111:BE122,\"A\")","v":9},{"$f":"COUNTIF('[1]Testee answer 2011'!BF111:BF122,\"A\")","v":0},{"$f":"COUNTIF('[1]Testee answer 2011'!BG111:BG122,\"A\")","v":12},{"$f":"COUNTIF('[1]Testee answer 2011'!BH111:BH122,\"A\")","v":1},{"$f":"COUNTIF('[1]Testee answer 2011'!BI111:BI122,\"A\")","v":3}]
["PLNem1",{"$f":"COUNTIF('[1]Testee answer 2011'!D333:D341,\"B\")","v":4},{"$f":"COUNTIF('[1]Testee answer 2011'!E111:E122,\"B\")","v":6},{"$f":"COUNTIF('[1]Testee answer 2011'!F111:F122,\"B\")","v":6},{"$f":"COUNTIF('[1]Testee answer 2011'!G111:G122,\"B\")","v":3},{"$f":"COUNTIF('[1]Testee answer 2011'!H111:H122,\"B\")","v":3},{"$f":"COUNTIF('[1]Testee answer 2011'!I111:I122,\"B\")","v":4},{"$f":"COUNTIF('[1]Testee answer 2011'!J111:J122,\"B\")","v":5},{"$f":"COUNTIF('[1]Testee answer 2011'!K111:K122,\"B\")","v":4},{"$f":"COUNTIF('[1]Testee answer 2011'!L111:L122,\"B\")","v":4},{"$f":"COUNTIF('[1]Testee answer 2011'!M111:M122,\"B\")","v":2},{"$f":"COUNTIF('[1]Testee answer 2011'!N111:N122,\"B\")","v":3},{"$f":"COUNTIF('[1]Testee answer 2011'!O111:O122,\"B\")","v":3},{"$f":"COUNTIF('[1]Testee answer 2011'!P111:P122,\"B\")","v":7},{"$f":"COUNTIF('[1]Testee answer 2011'!Q111:Q122,\"B\")","v":2},{"$f":"COUNTIF('[1]Testee answer 2011'!R111:R122,\"B\")","v":5},{"$f":"COUNTIF('[1]Testee answer 2011'!S111:S122,\"B\")","v":3},{"$f":"COUNTIF('[1]Testee answer 2011'!T111:T122,\"B\")","v":0},{"$f":"COUNTIF('[1]Testee answer 2011'!U111:U122,\"B\")","v":4},{"$f":"COUNTIF('[1]Testee answer 2011'!V111:V122,\"B\")","v":0},{"$f":"COUNTIF('[1]Testee answer 2011'!W111:W122,\"B\")","v":5},{"$f":"COUNTIF('[1]Testee answer 2011'!X111:X122,\"B\")","v":3},{"$f":"COUNTIF('[1]Testee answer 2011'!Y111:Y122,\"B\")","v":1},{"$f":"COUNTIF('[1]Testee answer 2011'!Z111:Z122,\"B\")","v":0},{"$f":"COUNTIF('[1]Testee answer 2011'!AA111:AA122,\"B\")","v":5},{"$f":"COUNTIF('[1]Testee answer 2011'!AB111:AB122,\"B\")","v":0},{"$f":"COUNTIF('[1]Testee answer 2011'!AC111:AC122,\"B\")","v":4},{"$f":"COUNTIF('[1]Testee answer 2011'!AD111:AD122,\"B\")","v":3},{"$f":"COUNTIF('[1]Testee answer 2011'!AE111:AE122,\"B\")","v":0},{"$f":"COUNTIF('[1]Testee answer 2011'!AF111:AF122,\"B\")","v":1},{"$f":"COUNTIF('[1]Testee answer 2011'!AG111:AG122,\"B\")","v":0},{"$f":"COUNTIF('[1]Testee answer 2011'!AH111:AH122,\"B\")","v":4},{"$f":"COUNTIF('[1]Testee answer 2011'!AI111:AI122,\"B\")","v":6},{"$f":"COUNTIF('[1]Testee answer 2011'!AJ111:AJ122,\"B\")","v":1},{"$f":"COUNTIF('[1]Testee answer 2011'!AK111:AK122,\"B\")","v":2},{"$f":"COUNTIF('[1]Testee answer 2011'!AL111:AL122,\"B\")","v":3},{"$f":"COUNTIF('[1]Testee answer 2011'!AM111:AM122,\"B\")","v":3},{"$f":"COUNTIF('[1]Testee answer 2011'!AN111:AN122,\"B\")","v":2},{"$f":"COUNTIF('[1]Testee answer 2011'!AO111:AO122,\"B\")","v":11},{"$f":"COUNTIF('[1]Testee answer 2011'!AP111:AP122,\"B\")","v":9},{"$f":"COUNTIF('[1]Testee answer 2011'!AQ111:AQ122,\"B\")","v":11},{"$f":"COUNTIF('[1]Testee answer 2011'!AR111:AR122,\"B\")","v":11},{"$f":"COUNTIF('[1]Testee answer 2011'!AS111:AS122,\"B\")","v":11},{"$f":"COUNTIF('[1]Testee answer 2011'!AT111:AT122,\"B\")","v":0},{"$f":"COUNTIF('[1]Testee answer 2011'!AU111:AU122,\"B\")","v":0},{"$f":"COUNTIF('[1]Testee answer 2011'!AV111:AV122,\"B\")","v":1},{"$f":"COUNTIF('[1]Testee answer 2011'!AW111:AW122,\"B\")","v":3},{"$f":"COUNTIF('[1]Testee answer 2011'!AX111:AX122,\"B\")","v":5},{"$f":"COUNTIF('[1]Testee answer 2011'!AY111:AY122,\"B\")","v":7},{"$f":"COUNTIF('[1]Testee answer 2011'!AZ111:AZ122,\"B\")","v":4},{"$f":"COUNTIF('[1]Testee answer 2011'!BA111:BA122,\"B\")","v":5},{"$f":"COUNTIF('[1]Testee answer 2011'!BB111:BB122,\"B\")","v":9},{"$f":"COUNTIF('[1]Testee answer 2011'!BC111:BC122,\"B\")","v":12},{"$f":"COUNTIF('[1]Testee answer 2011'!BD111:BD122,\"B\")","v":6},{"$f":"COUNTIF('[1]Testee answer 2011'!BE111:BE122,\"B\")","v":3},{"$f":"COUNTIF('[1]Testee answer 2011'!BF111:BF122,\"B\")","v":12},{"$f":"COUNTIF('[1]Testee answer 2011'!BG111:BG122,\"B\")","v":0},{"$f":"COUNTIF('[1]Testee answer 2011'!BH111:BH122,\"B\")","v":11},{"$f":"COUNTIF('[1]Testee answer 2011'!BI111:BI122,\"B\")","v":9}]
["PLNem1",{"$f":"COUNTIF('[1]Testee answer 2011'!D333:D341,\"C\")","v":0},{"$f":"COUNTIF('[1]Testee answer 2011'!E111:E122,\"C\")","v":0},{"$f":"COUNTIF('[1]Testee answer 2011'!F111:F122,\"C\")","v":2},{"$f":"COUNTIF('[1]Testee answer 2011'!G111:G122,\"C\")","v":0},{"$f":"COUNTIF('[1]Testee answer 2011'!H111:H122,\"C\")","v":1},{"$f":"COUNTIF('[1]Testee answer 2011'!I111:I122,\"C\")","v":5},{"$f":"COUNTIF('[1]Testee answer 2011'!J111:J122,\"C\")","v":1},{"$f":"COUNTIF('[1]Testee answer 2011'!K111:K122,\"C\")","v":1},{"$f":"COUNTIF('[1]Testee answer 2011'!L111:L122,\"C\")","v":1},{"$f":"COUNTIF('[1]Testee answer 2011'!M111:M122,\"C\")","v":3},{"$f":"COUNTIF('[1]Testee answer 2011'!N111:N122,\"C\")","v":5},{"$f":"COUNTIF('[1]Testee answer 2011'!O111:O122,\"C\")","v":7},{"$f":"COUNTIF('[1]Testee answer 2011'!P111:P122,\"C\")","v":5},{"$f":"COUNTIF('[1]Testee answer 2011'!Q111:Q122,\"C\")","v":2},{"$f":"COUNTIF('[1]Testee answer 2011'!R111:R122,\"C\")","v":3},{"$f":"COUNTIF('[1]Testee answer 2011'!S111:S122,\"C\")","v":1},{"$f":"COUNTIF('[1]Testee answer 2011'!T111:T122,\"C\")","v":7},{"$f":"COUNTIF('[1]Testee answer 2011'!U111:U122,\"C\")","v":3},{"$f":"COUNTIF('[1]Testee answer 2011'!V111:V122,\"C\")","v":2},{"$f":"COUNTIF('[1]Testee answer 2011'!W111:W122,\"C\")","v":1},{"$f":"COUNTIF('[1]Testee answer 2011'!X111:X122,\"C\")","v":3},{"$f":"COUNTIF('[1]Testee answer 2011'!Y111:Y122,\"C\")","v":1},{"$f":"COUNTIF('[1]Testee answer 2011'!Z111:Z122,\"C\")","v":2},{"$f":"COUNTIF('[1]Testee answer 2011'!AA111:AA122,\"C\")","v":6},{"$f":"COUNTIF('[1]Testee answer 2011'!AB111:AB122,\"C\")","v":6},{"$f":"COUNTIF('[1]Testee answer 2011'!AC111:AC122,\"C\")","v":2},{"$f":"COUNTIF('[1]Testee answer 2011'!AD111:AD122,\"C\")","v":1},{"$f":"COUNTIF('[1]Testee answer 2011'!AE111:AE122,\"C\")","v":1},{"$f":"COUNTIF('[1]Testee answer 2011'!AF111:AF122,\"C\")","v":2},{"$f":"COUNTIF('[1]Testee answer 2011'!AG111:AG122,\"C\")","v":3},{"$f":"COUNTIF('[1]Testee answer 2011'!AH111:AH122,\"C\")","v":1},{"$f":"COUNTIF('[1]Testee answer 2011'!AI111:AI122,\"C\")","v":1},{"$f":"COUNTIF('[1]Testee answer 2011'!AJ111:AJ122,\"C\")","v":3},{"$f":"COUNTIF('[1]Testee answer 2011'!AK111:AK122,\"C\")","v":3},{"$f":"COUNTIF('[1]Testee answer 2011'!AL111:AL122,\"C\")","v":3},{"$f":"COUNTIF('[1]Testee answer 2011'!AM111:AM122,\"C\")","v":6},{"$f":"COUNTIF('[1]Testee answer 2011'!AN111:AN122,\"C\")","v":5},{"$f":"COUNTIF('[1]Testee answer 2011'!AO111:AO122,\"C\")","v":0},{"$f":"COUNTIF('[1]Testee answer 2011'!AP111:AP122,\"C\")","v":0},{"$f":"COUNTIF('[1]Testee answer 2011'!AQ111:AQ122,\"C\")","v":0},{"$f":"COUNTIF('[1]Testee answer 2011'!AR111:AR122,\"C\")","v":0},{"$f":"COUNTIF('[1]Testee answer 2011'!AS111:AS122,\"C\")","v":0},{"$f":"COUNTIF('[1]Testee answer 2011'!AT111:AT122,\"C\")","v":3},{"$f":"COUNTIF('[1]Testee answer 2011'!AU111:AU122,\"C\")","v":1},{"$f":"COUNTIF('[1]Testee answer 2011'!AV111:AV122,\"C\")","v":5},{"$f":"COUNTIF('[1]Testee answer 2011'!AW111:AW122,\"C\")","v":2},{"$f":"COUNTIF('[1]Testee answer 2011'!AX111:AX122,\"C\")","v":2},{"$f":"COUNTIF('[1]Testee answer 2011'!AY111:AY122,\"C\")","v":2},{"$f":"COUNTIF('[1]Testee answer 2011'!AZ111:AZ122,\"C\")","v":4},{"$f":"COUNTIF('[1]Testee answer 2011'!BA111:BA122,\"C\")","v":0},{"$f":"COUNTIF('[1]Testee answer 2011'!BB111:BB122,\"C\")","v":0},{"$f":"COUNTIF('[1]Testee answer 2011'!BC111:BC122,\"C\")","v":0},{"$f":"COUNTIF('[1]Testee answer 2011'!BD111:BD122,\"C\")","v":0},{"$f":"COUNTIF('[1]Testee answer 2011'!BE111:BE122,\"C\")","v":0},{"$f":"COUNTIF('[1]Testee answer 2011'!BF111:BF122,\"C\")","v":0},{"$f":"COUNTIF('[1]Testee answer 2011'!BG111:BG122,\"C\")","v":0},{"$f":"COUNTIF('[1]Testee answer 2011'!BH111:BH122,\"C\")","v":0},{"$f":"COUNTIF('[1]Testee answer 2011'!BI111:BI122,\"C\")","v":0}]
["PLNem1",{"$f":"COUNTIF('[1]Testee answer 2011'!D333:D341,\"D\")","v":0},{"$f":"COUNTIF('[1]Testee answer 2011'!E111:E111,\"D\")","v":0},{"$f":"COUNTIF('[1]Testee answer 2011'!F111:F111,\"D\")","v":0},{"$f":"COUNTIF('[1]Testee answer 2011'!G111:G111,\"D\")","v":0},{"$f":"COUNTIF('[1]Testee answer 2011'!H111:H111,\"D\")","v":0},{"$f":"COUNTIF('[1]Testee answer 2011'!I111:I111,\"D\")","v":0},{"$f":"COUNTIF('[1]Testee answer 2011'!J111:J111,\"D\")","v":0},{"$f":"COUNTIF('[1]Testee answer 2011'!K111:K111,\"D\")","v":0},{"$f":"COUNTIF('[1]Testee answer 2011'!L111:L111,\"D\")","v":0},{"$f":"COUNTIF('[1]Testee answer 2011'!M111:M111,\"D\")","v":0},{"$f":"COUNTIF('[1]Testee answer 2011'!N111:N111,\"D\")","v":0},{"$f":"COUNTIF('[1]Testee answer 2011'!O111:O111,\"D\")","v":0},{"$f":"COUNTIF('[1]Testee answer 2011'!P111:P111,\"D\")","v":0},{"$f":"COUNTIF('[1]Testee answer 2011'!Q111:Q111,\"D\")","v":1},{"$f":"COUNTIF('[1]Testee answer 2011'!R111:R111,\"D\")","v":0},{"$f":"COUNTIF('[1]Testee answer 2011'!S111:S111,\"D\")","v":0},{"$f":"COUNTIF('[1]Testee answer 2011'!T111:T111,\"D\")","v":1},{"$f":"COUNTIF('[1]Testee answer 2011'!U111:U111,\"D\")","v":0},{"$f":"COUNTIF('[1]Testee answer 2011'!V111:V111,\"D\")","v":1},{"$f":"COUNTIF('[1]Testee answer 2011'!W111:W111,\"D\")","v":0},{"$f":"COUNTIF('[1]Testee answer 2011'!X111:X111,\"D\")","v":0},{"$f":"COUNTIF('[1]Testee answer 2011'!Y111:Y111,\"D\")","v":0},{"$f":"COUNTIF('[1]Testee answer 2011'!Z111:Z111,\"D\")","v":0},{"$f":"COUNTIF('[1]Testee answer 2011'!AA111:AA111,\"D\")","v":0},{"$f":"COUNTIF('[1]Testee answer 2011'!AB111:AB111,\"D\")","v":1},{"$f":"COUNTIF('[1]Testee answer 2011'!AC111:AC111,\"D\")","v":0},{"$f":"COUNTIF('[1]Testee answer 2011'!AD111:AD111,\"D\")","v":0},{"$f":"COUNTIF('[1]Testee answer 2011'!AE111:AE111,\"D\")","v":1},{"$f":"COUNTIF('[1]Testee answer 2011'!AF111:AF111,\"D\")","v":1},{"$f":"COUNTIF('[1]Testee answer 2011'!AG111:AG111,\"D\")","v":1},{"$f":"COUNTIF('[1]Testee answer 2011'!AH111:AH111,\"D\")","v":0},{"$f":"COUNTIF('[1]Testee answer 2011'!AI111:AI111,\"D\")","v":0},{"$f":"COUNTIF('[1]Testee answer 2011'!AJ111:AJ111,\"D\")","v":1},{"$f":"COUNTIF('[1]Testee answer 2011'!AK111:AK111,\"D\")","v":1},{"$f":"COUNTIF('[1]Testee answer 2011'!AL111:AL111,\"D\")","v":1},{"$f":"COUNTIF('[1]Testee answer 2011'!AM111:AM111,\"D\")","v":0},{"$f":"COUNTIF('[1]Testee answer 2011'!AN111:AN111,\"D\")","v":1},{"$f":"COUNTIF('[1]Testee answer 2011'!AO111:AO111,\"D\")","v":0},{"$f":"COUNTIF('[1]Testee answer 2011'!AP111:AP111,\"D\")","v":0},{"$f":"COUNTIF('[1]Testee answer 2011'!AQ111:AQ111,\"D\")","v":0},{"$f":"COUNTIF('[1]Testee answer 2011'!AR111:AR111,\"D\")","v":0},{"$f":"COUNTIF('[1]Testee answer 2011'!AS111:AS111,\"D\")","v":0},{"$f":"COUNTIF('[1]Testee answer 2011'!AT111:AT111,\"D\")","v":0},{"$f":"COUNTIF('[1]Testee answer 2011'!AU111:AU111,\"D\")","v":1},{"$f":"COUNTIF('[1]Testee answer 2011'!AV111:AV111,\"D\")","v":0},{"$f":"COUNTIF('[1]Testee answer 2011'!AW111:AW111,\"D\")","v":0},{"$f":"COUNTIF('[1]Testee answer 2011'!AX111:AX111,\"D\")","v":0},{"$f":"COUNTIF('[1]Testee answer 2011'!AY111:AY111,\"D\")","v":0},{"$f":"COUNTIF('[1]Testee answer 2011'!AZ111:AZ111,\"D\")","v":0},{"$f":"COUNTIF('[1]Testee answer 2011'!BA111:BA111,\"D\")","v":0},{"$f":"COUNTIF('[1]Testee answer 2011'!BB111:BB111,\"D\")","v":0},{"$f":"COUNTIF('[1]Testee answer 2011'!BC111:BC111,\"D\")","v":0},{"$f":"COUNTIF('[1]Testee answer 2011'!BD111:BD111,\"D\")","v":0},{"$f":"COUNTIF('[1]Testee answer 2011'!BE111:BE111,\"D\")","v":0},{"$f":"COUNTIF('[1]Testee answer 2011'!BF111:BF111,\"D\")","v":0},{"$f":"COUNTIF('[1]Testee answer 2011'!BG111:BG111,\"D\")","v":0},{"$f":"COUNTIF('[1]Testee answer 2011'!BH111:BH111,\"D\")","v":0},{"$f":"COUNTIF('[1]Testee answer 2011'!BI111:BI111,\"D\")","v":0}]
["PLNem2",{"$f":"COUNTIF('[1]Testee answer 2011'!D342:D346,\"A\")","v":0},{"$f":"COUNTIF('[1]Testee answer 2011'!E342:E346,\"A\")","v":1},{"$f":"COUNTIF('[1]Testee answer 2011'!F342:F346,\"A\")","v":3},{"$f":"COUNTIF('[1]Testee answer 2011'!G342:G346,\"A\")","v":3},{"$f":"COUNTIF('[1]Testee answer 2011'!H342:H346,\"A\")","v":3},{"$f":"COUNTIF('[1]Testee answer 2011'!I342:I346,\"A\")","v":0},{"$f":"COUNTIF('[1]Testee answer 2011'!J342:J346,\"A\")","v":4},{"$f":"COUNTIF('[1]Testee answer 2011'!K342:K346,\"A\")","v":0},{"$f":"COUNTIF('[1]Testee answer 2011'!L342:L346,\"A\")","v":3},{"$f":"COUNTIF('[1]Testee answer 2011'!M342:M346,\"A\")","v":4},{"$f":"COUNTIF('[1]Testee answer 2011'!N342:N346,\"A\")","v":3},{"$f":"COUNTIF('[1]Testee answer 2011'!O342:O346,\"A\")","v":1},{"$f":"COUNTIF('[1]Testee answer 2011'!P342:P346,\"A\")","v":1},{"$f":"COUNTIF('[1]Testee answer 2011'!Q342:Q346,\"A\")","v":1},{"$f":"COUNTIF('[1]Testee answer 2011'!R342:R346,\"A\")","v":1},{"$f":"COUNTIF('[1]Testee answer 2011'!S342:S346,\"A\")","v":0},{"$f":"COUNTIF('[1]Testee answer 2011'!T342:T346,\"A\")","v":2},{"$f":"COUNTIF('[1]Testee answer 2011'!U342:U346,\"A\")","v":3},{"$f":"COUNTIF('[1]Testee answer 2011'!V342:V346,\"A\")","v":1},{"$f":"COUNTIF('[1]Testee answer 2011'!W342:W346,\"A\")","v":0},{"$f":"COUNTIF('[1]Testee answer 2011'!X342:X346,\"A\")","v":2},{"$f":"COUNTIF('[1]Testee answer 2011'!Y342:Y346,\"A\")","v":0},{"$f":"COUNTIF('[1]Testee answer 2011'!Z342:Z346,\"A\")","v":2},{"$f":"COUNTIF('[1]Testee answer 2011'!AA342:AA346,\"A\")","v":2},{"$f":"COUNTIF('[1]Testee answer 2011'!AB342:AB346,\"A\")","v":0},{"$f":"COUNTIF('[1]Testee answer 2011'!AC342:AC346,\"A\")","v":0},{"$f":"COUNTIF('[1]Testee answer 2011'!AD342:AD346,\"A\")","v":2},{"$f":"COUNTIF('[1]Testee answer 2011'!AE342:AE346,\"A\")","v":1},{"$f":"COUNTIF('[1]Testee answer 2011'!AF342:AF346,\"A\")","v":1},{"$f":"COUNTIF('[1]Testee answer 2011'!AG342:AG346,\"A\")","v":2},{"$f":"COUNTIF('[1]Testee answer 2011'!AH342:AH346,\"A\")","v":3},{"$f":"COUNTIF('[1]Testee answer 2011'!AI342:AI346,\"A\")","v":2},{"$f":"COUNTIF('[1]Testee answer 2011'!AJ342:AJ346,\"A\")","v":1},{"$f":"COUNTIF('[1]Testee answer 2011'!AK342:AK346,\"A\")","v":1},{"$f":"COUNTIF('[1]Testee answer 2011'!AL342:AL346,\"A\")","v":0},{"$f":"COUNTIF('[1]Testee answer 2011'!AM342:AM346,\"A\")","v":0},{"$f":"COUNTIF('[1]Testee answer 2011'!AN342:AN346,\"A\")","v":1},{"$f":"COUNTIF('[1]Testee answer 2011'!AO342:AO346,\"A\")","v":3},{"$f":"COUNTIF('[1]Testee answer 2011'!AP342:AP346,\"A\")","v":0},{"$f":"COUNTIF('[1]Testee answer 2011'!AQ342:AQ346,\"A\")","v":0},{"$f":"COUNTIF('[1]Testee answer 2011'!AR342:AR346,\"A\")","v":0},{"$f":"COUNTIF('[1]Testee answer 2011'!AS342:AS346,\"A\")","v":0},{"$f":"COUNTIF('[1]Testee answer 2011'!AT342:AT346,\"A\")","v":0},{"$f":"COUNTIF('[1]Testee answer 2011'!AU342:AU346,\"A\")","v":0},{"$f":"COUNTIF('[1]Testee answer 2011'!AV342:AV346,\"A\")","v":1},{"$f":"COUNTIF('[1]Testee answer 2011'!AW342:AW346,\"A\")","v":4},{"$f":"COUNTIF('[1]Testee answer 2011'!AX342:AX346,\"A\")","v":3},{"$f":"COUNTIF('[1]Testee answer 2011'!AY342:AY346,\"A\")","v":2},{"$f":"COUNTIF('[1]Testee answer 2011'!AZ342:AZ346,\"A\")","v":3},{"$f":"COUNTIF('[1]Testee answer 2011'!BA342:BA346,\"A\")","v":4},{"$f":"COUNTIF('[1]Testee answer 2011'!BB342:BB346,\"A\")","v":1},{"$f":"COUNTIF('[1]Testee answer 2011'!BC342:BC346,\"A\")","v":0},{"$f":"COUNTIF('[1]Testee answer 2011'!BD342:BD346,\"A\")","v":3},{"$f":"COUNTIF('[1]Testee answer 2011'!BE342:BE346,\"A\")","v":3},{"$f":"COUNTIF('[1]Testee answer 2011'!BF342:BF346,\"A\")","v":0},{"$f":"COUNTIF('[1]Testee answer 2011'!BG342:BG346,\"A\")","v":5},{"$f":"COUNTIF('[1]Testee answer 2011'!BH342:BH346,\"A\")","v":1},{"$f":"COUNTIF('[1]Testee answer 2011'!BI342:BI346,\"A\")","v":0}]
["PLNem2",{"$f":"COUNTIF('[1]Testee answer 2011'!D342:D346,\"B\")","v":1},{"$f":"COUNTIF('[1]Testee answer 2011'!E342:E346,\"B\")","v":4},{"$f":"COUNTIF('[1]Testee answer 2011'!F342:F346,\"B\")","v":2},{"$f":"COUNTIF('[1]Testee answer 2011'!G342:G346,\"B\")","v":2},{"$f":"COUNTIF('[1]Testee answer 2011'!H342:H346,\"B\")","v":1},{"$f":"COUNTIF('[1]Testee answer 2011'!I342:I346,\"B\")","v":3},{"$f":"COUNTIF('[1]Testee answer 2011'!J342:J346,\"B\")","v":1},{"$f":"COUNTIF('[1]Testee answer 2011'!K342:K346,\"B\")","v":5},{"$f":"COUNTIF('[1]Testee answer 2011'!L342:L346,\"B\")","v":2},{"$f":"COUNTIF('[1]Testee answer 2011'!M342:M346,\"B\")","v":1},{"$f":"COUNTIF('[1]Testee answer 2011'!N342:N346,\"B\")","v":2},{"$f":"COUNTIF('[1]Testee answer 2011'!O342:O346,\"B\")","v":2},{"$f":"COUNTIF('[1]Testee answer 2011'!P342:P346,\"B\")","v":2},{"$f":"COUNTIF('[1]Testee answer 2011'!Q342:Q346,\"B\")","v":1},{"$f":"COUNTIF('[1]Testee answer 2011'!R342:R346,\"B\")","v":2},{"$f":"COUNTIF('[1]Testee answer 2011'!S342:S346,\"B\")","v":1},{"$f":"COUNTIF('[1]Testee answer 2011'!T342:T346,\"B\")","v":2},{"$f":"COUNTIF('[1]Testee answer 2011'!U342:U346,\"B\")","v":1},{"$f":"COUNTIF('[1]Testee answer 2011'!V342:V346,\"B\")","v":0},{"$f":"COUNTIF('[1]Testee answer 2011'!W342:W346,\"B\")","v":2},{"$f":"COUNTIF('[1]Testee answer 2011'!X342:X346,\"B\")","v":1},{"$f":"COUNTIF('[1]Testee answer 2011'!Y342:Y346,\"B\")","v":1},{"$f":"COUNTIF('[1]Testee answer 2011'!Z342:Z346,\"B\")","v":0},{"$f":"COUNTIF('[1]Testee answer 2011'!AA342:AA346,\"B\")","v":1},{"$f":"COUNTIF('[1]Testee answer 2011'!AB342:AB346,\"B\")","v":1},{"$f":"COUNTIF('[1]Testee answer 2011'!AC342:AC346,\"B\")","v":1},{"$f":"COUNTIF('[1]Testee answer 2011'!AD342:AD346,\"B\")","v":0},{"$f":"COUNTIF('[1]Testee answer 2011'!AE342:AE346,\"B\")","v":2},{"$f":"COUNTIF('[1]Testee answer 2011'!AF342:AF346,\"B\")","v":0},{"$f":"COUNTIF('[1]Testee answer 2011'!AG342:AG346,\"B\")","v":1},{"$f":"COUNTIF('[1]Testee answer 2011'!AH342:AH346,\"B\")","v":1},{"$f":"COUNTIF('[1]Testee answer 2011'!AI342:AI346,\"B\")","v":2},{"$f":"COUNTIF('[1]Testee answer 2011'!AJ342:AJ346,\"B\")","v":0},{"$f":"COUNTIF('[1]Testee answer 2011'!AK342:AK346,\"B\")","v":0},{"$f":"COUNTIF('[1]Testee answer 2011'!AL342:AL346,\"B\")","v":2},{"$f":"COUNTIF('[1]Testee answer 2011'!AM342:AM346,\"B\")","v":0},{"$f":"COUNTIF('[1]Testee answer 2011'!AN342:AN346,\"B\")","v":1},{"$f":"COUNTIF('[1]Testee answer 2011'!AO342:AO346,\"B\")","v":2},{"$f":"COUNTIF('[1]Testee answer 2011'!AP342:AP346,\"B\")","v":5},{"$f":"COUNTIF('[1]Testee answer 2011'!AQ342:AQ346,\"B\")","v":5},{"$f":"COUNTIF('[1]Testee answer 2011'!AR342:AR346,\"B\")","v":5},{"$f":"COUNTIF('[1]Testee answer 2011'!AS342:AS346,\"B\")","v":5},{"$f":"COUNTIF('[1]Testee answer 2011'!AT342:AT346,\"B\")","v":1},{"$f":"COUNTIF('[1]Testee answer 2011'!AU342:AU346,\"B\")","v":0},{"$f":"COUNTIF('[1]Testee answer 2011'!AV342:AV346,\"B\")","v":2},{"$f":"COUNTIF('[1]Testee answer 2011'!AW342:AW346,\"B\")","v":1},{"$f":"COUNTIF('[1]Testee answer 2011'!AX342:AX346,\"B\")","v":2},{"$f":"COUNTIF('[1]Testee answer 2011'!AY342:AY346,\"B\")","v":1},{"$f":"COUNTIF('[1]Testee answer 2011'!AZ342:AZ346,\"B\")","v":1},{"$f":"COUNTIF('[1]Testee answer 2011'!BA342:BA346,\"B\")","v":1},{"$f":"COUNTIF('[1]Testee answer 2011'!BB342:BB346,\"B\")","v":4},{"$f":"COUNTIF('[1]Testee answer 2011'!BC342:BC346,\"B\")","v":5},{"$f":"COUNTIF('[1]Testee answer 2011'!BD342:BD346,\"B\")","v":2},{"$f":"COUNTIF('[1]Testee answer 2011'!BE342:BE346,\"B\")","v":2},{"$f":"COUNTIF('[1]Testee answer 2011'!BF342:BF346,\"B\")","v":5},{"$f":"COUNTIF('[1]Testee answer 2011'!BG342:BG346,\"B\")","v":0},{"$f":"COUNTIF('[1]Testee answer 2011'!BH342:BH346,\"B\")","v":4},{"$f":"COUNTIF('[1]Testee answer 2011'!BI342:BI346,\"B\")","v":5}]
["PLNem2",{"$f":"COUNTIF('[1]Testee answer 2011'!D342:D346,\"C\")","v":4},{"$f":"COUNTIF('[1]Testee answer 2011'!E342:E346,\"C\")","v":0},{"$f":"COUNTIF('[1]Testee answer 2011'!F342:F346,\"C\")","v":0},{"$f":"COUNTIF('[1]Testee answer 2011'!G342:G346,\"C\")","v":0},{"$f":"COUNTIF('[1]Testee answer 2011'!H342:H346,\"C\")","v":1},{"$f":"COUNTIF('[1]Testee answer 2011'!I342:I346,\"C\")","v":2},{"$f":"COUNTIF('[1]Testee answer 2011'!J342:J346,\"C\")","v":0},{"$f":"COUNTIF('[1]Testee answer 2011'!K342:K346,\"C\")","v":0},{"$f":"COUNTIF('[1]Testee answer 2011'!L342:L346,\"C\")","v":0},{"$f":"COUNTIF('[1]Testee answer 2011'!M342:M346,\"C\")","v":0},{"$f":"COUNTIF('[1]Testee answer 2011'!N342:N346,\"C\")","v":0},{"$f":"COUNTIF('[1]Testee answer 2011'!O342:O346,\"C\")","v":2},{"$f":"COUNTIF('[1]Testee answer 2011'!P342:P346,\"C\")","v":2},{"$f":"COUNTIF('[1]Testee answer 2011'!Q342:Q346,\"C\")","v":2},{"$f":"COUNTIF('[1]Testee answer 2011'!R342:R346,\"C\")","v":2},{"$f":"COUNTIF('[1]Testee answer 2011'!S342:S346,\"C\")","v":4},{"$f":"COUNTIF('[1]Testee answer 2011'!T342:T346,\"C\")","v":0},{"$f":"COUNTIF('[1]Testee answer 2011'!U342:U346,\"C\")","v":0},{"$f":"COUNTIF('[1]Testee answer 2011'!V342:V346,\"C\")","v":0},{"$f":"COUNTIF('[1]Testee answer 2011'!W342:W346,\"C\")","v":2},{"$f":"COUNTIF('[1]Testee answer 2011'!X342:X346,\"C\")","v":1},{"$f":"COUNTIF('[1]Testee answer 2011'!Y342:Y346,\"C\")","v":3},{"$f":"COUNTIF('[1]Testee answer 2011'!Z342:Z346,\"C\")","v":3},{"$f":"COUNTIF('[1]Testee answer 2011'!AA342:AA346,\"C\")","v":2},{"$f":"COUNTIF('[1]Testee answer 2011'!AB342:AB346,\"C\")","v":1},{"$f":"COUNTIF('[1]Testee answer 2011'!AC342:AC346,\"C\")","v":2},{"$f":"COUNTIF('[1]Testee answer 2011'!AD342:AD346,\"C\")","v":2},{"$f":"COUNTIF('[1]Testee answer 2011'!AE342:AE346,\"C\")","v":1},{"$f":"COUNTIF('[1]Testee answer 2011'!AF342:AF346,\"C\")","v":1},{"$f":"COUNTIF('[1]Testee answer 2011'!AG342:AG346,\"C\")","v":2},{"$f":"COUNTIF('[1]Testee answer 2011'!AH342:AH346,\"C\")","v":1},{"$f":"COUNTIF('[1]Testee answer 2011'!AI342:AI346,\"C\")","v":1},{"$f":"COUNTIF('[1]Testee answer 2011'!AJ342:AJ346,\"C\")","v":1},{"$f":"COUNTIF('[1]Testee answer 2011'!AK342:AK346,\"C\")","v":2},{"$f":"COUNTIF('[1]Testee answer 2011'!AL342:AL346,\"C\")","v":3},{"$f":"COUNTIF('[1]Testee answer 2011'!AM342:AM346,\"C\")","v":4},{"$f":"COUNTIF('[1]Testee answer 2011'!AN342:AN346,\"C\")","v":3},{"$f":"COUNTIF('[1]Testee answer 2011'!AO342:AO346,\"C\")","v":0},{"$f":"COUNTIF('[1]Testee answer 2011'!AP342:AP346,\"C\")","v":0},{"$f":"COUNTIF('[1]Testee answer 2011'!AQ342:AQ346,\"C\")","v":0},{"$f":"COUNTIF('[1]Testee answer 2011'!AR342:AR346,\"C\")","v":0},{"$f":"COUNTIF('[1]Testee answer 2011'!AS342:AS346,\"C\")","v":0},{"$f":"COUNTIF('[1]Testee answer 2011'!AT342:AT346,\"C\")","v":4},{"$f":"COUNTIF('[1]Testee answer 2011'!AU342:AU346,\"C\")","v":0},{"$f":"COUNTIF('[1]Testee answer 2011'!AV342:AV346,\"C\")","v":0},{"$f":"COUNTIF('[1]Testee answer 2011'!AW342:AW346,\"C\")","v":0},{"$f":"COUNTIF('[1]Testee answer 2011'!AX342:AX346,\"C\")","v":0},{"$f":"COUNTIF('[1]Testee answer 2011'!AY342:AY346,\"C\")","v":1},{"$f":"COUNTIF('[1]Testee answer 2011'!AZ342:AZ346,\"C\")","v":0},{"$f":"COUNTIF('[1]Testee answer 2011'!BA342:BA346,\"C\")","v":0},{"$f":"COUNTIF('[1]Testee answer 2011'!BB342:BB346,\"C\")","v":0},{"$f":"COUNTIF('[1]Testee answer 2011'!BC342:BC346,\"C\")","v":0},{"$f":"COUNTIF('[1]Testee answer 2011'!BD342:BD346,\"C\")","v":0},{"$f":"COUNTIF('[1]Testee answer 2011'!BE342:BE346,\"C\")","v":0},{"$f":"COUNTIF('[1]Testee answer 2011'!BF342:BF346,\"C\")","v":0},{"$f":"COUNTIF('[1]Testee answer 2011'!BG342:BG346,\"C\")","v":0},{"$f":"COUNTIF('[1]Testee answer 2011'!BH342:BH346,\"C\")","v":0},{"$f":"COUNTIF('[1]Testee answer 2011'!BI342:BI346,\"C\")","v":0}]
["PLNem2",{"$f":"COUNTIF('[1]Testee answer 2011'!D342:D346,\"D\")","v":0},{"$f":"COUNTIF('[1]Testee answer 2011'!E342:E346,\"D\")","v":0},{"$f":"COUNTIF('[1]Testee answer 2011'!F342:F346,\"D\")","v":0},{"$f":"COUNTIF('[1]Testee answer 2011'!G342:G346,\"D\")","v":0},{"$f":"COUNTIF('[1]Testee answer 2011'!H342:H346,\"D\")","v":0},{"$f":"COUNTIF('[1]Testee answer 2011'!I342:I346,\"D\")","v":0},{"$f":"COUNTIF('[1]Testee answer 2011'!J342:J346,\"D\")","v":0},{"$f":"COUNTIF('[1]Testee answer 2011'!K342:K346,\"D\")","v":0},{"$f":"COUNTIF('[1]Testee answer 2011'!L342:L346,\"D\")","v":0},{"$f":"COUNTIF('[1]Testee answer 2011'!M342:M346,\"D\")","v":0},{"$f":"COUNTIF('[1]Testee answer 2011'!N342:N346,\"D\")","v":0},{"$f":"COUNTIF('[1]Testee answer 2011'!O342:O346,\"D\")","v":0},{"$f":"COUNTIF('[1]Testee answer 2011'!P342:P346,\"D\")","v":0},{"$f":"COUNTIF('[1]Testee answer 2011'!Q342:Q346,\"D\")","v":1},{"$f":"COUNTIF('[1]Testee answer 2011'!R342:R346,\"D\")","v":0},{"$f":"COUNTIF('[1]Testee answer 2011'!S342:S346,\"D\")","v":0},{"$f":"COUNTIF('[1]Testee answer 2011'!T342:T346,\"D\")","v":1},{"$f":"COUNTIF('[1]Testee answer 2011'!U342:U346,\"D\")","v":1},{"$f":"COUNTIF('[1]Testee answer 2011'!V342:V346,\"D\")","v":4},{"$f":"COUNTIF('[1]Testee answer 2011'!W342:W346,\"D\")","v":1},{"$f":"COUNTIF('[1]Testee answer 2011'!X342:X346,\"D\")","v":1},{"$f":"COUNTIF('[1]Testee answer 2011'!Y342:Y346,\"D\")","v":1},{"$f":"COUNTIF('[1]Testee answer 2011'!Z342:Z346,\"D\")","v":0},{"$f":"COUNTIF('[1]Testee answer 2011'!AA342:AA346,\"D\")","v":0},{"$f":"COUNTIF('[1]Testee answer 2011'!AB342:AB346,\"D\")","v":3},{"$f":"COUNTIF('[1]Testee answer 2011'!AC342:AC346,\"D\")","v":2},{"$f":"COUNTIF('[1]Testee answer 2011'!AD342:AD346,\"D\")","v":1},{"$f":"COUNTIF('[1]Testee answer 2011'!AE342:AE346,\"D\")","v":1},{"$f":"COUNTIF('[1]Testee answer 2011'!AF342:AF346,\"D\")","v":3},{"$f":"COUNTIF('[1]Testee answer 2011'!AG342:AG346,\"D\")","v":0},{"$f":"COUNTIF('[1]Testee answer 2011'!AH342:AH346,\"D\")","v":0},{"$f":"COUNTIF('[1]Testee answer 2011'!AI342:AI346,\"D\")","v":0},{"$f":"COUNTIF('[1]Testee answer 2011'!AJ342:AJ346,\"D\")","v":3},{"$f":"COUNTIF('[1]Testee answer 2011'!AK342:AK346,\"D\")","v":2},{"$f":"COUNTIF('[1]Testee answer 2011'!AL342:AL346,\"D\")","v":0},{"$f":"COUNTIF('[1]Testee answer 2011'!AM342:AM346,\"D\")","v":1},{"$f":"COUNTIF('[1]Testee answer 2011'!AN342:AN346,\"D\")","v":0},{"$f":"COUNTIF('[1]Testee answer 2011'!AO342:AO346,\"D\")","v":0},{"$f":"COUNTIF('[1]Testee answer 2011'!AP342:AP346,\"D\")","v":0},{"$f":"COUNTIF('[1]Testee answer 2011'!AQ342:AQ346,\"D\")","v":0},{"$f":"COUNTIF('[1]Testee answer 2011'!AR342:AR346,\"D\")","v":0},{"$f":"COUNTIF('[1]Testee answer 2011'!AS342:AS346,\"D\")","v":0},{"$f":"COUNTIF('[1]Testee answer 2011'!AT342:AT346,\"D\")","v":0},{"$f":"COUNTIF('[1]Testee answer 2011'!AU342:AU346,\"D\")","v":5},{"$f":"COUNTIF('[1]Testee answer 2011'!AV342:AV346,\"D\")","v":2},{"$f":"COUNTIF('[1]Testee answer 2011'!AW342:AW346,\"D\")","v":0},{"$f":"COUNTIF('[1]Testee answer 2011'!AX342:AX346,\"D\")","v":0},{"$f":"COUNTIF('[1]Testee answer 2011'!AY342:AY346,\"D\")","v":1},{"$f":"COUNTIF('[1]Testee answer 2011'!AZ342:AZ346,\"D\")","v":1},{"$f":"COUNTIF('[1]Testee answer 2011'!BA342:BA346,\"D\")","v":0},{"$f":"COUNTIF('[1]Testee answer 2011'!BB342:BB346,\"D\")","v":0},{"$f":"COUNTIF('[1]Testee answer 2011'!BC342:BC346,\"D\")","v":0},{"$f":"COUNTIF('[1]Testee answer 2011'!BD342:BD346,\"D\")","v":0},{"$f":"COUNTIF('[1]Testee answer 2011'!BE342:BE346,\"D\")","v":0},{"$f":"COUNTIF('[1]Testee answer 2011'!BF342:BF346,\"D\")","v":0},{"$f":"COUNTIF('[1]Testee answer 2011'!BG342:BG346,\"D\")","v":0},{"$f":"COUNTIF('[1]Testee answer 2011'!BH342:BH346,\"D\")","v":0},{"$f":"COUNTIF('[1]Testee answer 2011'!BI342:BI346,\"D\")","v":0}]
["PLNem3",{"$f":"COUNTIF('[1]Testee answer 2011'!D347:D352,\"A\")","v":0},{"$f":"COUNTIF('[1]Testee answer 2011'!E347:E352,\"A\")","v":2},{"$f":"COUNTIF('[1]Testee answer 2011'!F347:F352,\"A\")","v":0},{"$f":"COUNTIF('[1]Testee answer 2011'!G347:G352,\"A\")","v":2},{"$f":"COUNTIF('[1]Testee answer 2011'!H347:H352,\"A\")","v":1},{"$f":"COUNTIF('[1]Testee answer 2011'!I347:I352,\"A\")","v":0},{"$f":"COUNTIF('[1]Testee answer 2011'!J347:J352,\"A\")","v":5},{"$f":"COUNTIF('[1]Testee answer 2011'!K347:K352,\"A\")","v":2},{"$f":"COUNTIF('[1]Testee answer 2011'!L347:L352,\"A\")","v":5},{"$f":"COUNTIF('[1]Testee answer 2011'!M347:M352,\"A\")","v":3},{"$f":"COUNTIF('[1]Testee answer 2011'!N347:N352,\"A\")","v":1},{"$f":"COUNTIF('[1]Testee answer 2011'!O347:O352,\"A\")","v":0},{"$f":"COUNTIF('[1]Testee answer 2011'!P347:P352,\"A\")","v":1},{"$f":"COUNTIF('[1]Testee answer 2011'!Q347:Q352,\"A\")","v":0},{"$f":"COUNTIF('[1]Testee answer 2011'!R347:R352,\"A\")","v":1},{"$f":"COUNTIF('[1]Testee answer 2011'!S347:S352,\"A\")","v":1},{"$f":"COUNTIF('[1]Testee answer 2011'!T347:T352,\"A\")","v":3},{"$f":"COUNTIF('[1]Testee answer 2011'!U347:U352,\"A\")","v":2},{"$f":"COUNTIF('[1]Testee answer 2011'!V347:V352,\"A\")","v":0},{"$f":"COUNTIF('[1]Testee answer 2011'!W347:W352,\"A\")","v":1},{"$f":"COUNTIF('[1]Testee answer 2011'!X347:X352,\"A\")","v":0},{"$f":"COUNTIF('[1]Testee answer 2011'!Y347:Y352,\"A\")","v":2},{"$f":"COUNTIF('[1]Testee answer 2011'!Z347:Z352,\"A\")","v":1},{"$f":"COUNTIF('[1]Testee answer 2011'!AA347:AA352,\"A\")","v":4},{"$f":"COUNTIF('[1]Testee answer 2011'!AB347:AB352,\"A\")","v":0},{"$f":"COUNTIF('[1]Testee answer 2011'!AC347:AC352,\"A\")","v":0},{"$f":"COUNTIF('[1]Testee answer 2011'!AD347:AD352,\"A\")","v":3},{"$f":"COUNTIF('[1]Testee answer 2011'!AE347:AE352,\"A\")","v":2},{"$f":"COUNTIF('[1]Testee answer 2011'!AF347:AF352,\"A\")","v":0},{"$f":"COUNTIF('[1]Testee answer 2011'!AG347:AG352,\"A\")","v":0},{"$f":"COUNTIF('[1]Testee answer 2011'!AH347:AH352,\"A\")","v":3},{"$f":"COUNTIF('[1]Testee answer 2011'!AI347:AI352,\"A\")","v":1},{"$f":"COUNTIF('[1]Testee answer 2011'!AJ347:AJ352,\"A\")","v":1},{"$f":"COUNTIF('[1]Testee answer 2011'!AK347:AK352,\"A\")","v":1},{"$f":"COUNTIF('[1]Testee answer 2011'!AL347:AL352,\"A\")","v":0},{"$f":"COUNTIF('[1]Testee answer 2011'!AM347:AM352,\"A\")","v":1},{"$f":"COUNTIF('[1]Testee answer 2011'!AN347:AN352,\"A\")","v":3},{"$f":"COUNTIF('[1]Testee answer 2011'!AO347:AO352,\"A\")","v":5},{"$f":"COUNTIF('[1]Testee answer 2011'!AP347:AP352,\"A\")","v":1},{"$f":"COUNTIF('[1]Testee answer 2011'!AQ347:AQ352,\"A\")","v":0},{"$f":"COUNTIF('[1]Testee answer 2011'!AR347:AR352,\"A\")","v":2},{"$f":"COUNTIF('[1]Testee answer 2011'!AS347:AS352,\"A\")","v":2},{"$f":"COUNTIF('[1]Testee answer 2011'!AT347:AT352,\"A\")","v":1},{"$f":"COUNTIF('[1]Testee answer 2011'!AU347:AU352,\"A\")","v":0},{"$f":"COUNTIF('[1]Testee answer 2011'!AV347:AV352,\"A\")","v":2},{"$f":"COUNTIF('[1]Testee answer 2011'!AW347:AW352,\"A\")","v":3},{"$f":"COUNTIF('[1]Testee answer 2011'!AX347:AX352,\"A\")","v":2},{"$f":"COUNTIF('[1]Testee answer 2011'!AY347:AY352,\"A\")","v":0},{"$f":"COUNTIF('[1]Testee answer 2011'!AZ347:AZ352,\"A\")","v":1},{"$f":"COUNTIF('[1]Testee answer 2011'!BA347:BA352,\"A\")","v":5},{"$f":"COUNTIF('[1]Testee answer 2011'!BB347:BB352,\"A\")","v":4},{"$f":"COUNTIF('[1]Testee answer 2011'!BC347:BC352,\"A\")","v":5},{"$f":"COUNTIF('[1]Testee answer 2011'!BD347:BD352,\"A\")","v":6},{"$f":"COUNTIF('[1]Testee answer 2011'!BE347:BE352,\"A\")","v":4},{"$f":"COUNTIF('[1]Testee answer 2011'!BF347:BF352,\"A\")","v":0},{"$f":"COUNTIF('[1]Testee answer 2011'!BG347:BG352,\"A\")","v":5},{"$f":"COUNTIF('[1]Testee answer 2011'!BH347:BH352,\"A\")","v":2},{"$f":"COUNTIF('[1]Testee answer 2011'!BI347:BI352,\"A\")","v":0}]
["PLNem3",{"$f":"COUNTIF('[1]Testee answer 2011'!D347:D352,\"B\")","v":0},{"$f":"COUNTIF('[1]Testee answer 2011'!E347:E352,\"B\")","v":4},{"$f":"COUNTIF('[1]Testee answer 2011'!F347:F352,\"B\")","v":6},{"$f":"COUNTIF('[1]Testee answer 2011'!G347:G352,\"B\")","v":4},{"$f":"COUNTIF('[1]Testee answer 2011'!H347:H352,\"B\")","v":0},{"$f":"COUNTIF('[1]Testee answer 2011'!I347:I352,\"B\")","v":3},{"$f":"COUNTIF('[1]Testee answer 2011'!J347:J352,\"B\")","v":1},{"$f":"COUNTIF('[1]Testee answer 2011'!K347:K352,\"B\")","v":4},{"$f":"COUNTIF('[1]Testee answer 2011'!L347:L352,\"B\")","v":0},{"$f":"COUNTIF('[1]Testee answer 2011'!M347:M352,\"B\")","v":2},{"$f":"COUNTIF('[1]Testee answer 2011'!N347:N352,\"B\")","v":5},{"$f":"COUNTIF('[1]Testee answer 2011'!O347:O352,\"B\")","v":4},{"$f":"COUNTIF('[1]Testee answer 2011'!P347:P352,\"B\")","v":2},{"$f":"COUNTIF('[1]Testee answer 2011'!Q347:Q352,\"B\")","v":1},{"$f":"COUNTIF('[1]Testee answer 2011'!R347:R352,\"B\")","v":3},{"$f":"COUNTIF('[1]Testee answer 2011'!S347:S352,\"B\")","v":0},{"$f":"COUNTIF('[1]Testee answer 2011'!T347:T352,\"B\")","v":1},{"$f":"COUNTIF('[1]Testee answer 2011'!U347:U352,\"B\")","v":2},{"$f":"COUNTIF('[1]Testee answer 2011'!V347:V352,\"B\")","v":2},{"$f":"COUNTIF('[1]Testee answer 2011'!W347:W352,\"B\")","v":1},{"$f":"COUNTIF('[1]Testee answer 2011'!X347:X352,\"B\")","v":2},{"$f":"COUNTIF('[1]Testee answer 2011'!Y347:Y352,\"B\")","v":0},{"$f":"COUNTIF('[1]Testee answer 2011'!Z347:Z352,\"B\")","v":4},{"$f":"COUNTIF('[1]Testee answer 2011'!AA347:AA352,\"B\")","v":0},{"$f":"COUNTIF('[1]Testee answer 2011'!AB347:AB352,\"B\")","v":1},{"$f":"COUNTIF('[1]Testee answer 2011'!AC347:AC352,\"B\")","v":3},{"$f":"COUNTIF('[1]Testee answer 2011'!AD347:AD352,\"B\")","v":1},{"$f":"COUNTIF('[1]Testee answer 2011'!AE347:AE352,\"B\")","v":1},{"$f":"COUNTIF('[1]Testee answer 2011'!AF347:AF352,\"B\")","v":0},{"$f":"COUNTIF('[1]Testee answer 2011'!AG347:AG352,\"B\")","v":1},{"$f":"COUNTIF('[1]Testee answer 2011'!AH347:AH352,\"B\")","v":2},{"$f":"COUNTIF('[1]Testee answer 2011'!AI347:AI352,\"B\")","v":2},{"$f":"COUNTIF('[1]Testee answer 2011'!AJ347:AJ352,\"B\")","v":0},{"$f":"COUNTIF('[1]Testee answer 2011'!AK347:AK352,\"B\")","v":2},{"$f":"COUNTIF('[1]Testee answer 2011'!AL347:AL352,\"B\")","v":3},{"$f":"COUNTIF('[1]Testee answer 2011'!AM347:AM352,\"B\")","v":0},{"$f":"COUNTIF('[1]Testee answer 2011'!AN347:AN352,\"B\")","v":1},{"$f":"COUNTIF('[1]Testee answer 2011'!AO347:AO352,\"B\")","v":1},{"$f":"COUNTIF('[1]Testee answer 2011'!AP347:AP352,\"B\")","v":5},{"$f":"COUNTIF('[1]Testee answer 2011'!AQ347:AQ352,\"B\")","v":6},{"$f":"COUNTIF('[1]Testee answer 2011'!AR347:AR352,\"B\")","v":4},{"$f":"COUNTIF('[1]Testee answer 2011'!AS347:AS352,\"B\")","v":4},{"$f":"COUNTIF('[1]Testee answer 2011'!AT347:AT352,\"B\")","v":1},{"$f":"COUNTIF('[1]Testee answer 2011'!AU347:AU352,\"B\")","v":2},{"$f":"COUNTIF('[1]Testee answer 2011'!AV347:AV352,\"B\")","v":1},{"$f":"COUNTIF('[1]Testee answer 2011'!AW347:AW352,\"B\")","v":1},{"$f":"COUNTIF('[1]Testee answer 2011'!AX347:AX352,\"B\")","v":3},{"$f":"COUNTIF('[1]Testee answer 2011'!AY347:AY352,\"B\")","v":1},{"$f":"COUNTIF('[1]Testee answer 2011'!AZ347:AZ352,\"B\")","v":1},{"$f":"COUNTIF('[1]Testee answer 2011'!BA347:BA352,\"B\")","v":1},{"$f":"COUNTIF('[1]Testee answer 2011'!BB347:BB352,\"B\")","v":2},{"$f":"COUNTIF('[1]Testee answer 2011'!BC347:BC352,\"B\")","v":1},{"$f":"COUNTIF('[1]Testee answer 2011'!BD347:BD352,\"B\")","v":0},{"$f":"COUNTIF('[1]Testee answer 2011'!BE347:BE352,\"B\")","v":2},{"$f":"COUNTIF('[1]Testee answer 2011'!BF347:BF352,\"B\")","v":6},{"$f":"COUNTIF('[1]Testee answer 2011'!BG347:BG352,\"B\")","v":1},{"$f":"COUNTIF('[1]Testee answer 2011'!BH347:BH352,\"B\")","v":4},{"$f":"COUNTIF('[1]Testee answer 2011'!BI347:BI352,\"B\")","v":6}]
["PLNem3",{"$f":"COUNTIF('[1]Testee answer 2011'!D347:D352,\"C\")","v":2},{"$f":"COUNTIF('[1]Testee answer 2011'!E347:E352,\"C\")","v":0},{"$f":"COUNTIF('[1]Testee answer 2011'!F347:F352,\"C\")","v":0},{"$f":"COUNTIF('[1]Testee answer 2011'!G347:G352,\"C\")","v":0},{"$f":"COUNTIF('[1]Testee answer 2011'!H347:H352,\"C\")","v":3},{"$f":"COUNTIF('[1]Testee answer 2011'!I347:I352,\"C\")","v":3},{"$f":"COUNTIF('[1]Testee answer 2011'!J347:J352,\"C\")","v":0},{"$f":"COUNTIF('[1]Testee answer 2011'!K347:K352,\"C\")","v":0},{"$f":"COUNTIF('[1]Testee answer 2011'!L347:L352,\"C\")","v":1},{"$f":"COUNTIF('[1]Testee answer 2011'!M347:M352,\"C\")","v":1},{"$f":"COUNTIF('[1]Testee answer 2011'!N347:N352,\"C\")","v":0},{"$f":"COUNTIF('[1]Testee answer 2011'!O347:O352,\"C\")","v":2},{"$f":"COUNTIF('[1]Testee answer 2011'!P347:P352,\"C\")","v":2},{"$f":"COUNTIF('[1]Testee answer 2011'!Q347:Q352,\"C\")","v":3},{"$f":"COUNTIF('[1]Testee answer 2011'!R347:R352,\"C\")","v":1},{"$f":"COUNTIF('[1]Testee answer 2011'!S347:S352,\"C\")","v":4},{"$f":"COUNTIF('[1]Testee answer 2011'!T347:T352,\"C\")","v":1},{"$f":"COUNTIF('[1]Testee answer 2011'!U347:U352,\"C\")","v":2},{"$f":"COUNTIF('[1]Testee answer 2011'!V347:V352,\"C\")","v":2},{"$f":"COUNTIF('[1]Testee answer 2011'!W347:W352,\"C\")","v":3},{"$f":"COUNTIF('[1]Testee answer 2011'!X347:X352,\"C\")","v":2},{"$f":"COUNTIF('[1]Testee answer 2011'!Y347:Y352,\"C\")","v":3},{"$f":"COUNTIF('[1]Testee answer 2011'!Z347:Z352,\"C\")","v":1},{"$f":"COUNTIF('[1]Testee answer 2011'!AA347:AA352,\"C\")","v":2},{"$f":"COUNTIF('[1]Testee answer 2011'!AB347:AB352,\"C\")","v":1},{"$f":"COUNTIF('[1]Testee answer 2011'!AC347:AC352,\"C\")","v":2},{"$f":"COUNTIF('[1]Testee answer 2011'!AD347:AD352,\"C\")","v":1},{"$f":"COUNTIF('[1]Testee answer 2011'!AE347:AE352,\"C\")","v":1},{"$f":"COUNTIF('[1]Testee answer 2011'!AF347:AF352,\"C\")","v":3},{"$f":"COUNTIF('[1]Testee answer 2011'!AG347:AG352,\"C\")","v":3},{"$f":"COUNTIF('[1]Testee answer 2011'!AH347:AH352,\"C\")","v":1},{"$f":"COUNTIF('[1]Testee answer 2011'!AI347:AI352,\"C\")","v":1},{"$f":"COUNTIF('[1]Testee answer 2011'!AJ347:AJ352,\"C\")","v":2},{"$f":"COUNTIF('[1]Testee answer 2011'!AK347:AK352,\"C\")","v":1},{"$f":"COUNTIF('[1]Testee answer 2011'!AL347:AL352,\"C\")","v":1},{"$f":"COUNTIF('[1]Testee answer 2011'!AM347:AM352,\"C\")","v":3},{"$f":"COUNTIF('[1]Testee answer 2011'!AN347:AN352,\"C\")","v":2},{"$f":"COUNTIF('[1]Testee answer 2011'!AO347:AO352,\"C\")","v":0},{"$f":"COUNTIF('[1]Testee answer 2011'!AP347:AP352,\"C\")","v":0},{"$f":"COUNTIF('[1]Testee answer 2011'!AQ347:AQ352,\"C\")","v":0},{"$f":"COUNTIF('[1]Testee answer 2011'!AR347:AR352,\"C\")","v":0},{"$f":"COUNTIF('[1]Testee answer 2011'!AS347:AS352,\"C\")","v":0},{"$f":"COUNTIF('[1]Testee answer 2011'!AT347:AT352,\"C\")","v":2},{"$f":"COUNTIF('[1]Testee answer 2011'!AU347:AU352,\"C\")","v":2},{"$f":"COUNTIF('[1]Testee answer 2011'!AV347:AV352,\"C\")","v":2},{"$f":"COUNTIF('[1]Testee answer 2011'!AW347:AW352,\"C\")","v":2},{"$f":"COUNTIF('[1]Testee answer 2011'!AX347:AX352,\"C\")","v":1},{"$f":"COUNTIF('[1]Testee answer 2011'!AY347:AY352,\"C\")","v":5},{"$f":"COUNTIF('[1]Testee answer 2011'!AZ347:AZ352,\"C\")","v":3},{"$f":"COUNTIF('[1]Testee answer 2011'!BA347:BA352,\"C\")","v":0},{"$f":"COUNTIF('[1]Testee answer 2011'!BB347:BB352,\"C\")","v":0},{"$f":"COUNTIF('[1]Testee answer 2011'!BC347:BC352,\"C\")","v":0},{"$f":"COUNTIF('[1]Testee answer 2011'!BD347:BD352,\"C\")","v":0},{"$f":"COUNTIF('[1]Testee answer 2011'!BE347:BE352,\"C\")","v":0},{"$f":"COUNTIF('[1]Testee answer 2011'!BF347:BF352,\"C\")","v":0},{"$f":"COUNTIF('[1]Testee answer 2011'!BG347:BG352,\"C\")","v":0},{"$f":"COUNTIF('[1]Testee answer 2011'!BH347:BH352,\"C\")","v":0},{"$f":"COUNTIF('[1]Testee answer 2011'!BI347:BI352,\"C\")","v":0}]
["PLNem3",{"$f":"COUNTIF('[1]Testee answer 2011'!D347:D352,\"D\")","v":4},{"$f":"COUNTIF('[1]Testee answer 2011'!E347:E352,\"D\")","v":0},{"$f":"COUNTIF('[1]Testee answer 2011'!F347:F352,\"D\")","v":0},{"$f":"COUNTIF('[1]Testee answer 2011'!G347:G352,\"D\")","v":0},{"$f":"COUNTIF('[1]Testee answer 2011'!H347:H352,\"D\")","v":2},{"$f":"COUNTIF('[1]Testee answer 2011'!I347:I352,\"D\")","v":0},{"$f":"COUNTIF('[1]Testee answer 2011'!J347:J352,\"D\")","v":0},{"$f":"COUNTIF('[1]Testee answer 2011'!K347:K352,\"D\")","v":0},{"$f":"COUNTIF('[1]Testee answer 2011'!L347:L352,\"D\")","v":0},{"$f":"COUNTIF('[1]Testee answer 2011'!M347:M352,\"D\")","v":0},{"$f":"COUNTIF('[1]Testee answer 2011'!N347:N352,\"D\")","v":0},{"$f":"COUNTIF('[1]Testee answer 2011'!O347:O352,\"D\")","v":0},{"$f":"COUNTIF('[1]Testee answer 2011'!P347:P352,\"D\")","v":1},{"$f":"COUNTIF('[1]Testee answer 2011'!Q347:Q352,\"D\")","v":2},{"$f":"COUNTIF('[1]Testee answer 2011'!R347:R352,\"D\")","v":1},{"$f":"COUNTIF('[1]Testee answer 2011'!S347:S352,\"D\")","v":1},{"$f":"COUNTIF('[1]Testee answer 2011'!T347:T352,\"D\")","v":1},{"$f":"COUNTIF('[1]Testee answer 2011'!U347:U352,\"D\")","v":0},{"$f":"COUNTIF('[1]Testee answer 2011'!V347:V352,\"D\")","v":2},{"$f":"COUNTIF('[1]Testee answer 2011'!W347:W352,\"D\")","v":1},{"$f":"COUNTIF('[1]Testee answer 2011'!X347:X352,\"D\")","v":2},{"$f":"COUNTIF('[1]Testee answer 2011'!Y347:Y352,\"D\")","v":1},{"$f":"COUNTIF('[1]Testee answer 2011'!Z347:Z352,\"D\")","v":0},{"$f":"COUNTIF('[1]Testee answer 2011'!AA347:AA352,\"D\")","v":0},{"$f":"COUNTIF('[1]Testee answer 2011'!AB347:AB352,\"D\")","v":4},{"$f":"COUNTIF('[1]Testee answer 2011'!AC347:AC352,\"D\")","v":1},{"$f":"COUNTIF('[1]Testee answer 2011'!AD347:AD352,\"D\")","v":1},{"$f":"COUNTIF('[1]Testee answer 2011'!AE347:AE352,\"D\")","v":2},{"$f":"COUNTIF('[1]Testee answer 2011'!AF347:AF352,\"D\")","v":3},{"$f":"COUNTIF('[1]Testee answer 2011'!AG347:AG352,\"D\")","v":2},{"$f":"COUNTIF('[1]Testee answer 2011'!AH347:AH352,\"D\")","v":0},{"$f":"COUNTIF('[1]Testee answer 2011'!AI347:AI352,\"D\")","v":2},{"$f":"COUNTIF('[1]Testee answer 2011'!AJ347:AJ352,\"D\")","v":3},{"$f":"COUNTIF('[1]Testee answer 2011'!AK347:AK352,\"D\")","v":2},{"$f":"COUNTIF('[1]Testee answer 2011'!AL347:AL352,\"D\")","v":2},{"$f":"COUNTIF('[1]Testee answer 2011'!AM347:AM352,\"D\")","v":2},{"$f":"COUNTIF('[1]Testee answer 2011'!AN347:AN352,\"D\")","v":0},{"$f":"COUNTIF('[1]Testee answer 2011'!AO347:AO352,\"D\")","v":0},{"$f":"COUNTIF('[1]Testee answer 2011'!AP347:AP352,\"D\")","v":0},{"$f":"COUNTIF('[1]Testee answer 2011'!AQ347:AQ352,\"D\")","v":0},{"$f":"COUNTIF('[1]Testee answer 2011'!AR347:AR352,\"D\")","v":0},{"$f":"COUNTIF('[1]Testee answer 2011'!AS347:AS352,\"D\")","v":0},{"$f":"COUNTIF('[1]Testee answer 2011'!AT347:AT352,\"D\")","v":2},{"$f":"COUNTIF('[1]Testee answer 2011'!AU347:AU352,\"D\")","v":2},{"$f":"COUNTIF('[1]Testee answer 2011'!AV347:AV352,\"D\")","v":1},{"$f":"COUNTIF('[1]Testee answer 2011'!AW347:AW352,\"D\")","v":0},{"$f":"COUNTIF('[1]Testee answer 2011'!AX347:AX352,\"D\")","v":0},{"$f":"COUNTIF('[1]Testee answer 2011'!AY347:AY352,\"D\")","v":0},{"$f":"COUNTIF('[1]Testee answer 2011'!AZ347:AZ352,\"D\")","v":1},{"$f":"COUNTIF('[1]Testee answer 2011'!BA347:BA352,\"D\")","v":0},{"$f":"COUNTIF('[1]Testee answer 2011'!BB347:BB352,\"D\")","v":0},{"$f":"COUNTIF('[1]Testee answer 2011'!BC347:BC352,\"D\")","v":0},{"$f":"COUNTIF('[1]Testee answer 2011'!BD347:BD352,\"D\")","v":0},{"$f":"COUNTIF('[1]Testee answer 2011'!BE347:BE352,\"D\")","v":0},{"$f":"COUNTIF('[1]Testee answer 2011'!BF347:BF352,\"D\")","v":0},{"$f":"COUNTIF('[1]Testee answer 2011'!BG347:BG352,\"D\")","v":0},{"$f":"COUNTIF('[1]Testee answer 2011'!BH347:BH352,\"D\")","v":0},{"$f":"COUNTIF('[1]Testee answer 2011'!BI347:BI352,\"D\")","v":0}]
["PLNem4",{"$f":"COUNTIF('[1]Testee answer 2011'!D353:D356,\"A\")","v":4},{"$f":"COUNTIF('[1]Testee answer 2011'!E353:E356,\"A\")","v":2},{"$f":"COUNTIF('[1]Testee answer 2011'!F353:F356,\"A\")","v":0},{"$f":"COUNTIF('[1]Testee answer 2011'!G353:G356,\"A\")","v":2},{"$f":"COUNTIF('[1]Testee answer 2011'!H353:H356,\"A\")","v":1},{"$f":"COUNTIF('[1]Testee answer 2011'!I353:I356,\"A\")","v":0},{"$f":"COUNTIF('[1]Testee answer 2011'!J353:J356,\"A\")","v":3},{"$f":"COUNTIF('[1]Testee answer 2011'!K353:K356,\"A\")","v":1},{"$f":"COUNTIF('[1]Testee answer 2011'!L353:L356,\"A\")","v":1},{"$f":"COUNTIF('[1]Testee answer 2011'!M353:M356,\"A\")","v":4},{"$f":"COUNTIF('[1]Testee answer 2011'!N353:N356,\"A\")","v":2},{"$f":"COUNTIF('[1]Testee answer 2011'!O353:O356,\"A\")","v":1},{"$f":"COUNTIF('[1]Testee answer 2011'!P353:P356,\"A\")","v":0},{"$f":"COUNTIF('[1]Testee answer 2011'!Q353:Q356,\"A\")","v":0},{"$f":"COUNTIF('[1]Testee answer 2011'!R353:R356,\"A\")","v":0},{"$f":"COUNTIF('[1]Testee answer 2011'!S353:S356,\"A\")","v":1},{"$f":"COUNTIF('[1]Testee answer 2011'!T353:T356,\"A\")","v":2},{"$f":"COUNTIF('[1]Testee answer 2011'!U353:U356,\"A\")","v":0},{"$f":"COUNTIF('[1]Testee answer 2011'!V353:V356,\"A\")","v":0},{"$f":"COUNTIF('[1]Testee answer 2011'!W353:W356,\"A\")","v":1},{"$f":"COUNTIF('[1]Testee answer 2011'!X353:X356,\"A\")","v":1},{"$f":"COUNTIF('[1]Testee answer 2011'!Y353:Y356,\"A\")","v":2},{"$f":"COUNTIF('[1]Testee answer 2011'!Z353:Z356,\"A\")","v":2},{"$f":"COUNTIF('[1]Testee answer 2011'!AA353:AA356,\"A\")","v":2},{"$f":"COUNTIF('[1]Testee answer 2011'!AB353:AB356,\"A\")","v":1},{"$f":"COUNTIF('[1]Testee answer 2011'!AC353:AC356,\"A\")","v":2},{"$f":"COUNTIF('[1]Testee answer 2011'!AD353:AD356,\"A\")","v":3},{"$f":"COUNTIF('[1]Testee answer 2011'!AE353:AE356,\"A\")","v":1},{"$f":"COUNTIF('[1]Testee answer 2011'!AF353:AF356,\"A\")","v":1},{"$f":"COUNTIF('[1]Testee answer 2011'!AG353:AG356,\"A\")","v":1},{"$f":"COUNTIF('[1]Testee answer 2011'!AH353:AH356,\"A\")","v":1},{"$f":"COUNTIF('[1]Testee answer 2011'!AI353:AI356,\"A\")","v":0},{"$f":"COUNTIF('[1]Testee answer 2011'!AJ353:AJ356,\"A\")","v":2},{"$f":"COUNTIF('[1]Testee answer 2011'!AK353:AK356,\"A\")","v":2},{"$f":"COUNTIF('[1]Testee answer 2011'!AL353:AL356,\"A\")","v":1},{"$f":"COUNTIF('[1]Testee answer 2011'!AM353:AM356,\"A\")","v":1},{"$f":"COUNTIF('[1]Testee answer 2011'!AN353:AN356,\"A\")","v":1},{"$f":"COUNTIF('[1]Testee answer 2011'!AO353:AO356,\"A\")","v":1},{"$f":"COUNTIF('[1]Testee answer 2011'!AP353:AP356,\"A\")","v":1},{"$f":"COUNTIF('[1]Testee answer 2011'!AQ353:AQ356,\"A\")","v":1},{"$f":"COUNTIF('[1]Testee answer 2011'!AR353:AR356,\"A\")","v":0},{"$f":"COUNTIF('[1]Testee answer 2011'!AS353:AS356,\"A\")","v":1},{"$f":"COUNTIF('[1]Testee answer 2011'!AT353:AT356,\"A\")","v":0},{"$f":"COUNTIF('[1]Testee answer 2011'!AU353:AU356,\"A\")","v":0},{"$f":"COUNTIF('[1]Testee answer 2011'!AV353:AV356,\"A\")","v":0},{"$f":"COUNTIF('[1]Testee answer 2011'!AW353:AW356,\"A\")","v":1},{"$f":"COUNTIF('[1]Testee answer 2011'!AX353:AX356,\"A\")","v":1},{"$f":"COUNTIF('[1]Testee answer 2011'!AY353:AY356,\"A\")","v":1},{"$f":"COUNTIF('[1]Testee answer 2011'!AZ353:AZ356,\"A\")","v":1},{"$f":"COUNTIF('[1]Testee answer 2011'!BA353:BA356,\"A\")","v":3},{"$f":"COUNTIF('[1]Testee answer 2011'!BB353:BB356,\"A\")","v":1},{"$f":"COUNTIF('[1]Testee answer 2011'!BC353:BC356,\"A\")","v":1},{"$f":"COUNTIF('[1]Testee answer 2011'!BD353:BD356,\"A\")","v":1},{"$f":"COUNTIF('[1]Testee answer 2011'!BE353:BE356,\"A\")","v":3},{"$f":"COUNTIF('[1]Testee answer 2011'!BF353:BF356,\"A\")","v":0},{"$f":"COUNTIF('[1]Testee answer 2011'!BG353:BG356,\"A\")","v":4},{"$f":"COUNTIF('[1]Testee answer 2011'!BH353:BH356,\"A\")","v":3},{"$f":"COUNTIF('[1]Testee answer 2011'!BI353:BI356,\"A\")","v":0}]
["PLNem4",{"$f":"COUNTIF('[1]Testee answer 2011'!D353:D356,\"B\")","v":0},{"$f":"COUNTIF('[1]Testee answer 2011'!E353:E356,\"B\")","v":2},{"$f":"COUNTIF('[1]Testee answer 2011'!F353:F356,\"B\")","v":4},{"$f":"COUNTIF('[1]Testee answer 2011'!G353:G356,\"B\")","v":1},{"$f":"COUNTIF('[1]Testee answer 2011'!H353:H356,\"B\")","v":2},{"$f":"COUNTIF('[1]Testee answer 2011'!I353:I356,\"B\")","v":1},{"$f":"COUNTIF('[1]Testee answer 2011'!J353:J356,\"B\")","v":1},{"$f":"COUNTIF('[1]Testee answer 2011'!K353:K356,\"B\")","v":3},{"$f":"COUNTIF('[1]Testee answer 2011'!L353:L356,\"B\")","v":3},{"$f":"COUNTIF('[1]Testee answer 2011'!M353:M356,\"B\")","v":0},{"$f":"COUNTIF('[1]Testee answer 2011'!N353:N356,\"B\")","v":1},{"$f":"COUNTIF('[1]Testee answer 2011'!O353:O356,\"B\")","v":0},{"$f":"COUNTIF('[1]Testee answer 2011'!P353:P356,\"B\")","v":1},{"$f":"COUNTIF('[1]Testee answer 2011'!Q353:Q356,\"B\")","v":0},{"$f":"COUNTIF('[1]Testee answer 2011'!R353:R356,\"B\")","v":2},{"$f":"COUNTIF('[1]Testee answer 2011'!S353:S356,\"B\")","v":2},{"$f":"COUNTIF('[1]Testee answer 2011'!T353:T356,\"B\")","v":1},{"$f":"COUNTIF('[1]Testee answer 2011'!U353:U356,\"B\")","v":2},{"$f":"COUNTIF('[1]Testee answer 2011'!V353:V356,\"B\")","v":1},{"$f":"COUNTIF('[1]Testee answer 2011'!W353:W356,\"B\")","v":0},{"$f":"COUNTIF('[1]Testee answer 2011'!X353:X356,\"B\")","v":0},{"$f":"COUNTIF('[1]Testee answer 2011'!Y353:Y356,\"B\")","v":0},{"$f":"COUNTIF('[1]Testee answer 2011'!Z353:Z356,\"B\")","v":1},{"$f":"COUNTIF('[1]Testee answer 2011'!AA353:AA356,\"B\")","v":0},{"$f":"COUNTIF('[1]Testee answer 2011'!AB353:AB356,\"B\")","v":0},{"$f":"COUNTIF('[1]Testee answer 2011'!AC353:AC356,\"B\")","v":0},{"$f":"COUNTIF('[1]Testee answer 2011'!AD353:AD356,\"B\")","v":0},{"$f":"COUNTIF('[1]Testee answer 2011'!AE353:AE356,\"B\")","v":0},{"$f":"COUNTIF('[1]Testee answer 2011'!AF353:AF356,\"B\")","v":0},{"$f":"COUNTIF('[1]Testee answer 2011'!AG353:AG356,\"B\")","v":0},{"$f":"COUNTIF('[1]Testee answer 2011'!AH353:AH356,\"B\")","v":3},{"$f":"COUNTIF('[1]Testee answer 2011'!AI353:AI356,\"B\")","v":2},{"$f":"COUNTIF('[1]Testee answer 2011'!AJ353:AJ356,\"B\")","v":0},{"$f":"COUNTIF('[1]Testee answer 2011'!AK353:AK356,\"B\")","v":0},{"$f":"COUNTIF('[1]Testee answer 2011'!AL353:AL356,\"B\")","v":0},{"$f":"COUNTIF('[1]Testee answer 2011'!AM353:AM356,\"B\")","v":0},{"$f":"COUNTIF('[1]Testee answer 2011'!AN353:AN356,\"B\")","v":0},{"$f":"COUNTIF('[1]Testee answer 2011'!AO353:AO356,\"B\")","v":3},{"$f":"COUNTIF('[1]Testee answer 2011'!AP353:AP356,\"B\")","v":3},{"$f":"COUNTIF('[1]Testee answer 2011'!AQ353:AQ356,\"B\")","v":3},{"$f":"COUNTIF('[1]Testee answer 2011'!AR353:AR356,\"B\")","v":4},{"$f":"COUNTIF('[1]Testee answer 2011'!AS353:AS356,\"B\")","v":3},{"$f":"COUNTIF('[1]Testee answer 2011'!AT353:AT356,\"B\")","v":1},{"$f":"COUNTIF('[1]Testee answer 2011'!AU353:AU356,\"B\")","v":1},{"$f":"COUNTIF('[1]Testee answer 2011'!AV353:AV356,\"B\")","v":1},{"$f":"COUNTIF('[1]Testee answer 2011'!AW353:AW356,\"B\")","v":2},{"$f":"COUNTIF('[1]Testee answer 2011'!AX353:AX356,\"B\")","v":1},{"$f":"COUNTIF('[1]Testee answer 2011'!AY353:AY356,\"B\")","v":1},{"$f":"COUNTIF('[1]Testee answer 2011'!AZ353:AZ356,\"B\")","v":1},{"$f":"COUNTIF('[1]Testee answer 2011'!BA353:BA356,\"B\")","v":1},{"$f":"COUNTIF('[1]Testee answer 2011'!BB353:BB356,\"B\")","v":3},{"$f":"COUNTIF('[1]Testee answer 2011'!BC353:BC356,\"B\")","v":3},{"$f":"COUNTIF('[1]Testee answer 2011'!BD353:BD356,\"B\")","v":3},{"$f":"COUNTIF('[1]Testee answer 2011'!BE353:BE356,\"B\")","v":1},{"$f":"COUNTIF('[1]Testee answer 2011'!BF353:BF356,\"B\")","v":4},{"$f":"COUNTIF('[1]Testee answer 2011'!BG353:BG356,\"B\")","v":0},{"$f":"COUNTIF('[1]Testee answer 2011'!BH353:BH356,\"B\")","v":1},{"$f":"COUNTIF('[1]Testee answer 2011'!BI353:BI356,\"B\")","v":4}]
["PLNem4",{"$f":"COUNTIF('[1]Testee answer 2011'!D353:D356,\"C\")","v":0},{"$f":"COUNTIF('[1]Testee answer 2011'!E353:E356,\"C\")","v":0},{"$f":"COUNTIF('[1]Testee answer 2011'!F353:F356,\"C\")","v":0},{"$f":"COUNTIF('[1]Testee answer 2011'!G353:G356,\"C\")","v":1},{"$f":"COUNTIF('[1]Testee answer 2011'!H353:H356,\"C\")","v":1},{"$f":"COUNTIF('[1]Testee answer 2011'!I353:I356,\"C\")","v":3},{"$f":"COUNTIF('[1]Testee answer 2011'!J353:J356,\"C\")","v":0},{"$f":"COUNTIF('[1]Testee answer 2011'!K353:K356,\"C\")","v":0},{"$f":"COUNTIF('[1]Testee answer 2011'!L353:L356,\"C\")","v":0},{"$f":"COUNTIF('[1]Testee answer 2011'!M353:M356,\"C\")","v":0},{"$f":"COUNTIF('[1]Testee answer 2011'!N353:N356,\"C\")","v":1},{"$f":"COUNTIF('[1]Testee answer 2011'!O353:O356,\"C\")","v":2},{"$f":"COUNTIF('[1]Testee answer 2011'!P353:P356,\"C\")","v":3},{"$f":"COUNTIF('[1]Testee answer 2011'!Q353:Q356,\"C\")","v":2},{"$f":"COUNTIF('[1]Testee answer 2011'!R353:R356,\"C\")","v":1},{"$f":"COUNTIF('[1]Testee answer 2011'!S353:S356,\"C\")","v":1},{"$f":"COUNTIF('[1]Testee answer 2011'!T353:T356,\"C\")","v":1},{"$f":"COUNTIF('[1]Testee answer 2011'!U353:U356,\"C\")","v":2},{"$f":"COUNTIF('[1]Testee answer 2011'!V353:V356,\"C\")","v":3},{"$f":"COUNTIF('[1]Testee answer 2011'!W353:W356,\"C\")","v":2},{"$f":"COUNTIF('[1]Testee answer 2011'!X353:X356,\"C\")","v":2},{"$f":"COUNTIF('[1]Testee answer 2011'!Y353:Y356,\"C\")","v":1},{"$f":"COUNTIF('[1]Testee answer 2011'!Z353:Z356,\"C\")","v":1},{"$f":"COUNTIF('[1]Testee answer 2011'!AA353:AA356,\"C\")","v":2},{"$f":"COUNTIF('[1]Testee answer 2011'!AB353:AB356,\"C\")","v":1},{"$f":"COUNTIF('[1]Testee answer 2011'!AC353:AC356,\"C\")","v":1},{"$f":"COUNTIF('[1]Testee answer 2011'!AD353:AD356,\"C\")","v":0},{"$f":"COUNTIF('[1]Testee answer 2011'!AE353:AE356,\"C\")","v":1},{"$f":"COUNTIF('[1]Testee answer 2011'!AF353:AF356,\"C\")","v":0},{"$f":"COUNTIF('[1]Testee answer 2011'!AG353:AG356,\"C\")","v":2},{"$f":"COUNTIF('[1]Testee answer 2011'!AH353:AH356,\"C\")","v":0},{"$f":"COUNTIF('[1]Testee answer 2011'!AI353:AI356,\"C\")","v":2},{"$f":"COUNTIF('[1]Testee answer 2011'!AJ353:AJ356,\"C\")","v":2},{"$f":"COUNTIF('[1]Testee answer 2011'!AK353:AK356,\"C\")","v":2},{"$f":"COUNTIF('[1]Testee answer 2011'!AL353:AL356,\"C\")","v":1},{"$f":"COUNTIF('[1]Testee answer 2011'!AM353:AM356,\"C\")","v":1},{"$f":"COUNTIF('[1]Testee answer 2011'!AN353:AN356,\"C\")","v":3},{"$f":"COUNTIF('[1]Testee answer 2011'!AO353:AO356,\"C\")","v":0},{"$f":"COUNTIF('[1]Testee answer 2011'!AP353:AP356,\"C\")","v":0},{"$f":"COUNTIF('[1]Testee answer 2011'!AQ353:AQ356,\"C\")","v":0},{"$f":"COUNTIF('[1]Testee answer 2011'!AR353:AR356,\"C\")","v":0},{"$f":"COUNTIF('[1]Testee answer 2011'!AS353:AS356,\"C\")","v":0},{"$f":"COUNTIF('[1]Testee answer 2011'!AT353:AT356,\"C\")","v":2},{"$f":"COUNTIF('[1]Testee answer 2011'!AU353:AU356,\"C\")","v":0},{"$f":"COUNTIF('[1]Testee answer 2011'!AV353:AV356,\"C\")","v":0},{"$f":"COUNTIF('[1]Testee answer 2011'!AW353:AW356,\"C\")","v":1},{"$f":"COUNTIF('[1]Testee answer 2011'!AX353:AX356,\"C\")","v":2},{"$f":"COUNTIF('[1]Testee answer 2011'!AY353:AY356,\"C\")","v":2},{"$f":"COUNTIF('[1]Testee answer 2011'!AZ353:AZ356,\"C\")","v":2},{"$f":"COUNTIF('[1]Testee answer 2011'!BA353:BA356,\"C\")","v":0},{"$f":"COUNTIF('[1]Testee answer 2011'!BB353:BB356,\"C\")","v":0},{"$f":"COUNTIF('[1]Testee answer 2011'!BC353:BC356,\"C\")","v":0},{"$f":"COUNTIF('[1]Testee answer 2011'!BD353:BD356,\"C\")","v":0},{"$f":"COUNTIF('[1]Testee answer 2011'!BE353:BE356,\"C\")","v":0},{"$f":"COUNTIF('[1]Testee answer 2011'!BF353:BF356,\"C\")","v":0},{"$f":"COUNTIF('[1]Testee answer 2011'!BG353:BG356,\"C\")","v":0},{"$f":"COUNTIF('[1]Testee answer 2011'!BH353:BH356,\"C\")","v":0},{"$f":"COUNTIF('[1]Testee answer 2011'!BI353:BI356,\"C\")","v":0}]
["PLNem4",{"$f":"COUNTIF('[1]Testee answer 2011'!D353:D356,\"D\")","v":0},{"$f":"COUNTIF('[1]Testee answer 2011'!E353:E356,\"D\")","v":0},{"$f":"COUNTIF('[1]Testee answer 2011'!F353:F356,\"D\")","v":0},{"$f":"COUNTIF('[1]Testee answer 2011'!G353:G356,\"D\")","v":0},{"$f":"COUNTIF('[1]Testee answer 2011'!H353:H356,\"D\")","v":0},{"$f":"COUNTIF('[1]Testee answer 2011'!I353:I356,\"D\")","v":0},{"$f":"COUNTIF('[1]Testee answer 2011'!J353:J356,\"D\")","v":0},{"$f":"COUNTIF('[1]Testee answer 2011'!K353:K356,\"D\")","v":0},{"$f":"COUNTIF('[1]Testee answer 2011'!L353:L356,\"D\")","v":0},{"$f":"COUNTIF('[1]Testee answer 2011'!M353:M356,\"D\")","v":0},{"$f":"COUNTIF('[1]Testee answer 2011'!N353:N356,\"D\")","v":0},{"$f":"COUNTIF('[1]Testee answer 2011'!O353:O356,\"D\")","v":1},{"$f":"COUNTIF('[1]Testee answer 2011'!P353:P356,\"D\")","v":0},{"$f":"COUNTIF('[1]Testee answer 2011'!Q353:Q356,\"D\")","v":2},{"$f":"COUNTIF('[1]Testee answer 2011'!R353:R356,\"D\")","v":1},{"$f":"COUNTIF('[1]Testee answer 2011'!S353:S356,\"D\")","v":0},{"$f":"COUNTIF('[1]Testee answer 2011'!T353:T356,\"D\")","v":0},{"$f":"COUNTIF('[1]Testee answer 2011'!U353:U356,\"D\")","v":0},{"$f":"COUNTIF('[1]Testee answer 2011'!V353:V356,\"D\")","v":0},{"$f":"COUNTIF('[1]Testee answer 2011'!W353:W356,\"D\")","v":1},{"$f":"COUNTIF('[1]Testee answer 2011'!X353:X356,\"D\")","v":1},{"$f":"COUNTIF('[1]Testee answer 2011'!Y353:Y356,\"D\")","v":1},{"$f":"COUNTIF('[1]Testee answer 2011'!Z353:Z356,\"D\")","v":0},{"$f":"COUNTIF('[1]Testee answer 2011'!AA353:AA356,\"D\")","v":0},{"$f":"COUNTIF('[1]Testee answer 2011'!AB353:AB356,\"D\")","v":2},{"$f":"COUNTIF('[1]Testee answer 2011'!AC353:AC356,\"D\")","v":1},{"$f":"COUNTIF('[1]Testee answer 2011'!AD353:AD356,\"D\")","v":1},{"$f":"COUNTIF('[1]Testee answer 2011'!AE353:AE356,\"D\")","v":2},{"$f":"COUNTIF('[1]Testee answer 2011'!AF353:AF356,\"D\")","v":3},{"$f":"COUNTIF('[1]Testee answer 2011'!AG353:AG356,\"D\")","v":1},{"$f":"COUNTIF('[1]Testee answer 2011'!AH353:AH356,\"D\")","v":0},{"$f":"COUNTIF('[1]Testee answer 2011'!AI353:AI356,\"D\")","v":0},{"$f":"COUNTIF('[1]Testee answer 2011'!AJ353:AJ356,\"D\")","v":0},{"$f":"COUNTIF('[1]Testee answer 2011'!AK353:AK356,\"D\")","v":0},{"$f":"COUNTIF('[1]Testee answer 2011'!AL353:AL356,\"D\")","v":2},{"$f":"COUNTIF('[1]Testee answer 2011'!AM353:AM356,\"D\")","v":2},{"$f":"COUNTIF('[1]Testee answer 2011'!AN353:AN356,\"D\")","v":0},{"$f":"COUNTIF('[1]Testee answer 2011'!AO353:AO356,\"D\")","v":0},{"$f":"COUNTIF('[1]Testee answer 2011'!AP353:AP356,\"D\")","v":0},{"$f":"COUNTIF('[1]Testee answer 2011'!AQ353:AQ356,\"D\")","v":0},{"$f":"COUNTIF('[1]Testee answer 2011'!AR353:AR356,\"D\")","v":0},{"$f":"COUNTIF('[1]Testee answer 2011'!AS353:AS356,\"D\")","v":0},{"$f":"COUNTIF('[1]Testee answer 2011'!AT353:AT356,\"D\")","v":1},{"$f":"COUNTIF('[1]Testee answer 2011'!AU353:AU356,\"D\")","v":3},{"$f":"COUNTIF('[1]Testee answer 2011'!AV353:AV356,\"D\")","v":3},{"$f":"COUNTIF('[1]Testee answer 2011'!AW353:AW356,\"D\")","v":0},{"$f":"COUNTIF('[1]Testee answer 2011'!AX353:AX356,\"D\")","v":0},{"$f":"COUNTIF('[1]Testee answer 2011'!AY353:AY356,\"D\")","v":0},{"$f":"COUNTIF('[1]Testee answer 2011'!AZ353:AZ356,\"D\")","v":0},{"$f":"COUNTIF('[1]Testee answer 2011'!BA353:BA356,\"D\")","v":0},{"$f":"COUNTIF('[1]Testee answer 2011'!BB353:BB356,\"D\")","v":0},{"$f":"COUNTIF('[1]Testee answer 2011'!BC353:BC356,\"D\")","v":0},{"$f":"COUNTIF('[1]Testee answer 2011'!BD353:BD356,\"D\")","v":0},{"$f":"COUNTIF('[1]Testee answer 2011'!BE353:BE356,\"D\")","v":0},{"$f":"COUNTIF('[1]Testee answer 2011'!BF353:BF356,\"D\")","v":0},{"$f":"COUNTIF('[1]Testee answer 2011'!BG353:BG356,\"D\")","v":0},{"$f":"COUNTIF('[1]Testee answer 2011'!BH353:BH356,\"D\")","v":0},{"$f":"COUNTIF('[1]Testee answer 2011'!BI353:BI356,\"D\")","v":0}]
["RF1",{"$f":"COUNTIF('[1]Testee answer 2011'!D357:D371,\"A\")","v":11},{"$f":"COUNTIF('[1]Testee answer 2011'!E357:E371,\"A\")","v":3},{"$f":"COUNTIF('[1]Testee answer 2011'!F357:F371,\"A\")","v":3},{"$f":"COUNTIF('[1]Testee answer 2011'!G357:G371,\"A\")","v":10},{"$f":"COUNTIF('[1]Testee answer 2011'!H357:H371,\"A\")","v":6},{"$f":"COUNTIF('[1]Testee answer 2011'!I357:I371,\"A\")","v":0},{"$f":"COUNTIF('[1]Testee answer 2011'!J357:J371,\"A\")","v":5},{"$f":"COUNTIF('[1]Testee answer 2011'!K357:K371,\"A\")","v":9},{"$f":"COUNTIF('[1]Testee answer 2011'!L357:L371,\"A\")","v":6},{"$f":"COUNTIF('[1]Testee answer 2011'!M357:M371,\"A\")","v":4},{"$f":"COUNTIF('[1]Testee answer 2011'!N357:N371,\"A\")","v":0},{"$f":"COUNTIF('[1]Testee answer 2011'!O357:O371,\"A\")","v":3},{"$f":"COUNTIF('[1]Testee answer 2011'!P357:P371,\"A\")","v":1},{"$f":"COUNTIF('[1]Testee answer 2011'!Q357:Q371,\"A\")","v":0},{"$f":"COUNTIF('[1]Testee answer 2011'!R357:R371,\"A\")","v":1},{"$f":"COUNTIF('[1]Testee answer 2011'!S357:S371,\"A\")","v":5},{"$f":"COUNTIF('[1]Testee answer 2011'!T357:T371,\"A\")","v":8},{"$f":"COUNTIF('[1]Testee answer 2011'!U357:U371,\"A\")","v":1},{"$f":"COUNTIF('[1]Testee answer 2011'!V357:V371,\"A\")","v":2},{"$f":"COUNTIF('[1]Testee answer 2011'!W357:W371,\"A\")","v":1},{"$f":"COUNTIF('[1]Testee answer 2011'!X357:X371,\"A\")","v":2},{"$f":"COUNTIF('[1]Testee answer 2011'!Y357:Y371,\"A\")","v":5},{"$f":"COUNTIF('[1]Testee answer 2011'!Z357:Z371,\"A\")","v":7},{"$f":"COUNTIF('[1]Testee answer 2011'!AA357:AA371,\"A\")","v":6},{"$f":"COUNTIF('[1]Testee answer 2011'!AB357:AB371,\"A\")","v":0},{"$f":"COUNTIF('[1]Testee answer 2011'!AC357:AC371,\"A\")","v":1},{"$f":"COUNTIF('[1]Testee answer 2011'!AD357:AD371,\"A\")","v":4},{"$f":"COUNTIF('[1]Testee answer 2011'!AE357:AE371,\"A\")","v":1},{"$f":"COUNTIF('[1]Testee answer 2011'!AF357:AF371,\"A\")","v":1},{"$f":"COUNTIF('[1]Testee answer 2011'!AG357:AG371,\"A\")","v":1},{"$f":"COUNTIF('[1]Testee answer 2011'!AH357:AH371,\"A\")","v":7},{"$f":"COUNTIF('[1]Testee answer 2011'!AI357:AI371,\"A\")","v":2},{"$f":"COUNTIF('[1]Testee answer 2011'!AJ357:AJ371,\"A\")","v":6},{"$f":"COUNTIF('[1]Testee answer 2011'!AK357:AK371,\"A\")","v":6},{"$f":"COUNTIF('[1]Testee answer 2011'!AL357:AL371,\"A\")","v":1},{"$f":"COUNTIF('[1]Testee answer 2011'!AM357:AM371,\"A\")","v":0},{"$f":"COUNTIF('[1]Testee answer 2011'!AN357:AN371,\"A\")","v":1},{"$f":"COUNTIF('[1]Testee answer 2011'!AO357:AO371,\"A\")","v":5},{"$f":"COUNTIF('[1]Testee answer 2011'!AP357:AP371,\"A\")","v":1},{"$f":"COUNTIF('[1]Testee answer 2011'!AQ357:AQ371,\"A\")","v":3},{"$f":"COUNTIF('[1]Testee answer 2011'!AR357:AR371,\"A\")","v":3},{"$f":"COUNTIF('[1]Testee answer 2011'!AS357:AS371,\"A\")","v":1},{"$f":"COUNTIF('[1]Testee answer 2011'!AT357:AT371,\"A\")","v":1},{"$f":"COUNTIF('[1]Testee answer 2011'!AU357:AU371,\"A\")","v":1},{"$f":"COUNTIF('[1]Testee answer 2011'!AV357:AV371,\"A\")","v":2},{"$f":"COUNTIF('[1]Testee answer 2011'!AW357:AW371,\"A\")","v":3},{"$f":"COUNTIF('[1]Testee answer 2011'!AX357:AX371,\"A\")","v":3},{"$f":"COUNTIF('[1]Testee answer 2011'!AY357:AY371,\"A\")","v":1},{"$f":"COUNTIF('[1]Testee answer 2011'!AZ357:AZ371,\"A\")","v":1},{"$f":"COUNTIF('[1]Testee answer 2011'!BA357:BA371,\"A\")","v":11},{"$f":"COUNTIF('[1]Testee answer 2011'!BB357:BB371,\"A\")","v":10},{"$f":"COUNTIF('[1]Testee answer 2011'!BC357:BC371,\"A\")","v":4},{"$f":"COUNTIF('[1]Testee answer 2011'!BD357:BD371,\"A\")","v":7},{"$f":"COUNTIF('[1]Testee answer 2011'!BE357:BE371,\"A\")","v":11},{"$f":"COUNTIF('[1]Testee answer 2011'!BF357:BF371,\"A\")","v":1},{"$f":"COUNTIF('[1]Testee answer 2011'!BG357:BG371,\"A\")","v":12},{"$f":"COUNTIF('[1]Testee answer 2011'!BH357:BH371,\"A\")","v":10},{"$f":"COUNTIF('[1]Testee answer 2011'!BI357:BI371,\"A\")","v":1}]
["RF1",{"$f":"COUNTIF('[1]Testee answer 2011'!D357:D371,\"B\")","v":4},{"$f":"COUNTIF('[1]Testee answer 2011'!E357:E371,\"B\")","v":12},{"$f":"COUNTIF('[1]Testee answer 2011'!F357:F371,\"B\")","v":9},{"$f":"COUNTIF('[1]Testee answer 2011'!G357:G371,\"B\")","v":5},{"$f":"COUNTIF('[1]Testee answer 2011'!H357:H371,\"B\")","v":4},{"$f":"COUNTIF('[1]Testee answer 2011'!I357:I371,\"B\")","v":6},{"$f":"COUNTIF('[1]Testee answer 2011'!J357:J371,\"B\")","v":10},{"$f":"COUNTIF('[1]Testee answer 2011'!K357:K371,\"B\")","v":3},{"$f":"COUNTIF('[1]Testee answer 2011'!L357:L371,\"B\")","v":7},{"$f":"COUNTIF('[1]Testee answer 2011'!M357:M371,\"B\")","v":6},{"$f":"COUNTIF('[1]Testee answer 2011'!N357:N371,\"B\")","v":5},{"$f":"COUNTIF('[1]Testee answer 2011'!O357:O371,\"B\")","v":5},{"$f":"COUNTIF('[1]Testee answer 2011'!P357:P371,\"B\")","v":5},{"$f":"COUNTIF('[1]Testee answer 2011'!Q357:Q371,\"B\")","v":2},{"$f":"COUNTIF('[1]Testee answer 2011'!R357:R371,\"B\")","v":1},{"$f":"COUNTIF('[1]Testee answer 2011'!S357:S371,\"B\")","v":1},{"$f":"COUNTIF('[1]Testee answer 2011'!T357:T371,\"B\")","v":0},{"$f":"COUNTIF('[1]Testee answer 2011'!U357:U371,\"B\")","v":3},{"$f":"COUNTIF('[1]Testee answer 2011'!V357:V371,\"B\")","v":2},{"$f":"COUNTIF('[1]Testee answer 2011'!W357:W371,\"B\")","v":4},{"$f":"COUNTIF('[1]Testee answer 2011'!X357:X371,\"B\")","v":5},{"$f":"COUNTIF('[1]Testee answer 2011'!Y357:Y371,\"B\")","v":3},{"$f":"COUNTIF('[1]Testee answer 2011'!Z357:Z371,\"B\")","v":1},{"$f":"COUNTIF('[1]Testee answer 2011'!AA357:AA371,\"B\")","v":4},{"$f":"COUNTIF('[1]Testee answer 2011'!AB357:AB371,\"B\")","v":1},{"$f":"COUNTIF('[1]Testee answer 2011'!AC357:AC371,\"B\")","v":3},{"$f":"COUNTIF('[1]Testee answer 2011'!AD357:AD371,\"B\")","v":2},{"$f":"COUNTIF('[1]Testee answer 2011'!AE357:AE371,\"B\")","v":0},{"$f":"COUNTIF('[1]Testee answer 2011'!AF357:AF371,\"B\")","v":1},{"$f":"COUNTIF('[1]Testee answer 2011'!AG357:AG371,\"B\")","v":1},{"$f":"COUNTIF('[1]Testee answer 2011'!AH357:AH371,\"B\")","v":4},{"$f":"COUNTIF('[1]Testee answer 2011'!AI357:AI371,\"B\")","v":8},{"$f":"COUNTIF('[1]Testee answer 2011'!AJ357:AJ371,\"B\")","v":0},{"$f":"COUNTIF('[1]Testee answer 2011'!AK357:AK371,\"B\")","v":0},{"$f":"COUNTIF('[1]Testee answer 2011'!AL357:AL371,\"B\")","v":0},{"$f":"COUNTIF('[1]Testee answer 2011'!AM357:AM371,\"B\")","v":1},{"$f":"COUNTIF('[1]Testee answer 2011'!AN357:AN371,\"B\")","v":3},{"$f":"COUNTIF('[1]Testee answer 2011'!AO357:AO371,\"B\")","v":10},{"$f":"COUNTIF('[1]Testee answer 2011'!AP357:AP371,\"B\")","v":14},{"$f":"COUNTIF('[1]Testee answer 2011'!AQ357:AQ371,\"B\")","v":12},{"$f":"COUNTIF('[1]Testee answer 2011'!AR357:AR371,\"B\")","v":12},{"$f":"COUNTIF('[1]Testee answer 2011'!AS357:AS371,\"B\")","v":14},{"$f":"COUNTIF('[1]Testee answer 2011'!AT357:AT371,\"B\")","v":1},{"$f":"COUNTIF('[1]Testee answer 2011'!AU357:AU371,\"B\")","v":1},{"$f":"COUNTIF('[1]Testee answer 2011'!AV357:AV371,\"B\")","v":1},{"$f":"COUNTIF('[1]Testee answer 2011'!AW357:AW371,\"B\")","v":4},{"$f":"COUNTIF('[1]Testee answer 2011'!AX357:AX371,\"B\")","v":5},{"$f":"COUNTIF('[1]Testee answer 2011'!AY357:AY371,\"B\")","v":3},{"$f":"COUNTIF('[1]Testee answer 2011'!AZ357:AZ371,\"B\")","v":1},{"$f":"COUNTIF('[1]Testee answer 2011'!BA357:BA371,\"B\")","v":4},{"$f":"COUNTIF('[1]Testee answer 2011'!BB357:BB371,\"B\")","v":5},{"$f":"COUNTIF('[1]Testee answer 2011'!BC357:BC371,\"B\")","v":11},{"$f":"COUNTIF('[1]Testee answer 2011'!BD357:BD371,\"B\")","v":8},{"$f":"COUNTIF('[1]Testee answer 2011'!BE357:BE371,\"B\")","v":4},{"$f":"COUNTIF('[1]Testee answer 2011'!BF357:BF371,\"B\")","v":14},{"$f":"COUNTIF('[1]Testee answer 2011'!BG357:BG371,\"B\")","v":3},{"$f":"COUNTIF('[1]Testee answer 2011'!BH357:BH371,\"B\")","v":5},{"$f":"COUNTIF('[1]Testee answer 2011'!BI357:BI371,\"B\")","v":14}]
["RF1",{"$f":"COUNTIF('[1]Testee answer 2011'!D357:D371,\"C\")","v":0},{"$f":"COUNTIF('[1]Testee answer 2011'!E357:E371,\"C\")","v":0},{"$f":"COUNTIF('[1]Testee answer 2011'!F357:F371,\"C\")","v":2},{"$f":"COUNTIF('[1]Testee answer 2011'!G357:G371,\"C\")","v":0},{"$f":"COUNTIF('[1]Testee answer 2011'!H357:H371,\"C\")","v":3},{"$f":"COUNTIF('[1]Testee answer 2011'!I357:I371,\"C\")","v":8},{"$f":"COUNTIF('[1]Testee answer 2011'!J357:J371,\"C\")","v":0},{"$f":"COUNTIF('[1]Testee answer 2011'!K357:K371,\"C\")","v":3},{"$f":"COUNTIF('[1]Testee answer 2011'!L357:L371,\"C\")","v":2},{"$f":"COUNTIF('[1]Testee answer 2011'!M357:M371,\"C\")","v":3},{"$f":"COUNTIF('[1]Testee answer 2011'!N357:N371,\"C\")","v":8},{"$f":"COUNTIF('[1]Testee answer 2011'!O357:O371,\"C\")","v":4},{"$f":"COUNTIF('[1]Testee answer 2011'!P357:P371,\"C\")","v":6},{"$f":"COUNTIF('[1]Testee answer 2011'!Q357:Q371,\"C\")","v":10},{"$f":"COUNTIF('[1]Testee answer 2011'!R357:R371,\"C\")","v":7},{"$f":"COUNTIF('[1]Testee answer 2011'!S357:S371,\"C\")","v":6},{"$f":"COUNTIF('[1]Testee answer 2011'!T357:T371,\"C\")","v":6},{"$f":"COUNTIF('[1]Testee answer 2011'!U357:U371,\"C\")","v":7},{"$f":"COUNTIF('[1]Testee answer 2011'!V357:V371,\"C\")","v":8},{"$f":"COUNTIF('[1]Testee answer 2011'!W357:W371,\"C\")","v":8},{"$f":"COUNTIF('[1]Testee answer 2011'!X357:X371,\"C\")","v":6},{"$f":"COUNTIF('[1]Testee answer 2011'!Y357:Y371,\"C\")","v":5},{"$f":"COUNTIF('[1]Testee answer 2011'!Z357:Z371,\"C\")","v":7},{"$f":"COUNTIF('[1]Testee answer 2011'!AA357:AA371,\"C\")","v":4},{"$f":"COUNTIF('[1]Testee answer 2011'!AB357:AB371,\"C\")","v":3},{"$f":"COUNTIF('[1]Testee answer 2011'!AC357:AC371,\"C\")","v":6},{"$f":"COUNTIF('[1]Testee answer 2011'!AD357:AD371,\"C\")","v":7},{"$f":"COUNTIF('[1]Testee answer 2011'!AE357:AE371,\"C\")","v":3},{"$f":"COUNTIF('[1]Testee answer 2011'!AF357:AF371,\"C\")","v":4},{"$f":"COUNTIF('[1]Testee answer 2011'!AG357:AG371,\"C\")","v":3},{"$f":"COUNTIF('[1]Testee answer 2011'!AH357:AH371,\"C\")","v":3},{"$f":"COUNTIF('[1]Testee answer 2011'!AI357:AI371,\"C\")","v":3},{"$f":"COUNTIF('[1]Testee answer 2011'!AJ357:AJ371,\"C\")","v":6},{"$f":"COUNTIF('[1]Testee answer 2011'!AK357:AK371,\"C\")","v":6},{"$f":"COUNTIF('[1]Testee answer 2011'!AL357:AL371,\"C\")","v":8},{"$f":"COUNTIF('[1]Testee answer 2011'!AM357:AM371,\"C\")","v":8},{"$f":"COUNTIF('[1]Testee answer 2011'!AN357:AN371,\"C\")","v":7},{"$f":"COUNTIF('[1]Testee answer 2011'!AO357:AO371,\"C\")","v":0},{"$f":"COUNTIF('[1]Testee answer 2011'!AP357:AP371,\"C\")","v":0},{"$f":"COUNTIF('[1]Testee answer 2011'!AQ357:AQ371,\"C\")","v":0},{"$f":"COUNTIF('[1]Testee answer 2011'!AR357:AR371,\"C\")","v":0},{"$f":"COUNTIF('[1]Testee answer 2011'!AS357:AS371,\"C\")","v":0},{"$f":"COUNTIF('[1]Testee answer 2011'!AT357:AT371,\"C\")","v":4},{"$f":"COUNTIF('[1]Testee answer 2011'!AU357:AU371,\"C\")","v":5},{"$f":"COUNTIF('[1]Testee answer 2011'!AV357:AV371,\"C\")","v":7},{"$f":"COUNTIF('[1]Testee answer 2011'!AW357:AW371,\"C\")","v":6},{"$f":"COUNTIF('[1]Testee answer 2011'!AX357:AX371,\"C\")","v":6},{"$f":"COUNTIF('[1]Testee answer 2011'!AY357:AY371,\"C\")","v":4},{"$f":"COUNTIF('[1]Testee answer 2011'!AZ357:AZ371,\"C\")","v":6},{"$f":"COUNTIF('[1]Testee answer 2011'!BA357:BA371,\"C\")","v":0},{"$f":"COUNTIF('[1]Testee answer 2011'!BB357:BB371,\"C\")","v":0},{"$f":"COUNTIF('[1]Testee answer 2011'!BC357:BC371,\"C\")","v":0},{"$f":"COUNTIF('[1]Testee answer 2011'!BD357:BD371,\"C\")","v":0},{"$f":"COUNTIF('[1]Testee answer 2011'!BE357:BE371,\"C\")","v":0},{"$f":"COUNTIF('[1]Testee answer 2011'!BF357:BF371,\"C\")","v":0},{"$f":"COUNTIF('[1]Testee answer 2011'!BG357:BG371,\"C\")","v":0},{"$f":"COUNTIF('[1]Testee answer 2011'!BH357:BH371,\"C\")","v":0},{"$f":"COUNTIF('[1]Testee answer 2011'!BI357:BI371,\"C\")","v":0}]
["RF1",{"$f":"COUNTIF('[1]Testee answer 2011'!D357:D371,\"D\")","v":0},{"$f":"COUNTIF('[1]Testee answer 2011'!E357:E371,\"D\")","v":0},{"$f":"COUNTIF('[1]Testee answer 2011'!F357:F371,\"D\")","v":1},{"$f":"COUNTIF('[1]Testee answer 2011'!G357:G371,\"D\")","v":0},{"$f":"COUNTIF('[1]Testee answer 2011'!H357:H371,\"D\")","v":2},{"$f":"COUNTIF('[1]Testee answer 2011'!I357:I371,\"D\")","v":1},{"$f":"COUNTIF('[1]Testee answer 2011'!J357:J371,\"D\")","v":0},{"$f":"COUNTIF('[1]Testee answer 2011'!K357:K371,\"D\")","v":0},{"$f":"COUNTIF('[1]Testee answer 2011'!L357:L371,\"D\")","v":0},{"$f":"COUNTIF('[1]Testee answer 2011'!M357:M371,\"D\")","v":2},{"$f":"COUNTIF('[1]Testee answer 2011'!N357:N371,\"D\")","v":2},{"$f":"COUNTIF('[1]Testee answer 2011'!O357:O371,\"D\")","v":3},{"$f":"COUNTIF('[1]Testee answer 2011'!P357:P371,\"D\")","v":3},{"$f":"COUNTIF('[1]Testee answer 2011'!Q357:Q371,\"D\")","v":3},{"$f":"COUNTIF('[1]Testee answer 2011'!R357:R371,\"D\")","v":6},{"$f":"COUNTIF('[1]Testee answer 2011'!S357:S371,\"D\")","v":3},{"$f":"COUNTIF('[1]Testee answer 2011'!T357:T371,\"D\")","v":1},{"$f":"COUNTIF('[1]Testee answer 2011'!U357:U371,\"D\")","v":4},{"$f":"COUNTIF('[1]Testee answer 2011'!V357:V371,\"D\")","v":3},{"$f":"COUNTIF('[1]Testee answer 2011'!W357:W371,\"D\")","v":2},{"$f":"COUNTIF('[1]Testee answer 2011'!X357:X371,\"D\")","v":2},{"$f":"COUNTIF('[1]Testee answer 2011'!Y357:Y371,\"D\")","v":2},{"$f":"COUNTIF('[1]Testee answer 2011'!Z357:Z371,\"D\")","v":0},{"$f":"COUNTIF('[1]Testee answer 2011'!AA357:AA371,\"D\")","v":1},{"$f":"COUNTIF('[1]Testee answer 2011'!AB357:AB371,\"D\")","v":11},{"$f":"COUNTIF('[1]Testee answer 2011'!AC357:AC371,\"D\")","v":5},{"$f":"COUNTIF('[1]Testee answer 2011'!AD357:AD371,\"D\")","v":2},{"$f":"COUNTIF('[1]Testee answer 2011'!AE357:AE371,\"D\")","v":11},{"$f":"COUNTIF('[1]Testee answer 2011'!AF357:AF371,\"D\")","v":9},{"$f":"COUNTIF('[1]Testee answer 2011'!AG357:AG371,\"D\")","v":10},{"$f":"COUNTIF('[1]Testee answer 2011'!AH357:AH371,\"D\")","v":1},{"$f":"COUNTIF('[1]Testee answer 2011'!AI357:AI371,\"D\")","v":2},{"$f":"COUNTIF('[1]Testee answer 2011'!AJ357:AJ371,\"D\")","v":3},{"$f":"COUNTIF('[1]Testee answer 2011'!AK357:AK371,\"D\")","v":3},{"$f":"COUNTIF('[1]Testee answer 2011'!AL357:AL371,\"D\")","v":6},{"$f":"COUNTIF('[1]Testee answer 2011'!AM357:AM371,\"D\")","v":6},{"$f":"COUNTIF('[1]Testee answer 2011'!AN357:AN371,\"D\")","v":4},{"$f":"COUNTIF('[1]Testee answer 2011'!AO357:AO371,\"D\")","v":0},{"$f":"COUNTIF('[1]Testee answer 2011'!AP357:AP371,\"D\")","v":0},{"$f":"COUNTIF('[1]Testee answer 2011'!AQ357:AQ371,\"D\")","v":0},{"$f":"COUNTIF('[1]Testee answer 2011'!AR357:AR371,\"D\")","v":0},{"$f":"COUNTIF('[1]Testee answer 2011'!AS357:AS371,\"D\")","v":0},{"$f":"COUNTIF('[1]Testee answer 2011'!AT357:AT371,\"D\")","v":9},{"$f":"COUNTIF('[1]Testee answer 2011'!AU357:AU371,\"D\")","v":8},{"$f":"COUNTIF('[1]Testee answer 2011'!AV357:AV371,\"D\")","v":5},{"$f":"COUNTIF('[1]Testee answer 2011'!AW357:AW371,\"D\")","v":2},{"$f":"COUNTIF('[1]Testee answer 2011'!AX357:AX371,\"D\")","v":1},{"$f":"COUNTIF('[1]Testee answer 2011'!AY357:AY371,\"D\")","v":7},{"$f":"COUNTIF('[1]Testee answer 2011'!AZ357:AZ371,\"D\")","v":7},{"$f":"COUNTIF('[1]Testee answer 2011'!BA357:BA371,\"D\")","v":0},{"$f":"COUNTIF('[1]Testee answer 2011'!BB357:BB371,\"D\")","v":0},{"$f":"COUNTIF('[1]Testee answer 2011'!BC357:BC371,\"D\")","v":0},{"$f":"COUNTIF('[1]Testee answer 2011'!BD357:BD371,\"D\")","v":0},{"$f":"COUNTIF('[1]Testee answer 2011'!BE357:BE371,\"D\")","v":0},{"$f":"COUNTIF('[1]Testee answer 2011'!BF357:BF371,\"D\")","v":0},{"$f":"COUNTIF('[1]Testee answer 2011'!BG357:BG371,\"D\")","v":0},{"$f":"COUNTIF('[1]Testee answer 2011'!BH357:BH371,\"D\")","v":0},{"$f":"COUNTIF('[1]Testee answer 2011'!BI357:BI371,\"D\")","v":0}]
["RF2",{"$f":"COUNTIF('[1]Testee answer 2011'!D372:D385,\"A\")","v":0},{"$f":"COUNTIF('[1]Testee answer 2011'!E372:E385,\"A\")","v":2},{"$f":"COUNTIF('[1]Testee answer 2011'!F372:F385,\"A\")","v":3},{"$f":"COUNTIF('[1]Testee answer 2011'!G372:G385,\"A\")","v":9},{"$f":"COUNTIF('[1]Testee answer 2011'!H372:H385,\"A\")","v":3},{"$f":"COUNTIF('[1]Testee answer 2011'!I372:I385,\"A\")","v":0},{"$f":"COUNTIF('[1]Testee answer 2011'!J372:J385,\"A\")","v":9},{"$f":"COUNTIF('[1]Testee answer 2011'!K372:K385,\"A\")","v":8},{"$f":"COUNTIF('[1]Testee answer 2011'!L372:L385,\"A\")","v":7},{"$f":"COUNTIF('[1]Testee answer 2011'!M372:M385,\"A\")","v":8},{"$f":"COUNTIF('[1]Testee answer 2011'!N372:N385,\"A\")","v":4},{"$f":"COUNTIF('[1]Testee answer 2011'!O372:O385,\"A\")","v":3},{"$f":"COUNTIF('[1]Testee answer 2011'!P372:P385,\"A\")","v":4},{"$f":"COUNTIF('[1]Testee answer 2011'!Q372:Q385,\"A\")","v":1},{"$f":"COUNTIF('[1]Testee answer 2011'!R372:R385,\"A\")","v":5},{"$f":"COUNTIF('[1]Testee answer 2011'!S372:S385,\"A\")","v":3},{"$f":"COUNTIF('[1]Testee answer 2011'!T372:T385,\"A\")","v":2},{"$f":"COUNTIF('[1]Testee answer 2011'!U372:U385,\"A\")","v":2},{"$f":"COUNTIF('[1]Testee answer 2011'!V372:V385,\"A\")","v":0},{"$f":"COUNTIF('[1]Testee answer 2011'!W372:W385,\"A\")","v":5},{"$f":"COUNTIF('[1]Testee answer 2011'!X372:X385,\"A\")","v":4},{"$f":"COUNTIF('[1]Testee answer 2011'!Y372:Y385,\"A\")","v":6},{"$f":"COUNTIF('[1]Testee answer 2011'!Z372:Z385,\"A\")","v":7},{"$f":"COUNTIF('[1]Testee answer 2011'!AA372:AA385,\"A\")","v":9},{"$f":"COUNTIF('[1]Testee answer 2011'!AB372:AB385,\"A\")","v":0},{"$f":"COUNTIF('[1]Testee answer 2011'!AC372:AC385,\"A\")","v":2},{"$f":"COUNTIF('[1]Testee answer 2011'!AD372:AD385,\"A\")","v":6},{"$f":"COUNTIF('[1]Testee answer 2011'!AE372:AE385,\"A\")","v":1},{"$f":"COUNTIF('[1]Testee answer 2011'!AF372:AF385,\"A\")","v":1},{"$f":"COUNTIF('[1]Testee answer 2011'!AG372:AG385,\"A\")","v":1},{"$f":"COUNTIF('[1]Testee answer 2011'!AH372:AH385,\"A\")","v":8},{"$f":"COUNTIF('[1]Testee answer 2011'!AI372:AI385,\"A\")","v":5},{"$f":"COUNTIF('[1]Testee answer 2011'!AJ372:AJ385,\"A\")","v":6},{"$f":"COUNTIF('[1]Testee answer 2011'!AK372:AK385,\"A\")","v":7},{"$f":"COUNTIF('[1]Testee answer 2011'!AL372:AL385,\"A\")","v":0},{"$f":"COUNTIF('[1]Testee answer 2011'!AM372:AM385,\"A\")","v":0},{"$f":"COUNTIF('[1]Testee answer 2011'!AN372:AN385,\"A\")","v":2},{"$f":"COUNTIF('[1]Testee answer 2011'!AO372:AO385,\"A\")","v":2},{"$f":"COUNTIF('[1]Testee answer 2011'!AP372:AP385,\"A\")","v":2},{"$f":"COUNTIF('[1]Testee answer 2011'!AQ372:AQ385,\"A\")","v":1},{"$f":"COUNTIF('[1]Testee answer 2011'!AR372:AR385,\"A\")","v":3},{"$f":"COUNTIF('[1]Testee answer 2011'!AS372:AS385,\"A\")","v":0},{"$f":"COUNTIF('[1]Testee answer 2011'!AT372:AT385,\"A\")","v":0},{"$f":"COUNTIF('[1]Testee answer 2011'!AU372:AU385,\"A\")","v":0},{"$f":"COUNTIF('[1]Testee answer 2011'!AV372:AV385,\"A\")","v":0},{"$f":"COUNTIF('[1]Testee answer 2011'!AW372:AW385,\"A\")","v":3},{"$f":"COUNTIF('[1]Testee answer 2011'!AX372:AX385,\"A\")","v":5},{"$f":"COUNTIF('[1]Testee answer 2011'!AY372:AY385,\"A\")","v":4},{"$f":"COUNTIF('[1]Testee answer 2011'!AZ372:AZ385,\"A\")","v":1},{"$f":"COUNTIF('[1]Testee answer 2011'!BA372:BA385,\"A\")","v":11},{"$f":"COUNTIF('[1]Testee answer 2011'!BB372:BB385,\"A\")","v":7},{"$f":"COUNTIF('[1]Testee answer 2011'!BC372:BC385,\"A\")","v":0},{"$f":"COUNTIF('[1]Testee answer 2011'!BD372:BD385,\"A\")","v":6},{"$f":"COUNTIF('[1]Testee answer 2011'!BE372:BE385,\"A\")","v":9},{"$f":"COUNTIF('[1]Testee answer 2011'!BF372:BF385,\"A\")","v":1},{"$f":"COUNTIF('[1]Testee answer 2011'!BG372:BG385,\"A\")","v":11},{"$f":"COUNTIF('[1]Testee answer 2011'!BH372:BH385,\"A\")","v":12},{"$f":"COUNTIF('[1]Testee answer 2011'!BI372:BI385,\"A\")","v":0}]
["RF2",{"$f":"COUNTIF('[1]Testee answer 2011'!D372:D385,\"B\")","v":13},{"$f":"COUNTIF('[1]Testee answer 2011'!E372:E385,\"B\")","v":11},{"$f":"COUNTIF('[1]Testee answer 2011'!F372:F385,\"B\")","v":10},{"$f":"COUNTIF('[1]Testee answer 2011'!G372:G385,\"B\")","v":4},{"$f":"COUNTIF('[1]Testee answer 2011'!H372:H385,\"B\")","v":5},{"$f":"COUNTIF('[1]Testee answer 2011'!I372:I385,\"B\")","v":9},{"$f":"COUNTIF('[1]Testee answer 2011'!J372:J385,\"B\")","v":4},{"$f":"COUNTIF('[1]Testee answer 2011'!K372:K385,\"B\")","v":5},{"$f":"COUNTIF('[1]Testee answer 2011'!L372:L385,\"B\")","v":6},{"$f":"COUNTIF('[1]Testee answer 2011'!M372:M385,\"B\")","v":4},{"$f":"COUNTIF('[1]Testee answer 2011'!N372:N385,\"B\")","v":5},{"$f":"COUNTIF('[1]Testee answer 2011'!O372:O385,\"B\")","v":1},{"$f":"COUNTIF('[1]Testee answer 2011'!P372:P385,\"B\")","v":0},{"$f":"COUNTIF('[1]Testee answer 2011'!Q372:Q385,\"B\")","v":0},{"$f":"COUNTIF('[1]Testee answer 2011'!R372:R385,\"B\")","v":2},{"$f":"COUNTIF('[1]Testee answer 2011'!S372:S385,\"B\")","v":1},{"$f":"COUNTIF('[1]Testee answer 2011'!T372:T385,\"B\")","v":2},{"$f":"COUNTIF('[1]Testee answer 2011'!U372:U385,\"B\")","v":2},{"$f":"COUNTIF('[1]Testee answer 2011'!V372:V385,\"B\")","v":0},{"$f":"COUNTIF('[1]Testee answer 2011'!W372:W385,\"B\")","v":3},{"$f":"COUNTIF('[1]Testee answer 2011'!X372:X385,\"B\")","v":4},{"$f":"COUNTIF('[1]Testee answer 2011'!Y372:Y385,\"B\")","v":1},{"$f":"COUNTIF('[1]Testee answer 2011'!Z372:Z385,\"B\")","v":3},{"$f":"COUNTIF('[1]Testee answer 2011'!AA372:AA385,\"B\")","v":3},{"$f":"COUNTIF('[1]Testee answer 2011'!AB372:AB385,\"B\")","v":0},{"$f":"COUNTIF('[1]Testee answer 2011'!AC372:AC385,\"B\")","v":2},{"$f":"COUNTIF('[1]Testee answer 2011'!AD372:AD385,\"B\")","v":0},{"$f":"COUNTIF('[1]Testee answer 2011'!AE372:AE385,\"B\")","v":1},{"$f":"COUNTIF('[1]Testee answer 2011'!AF372:AF385,\"B\")","v":0},{"$f":"COUNTIF('[1]Testee answer 2011'!AG372:AG385,\"B\")","v":0},{"$f":"COUNTIF('[1]Testee answer 2011'!AH372:AH385,\"B\")","v":3},{"$f":"COUNTIF('[1]Testee answer 2011'!AI372:AI385,\"B\")","v":4},{"$f":"COUNTIF('[1]Testee answer 2011'!AJ372:AJ385,\"B\")","v":2},{"$f":"COUNTIF('[1]Testee answer 2011'!AK372:AK385,\"B\")","v":0},{"$f":"COUNTIF('[1]Testee answer 2011'!AL372:AL385,\"B\")","v":1},{"$f":"COUNTIF('[1]Testee answer 2011'!AM372:AM385,\"B\")","v":0},{"$f":"COUNTIF('[1]Testee answer 2011'!AN372:AN385,\"B\")","v":0},{"$f":"COUNTIF('[1]Testee answer 2011'!AO372:AO385,\"B\")","v":11},{"$f":"COUNTIF('[1]Testee answer 2011'!AP372:AP385,\"B\")","v":11},{"$f":"COUNTIF('[1]Testee answer 2011'!AQ372:AQ385,\"B\")","v":12},{"$f":"COUNTIF('[1]Testee answer 2011'!AR372:AR385,\"B\")","v":10},{"$f":"COUNTIF('[1]Testee answer 2011'!AS372:AS385,\"B\")","v":13},{"$f":"COUNTIF('[1]Testee answer 2011'!AT372:AT385,\"B\")","v":1},{"$f":"COUNTIF('[1]Testee answer 2011'!AU372:AU385,\"B\")","v":0},{"$f":"COUNTIF('[1]Testee answer 2011'!AV372:AV385,\"B\")","v":0},{"$f":"COUNTIF('[1]Testee answer 2011'!AW372:AW385,\"B\")","v":4},{"$f":"COUNTIF('[1]Testee answer 2011'!AX372:AX385,\"B\")","v":0},{"$f":"COUNTIF('[1]Testee answer 2011'!AY372:AY385,\"B\")","v":0},{"$f":"COUNTIF('[1]Testee answer 2011'!AZ372:AZ385,\"B\")","v":1},{"$f":"COUNTIF('[1]Testee answer 2011'!BA372:BA385,\"B\")","v":2},{"$f":"COUNTIF('[1]Testee answer 2011'!BB372:BB385,\"B\")","v":6},{"$f":"COUNTIF('[1]Testee answer 2011'!BC372:BC385,\"B\")","v":13},{"$f":"COUNTIF('[1]Testee answer 2011'!BD372:BD385,\"B\")","v":7},{"$f":"COUNTIF('[1]Testee answer 2011'!BE372:BE385,\"B\")","v":4},{"$f":"COUNTIF('[1]Testee answer 2011'!BF372:BF385,\"B\")","v":12},{"$f":"COUNTIF('[1]Testee answer 2011'!BG372:BG385,\"B\")","v":2},{"$f":"COUNTIF('[1]Testee answer 2011'!BH372:BH385,\"B\")","v":1},{"$f":"COUNTIF('[1]Testee answer 2011'!BI372:BI385,\"B\")","v":13}]
["RF2",{"$f":"COUNTIF('[1]Testee answer 2011'!D372:D385,\"C\")","v":0},{"$f":"COUNTIF('[1]Testee answer 2011'!E372:E385,\"C\")","v":0},{"$f":"COUNTIF('[1]Testee answer 2011'!F372:F385,\"C\")","v":0},{"$f":"COUNTIF('[1]Testee answer 2011'!G372:G385,\"C\")","v":0},{"$f":"COUNTIF('[1]Testee answer 2011'!H372:H385,\"C\")","v":1},{"$f":"COUNTIF('[1]Testee answer 2011'!I372:I385,\"C\")","v":4},{"$f":"COUNTIF('[1]Testee answer 2011'!J372:J385,\"C\")","v":0},{"$f":"COUNTIF('[1]Testee answer 2011'!K372:K385,\"C\")","v":0},{"$f":"COUNTIF('[1]Testee answer 2011'!L372:L385,\"C\")","v":0},{"$f":"COUNTIF('[1]Testee answer 2011'!M372:M385,\"C\")","v":1},{"$f":"COUNTIF('[1]Testee answer 2011'!N372:N385,\"C\")","v":4},{"$f":"COUNTIF('[1]Testee answer 2011'!O372:O385,\"C\")","v":9},{"$f":"COUNTIF('[1]Testee answer 2011'!P372:P385,\"C\")","v":8},{"$f":"COUNTIF('[1]Testee answer 2011'!Q372:Q385,\"C\")","v":7},{"$f":"COUNTIF('[1]Testee answer 2011'!R372:R385,\"C\")","v":4},{"$f":"COUNTIF('[1]Testee answer 2011'!S372:S385,\"C\")","v":3},{"$f":"COUNTIF('[1]Testee answer 2011'!T372:T385,\"C\")","v":6},{"$f":"COUNTIF('[1]Testee answer 2011'!U372:U385,\"C\")","v":9},{"$f":"COUNTIF('[1]Testee answer 2011'!V372:V385,\"C\")","v":8},{"$f":"COUNTIF('[1]Testee answer 2011'!W372:W385,\"C\")","v":5},{"$f":"COUNTIF('[1]Testee answer 2011'!X372:X385,\"C\")","v":5},{"$f":"COUNTIF('[1]Testee answer 2011'!Y372:Y385,\"C\")","v":5},{"$f":"COUNTIF('[1]Testee answer 2011'!Z372:Z385,\"C\")","v":3},{"$f":"COUNTIF('[1]Testee answer 2011'!AA372:AA385,\"C\")","v":1},{"$f":"COUNTIF('[1]Testee answer 2011'!AB372:AB385,\"C\")","v":3},{"$f":"COUNTIF('[1]Testee answer 2011'!AC372:AC385,\"C\")","v":6},{"$f":"COUNTIF('[1]Testee answer 2011'!AD372:AD385,\"C\")","v":7},{"$f":"COUNTIF('[1]Testee answer 2011'!AE372:AE385,\"C\")","v":6},{"$f":"COUNTIF('[1]Testee answer 2011'!AF372:AF385,\"C\")","v":5},{"$f":"COUNTIF('[1]Testee answer 2011'!AG372:AG385,\"C\")","v":3},{"$f":"COUNTIF('[1]Testee answer 2011'!AH372:AH385,\"C\")","v":2},{"$f":"COUNTIF('[1]Testee answer 2011'!AI372:AI385,\"C\")","v":4},{"$f":"COUNTIF('[1]Testee answer 2011'!AJ372:AJ385,\"C\")","v":4},{"$f":"COUNTIF('[1]Testee answer 2011'!AK372:AK385,\"C\")","v":4},{"$f":"COUNTIF('[1]Testee answer 2011'!AL372:AL385,\"C\")","v":8},{"$f":"COUNTIF('[1]Testee answer 2011'!AM372:AM385,\"C\")","v":10},{"$f":"COUNTIF('[1]Testee answer 2011'!AN372:AN385,\"C\")","v":9},{"$f":"COUNTIF('[1]Testee answer 2011'!AO372:AO385,\"C\")","v":0},{"$f":"COUNTIF('[1]Testee answer 2011'!AP372:AP385,\"C\")","v":0},{"$f":"COUNTIF('[1]Testee answer 2011'!AQ372:AQ385,\"C\")","v":0},{"$f":"COUNTIF('[1]Testee answer 2011'!AR372:AR385,\"C\")","v":0},{"$f":"COUNTIF('[1]Testee answer 2011'!AS372:AS385,\"C\")","v":0},{"$f":"COUNTIF('[1]Testee answer 2011'!AT372:AT385,\"C\")","v":10},{"$f":"COUNTIF('[1]Testee answer 2011'!AU372:AU385,\"C\")","v":7},{"$f":"COUNTIF('[1]Testee answer 2011'!AV372:AV385,\"C\")","v":6},{"$f":"COUNTIF('[1]Testee answer 2011'!AW372:AW385,\"C\")","v":5},{"$f":"COUNTIF('[1]Testee answer 2011'!AX372:AX385,\"C\")","v":6},{"$f":"COUNTIF('[1]Testee answer 2011'!AY372:AY385,\"C\")","v":7},{"$f":"COUNTIF('[1]Testee answer 2011'!AZ372:AZ385,\"C\")","v":9},{"$f":"COUNTIF('[1]Testee answer 2011'!BA372:BA385,\"C\")","v":0},{"$f":"COUNTIF('[1]Testee answer 2011'!BB372:BB385,\"C\")","v":0},{"$f":"COUNTIF('[1]Testee answer 2011'!BC372:BC385,\"C\")","v":0},{"$f":"COUNTIF('[1]Testee answer 2011'!BD372:BD385,\"C\")","v":0},{"$f":"COUNTIF('[1]Testee answer 2011'!BE372:BE385,\"C\")","v":0},{"$f":"COUNTIF('[1]Testee answer 2011'!BF372:BF385,\"C\")","v":0},{"$f":"COUNTIF('[1]Testee answer 2011'!BG372:BG385,\"C\")","v":0},{"$f":"COUNTIF('[1]Testee answer 2011'!BH372:BH385,\"C\")","v":0},{"$f":"COUNTIF('[1]Testee answer 2011'!BI372:BI385,\"C\")","v":0}]
["RF2",{"$f":"COUNTIF('[1]Testee answer 2011'!D372:D385,\"D\")","v":0},{"$f":"COUNTIF('[1]Testee answer 2011'!E372:E385,\"D\")","v":0},{"$f":"COUNTIF('[1]Testee answer 2011'!F372:F385,\"D\")","v":0},{"$f":"COUNTIF('[1]Testee answer 2011'!G372:G385,\"D\")","v":0},{"$f":"COUNTIF('[1]Testee answer 2011'!H372:H385,\"D\")","v":4},{"$f":"COUNTIF('[1]Testee answer 2011'!I372:I385,\"D\")","v":0},{"$f":"COUNTIF('[1]Testee answer 2011'!J372:J385,\"D\")","v":0},{"$f":"COUNTIF('[1]Testee answer 2011'!K372:K385,\"D\")","v":0},{"$f":"COUNTIF('[1]Testee answer 2011'!L372:L385,\"D\")","v":0},{"$f":"COUNTIF('[1]Testee answer 2011'!M372:M385,\"D\")","v":0},{"$f":"COUNTIF('[1]Testee answer 2011'!N372:N385,\"D\")","v":0},{"$f":"COUNTIF('[1]Testee answer 2011'!O372:O385,\"D\")","v":0},{"$f":"COUNTIF('[1]Testee answer 2011'!P372:P385,\"D\")","v":1},{"$f":"COUNTIF('[1]Testee answer 2011'!Q372:Q385,\"D\")","v":5},{"$f":"COUNTIF('[1]Testee answer 2011'!R372:R385,\"D\")","v":2},{"$f":"COUNTIF('[1]Testee answer 2011'!S372:S385,\"D\")","v":6},{"$f":"COUNTIF('[1]Testee answer 2011'!T372:T385,\"D\")","v":3},{"$f":"COUNTIF('[1]Testee answer 2011'!U372:U385,\"D\")","v":0},{"$f":"COUNTIF('[1]Testee answer 2011'!V372:V385,\"D\")","v":5},{"$f":"COUNTIF('[1]Testee answer 2011'!W372:W385,\"D\")","v":0},{"$f":"COUNTIF('[1]Testee answer 2011'!X372:X385,\"D\")","v":0},{"$f":"COUNTIF('[1]Testee answer 2011'!Y372:Y385,\"D\")","v":1},{"$f":"COUNTIF('[1]Testee answer 2011'!Z372:Z385,\"D\")","v":0},{"$f":"COUNTIF('[1]Testee answer 2011'!AA372:AA385,\"D\")","v":0},{"$f":"COUNTIF('[1]Testee answer 2011'!AB372:AB385,\"D\")","v":10},{"$f":"COUNTIF('[1]Testee answer 2011'!AC372:AC385,\"D\")","v":3},{"$f":"COUNTIF('[1]Testee answer 2011'!AD372:AD385,\"D\")","v":0},{"$f":"COUNTIF('[1]Testee answer 2011'!AE372:AE385,\"D\")","v":5},{"$f":"COUNTIF('[1]Testee answer 2011'!AF372:AF385,\"D\")","v":7},{"$f":"COUNTIF('[1]Testee answer 2011'!AG372:AG385,\"D\")","v":9},{"$f":"COUNTIF('[1]Testee answer 2011'!AH372:AH385,\"D\")","v":0},{"$f":"COUNTIF('[1]Testee answer 2011'!AI372:AI385,\"D\")","v":0},{"$f":"COUNTIF('[1]Testee answer 2011'!AJ372:AJ385,\"D\")","v":1},{"$f":"COUNTIF('[1]Testee answer 2011'!AK372:AK385,\"D\")","v":2},{"$f":"COUNTIF('[1]Testee answer 2011'!AL372:AL385,\"D\")","v":4},{"$f":"COUNTIF('[1]Testee answer 2011'!AM372:AM385,\"D\")","v":3},{"$f":"COUNTIF('[1]Testee answer 2011'!AN372:AN385,\"D\")","v":2},{"$f":"COUNTIF('[1]Testee answer 2011'!AO372:AO385,\"D\")","v":0},{"$f":"COUNTIF('[1]Testee answer 2011'!AP372:AP385,\"D\")","v":0},{"$f":"COUNTIF('[1]Testee answer 2011'!AQ372:AQ385,\"D\")","v":0},{"$f":"COUNTIF('[1]Testee answer 2011'!AR372:AR385,\"D\")","v":0},{"$f":"COUNTIF('[1]Testee answer 2011'!AS372:AS385,\"D\")","v":0},{"$f":"COUNTIF('[1]Testee answer 2011'!AT372:AT385,\"D\")","v":2},{"$f":"COUNTIF('[1]Testee answer 2011'!AU372:AU385,\"D\")","v":6},{"$f":"COUNTIF('[1]Testee answer 2011'!AV372:AV385,\"D\")","v":7},{"$f":"COUNTIF('[1]Testee answer 2011'!AW372:AW385,\"D\")","v":1},{"$f":"COUNTIF('[1]Testee answer 2011'!AX372:AX385,\"D\")","v":2},{"$f":"COUNTIF('[1]Testee answer 2011'!AY372:AY385,\"D\")","v":2},{"$f":"COUNTIF('[1]Testee answer 2011'!AZ372:AZ385,\"D\")","v":2},{"$f":"COUNTIF('[1]Testee answer 2011'!BA372:BA385,\"D\")","v":0},{"$f":"COUNTIF('[1]Testee answer 2011'!BB372:BB385,\"D\")","v":0},{"$f":"COUNTIF('[1]Testee answer 2011'!BC372:BC385,\"D\")","v":0},{"$f":"COUNTIF('[1]Testee answer 2011'!BD372:BD385,\"D\")","v":0},{"$f":"COUNTIF('[1]Testee answer 2011'!BE372:BE385,\"D\")","v":0},{"$f":"COUNTIF('[1]Testee answer 2011'!BF372:BF385,\"D\")","v":0},{"$f":"COUNTIF('[1]Testee answer 2011'!BG372:BG385,\"D\")","v":0},{"$f":"COUNTIF('[1]Testee answer 2011'!BH372:BH385,\"D\")","v":0},{"$f":"COUNTIF('[1]Testee answer 2011'!BI372:BI385,\"D\")","v":0}]
["RF3",{"$f":"COUNTIF('[1]Testee answer 2011'!D477:D487,\"A\")","v":0},{"$f":"COUNTIF('[1]Testee answer 2011'!E477:E487,\"A\")","v":0},{"$f":"COUNTIF('[1]Testee answer 2011'!F477:F487,\"A\")","v":2},{"$f":"COUNTIF('[1]Testee answer 2011'!G477:G487,\"A\")","v":5},{"$f":"COUNTIF('[1]Testee answer 2011'!H477:H487,\"A\")","v":3},{"$f":"COUNTIF('[1]Testee answer 2011'!I477:I487,\"A\")","v":1},{"$f":"COUNTIF('[1]Testee answer 2011'!J477:J487,\"A\")","v":3},{"$f":"COUNTIF('[1]Testee answer 2011'!K477:K487,\"A\")","v":6},{"$f":"COUNTIF('[1]Testee answer 2011'!L477:L487,\"A\")","v":7},{"$f":"COUNTIF('[1]Testee answer 2011'!M477:M487,\"A\")","v":7},{"$f":"COUNTIF('[1]Testee answer 2011'!N477:N487,\"A\")","v":2},{"$f":"COUNTIF('[1]Testee answer 2011'!O477:O487,\"A\")","v":0},{"$f":"COUNTIF('[1]Testee answer 2011'!P477:P487,\"A\")","v":0},{"$f":"COUNTIF('[1]Testee answer 2011'!Q477:Q487,\"A\")","v":2},{"$f":"COUNTIF('[1]Testee answer 2011'!R477:R487,\"A\")","v":1},{"$f":"COUNTIF('[1]Testee answer 2011'!S477:S487,\"A\")","v":2},{"$f":"COUNTIF('[1]Testee answer 2011'!T477:T487,\"A\")","v":6},{"$f":"COUNTIF('[1]Testee answer 2011'!U477:U487,\"A\")","v":1},{"$f":"COUNTIF('[1]Testee answer 2011'!V477:V487,\"A\")","v":2},{"$f":"COUNTIF('[1]Testee answer 2011'!W477:W487,\"A\")","v":0},{"$f":"COUNTIF('[1]Testee answer 2011'!X477:X487,\"A\")","v":1},{"$f":"COUNTIF('[1]Testee answer 2011'!Y477:Y487,\"A\")","v":1},{"$f":"COUNTIF('[1]Testee answer 2011'!Z477:Z487,\"A\")","v":2},{"$f":"COUNTIF('[1]Testee answer 2011'!AA477:AA487,\"A\")","v":4},{"$f":"COUNTIF('[1]Testee answer 2011'!AB477:AB487,\"A\")","v":1},{"$f":"COUNTIF('[1]Testee answer 2011'!AC477:AC487,\"A\")","v":0},{"$f":"COUNTIF('[1]Testee answer 2011'!AD477:AD487,\"A\")","v":1},{"$f":"COUNTIF('[1]Testee answer 2011'!AE477:AE487,\"A\")","v":0},{"$f":"COUNTIF('[1]Testee answer 2011'!AF477:AF487,\"A\")","v":1},{"$f":"COUNTIF('[1]Testee answer 2011'!AG477:AG487,\"A\")","v":0},{"$f":"COUNTIF('[1]Testee answer 2011'!AH477:AH487,\"A\")","v":1},{"$f":"COUNTIF('[1]Testee answer 2011'!AI477:AI487,\"A\")","v":0},{"$f":"COUNTIF('[1]Testee answer 2011'!AJ477:AJ487,\"A\")","v":4},{"$f":"COUNTIF('[1]Testee answer 2011'!AK477:AK487,\"A\")","v":4},{"$f":"COUNTIF('[1]Testee answer 2011'!AL477:AL487,\"A\")","v":0},{"$f":"COUNTIF('[1]Testee answer 2011'!AM477:AM487,\"A\")","v":0},{"$f":"COUNTIF('[1]Testee answer 2011'!AN477:AN487,\"A\")","v":1},{"$f":"COUNTIF('[1]Testee answer 2011'!AO477:AO487,\"A\")","v":3},{"$f":"COUNTIF('[1]Testee answer 2011'!AP477:AP487,\"A\")","v":1},{"$f":"COUNTIF('[1]Testee answer 2011'!AQ477:AQ487,\"A\")","v":1},{"$f":"COUNTIF('[1]Testee answer 2011'!AR477:AR487,\"A\")","v":2},{"$f":"COUNTIF('[1]Testee answer 2011'!AS477:AS487,\"A\")","v":0},{"$f":"COUNTIF('[1]Testee answer 2011'!AT477:AT487,\"A\")","v":0},{"$f":"COUNTIF('[1]Testee answer 2011'!AU477:AU487,\"A\")","v":0},{"$f":"COUNTIF('[1]Testee answer 2011'!AV477:AV487,\"A\")","v":0},{"$f":"COUNTIF('[1]Testee answer 2011'!AW477:AW487,\"A\")","v":0},{"$f":"COUNTIF('[1]Testee answer 2011'!AX477:AX487,\"A\")","v":0},{"$f":"COUNTIF('[1]Testee answer 2011'!AY477:AY487,\"A\")","v":1},{"$f":"COUNTIF('[1]Testee answer 2011'!AZ477:AZ487,\"A\")","v":0},{"$f":"COUNTIF('[1]Testee answer 2011'!BA477:BA487,\"A\")","v":8},{"$f":"COUNTIF('[1]Testee answer 2011'!BB477:BB487,\"A\")","v":2},{"$f":"COUNTIF('[1]Testee answer 2011'!BC477:BC487,\"A\")","v":1},{"$f":"COUNTIF('[1]Testee answer 2011'!BD477:BD487,\"A\")","v":5},{"$f":"COUNTIF('[1]Testee answer 2011'!BE477:BE487,\"A\")","v":5},{"$f":"COUNTIF('[1]Testee answer 2011'!BF477:BF487,\"A\")","v":0},{"$f":"COUNTIF('[1]Testee answer 2011'!BG477:BG487,\"A\")","v":9},{"$f":"COUNTIF('[1]Testee answer 2011'!BH477:BH487,\"A\")","v":7},{"$f":"COUNTIF('[1]Testee answer 2011'!BI477:BI487,\"A\")","v":0}]
["RF3",{"$f":"COUNTIF('[1]Testee answer 2011'!D477:D487,\"B\")","v":0},{"$f":"COUNTIF('[1]Testee answer 2011'!E477:E487,\"B\")","v":9},{"$f":"COUNTIF('[1]Testee answer 2011'!F477:F487,\"B\")","v":7},{"$f":"COUNTIF('[1]Testee answer 2011'!G477:G487,\"B\")","v":4},{"$f":"COUNTIF('[1]Testee answer 2011'!H477:H487,\"B\")","v":2},{"$f":"COUNTIF('[1]Testee answer 2011'!I477:I487,\"B\")","v":3},{"$f":"COUNTIF('[1]Testee answer 2011'!J477:J487,\"B\")","v":6},{"$f":"COUNTIF('[1]Testee answer 2011'!K477:K487,\"B\")","v":2},{"$f":"COUNTIF('[1]Testee answer 2011'!L477:L487,\"B\")","v":1},{"$f":"COUNTIF('[1]Testee answer 2011'!M477:M487,\"B\")","v":0},{"$f":"COUNTIF('[1]Testee answer 2011'!N477:N487,\"B\")","v":3},{"$f":"COUNTIF('[1]Testee answer 2011'!O477:O487,\"B\")","v":2},{"$f":"COUNTIF('[1]Testee answer 2011'!P477:P487,\"B\")","v":2},{"$f":"COUNTIF('[1]Testee answer 2011'!Q477:Q487,\"B\")","v":1},{"$f":"COUNTIF('[1]Testee answer 2011'!R477:R487,\"B\")","v":0},{"$f":"COUNTIF('[1]Testee answer 2011'!S477:S487,\"B\")","v":2},{"$f":"COUNTIF('[1]Testee answer 2011'!T477:T487,\"B\")","v":0},{"$f":"COUNTIF('[1]Testee answer 2011'!U477:U487,\"B\")","v":2},{"$f":"COUNTIF('[1]Testee answer 2011'!V477:V487,\"B\")","v":2},{"$f":"COUNTIF('[1]Testee answer 2011'!W477:W487,\"B\")","v":1},{"$f":"COUNTIF('[1]Testee answer 2011'!X477:X487,\"B\")","v":0},{"$f":"COUNTIF('[1]Testee answer 2011'!Y477:Y487,\"B\")","v":2},{"$f":"COUNTIF('[1]Testee answer 2011'!Z477:Z487,\"B\")","v":1},{"$f":"COUNTIF('[1]Testee answer 2011'!AA477:AA487,\"B\")","v":0},{"$f":"COUNTIF('[1]Testee answer 2011'!AB477:AB487,\"B\")","v":1},{"$f":"COUNTIF('[1]Testee answer 2011'!AC477:AC487,\"B\")","v":1},{"$f":"COUNTIF('[1]Testee answer 2011'!AD477:AD487,\"B\")","v":1},{"$f":"COUNTIF('[1]Testee answer 2011'!AE477:AE487,\"B\")","v":0},{"$f":"COUNTIF('[1]Testee answer 2011'!AF477:AF487,\"B\")","v":0},{"$f":"COUNTIF('[1]Testee answer 2011'!AG477:AG487,\"B\")","v":1},{"$f":"COUNTIF('[1]Testee answer 2011'!AH477:AH487,\"B\")","v":2},{"$f":"COUNTIF('[1]Testee answer 2011'!AI477:AI487,\"B\")","v":2},{"$f":"COUNTIF('[1]Testee answer 2011'!AJ477:AJ487,\"B\")","v":1},{"$f":"COUNTIF('[1]Testee answer 2011'!AK477:AK487,\"B\")","v":2},{"$f":"COUNTIF('[1]Testee answer 2011'!AL477:AL487,\"B\")","v":0},{"$f":"COUNTIF('[1]Testee answer 2011'!AM477:AM487,\"B\")","v":0},{"$f":"COUNTIF('[1]Testee answer 2011'!AN477:AN487,\"B\")","v":2},{"$f":"COUNTIF('[1]Testee answer 2011'!AO477:AO487,\"B\")","v":6},{"$f":"COUNTIF('[1]Testee answer 2011'!AP477:AP487,\"B\")","v":8},{"$f":"COUNTIF('[1]Testee answer 2011'!AQ477:AQ487,\"B\")","v":8},{"$f":"COUNTIF('[1]Testee answer 2011'!AR477:AR487,\"B\")","v":7},{"$f":"COUNTIF('[1]Testee answer 2011'!AS477:AS487,\"B\")","v":9},{"$f":"COUNTIF('[1]Testee answer 2011'!AT477:AT487,\"B\")","v":2},{"$f":"COUNTIF('[1]Testee answer 2011'!AU477:AU487,\"B\")","v":0},{"$f":"COUNTIF('[1]Testee answer 2011'!AV477:AV487,\"B\")","v":2},{"$f":"COUNTIF('[1]Testee answer 2011'!AW477:AW487,\"B\")","v":3},{"$f":"COUNTIF('[1]Testee answer 2011'!AX477:AX487,\"B\")","v":2},{"$f":"COUNTIF('[1]Testee answer 2011'!AY477:AY487,\"B\")","v":1},{"$f":"COUNTIF('[1]Testee answer 2011'!AZ477:AZ487,\"B\")","v":2},{"$f":"COUNTIF('[1]Testee answer 2011'!BA477:BA487,\"B\")","v":1},{"$f":"COUNTIF('[1]Testee answer 2011'!BB477:BB487,\"B\")","v":7},{"$f":"COUNTIF('[1]Testee answer 2011'!BC477:BC487,\"B\")","v":8},{"$f":"COUNTIF('[1]Testee answer 2011'!BD477:BD487,\"B\")","v":4},{"$f":"COUNTIF('[1]Testee answer 2011'!BE477:BE487,\"B\")","v":4},{"$f":"COUNTIF('[1]Testee answer 2011'!BF477:BF487,\"B\")","v":9},{"$f":"COUNTIF('[1]Testee answer 2011'!BG477:BG487,\"B\")","v":0},{"$f":"COUNTIF('[1]Testee answer 2011'!BH477:BH487,\"B\")","v":2},{"$f":"COUNTIF('[1]Testee answer 2011'!BI477:BI487,\"B\")","v":9}]
["RF3",{"$f":"COUNTIF('[1]Testee answer 2011'!D477:D487,\"C\")","v":9},{"$f":"COUNTIF('[1]Testee answer 2011'!E477:E487,\"C\")","v":0},{"$f":"COUNTIF('[1]Testee answer 2011'!F477:F487,\"C\")","v":0},{"$f":"COUNTIF('[1]Testee answer 2011'!G477:G487,\"C\")","v":0},{"$f":"COUNTIF('[1]Testee answer 2011'!H477:H487,\"C\")","v":4},{"$f":"COUNTIF('[1]Testee answer 2011'!I477:I487,\"C\")","v":5},{"$f":"COUNTIF('[1]Testee answer 2011'!J477:J487,\"C\")","v":0},{"$f":"COUNTIF('[1]Testee answer 2011'!K477:K487,\"C\")","v":1},{"$f":"COUNTIF('[1]Testee answer 2011'!L477:L487,\"C\")","v":1},{"$f":"COUNTIF('[1]Testee answer 2011'!M477:M487,\"C\")","v":2},{"$f":"COUNTIF('[1]Testee answer 2011'!N477:N487,\"C\")","v":4},{"$f":"COUNTIF('[1]Testee answer 2011'!O477:O487,\"C\")","v":5},{"$f":"COUNTIF('[1]Testee answer 2011'!P477:P487,\"C\")","v":6},{"$f":"COUNTIF('[1]Testee answer 2011'!Q477:Q487,\"C\")","v":4},{"$f":"COUNTIF('[1]Testee answer 2011'!R477:R487,\"C\")","v":2},{"$f":"COUNTIF('[1]Testee answer 2011'!S477:S487,\"C\")","v":2},{"$f":"COUNTIF('[1]Testee answer 2011'!T477:T487,\"C\")","v":2},{"$f":"COUNTIF('[1]Testee answer 2011'!U477:U487,\"C\")","v":5},{"$f":"COUNTIF('[1]Testee answer 2011'!V477:V487,\"C\")","v":3},{"$f":"COUNTIF('[1]Testee answer 2011'!W477:W487,\"C\")","v":5},{"$f":"COUNTIF('[1]Testee answer 2011'!X477:X487,\"C\")","v":5},{"$f":"COUNTIF('[1]Testee answer 2011'!Y477:Y487,\"C\")","v":1},{"$f":"COUNTIF('[1]Testee answer 2011'!Z477:Z487,\"C\")","v":1},{"$f":"COUNTIF('[1]Testee answer 2011'!AA477:AA487,\"C\")","v":4},{"$f":"COUNTIF('[1]Testee answer 2011'!AB477:AB487,\"C\")","v":3},{"$f":"COUNTIF('[1]Testee answer 2011'!AC477:AC487,\"C\")","v":4},{"$f":"COUNTIF('[1]Testee answer 2011'!AD477:AD487,\"C\")","v":4},{"$f":"COUNTIF('[1]Testee answer 2011'!AE477:AE487,\"C\")","v":2},{"$f":"COUNTIF('[1]Testee answer 2011'!AF477:AF487,\"C\")","v":1},{"$f":"COUNTIF('[1]Testee answer 2011'!AG477:AG487,\"C\")","v":3},{"$f":"COUNTIF('[1]Testee answer 2011'!AH477:AH487,\"C\")","v":5},{"$f":"COUNTIF('[1]Testee answer 2011'!AI477:AI487,\"C\")","v":6},{"$f":"COUNTIF('[1]Testee answer 2011'!AJ477:AJ487,\"C\")","v":3},{"$f":"COUNTIF('[1]Testee answer 2011'!AK477:AK487,\"C\")","v":1},{"$f":"COUNTIF('[1]Testee answer 2011'!AL477:AL487,\"C\")","v":5},{"$f":"COUNTIF('[1]Testee answer 2011'!AM477:AM487,\"C\")","v":1},{"$f":"COUNTIF('[1]Testee answer 2011'!AN477:AN487,\"C\")","v":3},{"$f":"COUNTIF('[1]Testee answer 2011'!AO477:AO487,\"C\")","v":0},{"$f":"COUNTIF('[1]Testee answer 2011'!AP477:AP487,\"C\")","v":0},{"$f":"COUNTIF('[1]Testee answer 2011'!AQ477:AQ487,\"C\")","v":0},{"$f":"COUNTIF('[1]Testee answer 2011'!AR477:AR487,\"C\")","v":0},{"$f":"COUNTIF('[1]Testee answer 2011'!AS477:AS487,\"C\")","v":0},{"$f":"COUNTIF('[1]Testee answer 2011'!AT477:AT487,\"C\")","v":4},{"$f":"COUNTIF('[1]Testee answer 2011'!AU477:AU487,\"C\")","v":2},{"$f":"COUNTIF('[1]Testee answer 2011'!AV477:AV487,\"C\")","v":3},{"$f":"COUNTIF('[1]Testee answer 2011'!AW477:AW487,\"C\")","v":6},{"$f":"COUNTIF('[1]Testee answer 2011'!AX477:AX487,\"C\")","v":7},{"$f":"COUNTIF('[1]Testee answer 2011'!AY477:AY487,\"C\")","v":2},{"$f":"COUNTIF('[1]Testee answer 2011'!AZ477:AZ487,\"C\")","v":3},{"$f":"COUNTIF('[1]Testee answer 2011'!BA477:BA487,\"C\")","v":0},{"$f":"COUNTIF('[1]Testee answer 2011'!BB477:BB487,\"C\")","v":0},{"$f":"COUNTIF('[1]Testee answer 2011'!BC477:BC487,\"C\")","v":0},{"$f":"COUNTIF('[1]Testee answer 2011'!BD477:BD487,\"C\")","v":0},{"$f":"COUNTIF('[1]Testee answer 2011'!BE477:BE487,\"C\")","v":0},{"$f":"COUNTIF('[1]Testee answer 2011'!BF477:BF487,\"C\")","v":0},{"$f":"COUNTIF('[1]Testee answer 2011'!BG477:BG487,\"C\")","v":0},{"$f":"COUNTIF('[1]Testee answer 2011'!BH477:BH487,\"C\")","v":0},{"$f":"COUNTIF('[1]Testee answer 2011'!BI477:BI487,\"C\")","v":0}]
["RF3",{"$f":"COUNTIF('[1]Testee answer 2011'!D477:D487,\"D\")","v":0},{"$f":"COUNTIF('[1]Testee answer 2011'!E477:E487,\"D\")","v":0},{"$f":"COUNTIF('[1]Testee answer 2011'!F477:F487,\"D\")","v":0},{"$f":"COUNTIF('[1]Testee answer 2011'!G477:G487,\"D\")","v":0},{"$f":"COUNTIF('[1]Testee answer 2011'!H477:H487,\"D\")","v":0},{"$f":"COUNTIF('[1]Testee answer 2011'!I477:I487,\"D\")","v":0},{"$f":"COUNTIF('[1]Testee answer 2011'!J477:J487,\"D\")","v":0},{"$f":"COUNTIF('[1]Testee answer 2011'!K477:K487,\"D\")","v":0},{"$f":"COUNTIF('[1]Testee answer 2011'!L477:L487,\"D\")","v":0},{"$f":"COUNTIF('[1]Testee answer 2011'!M477:M487,\"D\")","v":0},{"$f":"COUNTIF('[1]Testee answer 2011'!N477:N487,\"D\")","v":0},{"$f":"COUNTIF('[1]Testee answer 2011'!O477:O487,\"D\")","v":2},{"$f":"COUNTIF('[1]Testee answer 2011'!P477:P487,\"D\")","v":1},{"$f":"COUNTIF('[1]Testee answer 2011'!Q477:Q487,\"D\")","v":2},{"$f":"COUNTIF('[1]Testee answer 2011'!R477:R487,\"D\")","v":6},{"$f":"COUNTIF('[1]Testee answer 2011'!S477:S487,\"D\")","v":3},{"$f":"COUNTIF('[1]Testee answer 2011'!T477:T487,\"D\")","v":1},{"$f":"COUNTIF('[1]Testee answer 2011'!U477:U487,\"D\")","v":1},{"$f":"COUNTIF('[1]Testee answer 2011'!V477:V487,\"D\")","v":2},{"$f":"COUNTIF('[1]Testee answer 2011'!W477:W487,\"D\")","v":3},{"$f":"COUNTIF('[1]Testee answer 2011'!X477:X487,\"D\")","v":3},{"$f":"COUNTIF('[1]Testee answer 2011'!Y477:Y487,\"D\")","v":5},{"$f":"COUNTIF('[1]Testee answer 2011'!Z477:Z487,\"D\")","v":5},{"$f":"COUNTIF('[1]Testee answer 2011'!AA477:AA487,\"D\")","v":1},{"$f":"COUNTIF('[1]Testee answer 2011'!AB477:AB487,\"D\")","v":4},{"$f":"COUNTIF('[1]Testee answer 2011'!AC477:AC487,\"D\")","v":4},{"$f":"COUNTIF('[1]Testee answer 2011'!AD477:AD487,\"D\")","v":3},{"$f":"COUNTIF('[1]Testee answer 2011'!AE477:AE487,\"D\")","v":7},{"$f":"COUNTIF('[1]Testee answer 2011'!AF477:AF487,\"D\")","v":7},{"$f":"COUNTIF('[1]Testee answer 2011'!AG477:AG487,\"D\")","v":5},{"$f":"COUNTIF('[1]Testee answer 2011'!AH477:AH487,\"D\")","v":1},{"$f":"COUNTIF('[1]Testee answer 2011'!AI477:AI487,\"D\")","v":1},{"$f":"COUNTIF('[1]Testee answer 2011'!AJ477:AJ487,\"D\")","v":1},{"$f":"COUNTIF('[1]Testee answer 2011'!AK477:AK487,\"D\")","v":2},{"$f":"COUNTIF('[1]Testee answer 2011'!AL477:AL487,\"D\")","v":4},{"$f":"COUNTIF('[1]Testee answer 2011'!AM477:AM487,\"D\")","v":8},{"$f":"COUNTIF('[1]Testee answer 2011'!AN477:AN487,\"D\")","v":3},{"$f":"COUNTIF('[1]Testee answer 2011'!AO477:AO487,\"D\")","v":0},{"$f":"COUNTIF('[1]Testee answer 2011'!AP477:AP487,\"D\")","v":0},{"$f":"COUNTIF('[1]Testee answer 2011'!AQ477:AQ487,\"D\")","v":0},{"$f":"COUNTIF('[1]Testee answer 2011'!AR477:AR487,\"D\")","v":0},{"$f":"COUNTIF('[1]Testee answer 2011'!AS477:AS487,\"D\")","v":0},{"$f":"COUNTIF('[1]Testee answer 2011'!AT477:AT487,\"D\")","v":3},{"$f":"COUNTIF('[1]Testee answer 2011'!AU477:AU487,\"D\")","v":7},{"$f":"COUNTIF('[1]Testee answer 2011'!AV477:AV487,\"D\")","v":4},{"$f":"COUNTIF('[1]Testee answer 2011'!AW477:AW487,\"D\")","v":0},{"$f":"COUNTIF('[1]Testee answer 2011'!AX477:AX487,\"D\")","v":0},{"$f":"COUNTIF('[1]Testee answer 2011'!AY477:AY487,\"D\")","v":5},{"$f":"COUNTIF('[1]Testee answer 2011'!AZ477:AZ487,\"D\")","v":4},{"$f":"COUNTIF('[1]Testee answer 2011'!BA477:BA487,\"D\")","v":0},{"$f":"COUNTIF('[1]Testee answer 2011'!BB477:BB487,\"D\")","v":0},{"$f":"COUNTIF('[1]Testee answer 2011'!BC477:BC487,\"D\")","v":0},{"$f":"COUNTIF('[1]Testee answer 2011'!BD477:BD487,\"D\")","v":0},{"$f":"COUNTIF('[1]Testee answer 2011'!BE477:BE487,\"D\")","v":0},{"$f":"COUNTIF('[1]Testee answer 2011'!BF477:BF487,\"D\")","v":0},{"$f":"COUNTIF('[1]Testee answer 2011'!BG477:BG487,\"D\")","v":0},{"$f":"COUNTIF('[1]Testee answer 2011'!BH477:BH487,\"D\")","v":0},{"$f":"COUNTIF('[1]Testee answer 2011'!BI477:BI487,\"D\")","v":0}]
["RF4",{"$f":"COUNTIF('[1]Testee answer 2011'!D571:D579,\"A\")","v":0},{"$f":"COUNTIF('[1]Testee answer 2011'!E571:E579,\"A\")","v":0},{"$f":"COUNTIF('[1]Testee answer 2011'!F571:F579,\"A\")","v":1},{"$f":"COUNTIF('[1]Testee answer 2011'!G571:G579,\"A\")","v":5},{"$f":"COUNTIF('[1]Testee answer 2011'!H571:H579,\"A\")","v":5},{"$f":"COUNTIF('[1]Testee answer 2011'!I571:I579,\"A\")","v":0},{"$f":"COUNTIF('[1]Testee answer 2011'!J571:J579,\"A\")","v":5},{"$f":"COUNTIF('[1]Testee answer 2011'!K571:K579,\"A\")","v":6},{"$f":"COUNTIF('[1]Testee answer 2011'!L571:L579,\"A\")","v":5},{"$f":"COUNTIF('[1]Testee answer 2011'!M571:M579,\"A\")","v":1},{"$f":"COUNTIF('[1]Testee answer 2011'!N571:N579,\"A\")","v":1},{"$f":"COUNTIF('[1]Testee answer 2011'!O571:O579,\"A\")","v":0},{"$f":"COUNTIF('[1]Testee answer 2011'!P571:P579,\"A\")","v":1},{"$f":"COUNTIF('[1]Testee answer 2011'!Q571:Q579,\"A\")","v":0},{"$f":"COUNTIF('[1]Testee answer 2011'!R571:R579,\"A\")","v":0},{"$f":"COUNTIF('[1]Testee answer 2011'!S571:S579,\"A\")","v":3},{"$f":"COUNTIF('[1]Testee answer 2011'!T571:T579,\"A\")","v":7},{"$f":"COUNTIF('[1]Testee answer 2011'!U571:U579,\"A\")","v":0},{"$f":"COUNTIF('[1]Testee answer 2011'!V571:V579,\"A\")","v":0},{"$f":"COUNTIF('[1]Testee answer 2011'!W571:W579,\"A\")","v":1},{"$f":"COUNTIF('[1]Testee answer 2011'!X571:X579,\"A\")","v":1},{"$f":"COUNTIF('[1]Testee answer 2011'!Y571:Y579,\"A\")","v":0},{"$f":"COUNTIF('[1]Testee answer 2011'!Z571:Z579,\"A\")","v":1},{"$f":"COUNTIF('[1]Testee answer 2011'!AA571:AA579,\"A\")","v":3},{"$f":"COUNTIF('[1]Testee answer 2011'!AB571:AB579,\"A\")","v":0},{"$f":"COUNTIF('[1]Testee answer 2011'!AC571:AC579,\"A\")","v":2},{"$f":"COUNTIF('[1]Testee answer 2011'!AD571:AD579,\"A\")","v":4},{"$f":"COUNTIF('[1]Testee answer 2011'!AE571:AE579,\"A\")","v":4},{"$f":"COUNTIF('[1]Testee answer 2011'!AF571:AF579,\"A\")","v":0},{"$f":"COUNTIF('[1]Testee answer 2011'!AG571:AG579,\"A\")","v":2},{"$f":"COUNTIF('[1]Testee answer 2011'!AH571:AH579,\"A\")","v":1},{"$f":"COUNTIF('[1]Testee answer 2011'!AI571:AI579,\"A\")","v":2},{"$f":"COUNTIF('[1]Testee answer 2011'!AJ571:AJ579,\"A\")","v":2},{"$f":"COUNTIF('[1]Testee answer 2011'!AK571:AK579,\"A\")","v":2},{"$f":"COUNTIF('[1]Testee answer 2011'!AL571:AL579,\"A\")","v":2},{"$f":"COUNTIF('[1]Testee answer 2011'!AM571:AM579,\"A\")","v":0},{"$f":"COUNTIF('[1]Testee answer 2011'!AN571:AN579,\"A\")","v":0},{"$f":"COUNTIF('[1]Testee answer 2011'!AO571:AO579,\"A\")","v":7},{"$f":"COUNTIF('[1]Testee answer 2011'!AP571:AP579,\"A\")","v":2},{"$f":"COUNTIF('[1]Testee answer 2011'!AQ571:AQ579,\"A\")","v":3},{"$f":"COUNTIF('[1]Testee answer 2011'!AR571:AR579,\"A\")","v":2},{"$f":"COUNTIF('[1]Testee answer 2011'!AS571:AS579,\"A\")","v":1},{"$f":"COUNTIF('[1]Testee answer 2011'!AT571:AT579,\"A\")","v":1},{"$f":"COUNTIF('[1]Testee answer 2011'!AU571:AU579,\"A\")","v":0},{"$f":"COUNTIF('[1]Testee answer 2011'!AV571:AV579,\"A\")","v":0},{"$f":"COUNTIF('[1]Testee answer 2011'!AW571:AW579,\"A\")","v":6},{"$f":"COUNTIF('[1]Testee answer 2011'!AX571:AX579,\"A\")","v":5},{"$f":"COUNTIF('[1]Testee answer 2011'!AY571:AY579,\"A\")","v":0},{"$f":"COUNTIF('[1]Testee answer 2011'!AZ571:AZ579,\"A\")","v":0},{"$f":"COUNTIF('[1]Testee answer 2011'!BA571:BA579,\"A\")","v":5},{"$f":"COUNTIF('[1]Testee answer 2011'!BB571:BB579,\"A\")","v":1},{"$f":"COUNTIF('[1]Testee answer 2011'!BC571:BC579,\"A\")","v":1},{"$f":"COUNTIF('[1]Testee answer 2011'!BD571:BD579,\"A\")","v":7},{"$f":"COUNTIF('[1]Testee answer 2011'!BE571:BE579,\"A\")","v":6},{"$f":"COUNTIF('[1]Testee answer 2011'!BF571:BF579,\"A\")","v":1},{"$f":"COUNTIF('[1]Testee answer 2011'!BG571:BG579,\"A\")","v":8},{"$f":"COUNTIF('[1]Testee answer 2011'!BH571:BH579,\"A\")","v":5},{"$f":"COUNTIF('[1]Testee answer 2011'!BI571:BI579,\"A\")","v":1}]
["RF4",{"$f":"COUNTIF('[1]Testee answer 2011'!D571:D579,\"B\")","v":0},{"$f":"COUNTIF('[1]Testee answer 2011'!E571:E579,\"B\")","v":8},{"$f":"COUNTIF('[1]Testee answer 2011'!F571:F579,\"B\")","v":7},{"$f":"COUNTIF('[1]Testee answer 2011'!G571:G579,\"B\")","v":3},{"$f":"COUNTIF('[1]Testee answer 2011'!H571:H579,\"B\")","v":2},{"$f":"COUNTIF('[1]Testee answer 2011'!I571:I579,\"B\")","v":6},{"$f":"COUNTIF('[1]Testee answer 2011'!J571:J579,\"B\")","v":3},{"$f":"COUNTIF('[1]Testee answer 2011'!K571:K579,\"B\")","v":1},{"$f":"COUNTIF('[1]Testee answer 2011'!L571:L579,\"B\")","v":3},{"$f":"COUNTIF('[1]Testee answer 2011'!M571:M579,\"B\")","v":4},{"$f":"COUNTIF('[1]Testee answer 2011'!N571:N579,\"B\")","v":1},{"$f":"COUNTIF('[1]Testee answer 2011'!O571:O579,\"B\")","v":2},{"$f":"COUNTIF('[1]Testee answer 2011'!P571:P579,\"B\")","v":0},{"$f":"COUNTIF('[1]Testee answer 2011'!Q571:Q579,\"B\")","v":1},{"$f":"COUNTIF('[1]Testee answer 2011'!R571:R579,\"B\")","v":0},{"$f":"COUNTIF('[1]Testee answer 2011'!S571:S579,\"B\")","v":2},{"$f":"COUNTIF('[1]Testee answer 2011'!T571:T579,\"B\")","v":1},{"$f":"COUNTIF('[1]Testee answer 2011'!U571:U579,\"B\")","v":4},{"$f":"COUNTIF('[1]Testee answer 2011'!V571:V579,\"B\")","v":3},{"$f":"COUNTIF('[1]Testee answer 2011'!W571:W579,\"B\")","v":2},{"$f":"COUNTIF('[1]Testee answer 2011'!X571:X579,\"B\")","v":1},{"$f":"COUNTIF('[1]Testee answer 2011'!Y571:Y579,\"B\")","v":2},{"$f":"COUNTIF('[1]Testee answer 2011'!Z571:Z579,\"B\")","v":3},{"$f":"COUNTIF('[1]Testee answer 2011'!AA571:AA579,\"B\")","v":2},{"$f":"COUNTIF('[1]Testee answer 2011'!AB571:AB579,\"B\")","v":1},{"$f":"COUNTIF('[1]Testee answer 2011'!AC571:AC579,\"B\")","v":2},{"$f":"COUNTIF('[1]Testee answer 2011'!AD571:AD579,\"B\")","v":0},{"$f":"COUNTIF('[1]Testee answer 2011'!AE571:AE579,\"B\")","v":0},{"$f":"COUNTIF('[1]Testee answer 2011'!AF571:AF579,\"B\")","v":0},{"$f":"COUNTIF('[1]Testee answer 2011'!AG571:AG579,\"B\")","v":2},{"$f":"COUNTIF('[1]Testee answer 2011'!AH571:AH579,\"B\")","v":4},{"$f":"COUNTIF('[1]Testee answer 2011'!AI571:AI579,\"B\")","v":0},{"$f":"COUNTIF('[1]Testee answer 2011'!AJ571:AJ579,\"B\")","v":0},{"$f":"COUNTIF('[1]Testee answer 2011'!AK571:AK579,\"B\")","v":0},{"$f":"COUNTIF('[1]Testee answer 2011'!AL571:AL579,\"B\")","v":0},{"$f":"COUNTIF('[1]Testee answer 2011'!AM571:AM579,\"B\")","v":1},{"$f":"COUNTIF('[1]Testee answer 2011'!AN571:AN579,\"B\")","v":1},{"$f":"COUNTIF('[1]Testee answer 2011'!AO571:AO579,\"B\")","v":1},{"$f":"COUNTIF('[1]Testee answer 2011'!AP571:AP579,\"B\")","v":6},{"$f":"COUNTIF('[1]Testee answer 2011'!AQ571:AQ579,\"B\")","v":5},{"$f":"COUNTIF('[1]Testee answer 2011'!AR571:AR579,\"B\")","v":6},{"$f":"COUNTIF('[1]Testee answer 2011'!AS571:AS579,\"B\")","v":7},{"$f":"COUNTIF('[1]Testee answer 2011'!AT571:AT579,\"B\")","v":1},{"$f":"COUNTIF('[1]Testee answer 2011'!AU571:AU579,\"B\")","v":0},{"$f":"COUNTIF('[1]Testee answer 2011'!AV571:AV579,\"B\")","v":1},{"$f":"COUNTIF('[1]Testee answer 2011'!AW571:AW579,\"B\")","v":0},{"$f":"COUNTIF('[1]Testee answer 2011'!AX571:AX579,\"B\")","v":0},{"$f":"COUNTIF('[1]Testee answer 2011'!AY571:AY579,\"B\")","v":2},{"$f":"COUNTIF('[1]Testee answer 2011'!AZ571:AZ579,\"B\")","v":0},{"$f":"COUNTIF('[1]Testee answer 2011'!BA571:BA579,\"B\")","v":3},{"$f":"COUNTIF('[1]Testee answer 2011'!BB571:BB579,\"B\")","v":7},{"$f":"COUNTIF('[1]Testee answer 2011'!BC571:BC579,\"B\")","v":7},{"$f":"COUNTIF('[1]Testee answer 2011'!BD571:BD579,\"B\")","v":1},{"$f":"COUNTIF('[1]Testee answer 2011'!BE571:BE579,\"B\")","v":2},{"$f":"COUNTIF('[1]Testee answer 2011'!BF571:BF579,\"B\")","v":7},{"$f":"COUNTIF('[1]Testee answer 2011'!BG571:BG579,\"B\")","v":0},{"$f":"COUNTIF('[1]Testee answer 2011'!BH571:BH579,\"B\")","v":3},{"$f":"COUNTIF('[1]Testee answer 2011'!BI571:BI579,\"B\")","v":7}]
["RF4",{"$f":"COUNTIF('[1]Testee answer 2011'!D571:D579,\"C\")","v":0},{"$f":"COUNTIF('[1]Testee answer 2011'!E571:E579,\"C\")","v":0},{"$f":"COUNTIF('[1]Testee answer 2011'!F571:F579,\"C\")","v":0},{"$f":"COUNTIF('[1]Testee answer 2011'!G571:G579,\"C\")","v":0},{"$f":"COUNTIF('[1]Testee answer 2011'!H571:H579,\"C\")","v":1},{"$f":"COUNTIF('[1]Testee answer 2011'!I571:I579,\"C\")","v":1},{"$f":"COUNTIF('[1]Testee answer 2011'!J571:J579,\"C\")","v":0},{"$f":"COUNTIF('[1]Testee answer 2011'!K571:K579,\"C\")","v":1},{"$f":"COUNTIF('[1]Testee answer 2011'!L571:L579,\"C\")","v":0},{"$f":"COUNTIF('[1]Testee answer 2011'!M571:M579,\"C\")","v":3},{"$f":"COUNTIF('[1]Testee answer 2011'!N571:N579,\"C\")","v":6},{"$f":"COUNTIF('[1]Testee answer 2011'!O571:O579,\"C\")","v":6},{"$f":"COUNTIF('[1]Testee answer 2011'!P571:P579,\"C\")","v":3},{"$f":"COUNTIF('[1]Testee answer 2011'!Q571:Q579,\"C\")","v":5},{"$f":"COUNTIF('[1]Testee answer 2011'!R571:R579,\"C\")","v":2},{"$f":"COUNTIF('[1]Testee answer 2011'!S571:S579,\"C\")","v":1},{"$f":"COUNTIF('[1]Testee answer 2011'!T571:T579,\"C\")","v":0},{"$f":"COUNTIF('[1]Testee answer 2011'!U571:U579,\"C\")","v":4},{"$f":"COUNTIF('[1]Testee answer 2011'!V571:V579,\"C\")","v":2},{"$f":"COUNTIF('[1]Testee answer 2011'!W571:W579,\"C\")","v":2},{"$f":"COUNTIF('[1]Testee answer 2011'!X571:X579,\"C\")","v":4},{"$f":"COUNTIF('[1]Testee answer 2011'!Y571:Y579,\"C\")","v":4},{"$f":"COUNTIF('[1]Testee answer 2011'!Z571:Z579,\"C\")","v":4},{"$f":"COUNTIF('[1]Testee answer 2011'!AA571:AA579,\"C\")","v":3},{"$f":"COUNTIF('[1]Testee answer 2011'!AB571:AB579,\"C\")","v":1},{"$f":"COUNTIF('[1]Testee answer 2011'!AC571:AC579,\"C\")","v":2},{"$f":"COUNTIF('[1]Testee answer 2011'!AD571:AD579,\"C\")","v":2},{"$f":"COUNTIF('[1]Testee answer 2011'!AE571:AE579,\"C\")","v":2},{"$f":"COUNTIF('[1]Testee answer 2011'!AF571:AF579,\"C\")","v":1},{"$f":"COUNTIF('[1]Testee answer 2011'!AG571:AG579,\"C\")","v":1},{"$f":"COUNTIF('[1]Testee answer 2011'!AH571:AH579,\"C\")","v":3},{"$f":"COUNTIF('[1]Testee answer 2011'!AI571:AI579,\"C\")","v":3},{"$f":"COUNTIF('[1]Testee answer 2011'!AJ571:AJ579,\"C\")","v":1},{"$f":"COUNTIF('[1]Testee answer 2011'!AK571:AK579,\"C\")","v":2},{"$f":"COUNTIF('[1]Testee answer 2011'!AL571:AL579,\"C\")","v":0},{"$f":"COUNTIF('[1]Testee answer 2011'!AM571:AM579,\"C\")","v":2},{"$f":"COUNTIF('[1]Testee answer 2011'!AN571:AN579,\"C\")","v":6},{"$f":"COUNTIF('[1]Testee answer 2011'!AO571:AO579,\"C\")","v":0},{"$f":"COUNTIF('[1]Testee answer 2011'!AP571:AP579,\"C\")","v":0},{"$f":"COUNTIF('[1]Testee answer 2011'!AQ571:AQ579,\"C\")","v":0},{"$f":"COUNTIF('[1]Testee answer 2011'!AR571:AR579,\"C\")","v":0},{"$f":"COUNTIF('[1]Testee answer 2011'!AS571:AS579,\"C\")","v":0},{"$f":"COUNTIF('[1]Testee answer 2011'!AT571:AT579,\"C\")","v":5},{"$f":"COUNTIF('[1]Testee answer 2011'!AU571:AU579,\"C\")","v":2},{"$f":"COUNTIF('[1]Testee answer 2011'!AV571:AV579,\"C\")","v":5},{"$f":"COUNTIF('[1]Testee answer 2011'!AW571:AW579,\"C\")","v":2},{"$f":"COUNTIF('[1]Testee answer 2011'!AX571:AX579,\"C\")","v":3},{"$f":"COUNTIF('[1]Testee answer 2011'!AY571:AY579,\"C\")","v":3},{"$f":"COUNTIF('[1]Testee answer 2011'!AZ571:AZ579,\"C\")","v":6},{"$f":"COUNTIF('[1]Testee answer 2011'!BA571:BA579,\"C\")","v":0},{"$f":"COUNTIF('[1]Testee answer 2011'!BB571:BB579,\"C\")","v":0},{"$f":"COUNTIF('[1]Testee answer 2011'!BC571:BC579,\"C\")","v":0},{"$f":"COUNTIF('[1]Testee answer 2011'!BD571:BD579,\"C\")","v":0},{"$f":"COUNTIF('[1]Testee answer 2011'!BE571:BE579,\"C\")","v":0},{"$f":"COUNTIF('[1]Testee answer 2011'!BF571:BF579,\"C\")","v":0},{"$f":"COUNTIF('[1]Testee answer 2011'!BG571:BG579,\"C\")","v":0},{"$f":"COUNTIF('[1]Testee answer 2011'!BH571:BH579,\"C\")","v":0},{"$f":"COUNTIF('[1]Testee answer 2011'!BI571:BI579,\"C\")","v":0}]
["RF4",{"$f":"COUNTIF('[1]Testee answer 2011'!D571:D579,\"D\")","v":5},{"$f":"COUNTIF('[1]Testee answer 2011'!E571:E579,\"D\")","v":0},{"$f":"COUNTIF('[1]Testee answer 2011'!F571:F579,\"D\")","v":0},{"$f":"COUNTIF('[1]Testee answer 2011'!G571:G579,\"D\")","v":0},{"$f":"COUNTIF('[1]Testee answer 2011'!H571:H579,\"D\")","v":0},{"$f":"COUNTIF('[1]Testee answer 2011'!I571:I579,\"D\")","v":1},{"$f":"COUNTIF('[1]Testee answer 2011'!J571:J579,\"D\")","v":0},{"$f":"COUNTIF('[1]Testee answer 2011'!K571:K579,\"D\")","v":0},{"$f":"COUNTIF('[1]Testee answer 2011'!L571:L579,\"D\")","v":0},{"$f":"COUNTIF('[1]Testee answer 2011'!M571:M579,\"D\")","v":0},{"$f":"COUNTIF('[1]Testee answer 2011'!N571:N579,\"D\")","v":0},{"$f":"COUNTIF('[1]Testee answer 2011'!O571:O579,\"D\")","v":0},{"$f":"COUNTIF('[1]Testee answer 2011'!P571:P579,\"D\")","v":4},{"$f":"COUNTIF('[1]Testee answer 2011'!Q571:Q579,\"D\")","v":2},{"$f":"COUNTIF('[1]Testee answer 2011'!R571:R579,\"D\")","v":6},{"$f":"COUNTIF('[1]Testee answer 2011'!S571:S579,\"D\")","v":2},{"$f":"COUNTIF('[1]Testee answer 2011'!T571:T579,\"D\")","v":0},{"$f":"COUNTIF('[1]Testee answer 2011'!U571:U579,\"D\")","v":0},{"$f":"COUNTIF('[1]Testee answer 2011'!V571:V579,\"D\")","v":3},{"$f":"COUNTIF('[1]Testee answer 2011'!W571:W579,\"D\")","v":3},{"$f":"COUNTIF('[1]Testee answer 2011'!X571:X579,\"D\")","v":2},{"$f":"COUNTIF('[1]Testee answer 2011'!Y571:Y579,\"D\")","v":2},{"$f":"COUNTIF('[1]Testee answer 2011'!Z571:Z579,\"D\")","v":0},{"$f":"COUNTIF('[1]Testee answer 2011'!AA571:AA579,\"D\")","v":0},{"$f":"COUNTIF('[1]Testee answer 2011'!AB571:AB579,\"D\")","v":6},{"$f":"COUNTIF('[1]Testee answer 2011'!AC571:AC579,\"D\")","v":2},{"$f":"COUNTIF('[1]Testee answer 2011'!AD571:AD579,\"D\")","v":2},{"$f":"COUNTIF('[1]Testee answer 2011'!AE571:AE579,\"D\")","v":2},{"$f":"COUNTIF('[1]Testee answer 2011'!AF571:AF579,\"D\")","v":7},{"$f":"COUNTIF('[1]Testee answer 2011'!AG571:AG579,\"D\")","v":3},{"$f":"COUNTIF('[1]Testee answer 2011'!AH571:AH579,\"D\")","v":0},{"$f":"COUNTIF('[1]Testee answer 2011'!AI571:AI579,\"D\")","v":3},{"$f":"COUNTIF('[1]Testee answer 2011'!AJ571:AJ579,\"D\")","v":5},{"$f":"COUNTIF('[1]Testee answer 2011'!AK571:AK579,\"D\")","v":4},{"$f":"COUNTIF('[1]Testee answer 2011'!AL571:AL579,\"D\")","v":6},{"$f":"COUNTIF('[1]Testee answer 2011'!AM571:AM579,\"D\")","v":5},{"$f":"COUNTIF('[1]Testee answer 2011'!AN571:AN579,\"D\")","v":1},{"$f":"COUNTIF('[1]Testee answer 2011'!AO571:AO579,\"D\")","v":0},{"$f":"COUNTIF('[1]Testee answer 2011'!AP571:AP579,\"D\")","v":0},{"$f":"COUNTIF('[1]Testee answer 2011'!AQ571:AQ579,\"D\")","v":0},{"$f":"COUNTIF('[1]Testee answer 2011'!AR571:AR579,\"D\")","v":0},{"$f":"COUNTIF('[1]Testee answer 2011'!AS571:AS579,\"D\")","v":0},{"$f":"COUNTIF('[1]Testee answer 2011'!AT571:AT579,\"D\")","v":1},{"$f":"COUNTIF('[1]Testee answer 2011'!AU571:AU579,\"D\")","v":6},{"$f":"COUNTIF('[1]Testee answer 2011'!AV571:AV579,\"D\")","v":2},{"$f":"COUNTIF('[1]Testee answer 2011'!AW571:AW579,\"D\")","v":0},{"$f":"COUNTIF('[1]Testee answer 2011'!AX571:AX579,\"D\")","v":0},{"$f":"COUNTIF('[1]Testee answer 2011'!AY571:AY579,\"D\")","v":3},{"$f":"COUNTIF('[1]Testee answer 2011'!AZ571:AZ579,\"D\")","v":2},{"$f":"COUNTIF('[1]Testee answer 2011'!BA571:BA579,\"D\")","v":0},{"$f":"COUNTIF('[1]Testee answer 2011'!BB571:BB579,\"D\")","v":0},{"$f":"COUNTIF('[1]Testee answer 2011'!BC571:BC579,\"D\")","v":0},{"$f":"COUNTIF('[1]Testee answer 2011'!BD571:BD579,\"D\")","v":0},{"$f":"COUNTIF('[1]Testee answer 2011'!BE571:BE579,\"D\")","v":0},{"$f":"COUNTIF('[1]Testee answer 2011'!BF571:BF579,\"D\")","v":0},{"$f":"COUNTIF('[1]Testee answer 2011'!BG571:BG579,\"D\")","v":0},{"$f":"COUNTIF('[1]Testee answer 2011'!BH571:BH579,\"D\")","v":0},{"$f":"COUNTIF('[1]Testee answer 2011'!BI571:BI579,\"D\")","v":0}]
["SF1",{"$f":"COUNTIF('[1]Testee answer 2011'!D597:D612,\"A\")","v":16},{"$f":"COUNTIF('[1]Testee answer 2011'!E597:E612,\"A\")","v":6},{"$f":"COUNTIF('[1]Testee answer 2011'!F597:F612,\"A\")","v":8},{"$f":"COUNTIF('[1]Testee answer 2011'!G597:G612,\"A\")","v":12},{"$f":"COUNTIF('[1]Testee answer 2011'!H597:H612,\"A\")","v":8},{"$f":"COUNTIF('[1]Testee answer 2011'!I597:I612,\"A\")","v":2},{"$f":"COUNTIF('[1]Testee answer 2011'!J597:J612,\"A\")","v":6},{"$f":"COUNTIF('[1]Testee answer 2011'!K597:K612,\"A\")","v":4},{"$f":"COUNTIF('[1]Testee answer 2011'!L597:L612,\"A\")","v":8},{"$f":"COUNTIF('[1]Testee answer 2011'!M597:M612,\"A\")","v":6},{"$f":"COUNTIF('[1]Testee answer 2011'!N597:N612,\"A\")","v":2},{"$f":"COUNTIF('[1]Testee answer 2011'!O597:O612,\"A\")","v":2},{"$f":"COUNTIF('[1]Testee answer 2011'!P597:P612,\"A\")","v":2},{"$f":"COUNTIF('[1]Testee answer 2011'!Q597:Q612,\"A\")","v":1},{"$f":"COUNTIF('[1]Testee answer 2011'!R597:R612,\"A\")","v":1},{"$f":"COUNTIF('[1]Testee answer 2011'!S597:S612,\"A\")","v":7},{"$f":"COUNTIF('[1]Testee answer 2011'!T597:T612,\"A\")","v":9},{"$f":"COUNTIF('[1]Testee answer 2011'!U597:U612,\"A\")","v":3},{"$f":"COUNTIF('[1]Testee answer 2011'!V597:V612,\"A\")","v":0},{"$f":"COUNTIF('[1]Testee answer 2011'!W597:W612,\"A\")","v":1},{"$f":"COUNTIF('[1]Testee answer 2011'!X597:X612,\"A\")","v":2},{"$f":"COUNTIF('[1]Testee answer 2011'!Y597:Y612,\"A\")","v":5},{"$f":"COUNTIF('[1]Testee answer 2011'!Z597:Z612,\"A\")","v":7},{"$f":"COUNTIF('[1]Testee answer 2011'!AA597:AA612,\"A\")","v":4},{"$f":"COUNTIF('[1]Testee answer 2011'!AB597:AB612,\"A\")","v":1},{"$f":"COUNTIF('[1]Testee answer 2011'!AC597:AC612,\"A\")","v":8},{"$f":"COUNTIF('[1]Testee answer 2011'!AD597:AD612,\"A\")","v":9},{"$f":"COUNTIF('[1]Testee answer 2011'!AE597:AE612,\"A\")","v":2},{"$f":"COUNTIF('[1]Testee answer 2011'!AF597:AF612,\"A\")","v":3},{"$f":"COUNTIF('[1]Testee answer 2011'!AG597:AG612,\"A\")","v":1},{"$f":"COUNTIF('[1]Testee answer 2011'!AH597:AH612,\"A\")","v":10},{"$f":"COUNTIF('[1]Testee answer 2011'!AI597:AI612,\"A\")","v":4},{"$f":"COUNTIF('[1]Testee answer 2011'!AJ597:AJ612,\"A\")","v":6},{"$f":"COUNTIF('[1]Testee answer 2011'!AK597:AK612,\"A\")","v":4},{"$f":"COUNTIF('[1]Testee answer 2011'!AL597:AL612,\"A\")","v":1},{"$f":"COUNTIF('[1]Testee answer 2011'!AM597:AM612,\"A\")","v":0},{"$f":"COUNTIF('[1]Testee answer 2011'!AN597:AN612,\"A\")","v":3},{"$f":"COUNTIF('[1]Testee answer 2011'!AO597:AO612,\"A\")","v":3},{"$f":"COUNTIF('[1]Testee answer 2011'!AP597:AP612,\"A\")","v":5},{"$f":"COUNTIF('[1]Testee answer 2011'!AQ597:AQ612,\"A\")","v":4},{"$f":"COUNTIF('[1]Testee answer 2011'!AR597:AR612,\"A\")","v":2},{"$f":"COUNTIF('[1]Testee answer 2011'!AS597:AS612,\"A\")","v":3},{"$f":"COUNTIF('[1]Testee answer 2011'!AT597:AT612,\"A\")","v":1},{"$f":"COUNTIF('[1]Testee answer 2011'!AU597:AU612,\"A\")","v":2},{"$f":"COUNTIF('[1]Testee answer 2011'!AV597:AV612,\"A\")","v":3},{"$f":"COUNTIF('[1]Testee answer 2011'!AW597:AW612,\"A\")","v":6},{"$f":"COUNTIF('[1]Testee answer 2011'!AX597:AX612,\"A\")","v":5},{"$f":"COUNTIF('[1]Testee answer 2011'!AY597:AY612,\"A\")","v":1},{"$f":"COUNTIF('[1]Testee answer 2011'!AZ597:AZ612,\"A\")","v":5},{"$f":"COUNTIF('[1]Testee answer 2011'!BA597:BA612,\"A\")","v":14},{"$f":"COUNTIF('[1]Testee answer 2011'!BB597:BB612,\"A\")","v":6},{"$f":"COUNTIF('[1]Testee answer 2011'!BC597:BC612,\"A\")","v":4},{"$f":"COUNTIF('[1]Testee answer 2011'!BD597:BD612,\"A\")","v":9},{"$f":"COUNTIF('[1]Testee answer 2011'!BE597:BE612,\"A\")","v":10},{"$f":"COUNTIF('[1]Testee answer 2011'!BF597:BF612,\"A\")","v":3},{"$f":"COUNTIF('[1]Testee answer 2011'!BG597:BG612,\"A\")","v":13},{"$f":"COUNTIF('[1]Testee answer 2011'!BH597:BH612,\"A\")","v":10},{"$f":"COUNTIF('[1]Testee answer 2011'!BI597:BI612,\"A\")","v":2}]
["SF1",{"$f":"COUNTIF('[1]Testee answer 2011'!D597:D612,\"B\")","v":0},{"$f":"COUNTIF('[1]Testee answer 2011'!E597:E612,\"B\")","v":10},{"$f":"COUNTIF('[1]Testee answer 2011'!F597:F612,\"B\")","v":6},{"$f":"COUNTIF('[1]Testee answer 2011'!G597:G612,\"B\")","v":4},{"$f":"COUNTIF('[1]Testee answer 2011'!H597:H612,\"B\")","v":1},{"$f":"COUNTIF('[1]Testee answer 2011'!I597:I612,\"B\")","v":8},{"$f":"COUNTIF('[1]Testee answer 2011'!J597:J612,\"B\")","v":7},{"$f":"COUNTIF('[1]Testee answer 2011'!K597:K612,\"B\")","v":10},{"$f":"COUNTIF('[1]Testee answer 2011'!L597:L612,\"B\")","v":3},{"$f":"COUNTIF('[1]Testee answer 2011'!M597:M612,\"B\")","v":4},{"$f":"COUNTIF('[1]Testee answer 2011'!N597:N612,\"B\")","v":4},{"$f":"COUNTIF('[1]Testee answer 2011'!O597:O612,\"B\")","v":5},{"$f":"COUNTIF('[1]Testee answer 2011'!P597:P612,\"B\")","v":1},{"$f":"COUNTIF('[1]Testee answer 2011'!Q597:Q612,\"B\")","v":4},{"$f":"COUNTIF('[1]Testee answer 2011'!R597:R612,\"B\")","v":1},{"$f":"COUNTIF('[1]Testee answer 2011'!S597:S612,\"B\")","v":5},{"$f":"COUNTIF('[1]Testee answer 2011'!T597:T612,\"B\")","v":4},{"$f":"COUNTIF('[1]Testee answer 2011'!U597:U612,\"B\")","v":7},{"$f":"COUNTIF('[1]Testee answer 2011'!V597:V612,\"B\")","v":4},{"$f":"COUNTIF('[1]Testee answer 2011'!W597:W612,\"B\")","v":3},{"$f":"COUNTIF('[1]Testee answer 2011'!X597:X612,\"B\")","v":3},{"$f":"COUNTIF('[1]Testee answer 2011'!Y597:Y612,\"B\")","v":5},{"$f":"COUNTIF('[1]Testee answer 2011'!Z597:Z612,\"B\")","v":5},{"$f":"COUNTIF('[1]Testee answer 2011'!AA597:AA612,\"B\")","v":6},{"$f":"COUNTIF('[1]Testee answer 2011'!AB597:AB612,\"B\")","v":3},{"$f":"COUNTIF('[1]Testee answer 2011'!AC597:AC612,\"B\")","v":3},{"$f":"COUNTIF('[1]Testee answer 2011'!AD597:AD612,\"B\")","v":4},{"$f":"COUNTIF('[1]Testee answer 2011'!AE597:AE612,\"B\")","v":2},{"$f":"COUNTIF('[1]Testee answer 2011'!AF597:AF612,\"B\")","v":1},{"$f":"COUNTIF('[1]Testee answer 2011'!AG597:AG612,\"B\")","v":3},{"$f":"COUNTIF('[1]Testee answer 2011'!AH597:AH612,\"B\")","v":4},{"$f":"COUNTIF('[1]Testee answer 2011'!AI597:AI612,\"B\")","v":7},{"$f":"COUNTIF('[1]Testee answer 2011'!AJ597:AJ612,\"B\")","v":2},{"$f":"COUNTIF('[1]Testee answer 2011'!AK597:AK612,\"B\")","v":3},{"$f":"COUNTIF('[1]Testee answer 2011'!AL597:AL612,\"B\")","v":4},{"$f":"COUNTIF('[1]Testee answer 2011'!AM597:AM612,\"B\")","v":3},{"$f":"COUNTIF('[1]Testee answer 2011'!AN597:AN612,\"B\")","v":6},{"$f":"COUNTIF('[1]Testee answer 2011'!AO597:AO612,\"B\")","v":12},{"$f":"COUNTIF('[1]Testee answer 2011'!AP597:AP612,\"B\")","v":11},{"$f":"COUNTIF('[1]Testee answer 2011'!AQ597:AQ612,\"B\")","v":12},{"$f":"COUNTIF('[1]Testee answer 2011'!AR597:AR612,\"B\")","v":13},{"$f":"COUNTIF('[1]Testee answer 2011'!AS597:AS612,\"B\")","v":13},{"$f":"COUNTIF('[1]Testee answer 2011'!AT597:AT612,\"B\")","v":3},{"$f":"COUNTIF('[1]Testee answer 2011'!AU597:AU612,\"B\")","v":3},{"$f":"COUNTIF('[1]Testee answer 2011'!AV597:AV612,\"B\")","v":3},{"$f":"COUNTIF('[1]Testee answer 2011'!AW597:AW612,\"B\")","v":4},{"$f":"COUNTIF('[1]Testee answer 2011'!AX597:AX612,\"B\")","v":5},{"$f":"COUNTIF('[1]Testee answer 2011'!AY597:AY612,\"B\")","v":5},{"$f":"COUNTIF('[1]Testee answer 2011'!AZ597:AZ612,\"B\")","v":2},{"$f":"COUNTIF('[1]Testee answer 2011'!BA597:BA612,\"B\")","v":2},{"$f":"COUNTIF('[1]Testee answer 2011'!BB597:BB612,\"B\")","v":10},{"$f":"COUNTIF('[1]Testee answer 2011'!BC597:BC612,\"B\")","v":12},{"$f":"COUNTIF('[1]Testee answer 2011'!BD597:BD612,\"B\")","v":6},{"$f":"COUNTIF('[1]Testee answer 2011'!BE597:BE612,\"B\")","v":5},{"$f":"COUNTIF('[1]Testee answer 2011'!BF597:BF612,\"B\")","v":12},{"$f":"COUNTIF('[1]Testee answer 2011'!BG597:BG612,\"B\")","v":2},{"$f":"COUNTIF('[1]Testee answer 2011'!BH597:BH612,\"B\")","v":5},{"$f":"COUNTIF('[1]Testee answer 2011'!BI597:BI612,\"B\")","v":14}]
["SF1",{"$f":"COUNTIF('[1]Testee answer 2011'!D597:D612,\"C\")","v":0},{"$f":"COUNTIF('[1]Testee answer 2011'!E597:E612,\"C\")","v":0},{"$f":"COUNTIF('[1]Testee answer 2011'!F597:F612,\"C\")","v":1},{"$f":"COUNTIF('[1]Testee answer 2011'!G597:G612,\"C\")","v":0},{"$f":"COUNTIF('[1]Testee answer 2011'!H597:H612,\"C\")","v":6},{"$f":"COUNTIF('[1]Testee answer 2011'!I597:I612,\"C\")","v":4},{"$f":"COUNTIF('[1]Testee answer 2011'!J597:J612,\"C\")","v":3},{"$f":"COUNTIF('[1]Testee answer 2011'!K597:K612,\"C\")","v":2},{"$f":"COUNTIF('[1]Testee answer 2011'!L597:L612,\"C\")","v":5},{"$f":"COUNTIF('[1]Testee answer 2011'!M597:M612,\"C\")","v":5},{"$f":"COUNTIF('[1]Testee answer 2011'!N597:N612,\"C\")","v":7},{"$f":"COUNTIF('[1]Testee answer 2011'!O597:O612,\"C\")","v":5},{"$f":"COUNTIF('[1]Testee answer 2011'!P597:P612,\"C\")","v":9},{"$f":"COUNTIF('[1]Testee answer 2011'!Q597:Q612,\"C\")","v":6},{"$f":"COUNTIF('[1]Testee answer 2011'!R597:R612,\"C\")","v":7},{"$f":"COUNTIF('[1]Testee answer 2011'!S597:S612,\"C\")","v":2},{"$f":"COUNTIF('[1]Testee answer 2011'!T597:T612,\"C\")","v":3},{"$f":"COUNTIF('[1]Testee answer 2011'!U597:U612,\"C\")","v":6},{"$f":"COUNTIF('[1]Testee answer 2011'!V597:V612,\"C\")","v":6},{"$f":"COUNTIF('[1]Testee answer 2011'!W597:W612,\"C\")","v":8},{"$f":"COUNTIF('[1]Testee answer 2011'!X597:X612,\"C\")","v":9},{"$f":"COUNTIF('[1]Testee answer 2011'!Y597:Y612,\"C\")","v":2},{"$f":"COUNTIF('[1]Testee answer 2011'!Z597:Z612,\"C\")","v":2},{"$f":"COUNTIF('[1]Testee answer 2011'!AA597:AA612,\"C\")","v":6},{"$f":"COUNTIF('[1]Testee answer 2011'!AB597:AB612,\"C\")","v":6},{"$f":"COUNTIF('[1]Testee answer 2011'!AC597:AC612,\"C\")","v":3},{"$f":"COUNTIF('[1]Testee answer 2011'!AD597:AD612,\"C\")","v":2},{"$f":"COUNTIF('[1]Testee answer 2011'!AE597:AE612,\"C\")","v":4},{"$f":"COUNTIF('[1]Testee answer 2011'!AF597:AF612,\"C\")","v":9},{"$f":"COUNTIF('[1]Testee answer 2011'!AG597:AG612,\"C\")","v":7},{"$f":"COUNTIF('[1]Testee answer 2011'!AH597:AH612,\"C\")","v":1},{"$f":"COUNTIF('[1]Testee answer 2011'!AI597:AI612,\"C\")","v":4},{"$f":"COUNTIF('[1]Testee answer 2011'!AJ597:AJ612,\"C\")","v":5},{"$f":"COUNTIF('[1]Testee answer 2011'!AK597:AK612,\"C\")","v":5},{"$f":"COUNTIF('[1]Testee answer 2011'!AL597:AL612,\"C\")","v":7},{"$f":"COUNTIF('[1]Testee answer 2011'!AM597:AM612,\"C\")","v":9},{"$f":"COUNTIF('[1]Testee answer 2011'!AN597:AN612,\"C\")","v":3},{"$f":"COUNTIF('[1]Testee answer 2011'!AO597:AO612,\"C\")","v":0},{"$f":"COUNTIF('[1]Testee answer 2011'!AP597:AP612,\"C\")","v":0},{"$f":"COUNTIF('[1]Testee answer 2011'!AQ597:AQ612,\"C\")","v":0},{"$f":"COUNTIF('[1]Testee answer 2011'!AR597:AR612,\"C\")","v":1},{"$f":"COUNTIF('[1]Testee answer 2011'!AS597:AS612,\"C\")","v":0},{"$f":"COUNTIF('[1]Testee answer 2011'!AT597:AT612,\"C\")","v":4},{"$f":"COUNTIF('[1]Testee answer 2011'!AU597:AU612,\"C\")","v":2},{"$f":"COUNTIF('[1]Testee answer 2011'!AV597:AV612,\"C\")","v":5},{"$f":"COUNTIF('[1]Testee answer 2011'!AW597:AW612,\"C\")","v":5},{"$f":"COUNTIF('[1]Testee answer 2011'!AX597:AX612,\"C\")","v":5},{"$f":"COUNTIF('[1]Testee answer 2011'!AY597:AY612,\"C\")","v":6},{"$f":"COUNTIF('[1]Testee answer 2011'!AZ597:AZ612,\"C\")","v":4},{"$f":"COUNTIF('[1]Testee answer 2011'!BA597:BA612,\"C\")","v":0},{"$f":"COUNTIF('[1]Testee answer 2011'!BB597:BB612,\"C\")","v":0},{"$f":"COUNTIF('[1]Testee answer 2011'!BC597:BC612,\"C\")","v":0},{"$f":"COUNTIF('[1]Testee answer 2011'!BD597:BD612,\"C\")","v":0},{"$f":"COUNTIF('[1]Testee answer 2011'!BE597:BE612,\"C\")","v":0},{"$f":"COUNTIF('[1]Testee answer 2011'!BF597:BF612,\"C\")","v":1},{"$f":"COUNTIF('[1]Testee answer 2011'!BG597:BG612,\"C\")","v":1},{"$f":"COUNTIF('[1]Testee answer 2011'!BH597:BH612,\"C\")","v":1},{"$f":"COUNTIF('[1]Testee answer 2011'!BI597:BI612,\"C\")","v":0}]
["SF1",{"$f":"COUNTIF('[1]Testee answer 2011'!D597:D612,\"D\")","v":0},{"$f":"COUNTIF('[1]Testee answer 2011'!E597:E612,\"D\")","v":0},{"$f":"COUNTIF('[1]Testee answer 2011'!F597:F612,\"D\")","v":1},{"$f":"COUNTIF('[1]Testee answer 2011'!G597:G612,\"D\")","v":0},{"$f":"COUNTIF('[1]Testee answer 2011'!H597:H612,\"D\")","v":1},{"$f":"COUNTIF('[1]Testee answer 2011'!I597:I612,\"D\")","v":2},{"$f":"COUNTIF('[1]Testee answer 2011'!J597:J612,\"D\")","v":0},{"$f":"COUNTIF('[1]Testee answer 2011'!K597:K612,\"D\")","v":0},{"$f":"COUNTIF('[1]Testee answer 2011'!L597:L612,\"D\")","v":0},{"$f":"COUNTIF('[1]Testee answer 2011'!M597:M612,\"D\")","v":1},{"$f":"COUNTIF('[1]Testee answer 2011'!N597:N612,\"D\")","v":3},{"$f":"COUNTIF('[1]Testee answer 2011'!O597:O612,\"D\")","v":4},{"$f":"COUNTIF('[1]Testee answer 2011'!P597:P612,\"D\")","v":4},{"$f":"COUNTIF('[1]Testee answer 2011'!Q597:Q612,\"D\")","v":5},{"$f":"COUNTIF('[1]Testee answer 2011'!R597:R612,\"D\")","v":7},{"$f":"COUNTIF('[1]Testee answer 2011'!S597:S612,\"D\")","v":2},{"$f":"COUNTIF('[1]Testee answer 2011'!T597:T612,\"D\")","v":0},{"$f":"COUNTIF('[1]Testee answer 2011'!U597:U612,\"D\")","v":0},{"$f":"COUNTIF('[1]Testee answer 2011'!V597:V612,\"D\")","v":6},{"$f":"COUNTIF('[1]Testee answer 2011'!W597:W612,\"D\")","v":4},{"$f":"COUNTIF('[1]Testee answer 2011'!X597:X612,\"D\")","v":2},{"$f":"COUNTIF('[1]Testee answer 2011'!Y597:Y612,\"D\")","v":4},{"$f":"COUNTIF('[1]Testee answer 2011'!Z597:Z612,\"D\")","v":2},{"$f":"COUNTIF('[1]Testee answer 2011'!AA597:AA612,\"D\")","v":0},{"$f":"COUNTIF('[1]Testee answer 2011'!AB597:AB612,\"D\")","v":6},{"$f":"COUNTIF('[1]Testee answer 2011'!AC597:AC612,\"D\")","v":2},{"$f":"COUNTIF('[1]Testee answer 2011'!AD597:AD612,\"D\")","v":1},{"$f":"COUNTIF('[1]Testee answer 2011'!AE597:AE612,\"D\")","v":8},{"$f":"COUNTIF('[1]Testee answer 2011'!AF597:AF612,\"D\")","v":3},{"$f":"COUNTIF('[1]Testee answer 2011'!AG597:AG612,\"D\")","v":5},{"$f":"COUNTIF('[1]Testee answer 2011'!AH597:AH612,\"D\")","v":1},{"$f":"COUNTIF('[1]Testee answer 2011'!AI597:AI612,\"D\")","v":1},{"$f":"COUNTIF('[1]Testee answer 2011'!AJ597:AJ612,\"D\")","v":3},{"$f":"COUNTIF('[1]Testee answer 2011'!AK597:AK612,\"D\")","v":4},{"$f":"COUNTIF('[1]Testee answer 2011'!AL597:AL612,\"D\")","v":4},{"$f":"COUNTIF('[1]Testee answer 2011'!AM597:AM612,\"D\")","v":4},{"$f":"COUNTIF('[1]Testee answer 2011'!AN597:AN612,\"D\")","v":4},{"$f":"COUNTIF('[1]Testee answer 2011'!AO597:AO612,\"D\")","v":1},{"$f":"COUNTIF('[1]Testee answer 2011'!AP597:AP612,\"D\")","v":0},{"$f":"COUNTIF('[1]Testee answer 2011'!AQ597:AQ612,\"D\")","v":0},{"$f":"COUNTIF('[1]Testee answer 2011'!AR597:AR612,\"D\")","v":0},{"$f":"COUNTIF('[1]Testee answer 2011'!AS597:AS612,\"D\")","v":0},{"$f":"COUNTIF('[1]Testee answer 2011'!AT597:AT612,\"D\")","v":8},{"$f":"COUNTIF('[1]Testee answer 2011'!AU597:AU612,\"D\")","v":9},{"$f":"COUNTIF('[1]Testee answer 2011'!AV597:AV612,\"D\")","v":5},{"$f":"COUNTIF('[1]Testee answer 2011'!AW597:AW612,\"D\")","v":1},{"$f":"COUNTIF('[1]Testee answer 2011'!AX597:AX612,\"D\")","v":1},{"$f":"COUNTIF('[1]Testee answer 2011'!AY597:AY612,\"D\")","v":4},{"$f":"COUNTIF('[1]Testee answer 2011'!AZ597:AZ612,\"D\")","v":5},{"$f":"COUNTIF('[1]Testee answer 2011'!BA597:BA612,\"D\")","v":0},{"$f":"COUNTIF('[1]Testee answer 2011'!BB597:BB612,\"D\")","v":0},{"$f":"COUNTIF('[1]Testee answer 2011'!BC597:BC612,\"D\")","v":0},{"$f":"COUNTIF('[1]Testee answer 2011'!BD597:BD612,\"D\")","v":1},{"$f":"COUNTIF('[1]Testee answer 2011'!BE597:BE612,\"D\")","v":1},{"$f":"COUNTIF('[1]Testee answer 2011'!BF597:BF612,\"D\")","v":0},{"$f":"COUNTIF('[1]Testee answer 2011'!BG597:BG612,\"D\")","v":0},{"$f":"COUNTIF('[1]Testee answer 2011'!BH597:BH612,\"D\")","v":0},{"$f":"COUNTIF('[1]Testee answer 2011'!BI597:BI612,\"D\")","v":0}]
["SF2",{"$f":"COUNTIF('[1]Testee answer 2011'!D387:D406,\"A\")","v":0},{"$f":"COUNTIF('[1]Testee answer 2011'!E387:E406,\"A\")","v":5},{"$f":"COUNTIF('[1]Testee answer 2011'!F387:F406,\"A\")","v":7},{"$f":"COUNTIF('[1]Testee answer 2011'!G387:G406,\"A\")","v":16},{"$f":"COUNTIF('[1]Testee answer 2011'!H387:H406,\"A\")","v":15},{"$f":"COUNTIF('[1]Testee answer 2011'!I387:I406,\"A\")","v":1},{"$f":"COUNTIF('[1]Testee answer 2011'!J387:J406,\"A\")","v":16},{"$f":"COUNTIF('[1]Testee answer 2011'!K387:K406,\"A\")","v":15},{"$f":"COUNTIF('[1]Testee answer 2011'!L387:L406,\"A\")","v":17},{"$f":"COUNTIF('[1]Testee answer 2011'!M387:M406,\"A\")","v":12},{"$f":"COUNTIF('[1]Testee answer 2011'!N387:N406,\"A\")","v":7},{"$f":"COUNTIF('[1]Testee answer 2011'!O387:O406,\"A\")","v":3},{"$f":"COUNTIF('[1]Testee answer 2011'!P387:P406,\"A\")","v":5},{"$f":"COUNTIF('[1]Testee answer 2011'!Q387:Q406,\"A\")","v":4},{"$f":"COUNTIF('[1]Testee answer 2011'!R387:R406,\"A\")","v":4},{"$f":"COUNTIF('[1]Testee answer 2011'!S387:S406,\"A\")","v":4},{"$f":"COUNTIF('[1]Testee answer 2011'!T387:T406,\"A\")","v":6},{"$f":"COUNTIF('[1]Testee answer 2011'!U387:U406,\"A\")","v":12},{"$f":"COUNTIF('[1]Testee answer 2011'!V387:V406,\"A\")","v":2},{"$f":"COUNTIF('[1]Testee answer 2011'!W387:W406,\"A\")","v":9},{"$f":"COUNTIF('[1]Testee answer 2011'!X387:X406,\"A\")","v":3},{"$f":"COUNTIF('[1]Testee answer 2011'!Y387:Y406,\"A\")","v":6},{"$f":"COUNTIF('[1]Testee answer 2011'!Z387:Z406,\"A\")","v":5},{"$f":"COUNTIF('[1]Testee answer 2011'!AA387:AA406,\"A\")","v":9},{"$f":"COUNTIF('[1]Testee answer 2011'!AB387:AB406,\"A\")","v":1},{"$f":"COUNTIF('[1]Testee answer 2011'!AC387:AC406,\"A\")","v":1},{"$f":"COUNTIF('[1]Testee answer 2011'!AD387:AD406,\"A\")","v":5},{"$f":"COUNTIF('[1]Testee answer 2011'!AE387:AE406,\"A\")","v":3},{"$f":"COUNTIF('[1]Testee answer 2011'!AF387:AF406,\"A\")","v":2},{"$f":"COUNTIF('[1]Testee answer 2011'!AG387:AG406,\"A\")","v":1},{"$f":"COUNTIF('[1]Testee answer 2011'!AH387:AH406,\"A\")","v":12},{"$f":"COUNTIF('[1]Testee answer 2011'!AI387:AI406,\"A\")","v":9},{"$f":"COUNTIF('[1]Testee answer 2011'!AJ387:AJ406,\"A\")","v":4},{"$f":"COUNTIF('[1]Testee answer 2011'!AK387:AK406,\"A\")","v":7},{"$f":"COUNTIF('[1]Testee answer 2011'!AL387:AL406,\"A\")","v":1},{"$f":"COUNTIF('[1]Testee answer 2011'!AM387:AM406,\"A\")","v":1},{"$f":"COUNTIF('[1]Testee answer 2011'!AN387:AN406,\"A\")","v":3},{"$f":"COUNTIF('[1]Testee answer 2011'!AO387:AO406,\"A\")","v":10},{"$f":"COUNTIF('[1]Testee answer 2011'!AP387:AP406,\"A\")","v":3},{"$f":"COUNTIF('[1]Testee answer 2011'!AQ387:AQ406,\"A\")","v":2},{"$f":"COUNTIF('[1]Testee answer 2011'!AR387:AR406,\"A\")","v":3},{"$f":"COUNTIF('[1]Testee answer 2011'!AS387:AS406,\"A\")","v":0},{"$f":"COUNTIF('[1]Testee answer 2011'!AT387:AT406,\"A\")","v":1},{"$f":"COUNTIF('[1]Testee answer 2011'!AU387:AU406,\"A\")","v":1},{"$f":"COUNTIF('[1]Testee answer 2011'!AV387:AV406,\"A\")","v":2},{"$f":"COUNTIF('[1]Testee answer 2011'!AW387:AW406,\"A\")","v":13},{"$f":"COUNTIF('[1]Testee answer 2011'!AX387:AX406,\"A\")","v":7},{"$f":"COUNTIF('[1]Testee answer 2011'!AY387:AY406,\"A\")","v":8},{"$f":"COUNTIF('[1]Testee answer 2011'!AZ387:AZ406,\"A\")","v":3},{"$f":"COUNTIF('[1]Testee answer 2011'!BA387:BA406,\"A\")","v":19},{"$f":"COUNTIF('[1]Testee answer 2011'!BB387:BB406,\"A\")","v":9},{"$f":"COUNTIF('[1]Testee answer 2011'!BC387:BC406,\"A\")","v":1},{"$f":"COUNTIF('[1]Testee answer 2011'!BD387:BD406,\"A\")","v":11},{"$f":"COUNTIF('[1]Testee answer 2011'!BE387:BE406,\"A\")","v":18},{"$f":"COUNTIF('[1]Testee answer 2011'!BF387:BF406,\"A\")","v":1},{"$f":"COUNTIF('[1]Testee answer 2011'!BG387:BG406,\"A\")","v":14},{"$f":"COUNTIF('[1]Testee answer 2011'!BH387:BH406,\"A\")","v":8},{"$f":"COUNTIF('[1]Testee answer 2011'!BI387:BI406,\"A\")","v":2}]
["SF2",{"$f":"COUNTIF('[1]Testee answer 2011'!D387:D406,\"B\")","v":15},{"$f":"COUNTIF('[1]Testee answer 2011'!E387:E406,\"B\")","v":14},{"$f":"COUNTIF('[1]Testee answer 2011'!F387:F406,\"B\")","v":12},{"$f":"COUNTIF('[1]Testee answer 2011'!G387:G406,\"B\")","v":3},{"$f":"COUNTIF('[1]Testee answer 2011'!H387:H406,\"B\")","v":3},{"$f":"COUNTIF('[1]Testee answer 2011'!I387:I406,\"B\")","v":12},{"$f":"COUNTIF('[1]Testee answer 2011'!J387:J406,\"B\")","v":3},{"$f":"COUNTIF('[1]Testee answer 2011'!K387:K406,\"B\")","v":4},{"$f":"COUNTIF('[1]Testee answer 2011'!L387:L406,\"B\")","v":0},{"$f":"COUNTIF('[1]Testee answer 2011'!M387:M406,\"B\")","v":6},{"$f":"COUNTIF('[1]Testee answer 2011'!N387:N406,\"B\")","v":5},{"$f":"COUNTIF('[1]Testee answer 2011'!O387:O406,\"B\")","v":10},{"$f":"COUNTIF('[1]Testee answer 2011'!P387:P406,\"B\")","v":7},{"$f":"COUNTIF('[1]Testee answer 2011'!Q387:Q406,\"B\")","v":0},{"$f":"COUNTIF('[1]Testee answer 2011'!R387:R406,\"B\")","v":4},{"$f":"COUNTIF('[1]Testee answer 2011'!S387:S406,\"B\")","v":5},{"$f":"COUNTIF('[1]Testee answer 2011'!T387:T406,\"B\")","v":4},{"$f":"COUNTIF('[1]Testee answer 2011'!U387:U406,\"B\")","v":3},{"$f":"COUNTIF('[1]Testee answer 2011'!V387:V406,\"B\")","v":0},{"$f":"COUNTIF('[1]Testee answer 2011'!W387:W406,\"B\")","v":2},{"$f":"COUNTIF('[1]Testee answer 2011'!X387:X406,\"B\")","v":6},{"$f":"COUNTIF('[1]Testee answer 2011'!Y387:Y406,\"B\")","v":4},{"$f":"COUNTIF('[1]Testee answer 2011'!Z387:Z406,\"B\")","v":5},{"$f":"COUNTIF('[1]Testee answer 2011'!AA387:AA406,\"B\")","v":3},{"$f":"COUNTIF('[1]Testee answer 2011'!AB387:AB406,\"B\")","v":1},{"$f":"COUNTIF('[1]Testee answer 2011'!AC387:AC406,\"B\")","v":3},{"$f":"COUNTIF('[1]Testee answer 2011'!AD387:AD406,\"B\")","v":1},{"$f":"COUNTIF('[1]Testee answer 2011'!AE387:AE406,\"B\")","v":2},{"$f":"COUNTIF('[1]Testee answer 2011'!AF387:AF406,\"B\")","v":3},{"$f":"COUNTIF('[1]Testee answer 2011'!AG387:AG406,\"B\")","v":2},{"$f":"COUNTIF('[1]Testee answer 2011'!AH387:AH406,\"B\")","v":2},{"$f":"COUNTIF('[1]Testee answer 2011'!AI387:AI406,\"B\")","v":2},{"$f":"COUNTIF('[1]Testee answer 2011'!AJ387:AJ406,\"B\")","v":0},{"$f":"COUNTIF('[1]Testee answer 2011'!AK387:AK406,\"B\")","v":0},{"$f":"COUNTIF('[1]Testee answer 2011'!AL387:AL406,\"B\")","v":6},{"$f":"COUNTIF('[1]Testee answer 2011'!AM387:AM406,\"B\")","v":1},{"$f":"COUNTIF('[1]Testee answer 2011'!AN387:AN406,\"B\")","v":3},{"$f":"COUNTIF('[1]Testee answer 2011'!AO387:AO406,\"B\")","v":9},{"$f":"COUNTIF('[1]Testee answer 2011'!AP387:AP406,\"B\")","v":16},{"$f":"COUNTIF('[1]Testee answer 2011'!AQ387:AQ406,\"B\")","v":17},{"$f":"COUNTIF('[1]Testee answer 2011'!AR387:AR406,\"B\")","v":16},{"$f":"COUNTIF('[1]Testee answer 2011'!AS387:AS406,\"B\")","v":19},{"$f":"COUNTIF('[1]Testee answer 2011'!AT387:AT406,\"B\")","v":7},{"$f":"COUNTIF('[1]Testee answer 2011'!AU387:AU406,\"B\")","v":0},{"$f":"COUNTIF('[1]Testee answer 2011'!AV387:AV406,\"B\")","v":2},{"$f":"COUNTIF('[1]Testee answer 2011'!AW387:AW406,\"B\")","v":5},{"$f":"COUNTIF('[1]Testee answer 2011'!AX387:AX406,\"B\")","v":8},{"$f":"COUNTIF('[1]Testee answer 2011'!AY387:AY406,\"B\")","v":4},{"$f":"COUNTIF('[1]Testee answer 2011'!AZ387:AZ406,\"B\")","v":6},{"$f":"COUNTIF('[1]Testee answer 2011'!BA387:BA406,\"B\")","v":0},{"$f":"COUNTIF('[1]Testee answer 2011'!BB387:BB406,\"B\")","v":10},{"$f":"COUNTIF('[1]Testee answer 2011'!BC387:BC406,\"B\")","v":18},{"$f":"COUNTIF('[1]Testee answer 2011'!BD387:BD406,\"B\")","v":8},{"$f":"COUNTIF('[1]Testee answer 2011'!BE387:BE406,\"B\")","v":1},{"$f":"COUNTIF('[1]Testee answer 2011'!BF387:BF406,\"B\")","v":18},{"$f":"COUNTIF('[1]Testee answer 2011'!BG387:BG406,\"B\")","v":5},{"$f":"COUNTIF('[1]Testee answer 2011'!BH387:BH406,\"B\")","v":11},{"$f":"COUNTIF('[1]Testee answer 2011'!BI387:BI406,\"B\")","v":17}]
["SF2",{"$f":"COUNTIF('[1]Testee answer 2011'!D387:D406,\"C\")","v":4},{"$f":"COUNTIF('[1]Testee answer 2011'!E387:E406,\"C\")","v":0},{"$f":"COUNTIF('[1]Testee answer 2011'!F387:F406,\"C\")","v":0},{"$f":"COUNTIF('[1]Testee answer 2011'!G387:G406,\"C\")","v":0},{"$f":"COUNTIF('[1]Testee answer 2011'!H387:H406,\"C\")","v":0},{"$f":"COUNTIF('[1]Testee answer 2011'!I387:I406,\"C\")","v":6},{"$f":"COUNTIF('[1]Testee answer 2011'!J387:J406,\"C\")","v":0},{"$f":"COUNTIF('[1]Testee answer 2011'!K387:K406,\"C\")","v":0},{"$f":"COUNTIF('[1]Testee answer 2011'!L387:L406,\"C\")","v":2},{"$f":"COUNTIF('[1]Testee answer 2011'!M387:M406,\"C\")","v":1},{"$f":"COUNTIF('[1]Testee answer 2011'!N387:N406,\"C\")","v":6},{"$f":"COUNTIF('[1]Testee answer 2011'!O387:O406,\"C\")","v":5},{"$f":"COUNTIF('[1]Testee answer 2011'!P387:P406,\"C\")","v":6},{"$f":"COUNTIF('[1]Testee answer 2011'!Q387:Q406,\"C\")","v":13},{"$f":"COUNTIF('[1]Testee answer 2011'!R387:R406,\"C\")","v":7},{"$f":"COUNTIF('[1]Testee answer 2011'!S387:S406,\"C\")","v":7},{"$f":"COUNTIF('[1]Testee answer 2011'!T387:T406,\"C\")","v":5},{"$f":"COUNTIF('[1]Testee answer 2011'!U387:U406,\"C\")","v":4},{"$f":"COUNTIF('[1]Testee answer 2011'!V387:V406,\"C\")","v":5},{"$f":"COUNTIF('[1]Testee answer 2011'!W387:W406,\"C\")","v":7},{"$f":"COUNTIF('[1]Testee answer 2011'!X387:X406,\"C\")","v":9},{"$f":"COUNTIF('[1]Testee answer 2011'!Y387:Y406,\"C\")","v":5},{"$f":"COUNTIF('[1]Testee answer 2011'!Z387:Z406,\"C\")","v":6},{"$f":"COUNTIF('[1]Testee answer 2011'!AA387:AA406,\"C\")","v":6},{"$f":"COUNTIF('[1]Testee answer 2011'!AB387:AB406,\"C\")","v":6},{"$f":"COUNTIF('[1]Testee answer 2011'!AC387:AC406,\"C\")","v":5},{"$f":"COUNTIF('[1]Testee answer 2011'!AD387:AD406,\"C\")","v":7},{"$f":"COUNTIF('[1]Testee answer 2011'!AE387:AE406,\"C\")","v":10},{"$f":"COUNTIF('[1]Testee answer 2011'!AF387:AF406,\"C\")","v":7},{"$f":"COUNTIF('[1]Testee answer 2011'!AG387:AG406,\"C\")","v":10},{"$f":"COUNTIF('[1]Testee answer 2011'!AH387:AH406,\"C\")","v":5},{"$f":"COUNTIF('[1]Testee answer 2011'!AI387:AI406,\"C\")","v":8},{"$f":"COUNTIF('[1]Testee answer 2011'!AJ387:AJ406,\"C\")","v":5},{"$f":"COUNTIF('[1]Testee answer 2011'!AK387:AK406,\"C\")","v":4},{"$f":"COUNTIF('[1]Testee answer 2011'!AL387:AL406,\"C\")","v":7},{"$f":"COUNTIF('[1]Testee answer 2011'!AM387:AM406,\"C\")","v":11},{"$f":"COUNTIF('[1]Testee answer 2011'!AN387:AN406,\"C\")","v":11},{"$f":"COUNTIF('[1]Testee answer 2011'!AO387:AO406,\"C\")","v":0},{"$f":"COUNTIF('[1]Testee answer 2011'!AP387:AP406,\"C\")","v":0},{"$f":"COUNTIF('[1]Testee answer 2011'!AQ387:AQ406,\"C\")","v":0},{"$f":"COUNTIF('[1]Testee answer 2011'!AR387:AR406,\"C\")","v":0},{"$f":"COUNTIF('[1]Testee answer 2011'!AS387:AS406,\"C\")","v":0},{"$f":"COUNTIF('[1]Testee answer 2011'!AT387:AT406,\"C\")","v":7},{"$f":"COUNTIF('[1]Testee answer 2011'!AU387:AU406,\"C\")","v":6},{"$f":"COUNTIF('[1]Testee answer 2011'!AV387:AV406,\"C\")","v":11},{"$f":"COUNTIF('[1]Testee answer 2011'!AW387:AW406,\"C\")","v":1},{"$f":"COUNTIF('[1]Testee answer 2011'!AX387:AX406,\"C\")","v":3},{"$f":"COUNTIF('[1]Testee answer 2011'!AY387:AY406,\"C\")","v":5},{"$f":"COUNTIF('[1]Testee answer 2011'!AZ387:AZ406,\"C\")","v":9},{"$f":"COUNTIF('[1]Testee answer 2011'!BA387:BA406,\"C\")","v":0},{"$f":"COUNTIF('[1]Testee answer 2011'!BB387:BB406,\"C\")","v":0},{"$f":"COUNTIF('[1]Testee answer 2011'!BC387:BC406,\"C\")","v":0},{"$f":"COUNTIF('[1]Testee answer 2011'!BD387:BD406,\"C\")","v":0},{"$f":"COUNTIF('[1]Testee answer 2011'!BE387:BE406,\"C\")","v":0},{"$f":"COUNTIF('[1]Testee answer 2011'!BF387:BF406,\"C\")","v":0},{"$f":"COUNTIF('[1]Testee answer 2011'!BG387:BG406,\"C\")","v":0},{"$f":"COUNTIF('[1]Testee answer 2011'!BH387:BH406,\"C\")","v":0},{"$f":"COUNTIF('[1]Testee answer 2011'!BI387:BI406,\"C\")","v":0}]
["SF2",{"$f":"COUNTIF('[1]Testee answer 2011'!D387:D406,\"D\")","v":0},{"$f":"COUNTIF('[1]Testee answer 2011'!E387:E406,\"D\")","v":0},{"$f":"COUNTIF('[1]Testee answer 2011'!F387:F406,\"D\")","v":0},{"$f":"COUNTIF('[1]Testee answer 2011'!G387:G406,\"D\")","v":0},{"$f":"COUNTIF('[1]Testee answer 2011'!H387:H406,\"D\")","v":1},{"$f":"COUNTIF('[1]Testee answer 2011'!I387:I406,\"D\")","v":0},{"$f":"COUNTIF('[1]Testee answer 2011'!J387:J406,\"D\")","v":0},{"$f":"COUNTIF('[1]Testee answer 2011'!K387:K406,\"D\")","v":0},{"$f":"COUNTIF('[1]Testee answer 2011'!L387:L406,\"D\")","v":0},{"$f":"COUNTIF('[1]Testee answer 2011'!M387:M406,\"D\")","v":0},{"$f":"COUNTIF('[1]Testee answer 2011'!N387:N406,\"D\")","v":1},{"$f":"COUNTIF('[1]Testee answer 2011'!O387:O406,\"D\")","v":1},{"$f":"COUNTIF('[1]Testee answer 2011'!P387:P406,\"D\")","v":1},{"$f":"COUNTIF('[1]Testee answer 2011'!Q387:Q406,\"D\")","v":2},{"$f":"COUNTIF('[1]Testee answer 2011'!R387:R406,\"D\")","v":4},{"$f":"COUNTIF('[1]Testee answer 2011'!S387:S406,\"D\")","v":3},{"$f":"COUNTIF('[1]Testee answer 2011'!T387:T406,\"D\")","v":4},{"$f":"COUNTIF('[1]Testee answer 2011'!U387:U406,\"D\")","v":0},{"$f":"COUNTIF('[1]Testee answer 2011'!V387:V406,\"D\")","v":12},{"$f":"COUNTIF('[1]Testee answer 2011'!W387:W406,\"D\")","v":1},{"$f":"COUNTIF('[1]Testee answer 2011'!X387:X406,\"D\")","v":1},{"$f":"COUNTIF('[1]Testee answer 2011'!Y387:Y406,\"D\")","v":4},{"$f":"COUNTIF('[1]Testee answer 2011'!Z387:Z406,\"D\")","v":3},{"$f":"COUNTIF('[1]Testee answer 2011'!AA387:AA406,\"D\")","v":1},{"$f":"COUNTIF('[1]Testee answer 2011'!AB387:AB406,\"D\")","v":11},{"$f":"COUNTIF('[1]Testee answer 2011'!AC387:AC406,\"D\")","v":10},{"$f":"COUNTIF('[1]Testee answer 2011'!AD387:AD406,\"D\")","v":6},{"$f":"COUNTIF('[1]Testee answer 2011'!AE387:AE406,\"D\")","v":4},{"$f":"COUNTIF('[1]Testee answer 2011'!AF387:AF406,\"D\")","v":7},{"$f":"COUNTIF('[1]Testee answer 2011'!AG387:AG406,\"D\")","v":6},{"$f":"COUNTIF('[1]Testee answer 2011'!AH387:AH406,\"D\")","v":0},{"$f":"COUNTIF('[1]Testee answer 2011'!AI387:AI406,\"D\")","v":0},{"$f":"COUNTIF('[1]Testee answer 2011'!AJ387:AJ406,\"D\")","v":10},{"$f":"COUNTIF('[1]Testee answer 2011'!AK387:AK406,\"D\")","v":8},{"$f":"COUNTIF('[1]Testee answer 2011'!AL387:AL406,\"D\")","v":5},{"$f":"COUNTIF('[1]Testee answer 2011'!AM387:AM406,\"D\")","v":6},{"$f":"COUNTIF('[1]Testee answer 2011'!AN387:AN406,\"D\")","v":2},{"$f":"COUNTIF('[1]Testee answer 2011'!AO387:AO406,\"D\")","v":0},{"$f":"COUNTIF('[1]Testee answer 2011'!AP387:AP406,\"D\")","v":0},{"$f":"COUNTIF('[1]Testee answer 2011'!AQ387:AQ406,\"D\")","v":0},{"$f":"COUNTIF('[1]Testee answer 2011'!AR387:AR406,\"D\")","v":0},{"$f":"COUNTIF('[1]Testee answer 2011'!AS387:AS406,\"D\")","v":0},{"$f":"COUNTIF('[1]Testee answer 2011'!AT387:AT406,\"D\")","v":4},{"$f":"COUNTIF('[1]Testee answer 2011'!AU387:AU406,\"D\")","v":12},{"$f":"COUNTIF('[1]Testee answer 2011'!AV387:AV406,\"D\")","v":4},{"$f":"COUNTIF('[1]Testee answer 2011'!AW387:AW406,\"D\")","v":0},{"$f":"COUNTIF('[1]Testee answer 2011'!AX387:AX406,\"D\")","v":1},{"$f":"COUNTIF('[1]Testee answer 2011'!AY387:AY406,\"D\")","v":2},{"$f":"COUNTIF('[1]Testee answer 2011'!AZ387:AZ406,\"D\")","v":1},{"$f":"COUNTIF('[1]Testee answer 2011'!BA387:BA406,\"D\")","v":0},{"$f":"COUNTIF('[1]Testee answer 2011'!BB387:BB406,\"D\")","v":0},{"$f":"COUNTIF('[1]Testee answer 2011'!BC387:BC406,\"D\")","v":0},{"$f":"COUNTIF('[1]Testee answer 2011'!BD387:BD406,\"D\")","v":0},{"$f":"COUNTIF('[1]Testee answer 2011'!BE387:BE406,\"D\")","v":0},{"$f":"COUNTIF('[1]Testee answer 2011'!BF387:BF406,\"D\")","v":0},{"$f":"COUNTIF('[1]Testee answer 2011'!BG387:BG406,\"D\")","v":0},{"$f":"COUNTIF('[1]Testee answer 2011'!BH387:BH406,\"D\")","v":0},{"$f":"COUNTIF('[1]Testee answer 2011'!BI387:BI406,\"D\")","v":0}]
["SF3",{"$f":"COUNTIF('[1]Testee answer 2011'!D490:D508,\"A\")","v":0},{"$f":"COUNTIF('[1]Testee answer 2011'!E490:E508,\"A\")","v":3},{"$f":"COUNTIF('[1]Testee answer 2011'!F490:F508,\"A\")","v":10},{"$f":"COUNTIF('[1]Testee answer 2011'!G490:G508,\"A\")","v":15},{"$f":"COUNTIF('[1]Testee answer 2011'!H490:H508,\"A\")","v":13},{"$f":"COUNTIF('[1]Testee answer 2011'!I490:I508,\"A\")","v":2},{"$f":"COUNTIF('[1]Testee answer 2011'!J490:J508,\"A\")","v":4},{"$f":"COUNTIF('[1]Testee answer 2011'!K490:K508,\"A\")","v":11},{"$f":"COUNTIF('[1]Testee answer 2011'!L490:L508,\"A\")","v":10},{"$f":"COUNTIF('[1]Testee answer 2011'!M490:M508,\"A\")","v":8},{"$f":"COUNTIF('[1]Testee answer 2011'!N490:N508,\"A\")","v":8},{"$f":"COUNTIF('[1]Testee answer 2011'!O490:O508,\"A\")","v":5},{"$f":"COUNTIF('[1]Testee answer 2011'!P490:P508,\"A\")","v":5},{"$f":"COUNTIF('[1]Testee answer 2011'!Q490:Q508,\"A\")","v":2},{"$f":"COUNTIF('[1]Testee answer 2011'!R490:R508,\"A\")","v":6},{"$f":"COUNTIF('[1]Testee answer 2011'!S490:S508,\"A\")","v":3},{"$f":"COUNTIF('[1]Testee answer 2011'!T490:T508,\"A\")","v":7},{"$f":"COUNTIF('[1]Testee answer 2011'!U490:U508,\"A\")","v":4},{"$f":"COUNTIF('[1]Testee answer 2011'!V490:V508,\"A\")","v":0},{"$f":"COUNTIF('[1]Testee answer 2011'!W490:W508,\"A\")","v":3},{"$f":"COUNTIF('[1]Testee answer 2011'!X490:X508,\"A\")","v":4},{"$f":"COUNTIF('[1]Testee answer 2011'!Y490:Y508,\"A\")","v":5},{"$f":"COUNTIF('[1]Testee answer 2011'!Z490:Z508,\"A\")","v":7},{"$f":"COUNTIF('[1]Testee answer 2011'!AA490:AA508,\"A\")","v":6},{"$f":"COUNTIF('[1]Testee answer 2011'!AB490:AB508,\"A\")","v":1},{"$f":"COUNTIF('[1]Testee answer 2011'!AC490:AC508,\"A\")","v":3},{"$f":"COUNTIF('[1]Testee answer 2011'!AD490:AD508,\"A\")","v":4},{"$f":"COUNTIF('[1]Testee answer 2011'!AE490:AE508,\"A\")","v":2},{"$f":"COUNTIF('[1]Testee answer 2011'!AF490:AF508,\"A\")","v":1},{"$f":"COUNTIF('[1]Testee answer 2011'!AG490:AG508,\"A\")","v":3},{"$f":"COUNTIF('[1]Testee answer 2011'!AH490:AH508,\"A\")","v":7},{"$f":"COUNTIF('[1]Testee answer 2011'!AI490:AI508,\"A\")","v":6},{"$f":"COUNTIF('[1]Testee answer 2011'!AJ490:AJ508,\"A\")","v":4},{"$f":"COUNTIF('[1]Testee answer 2011'!AK490:AK508,\"A\")","v":8},{"$f":"COUNTIF('[1]Testee answer 2011'!AL490:AL508,\"A\")","v":3},{"$f":"COUNTIF('[1]Testee answer 2011'!AM490:AM508,\"A\")","v":1},{"$f":"COUNTIF('[1]Testee answer 2011'!AN490:AN508,\"A\")","v":6},{"$f":"COUNTIF('[1]Testee answer 2011'!AO490:AO508,\"A\")","v":4},{"$f":"COUNTIF('[1]Testee answer 2011'!AP490:AP508,\"A\")","v":3},{"$f":"COUNTIF('[1]Testee answer 2011'!AQ490:AQ508,\"A\")","v":3},{"$f":"COUNTIF('[1]Testee answer 2011'!AR490:AR508,\"A\")","v":2},{"$f":"COUNTIF('[1]Testee answer 2011'!AS490:AS508,\"A\")","v":1},{"$f":"COUNTIF('[1]Testee answer 2011'!AT490:AT508,\"A\")","v":2},{"$f":"COUNTIF('[1]Testee answer 2011'!AU490:AU508,\"A\")","v":1},{"$f":"COUNTIF('[1]Testee answer 2011'!AV490:AV508,\"A\")","v":2},{"$f":"COUNTIF('[1]Testee answer 2011'!AW490:AW508,\"A\")","v":7},{"$f":"COUNTIF('[1]Testee answer 2011'!AX490:AX508,\"A\")","v":8},{"$f":"COUNTIF('[1]Testee answer 2011'!AY490:AY508,\"A\")","v":4},{"$f":"COUNTIF('[1]Testee answer 2011'!AZ490:AZ508,\"A\")","v":4},{"$f":"COUNTIF('[1]Testee answer 2011'!BA490:BA508,\"A\")","v":17},{"$f":"COUNTIF('[1]Testee answer 2011'!BB490:BB508,\"A\")","v":4},{"$f":"COUNTIF('[1]Testee answer 2011'!BC490:BC508,\"A\")","v":1},{"$f":"COUNTIF('[1]Testee answer 2011'!BD490:BD508,\"A\")","v":7},{"$f":"COUNTIF('[1]Testee answer 2011'!BE490:BE508,\"A\")","v":15},{"$f":"COUNTIF('[1]Testee answer 2011'!BF490:BF508,\"A\")","v":1},{"$f":"COUNTIF('[1]Testee answer 2011'!BG490:BG508,\"A\")","v":12},{"$f":"COUNTIF('[1]Testee answer 2011'!BH490:BH508,\"A\")","v":9},{"$f":"COUNTIF('[1]Testee answer 2011'!BI490:BI508,\"A\")","v":2}]
["SF3",{"$f":"COUNTIF('[1]Testee answer 2011'!D490:D508,\"B\")","v":0},{"$f":"COUNTIF('[1]Testee answer 2011'!E490:E508,\"B\")","v":15},{"$f":"COUNTIF('[1]Testee answer 2011'!F490:F508,\"B\")","v":7},{"$f":"COUNTIF('[1]Testee answer 2011'!G490:G508,\"B\")","v":3},{"$f":"COUNTIF('[1]Testee answer 2011'!H490:H508,\"B\")","v":2},{"$f":"COUNTIF('[1]Testee answer 2011'!I490:I508,\"B\")","v":10},{"$f":"COUNTIF('[1]Testee answer 2011'!J490:J508,\"B\")","v":13},{"$f":"COUNTIF('[1]Testee answer 2011'!K490:K508,\"B\")","v":5},{"$f":"COUNTIF('[1]Testee answer 2011'!L490:L508,\"B\")","v":7},{"$f":"COUNTIF('[1]Testee answer 2011'!M490:M508,\"B\")","v":4},{"$f":"COUNTIF('[1]Testee answer 2011'!N490:N508,\"B\")","v":4},{"$f":"COUNTIF('[1]Testee answer 2011'!O490:O508,\"B\")","v":5},{"$f":"COUNTIF('[1]Testee answer 2011'!P490:P508,\"B\")","v":2},{"$f":"COUNTIF('[1]Testee answer 2011'!Q490:Q508,\"B\")","v":4},{"$f":"COUNTIF('[1]Testee answer 2011'!R490:R508,\"B\")","v":3},{"$f":"COUNTIF('[1]Testee answer 2011'!S490:S508,\"B\")","v":3},{"$f":"COUNTIF('[1]Testee answer 2011'!T490:T508,\"B\")","v":3},{"$f":"COUNTIF('[1]Testee answer 2011'!U490:U508,\"B\")","v":6},{"$f":"COUNTIF('[1]Testee answer 2011'!V490:V508,\"B\")","v":3},{"$f":"COUNTIF('[1]Testee answer 2011'!W490:W508,\"B\")","v":4},{"$f":"COUNTIF('[1]Testee answer 2011'!X490:X508,\"B\")","v":3},{"$f":"COUNTIF('[1]Testee answer 2011'!Y490:Y508,\"B\")","v":2},{"$f":"COUNTIF('[1]Testee answer 2011'!Z490:Z508,\"B\")","v":1},{"$f":"COUNTIF('[1]Testee answer 2011'!AA490:AA508,\"B\")","v":2},{"$f":"COUNTIF('[1]Testee answer 2011'!AB490:AB508,\"B\")","v":4},{"$f":"COUNTIF('[1]Testee answer 2011'!AC490:AC508,\"B\")","v":3},{"$f":"COUNTIF('[1]Testee answer 2011'!AD490:AD508,\"B\")","v":3},{"$f":"COUNTIF('[1]Testee answer 2011'!AE490:AE508,\"B\")","v":2},{"$f":"COUNTIF('[1]Testee answer 2011'!AF490:AF508,\"B\")","v":0},{"$f":"COUNTIF('[1]Testee answer 2011'!AG490:AG508,\"B\")","v":3},{"$f":"COUNTIF('[1]Testee answer 2011'!AH490:AH508,\"B\")","v":7},{"$f":"COUNTIF('[1]Testee answer 2011'!AI490:AI508,\"B\")","v":4},{"$f":"COUNTIF('[1]Testee answer 2011'!AJ490:AJ508,\"B\")","v":1},{"$f":"COUNTIF('[1]Testee answer 2011'!AK490:AK508,\"B\")","v":2},{"$f":"COUNTIF('[1]Testee answer 2011'!AL490:AL508,\"B\")","v":0},{"$f":"COUNTIF('[1]Testee answer 2011'!AM490:AM508,\"B\")","v":4},{"$f":"COUNTIF('[1]Testee answer 2011'!AN490:AN508,\"B\")","v":3},{"$f":"COUNTIF('[1]Testee answer 2011'!AO490:AO508,\"B\")","v":14},{"$f":"COUNTIF('[1]Testee answer 2011'!AP490:AP508,\"B\")","v":15},{"$f":"COUNTIF('[1]Testee answer 2011'!AQ490:AQ508,\"B\")","v":15},{"$f":"COUNTIF('[1]Testee answer 2011'!AR490:AR508,\"B\")","v":16},{"$f":"COUNTIF('[1]Testee answer 2011'!AS490:AS508,\"B\")","v":17},{"$f":"COUNTIF('[1]Testee answer 2011'!AT490:AT508,\"B\")","v":2},{"$f":"COUNTIF('[1]Testee answer 2011'!AU490:AU508,\"B\")","v":1},{"$f":"COUNTIF('[1]Testee answer 2011'!AV490:AV508,\"B\")","v":4},{"$f":"COUNTIF('[1]Testee answer 2011'!AW490:AW508,\"B\")","v":4},{"$f":"COUNTIF('[1]Testee answer 2011'!AX490:AX508,\"B\")","v":3},{"$f":"COUNTIF('[1]Testee answer 2011'!AY490:AY508,\"B\")","v":4},{"$f":"COUNTIF('[1]Testee answer 2011'!AZ490:AZ508,\"B\")","v":4},{"$f":"COUNTIF('[1]Testee answer 2011'!BA490:BA508,\"B\")","v":1},{"$f":"COUNTIF('[1]Testee answer 2011'!BB490:BB508,\"B\")","v":14},{"$f":"COUNTIF('[1]Testee answer 2011'!BC490:BC508,\"B\")","v":17},{"$f":"COUNTIF('[1]Testee answer 2011'!BD490:BD508,\"B\")","v":11},{"$f":"COUNTIF('[1]Testee answer 2011'!BE490:BE508,\"B\")","v":3},{"$f":"COUNTIF('[1]Testee answer 2011'!BF490:BF508,\"B\")","v":17},{"$f":"COUNTIF('[1]Testee answer 2011'!BG490:BG508,\"B\")","v":6},{"$f":"COUNTIF('[1]Testee answer 2011'!BH490:BH508,\"B\")","v":9},{"$f":"COUNTIF('[1]Testee answer 2011'!BI490:BI508,\"B\")","v":16}]
["SF3",{"$f":"COUNTIF('[1]Testee answer 2011'!D490:D508,\"C\")","v":15},{"$f":"COUNTIF('[1]Testee answer 2011'!E490:E508,\"C\")","v":0},{"$f":"COUNTIF('[1]Testee answer 2011'!F490:F508,\"C\")","v":1},{"$f":"COUNTIF('[1]Testee answer 2011'!G490:G508,\"C\")","v":0},{"$f":"COUNTIF('[1]Testee answer 2011'!H490:H508,\"C\")","v":2},{"$f":"COUNTIF('[1]Testee answer 2011'!I490:I508,\"C\")","v":6},{"$f":"COUNTIF('[1]Testee answer 2011'!J490:J508,\"C\")","v":1},{"$f":"COUNTIF('[1]Testee answer 2011'!K490:K508,\"C\")","v":2},{"$f":"COUNTIF('[1]Testee answer 2011'!L490:L508,\"C\")","v":1},{"$f":"COUNTIF('[1]Testee answer 2011'!M490:M508,\"C\")","v":5},{"$f":"COUNTIF('[1]Testee answer 2011'!N490:N508,\"C\")","v":6},{"$f":"COUNTIF('[1]Testee answer 2011'!O490:O508,\"C\")","v":6},{"$f":"COUNTIF('[1]Testee answer 2011'!P490:P508,\"C\")","v":8},{"$f":"COUNTIF('[1]Testee answer 2011'!Q490:Q508,\"C\")","v":5},{"$f":"COUNTIF('[1]Testee answer 2011'!R490:R508,\"C\")","v":3},{"$f":"COUNTIF('[1]Testee answer 2011'!S490:S508,\"C\")","v":2},{"$f":"COUNTIF('[1]Testee answer 2011'!T490:T508,\"C\")","v":2},{"$f":"COUNTIF('[1]Testee answer 2011'!U490:U508,\"C\")","v":6},{"$f":"COUNTIF('[1]Testee answer 2011'!V490:V508,\"C\")","v":8},{"$f":"COUNTIF('[1]Testee answer 2011'!W490:W508,\"C\")","v":6},{"$f":"COUNTIF('[1]Testee answer 2011'!X490:X508,\"C\")","v":5},{"$f":"COUNTIF('[1]Testee answer 2011'!Y490:Y508,\"C\")","v":7},{"$f":"COUNTIF('[1]Testee answer 2011'!Z490:Z508,\"C\")","v":6},{"$f":"COUNTIF('[1]Testee answer 2011'!AA490:AA508,\"C\")","v":8},{"$f":"COUNTIF('[1]Testee answer 2011'!AB490:AB508,\"C\")","v":4},{"$f":"COUNTIF('[1]Testee answer 2011'!AC490:AC508,\"C\")","v":6},{"$f":"COUNTIF('[1]Testee answer 2011'!AD490:AD508,\"C\")","v":7},{"$f":"COUNTIF('[1]Testee answer 2011'!AE490:AE508,\"C\")","v":6},{"$f":"COUNTIF('[1]Testee answer 2011'!AF490:AF508,\"C\")","v":4},{"$f":"COUNTIF('[1]Testee answer 2011'!AG490:AG508,\"C\")","v":2},{"$f":"COUNTIF('[1]Testee answer 2011'!AH490:AH508,\"C\")","v":2},{"$f":"COUNTIF('[1]Testee answer 2011'!AI490:AI508,\"C\")","v":6},{"$f":"COUNTIF('[1]Testee answer 2011'!AJ490:AJ508,\"C\")","v":5},{"$f":"COUNTIF('[1]Testee answer 2011'!AK490:AK508,\"C\")","v":3},{"$f":"COUNTIF('[1]Testee answer 2011'!AL490:AL508,\"C\")","v":8},{"$f":"COUNTIF('[1]Testee answer 2011'!AM490:AM508,\"C\")","v":5},{"$f":"COUNTIF('[1]Testee answer 2011'!AN490:AN508,\"C\")","v":4},{"$f":"COUNTIF('[1]Testee answer 2011'!AO490:AO508,\"C\")","v":0},{"$f":"COUNTIF('[1]Testee answer 2011'!AP490:AP508,\"C\")","v":0},{"$f":"COUNTIF('[1]Testee answer 2011'!AQ490:AQ508,\"C\")","v":0},{"$f":"COUNTIF('[1]Testee answer 2011'!AR490:AR508,\"C\")","v":0},{"$f":"COUNTIF('[1]Testee answer 2011'!AS490:AS508,\"C\")","v":0},{"$f":"COUNTIF('[1]Testee answer 2011'!AT490:AT508,\"C\")","v":5},{"$f":"COUNTIF('[1]Testee answer 2011'!AU490:AU508,\"C\")","v":3},{"$f":"COUNTIF('[1]Testee answer 2011'!AV490:AV508,\"C\")","v":6},{"$f":"COUNTIF('[1]Testee answer 2011'!AW490:AW508,\"C\")","v":6},{"$f":"COUNTIF('[1]Testee answer 2011'!AX490:AX508,\"C\")","v":6},{"$f":"COUNTIF('[1]Testee answer 2011'!AY490:AY508,\"C\")","v":5},{"$f":"COUNTIF('[1]Testee answer 2011'!AZ490:AZ508,\"C\")","v":6},{"$f":"COUNTIF('[1]Testee answer 2011'!BA490:BA508,\"C\")","v":0},{"$f":"COUNTIF('[1]Testee answer 2011'!BB490:BB508,\"C\")","v":0},{"$f":"COUNTIF('[1]Testee answer 2011'!BC490:BC508,\"C\")","v":0},{"$f":"COUNTIF('[1]Testee answer 2011'!BD490:BD508,\"C\")","v":0},{"$f":"COUNTIF('[1]Testee answer 2011'!BE490:BE508,\"C\")","v":0},{"$f":"COUNTIF('[1]Testee answer 2011'!BF490:BF508,\"C\")","v":0},{"$f":"COUNTIF('[1]Testee answer 2011'!BG490:BG508,\"C\")","v":0},{"$f":"COUNTIF('[1]Testee answer 2011'!BH490:BH508,\"C\")","v":0},{"$f":"COUNTIF('[1]Testee answer 2011'!BI490:BI508,\"C\")","v":0}]
["SF3",{"$f":"COUNTIF('[1]Testee answer 2011'!D490:D508,\"D\")","v":3},{"$f":"COUNTIF('[1]Testee answer 2011'!E490:E508,\"D\")","v":0},{"$f":"COUNTIF('[1]Testee answer 2011'!F490:F508,\"D\")","v":0},{"$f":"COUNTIF('[1]Testee answer 2011'!G490:G508,\"D\")","v":0},{"$f":"COUNTIF('[1]Testee answer 2011'!H490:H508,\"D\")","v":1},{"$f":"COUNTIF('[1]Testee answer 2011'!I490:I508,\"D\")","v":0},{"$f":"COUNTIF('[1]Testee answer 2011'!J490:J508,\"D\")","v":0},{"$f":"COUNTIF('[1]Testee answer 2011'!K490:K508,\"D\")","v":0},{"$f":"COUNTIF('[1]Testee answer 2011'!L490:L508,\"D\")","v":0},{"$f":"COUNTIF('[1]Testee answer 2011'!M490:M508,\"D\")","v":1},{"$f":"COUNTIF('[1]Testee answer 2011'!N490:N508,\"D\")","v":0},{"$f":"COUNTIF('[1]Testee answer 2011'!O490:O508,\"D\")","v":2},{"$f":"COUNTIF('[1]Testee answer 2011'!P490:P508,\"D\")","v":3},{"$f":"COUNTIF('[1]Testee answer 2011'!Q490:Q508,\"D\")","v":7},{"$f":"COUNTIF('[1]Testee answer 2011'!R490:R508,\"D\")","v":6},{"$f":"COUNTIF('[1]Testee answer 2011'!S490:S508,\"D\")","v":10},{"$f":"COUNTIF('[1]Testee answer 2011'!T490:T508,\"D\")","v":6},{"$f":"COUNTIF('[1]Testee answer 2011'!U490:U508,\"D\")","v":2},{"$f":"COUNTIF('[1]Testee answer 2011'!V490:V508,\"D\")","v":7},{"$f":"COUNTIF('[1]Testee answer 2011'!W490:W508,\"D\")","v":5},{"$f":"COUNTIF('[1]Testee answer 2011'!X490:X508,\"D\")","v":6},{"$f":"COUNTIF('[1]Testee answer 2011'!Y490:Y508,\"D\")","v":4},{"$f":"COUNTIF('[1]Testee answer 2011'!Z490:Z508,\"D\")","v":4},{"$f":"COUNTIF('[1]Testee answer 2011'!AA490:AA508,\"D\")","v":2},{"$f":"COUNTIF('[1]Testee answer 2011'!AB490:AB508,\"D\")","v":9},{"$f":"COUNTIF('[1]Testee answer 2011'!AC490:AC508,\"D\")","v":6},{"$f":"COUNTIF('[1]Testee answer 2011'!AD490:AD508,\"D\")","v":4},{"$f":"COUNTIF('[1]Testee answer 2011'!AE490:AE508,\"D\")","v":8},{"$f":"COUNTIF('[1]Testee answer 2011'!AF490:AF508,\"D\")","v":13},{"$f":"COUNTIF('[1]Testee answer 2011'!AG490:AG508,\"D\")","v":10},{"$f":"COUNTIF('[1]Testee answer 2011'!AH490:AH508,\"D\")","v":2},{"$f":"COUNTIF('[1]Testee answer 2011'!AI490:AI508,\"D\")","v":2},{"$f":"COUNTIF('[1]Testee answer 2011'!AJ490:AJ508,\"D\")","v":8},{"$f":"COUNTIF('[1]Testee answer 2011'!AK490:AK508,\"D\")","v":5},{"$f":"COUNTIF('[1]Testee answer 2011'!AL490:AL508,\"D\")","v":7},{"$f":"COUNTIF('[1]Testee answer 2011'!AM490:AM508,\"D\")","v":8},{"$f":"COUNTIF('[1]Testee answer 2011'!AN490:AN508,\"D\")","v":5},{"$f":"COUNTIF('[1]Testee answer 2011'!AO490:AO508,\"D\")","v":0},{"$f":"COUNTIF('[1]Testee answer 2011'!AP490:AP508,\"D\")","v":0},{"$f":"COUNTIF('[1]Testee answer 2011'!AQ490:AQ508,\"D\")","v":0},{"$f":"COUNTIF('[1]Testee answer 2011'!AR490:AR508,\"D\")","v":0},{"$f":"COUNTIF('[1]Testee answer 2011'!AS490:AS508,\"D\")","v":0},{"$f":"COUNTIF('[1]Testee answer 2011'!AT490:AT508,\"D\")","v":9},{"$f":"COUNTIF('[1]Testee answer 2011'!AU490:AU508,\"D\")","v":13},{"$f":"COUNTIF('[1]Testee answer 2011'!AV490:AV508,\"D\")","v":6},{"$f":"COUNTIF('[1]Testee answer 2011'!AW490:AW508,\"D\")","v":1},{"$f":"COUNTIF('[1]Testee answer 2011'!AX490:AX508,\"D\")","v":1},{"$f":"COUNTIF('[1]Testee answer 2011'!AY490:AY508,\"D\")","v":5},{"$f":"COUNTIF('[1]Testee answer 2011'!AZ490:AZ508,\"D\")","v":4},{"$f":"COUNTIF('[1]Testee answer 2011'!BA490:BA508,\"D\")","v":0},{"$f":"COUNTIF('[1]Testee answer 2011'!BB490:BB508,\"D\")","v":0},{"$f":"COUNTIF('[1]Testee answer 2011'!BC490:BC508,\"D\")","v":0},{"$f":"COUNTIF('[1]Testee answer 2011'!BD490:BD508,\"D\")","v":0},{"$f":"COUNTIF('[1]Testee answer 2011'!BE490:BE508,\"D\")","v":0},{"$f":"COUNTIF('[1]Testee answer 2011'!BF490:BF508,\"D\")","v":0},{"$f":"COUNTIF('[1]Testee answer 2011'!BG490:BG508,\"D\")","v":0},{"$f":"COUNTIF('[1]Testee answer 2011'!BH490:BH508,\"D\")","v":0},{"$f":"COUNTIF('[1]Testee answer 2011'!BI490:BI508,\"D\")","v":0}]
["SF4",{"$f":"COUNTIF('[1]Testee answer 2011'!D149:D159,\"A\")","v":3},{"$f":"COUNTIF('[1]Testee answer 2011'!E149:E159,\"A\")","v":5},{"$f":"COUNTIF('[1]Testee answer 2011'!F149:F159,\"A\")","v":6},{"$f":"COUNTIF('[1]Testee answer 2011'!G149:G159,\"A\")","v":10},{"$f":"COUNTIF('[1]Testee answer 2011'!H149:H159,\"A\")","v":6},{"$f":"COUNTIF('[1]Testee answer 2011'!I149:I159,\"A\")","v":2},{"$f":"COUNTIF('[1]Testee answer 2011'!J149:J159,\"A\")","v":5},{"$f":"COUNTIF('[1]Testee answer 2011'!K149:K159,\"A\")","v":5},{"$f":"COUNTIF('[1]Testee answer 2011'!L149:L159,\"A\")","v":4},{"$f":"COUNTIF('[1]Testee answer 2011'!M149:M159,\"A\")","v":5},{"$f":"COUNTIF('[1]Testee answer 2011'!N149:N159,\"A\")","v":0},{"$f":"COUNTIF('[1]Testee answer 2011'!O149:O159,\"A\")","v":2},{"$f":"COUNTIF('[1]Testee answer 2011'!P149:P159,\"A\")","v":1},{"$f":"COUNTIF('[1]Testee answer 2011'!Q149:Q159,\"A\")","v":2},{"$f":"COUNTIF('[1]Testee answer 2011'!R149:R159,\"A\")","v":1},{"$f":"COUNTIF('[1]Testee answer 2011'!S149:S159,\"A\")","v":5},{"$f":"COUNTIF('[1]Testee answer 2011'!T149:T159,\"A\")","v":8},{"$f":"COUNTIF('[1]Testee answer 2011'!U149:U159,\"A\")","v":3},{"$f":"COUNTIF('[1]Testee answer 2011'!V149:V159,\"A\")","v":1},{"$f":"COUNTIF('[1]Testee answer 2011'!W149:W159,\"A\")","v":1},{"$f":"COUNTIF('[1]Testee answer 2011'!X149:X159,\"A\")","v":2},{"$f":"COUNTIF('[1]Testee answer 2011'!Y149:Y159,\"A\")","v":5},{"$f":"COUNTIF('[1]Testee answer 2011'!Z149:Z159,\"A\")","v":5},{"$f":"COUNTIF('[1]Testee answer 2011'!AA149:AA159,\"A\")","v":3},{"$f":"COUNTIF('[1]Testee answer 2011'!AB149:AB159,\"A\")","v":1},{"$f":"COUNTIF('[1]Testee answer 2011'!AC149:AC159,\"A\")","v":6},{"$f":"COUNTIF('[1]Testee answer 2011'!AD149:AD159,\"A\")","v":7},{"$f":"COUNTIF('[1]Testee answer 2011'!AE149:AE159,\"A\")","v":2},{"$f":"COUNTIF('[1]Testee answer 2011'!AF149:AF159,\"A\")","v":2},{"$f":"COUNTIF('[1]Testee answer 2011'!AG149:AG159,\"A\")","v":1},{"$f":"COUNTIF('[1]Testee answer 2011'!AH149:AH159,\"A\")","v":7},{"$f":"COUNTIF('[1]Testee answer 2011'!AI149:AI159,\"A\")","v":2},{"$f":"COUNTIF('[1]Testee answer 2011'!AJ149:AJ159,\"A\")","v":4},{"$f":"COUNTIF('[1]Testee answer 2011'!AK149:AK159,\"A\")","v":4},{"$f":"COUNTIF('[1]Testee answer 2011'!AL149:AL159,\"A\")","v":1},{"$f":"COUNTIF('[1]Testee answer 2011'!AM149:AM159,\"A\")","v":0},{"$f":"COUNTIF('[1]Testee answer 2011'!AN149:AN159,\"A\")","v":3},{"$f":"COUNTIF('[1]Testee answer 2011'!AO149:AO159,\"A\")","v":3},{"$f":"COUNTIF('[1]Testee answer 2011'!AP149:AP159,\"A\")","v":2},{"$f":"COUNTIF('[1]Testee answer 2011'!AQ149:AQ159,\"A\")","v":1},{"$f":"COUNTIF('[1]Testee answer 2011'!AR149:AR159,\"A\")","v":0},{"$f":"COUNTIF('[1]Testee answer 2011'!AS149:AS159,\"A\")","v":1},{"$f":"COUNTIF('[1]Testee answer 2011'!AT149:AT159,\"A\")","v":0},{"$f":"COUNTIF('[1]Testee answer 2011'!AU149:AU159,\"A\")","v":1},{"$f":"COUNTIF('[1]Testee answer 2011'!AV149:AV159,\"A\")","v":1},{"$f":"COUNTIF('[1]Testee answer 2011'!AW149:AW159,\"A\")","v":4},{"$f":"COUNTIF('[1]Testee answer 2011'!AX149:AX159,\"A\")","v":4},{"$f":"COUNTIF('[1]Testee answer 2011'!AY149:AY159,\"A\")","v":1},{"$f":"COUNTIF('[1]Testee answer 2011'!AZ149:AZ159,\"A\")","v":3},{"$f":"COUNTIF('[1]Testee answer 2011'!BA149:BA159,\"A\")","v":11},{"$f":"COUNTIF('[1]Testee answer 2011'!BB149:BB159,\"A\")","v":3},{"$f":"COUNTIF('[1]Testee answer 2011'!BC149:BC159,\"A\")","v":2},{"$f":"COUNTIF('[1]Testee answer 2011'!BD149:BD159,\"A\")","v":6},{"$f":"COUNTIF('[1]Testee answer 2011'!BE149:BE159,\"A\")","v":6},{"$f":"COUNTIF('[1]Testee answer 2011'!BF149:BF159,\"A\")","v":1},{"$f":"COUNTIF('[1]Testee answer 2011'!BG149:BG159,\"A\")","v":10},{"$f":"COUNTIF('[1]Testee answer 2011'!BH149:BH159,\"A\")","v":6},{"$f":"COUNTIF('[1]Testee answer 2011'!BI149:BI159,\"A\")","v":1}]
["SF4",{"$f":"COUNTIF('[1]Testee answer 2011'!D149:D159,\"B\")","v":0},{"$f":"COUNTIF('[1]Testee answer 2011'!E149:E159,\"B\")","v":6},{"$f":"COUNTIF('[1]Testee answer 2011'!F149:F159,\"B\")","v":3},{"$f":"COUNTIF('[1]Testee answer 2011'!G149:G159,\"B\")","v":1},{"$f":"COUNTIF('[1]Testee answer 2011'!H149:H159,\"B\")","v":0},{"$f":"COUNTIF('[1]Testee answer 2011'!I149:I159,\"B\")","v":2},{"$f":"COUNTIF('[1]Testee answer 2011'!J149:J159,\"B\")","v":5},{"$f":"COUNTIF('[1]Testee answer 2011'!K149:K159,\"B\")","v":3},{"$f":"COUNTIF('[1]Testee answer 2011'!L149:L159,\"B\")","v":4},{"$f":"COUNTIF('[1]Testee answer 2011'!M149:M159,\"B\")","v":3},{"$f":"COUNTIF('[1]Testee answer 2011'!N149:N159,\"B\")","v":3},{"$f":"COUNTIF('[1]Testee answer 2011'!O149:O159,\"B\")","v":2},{"$f":"COUNTIF('[1]Testee answer 2011'!P149:P159,\"B\")","v":0},{"$f":"COUNTIF('[1]Testee answer 2011'!Q149:Q159,\"B\")","v":2},{"$f":"COUNTIF('[1]Testee answer 2011'!R149:R159,\"B\")","v":1},{"$f":"COUNTIF('[1]Testee answer 2011'!S149:S159,\"B\")","v":5},{"$f":"COUNTIF('[1]Testee answer 2011'!T149:T159,\"B\")","v":3},{"$f":"COUNTIF('[1]Testee answer 2011'!U149:U159,\"B\")","v":3},{"$f":"COUNTIF('[1]Testee answer 2011'!V149:V159,\"B\")","v":2},{"$f":"COUNTIF('[1]Testee answer 2011'!W149:W159,\"B\")","v":1},{"$f":"COUNTIF('[1]Testee answer 2011'!X149:X159,\"B\")","v":2},{"$f":"COUNTIF('[1]Testee answer 2011'!Y149:Y159,\"B\")","v":2},{"$f":"COUNTIF('[1]Testee answer 2011'!Z149:Z159,\"B\")","v":3},{"$f":"COUNTIF('[1]Testee answer 2011'!AA149:AA159,\"B\")","v":5},{"$f":"COUNTIF('[1]Testee answer 2011'!AB149:AB159,\"B\")","v":2},{"$f":"COUNTIF('[1]Testee answer 2011'!AC149:AC159,\"B\")","v":2},{"$f":"COUNTIF('[1]Testee answer 2011'!AD149:AD159,\"B\")","v":3},{"$f":"COUNTIF('[1]Testee answer 2011'!AE149:AE159,\"B\")","v":1},{"$f":"COUNTIF('[1]Testee answer 2011'!AF149:AF159,\"B\")","v":0},{"$f":"COUNTIF('[1]Testee answer 2011'!AG149:AG159,\"B\")","v":2},{"$f":"COUNTIF('[1]Testee answer 2011'!AH149:AH159,\"B\")","v":2},{"$f":"COUNTIF('[1]Testee answer 2011'!AI149:AI159,\"B\")","v":5},{"$f":"COUNTIF('[1]Testee answer 2011'!AJ149:AJ159,\"B\")","v":1},{"$f":"COUNTIF('[1]Testee answer 2011'!AK149:AK159,\"B\")","v":2},{"$f":"COUNTIF('[1]Testee answer 2011'!AL149:AL159,\"B\")","v":3},{"$f":"COUNTIF('[1]Testee answer 2011'!AM149:AM159,\"B\")","v":3},{"$f":"COUNTIF('[1]Testee answer 2011'!AN149:AN159,\"B\")","v":6},{"$f":"COUNTIF('[1]Testee answer 2011'!AO149:AO159,\"B\")","v":7},{"$f":"COUNTIF('[1]Testee answer 2011'!AP149:AP159,\"B\")","v":9},{"$f":"COUNTIF('[1]Testee answer 2011'!AQ149:AQ159,\"B\")","v":10},{"$f":"COUNTIF('[1]Testee answer 2011'!AR149:AR159,\"B\")","v":10},{"$f":"COUNTIF('[1]Testee answer 2011'!AS149:AS159,\"B\")","v":10},{"$f":"COUNTIF('[1]Testee answer 2011'!AT149:AT159,\"B\")","v":2},{"$f":"COUNTIF('[1]Testee answer 2011'!AU149:AU159,\"B\")","v":1},{"$f":"COUNTIF('[1]Testee answer 2011'!AV149:AV159,\"B\")","v":2},{"$f":"COUNTIF('[1]Testee answer 2011'!AW149:AW159,\"B\")","v":3},{"$f":"COUNTIF('[1]Testee answer 2011'!AX149:AX159,\"B\")","v":3},{"$f":"COUNTIF('[1]Testee answer 2011'!AY149:AY159,\"B\")","v":1},{"$f":"COUNTIF('[1]Testee answer 2011'!AZ149:AZ159,\"B\")","v":0},{"$f":"COUNTIF('[1]Testee answer 2011'!BA149:BA159,\"B\")","v":0},{"$f":"COUNTIF('[1]Testee answer 2011'!BB149:BB159,\"B\")","v":8},{"$f":"COUNTIF('[1]Testee answer 2011'!BC149:BC159,\"B\")","v":9},{"$f":"COUNTIF('[1]Testee answer 2011'!BD149:BD159,\"B\")","v":4},{"$f":"COUNTIF('[1]Testee answer 2011'!BE149:BE159,\"B\")","v":4},{"$f":"COUNTIF('[1]Testee answer 2011'!BF149:BF159,\"B\")","v":9},{"$f":"COUNTIF('[1]Testee answer 2011'!BG149:BG159,\"B\")","v":0},{"$f":"COUNTIF('[1]Testee answer 2011'!BH149:BH159,\"B\")","v":4},{"$f":"COUNTIF('[1]Testee answer 2011'!BI149:BI159,\"B\")","v":10}]
["SF4",{"$f":"COUNTIF('[1]Testee answer 2011'!D149:D159,\"C\")","v":0},{"$f":"COUNTIF('[1]Testee answer 2011'!E149:E159,\"C\")","v":0},{"$f":"COUNTIF('[1]Testee answer 2011'!F149:F159,\"C\")","v":1},{"$f":"COUNTIF('[1]Testee answer 2011'!G149:G159,\"C\")","v":0},{"$f":"COUNTIF('[1]Testee answer 2011'!H149:H159,\"C\")","v":5},{"$f":"COUNTIF('[1]Testee answer 2011'!I149:I159,\"C\")","v":5},{"$f":"COUNTIF('[1]Testee answer 2011'!J149:J159,\"C\")","v":1},{"$f":"COUNTIF('[1]Testee answer 2011'!K149:K159,\"C\")","v":3},{"$f":"COUNTIF('[1]Testee answer 2011'!L149:L159,\"C\")","v":3},{"$f":"COUNTIF('[1]Testee answer 2011'!M149:M159,\"C\")","v":3},{"$f":"COUNTIF('[1]Testee answer 2011'!N149:N159,\"C\")","v":5},{"$f":"COUNTIF('[1]Testee answer 2011'!O149:O159,\"C\")","v":4},{"$f":"COUNTIF('[1]Testee answer 2011'!P149:P159,\"C\")","v":6},{"$f":"COUNTIF('[1]Testee answer 2011'!Q149:Q159,\"C\")","v":3},{"$f":"COUNTIF('[1]Testee answer 2011'!R149:R159,\"C\")","v":5},{"$f":"COUNTIF('[1]Testee answer 2011'!S149:S159,\"C\")","v":0},{"$f":"COUNTIF('[1]Testee answer 2011'!T149:T159,\"C\")","v":0},{"$f":"COUNTIF('[1]Testee answer 2011'!U149:U159,\"C\")","v":5},{"$f":"COUNTIF('[1]Testee answer 2011'!V149:V159,\"C\")","v":4},{"$f":"COUNTIF('[1]Testee answer 2011'!W149:W159,\"C\")","v":6},{"$f":"COUNTIF('[1]Testee answer 2011'!X149:X159,\"C\")","v":5},{"$f":"COUNTIF('[1]Testee answer 2011'!Y149:Y159,\"C\")","v":1},{"$f":"COUNTIF('[1]Testee answer 2011'!Z149:Z159,\"C\")","v":2},{"$f":"COUNTIF('[1]Testee answer 2011'!AA149:AA159,\"C\")","v":3},{"$f":"COUNTIF('[1]Testee answer 2011'!AB149:AB159,\"C\")","v":2},{"$f":"COUNTIF('[1]Testee answer 2011'!AC149:AC159,\"C\")","v":3},{"$f":"COUNTIF('[1]Testee answer 2011'!AD149:AD159,\"C\")","v":1},{"$f":"COUNTIF('[1]Testee answer 2011'!AE149:AE159,\"C\")","v":4},{"$f":"COUNTIF('[1]Testee answer 2011'!AF149:AF159,\"C\")","v":6},{"$f":"COUNTIF('[1]Testee answer 2011'!AG149:AG159,\"C\")","v":7},{"$f":"COUNTIF('[1]Testee answer 2011'!AH149:AH159,\"C\")","v":2},{"$f":"COUNTIF('[1]Testee answer 2011'!AI149:AI159,\"C\")","v":3},{"$f":"COUNTIF('[1]Testee answer 2011'!AJ149:AJ159,\"C\")","v":5},{"$f":"COUNTIF('[1]Testee answer 2011'!AK149:AK159,\"C\")","v":2},{"$f":"COUNTIF('[1]Testee answer 2011'!AL149:AL159,\"C\")","v":5},{"$f":"COUNTIF('[1]Testee answer 2011'!AM149:AM159,\"C\")","v":6},{"$f":"COUNTIF('[1]Testee answer 2011'!AN149:AN159,\"C\")","v":1},{"$f":"COUNTIF('[1]Testee answer 2011'!AO149:AO159,\"C\")","v":0},{"$f":"COUNTIF('[1]Testee answer 2011'!AP149:AP159,\"C\")","v":0},{"$f":"COUNTIF('[1]Testee answer 2011'!AQ149:AQ159,\"C\")","v":0},{"$f":"COUNTIF('[1]Testee answer 2011'!AR149:AR159,\"C\")","v":1},{"$f":"COUNTIF('[1]Testee answer 2011'!AS149:AS159,\"C\")","v":0},{"$f":"COUNTIF('[1]Testee answer 2011'!AT149:AT159,\"C\")","v":0},{"$f":"COUNTIF('[1]Testee answer 2011'!AU149:AU159,\"C\")","v":1},{"$f":"COUNTIF('[1]Testee answer 2011'!AV149:AV159,\"C\")","v":4},{"$f":"COUNTIF('[1]Testee answer 2011'!AW149:AW159,\"C\")","v":3},{"$f":"COUNTIF('[1]Testee answer 2011'!AX149:AX159,\"C\")","v":3},{"$f":"COUNTIF('[1]Testee answer 2011'!AY149:AY159,\"C\")","v":5},{"$f":"COUNTIF('[1]Testee answer 2011'!AZ149:AZ159,\"C\")","v":1},{"$f":"COUNTIF('[1]Testee answer 2011'!BA149:BA159,\"C\")","v":0},{"$f":"COUNTIF('[1]Testee answer 2011'!BB149:BB159,\"C\")","v":0},{"$f":"COUNTIF('[1]Testee answer 2011'!BC149:BC159,\"C\")","v":0},{"$f":"COUNTIF('[1]Testee answer 2011'!BD149:BD159,\"C\")","v":0},{"$f":"COUNTIF('[1]Testee answer 2011'!BE149:BE159,\"C\")","v":0},{"$f":"COUNTIF('[1]Testee answer 2011'!BF149:BF159,\"C\")","v":1},{"$f":"COUNTIF('[1]Testee answer 2011'!BG149:BG159,\"C\")","v":1},{"$f":"COUNTIF('[1]Testee answer 2011'!BH149:BH159,\"C\")","v":1},{"$f":"COUNTIF('[1]Testee answer 2011'!BI149:BI159,\"C\")","v":0}]
["SF4",{"$f":"COUNTIF('[1]Testee answer 2011'!D149:D159,\"D\")","v":8},{"$f":"COUNTIF('[1]Testee answer 2011'!E149:E159,\"D\")","v":0},{"$f":"COUNTIF('[1]Testee answer 2011'!F149:F159,\"D\")","v":1},{"$f":"COUNTIF('[1]Testee answer 2011'!G149:G159,\"D\")","v":0},{"$f":"COUNTIF('[1]Testee answer 2011'!H149:H159,\"D\")","v":0},{"$f":"COUNTIF('[1]Testee answer 2011'!I149:I159,\"D\")","v":2},{"$f":"COUNTIF('[1]Testee answer 2011'!J149:J159,\"D\")","v":0},{"$f":"COUNTIF('[1]Testee answer 2011'!K149:K159,\"D\")","v":0},{"$f":"COUNTIF('[1]Testee answer 2011'!L149:L159,\"D\")","v":0},{"$f":"COUNTIF('[1]Testee answer 2011'!M149:M159,\"D\")","v":0},{"$f":"COUNTIF('[1]Testee answer 2011'!N149:N159,\"D\")","v":3},{"$f":"COUNTIF('[1]Testee answer 2011'!O149:O159,\"D\")","v":3},{"$f":"COUNTIF('[1]Testee answer 2011'!P149:P159,\"D\")","v":4},{"$f":"COUNTIF('[1]Testee answer 2011'!Q149:Q159,\"D\")","v":4},{"$f":"COUNTIF('[1]Testee answer 2011'!R149:R159,\"D\")","v":4},{"$f":"COUNTIF('[1]Testee answer 2011'!S149:S159,\"D\")","v":1},{"$f":"COUNTIF('[1]Testee answer 2011'!T149:T159,\"D\")","v":0},{"$f":"COUNTIF('[1]Testee answer 2011'!U149:U159,\"D\")","v":0},{"$f":"COUNTIF('[1]Testee answer 2011'!V149:V159,\"D\")","v":4},{"$f":"COUNTIF('[1]Testee answer 2011'!W149:W159,\"D\")","v":3},{"$f":"COUNTIF('[1]Testee answer 2011'!X149:X159,\"D\")","v":2},{"$f":"COUNTIF('[1]Testee answer 2011'!Y149:Y159,\"D\")","v":3},{"$f":"COUNTIF('[1]Testee answer 2011'!Z149:Z159,\"D\")","v":1},{"$f":"COUNTIF('[1]Testee answer 2011'!AA149:AA159,\"D\")","v":0},{"$f":"COUNTIF('[1]Testee answer 2011'!AB149:AB159,\"D\")","v":6},{"$f":"COUNTIF('[1]Testee answer 2011'!AC149:AC159,\"D\")","v":0},{"$f":"COUNTIF('[1]Testee answer 2011'!AD149:AD159,\"D\")","v":0},{"$f":"COUNTIF('[1]Testee answer 2011'!AE149:AE159,\"D\")","v":4},{"$f":"COUNTIF('[1]Testee answer 2011'!AF149:AF159,\"D\")","v":3},{"$f":"COUNTIF('[1]Testee answer 2011'!AG149:AG159,\"D\")","v":1},{"$f":"COUNTIF('[1]Testee answer 2011'!AH149:AH159,\"D\")","v":0},{"$f":"COUNTIF('[1]Testee answer 2011'!AI149:AI159,\"D\")","v":1},{"$f":"COUNTIF('[1]Testee answer 2011'!AJ149:AJ159,\"D\")","v":1},{"$f":"COUNTIF('[1]Testee answer 2011'!AK149:AK159,\"D\")","v":3},{"$f":"COUNTIF('[1]Testee answer 2011'!AL149:AL159,\"D\")","v":2},{"$f":"COUNTIF('[1]Testee answer 2011'!AM149:AM159,\"D\")","v":2},{"$f":"COUNTIF('[1]Testee answer 2011'!AN149:AN159,\"D\")","v":1},{"$f":"COUNTIF('[1]Testee answer 2011'!AO149:AO159,\"D\")","v":1},{"$f":"COUNTIF('[1]Testee answer 2011'!AP149:AP159,\"D\")","v":0},{"$f":"COUNTIF('[1]Testee answer 2011'!AQ149:AQ159,\"D\")","v":0},{"$f":"COUNTIF('[1]Testee answer 2011'!AR149:AR159,\"D\")","v":0},{"$f":"COUNTIF('[1]Testee answer 2011'!AS149:AS159,\"D\")","v":0},{"$f":"COUNTIF('[1]Testee answer 2011'!AT149:AT159,\"D\")","v":9},{"$f":"COUNTIF('[1]Testee answer 2011'!AU149:AU159,\"D\")","v":8},{"$f":"COUNTIF('[1]Testee answer 2011'!AV149:AV159,\"D\")","v":4},{"$f":"COUNTIF('[1]Testee answer 2011'!AW149:AW159,\"D\")","v":1},{"$f":"COUNTIF('[1]Testee answer 2011'!AX149:AX159,\"D\")","v":1},{"$f":"COUNTIF('[1]Testee answer 2011'!AY149:AY159,\"D\")","v":4},{"$f":"COUNTIF('[1]Testee answer 2011'!AZ149:AZ159,\"D\")","v":7},{"$f":"COUNTIF('[1]Testee answer 2011'!BA149:BA159,\"D\")","v":0},{"$f":"COUNTIF('[1]Testee answer 2011'!BB149:BB159,\"D\")","v":0},{"$f":"COUNTIF('[1]Testee answer 2011'!BC149:BC159,\"D\")","v":0},{"$f":"COUNTIF('[1]Testee answer 2011'!BD149:BD159,\"D\")","v":1},{"$f":"COUNTIF('[1]Testee answer 2011'!BE149:BE159,\"D\")","v":1},{"$f":"COUNTIF('[1]Testee answer 2011'!BF149:BF159,\"D\")","v":0},{"$f":"COUNTIF('[1]Testee answer 2011'!BG149:BG159,\"D\")","v":0},{"$f":"COUNTIF('[1]Testee answer 2011'!BH149:BH159,\"D\")","v":0},{"$f":"COUNTIF('[1]Testee answer 2011'!BI149:BI159,\"D\")","v":0}]
["SF5",{"$f":"COUNTIF('[1]Testee answer 2011'!D581:D595,\"A\")","v":3},{"$f":"COUNTIF('[1]Testee answer 2011'!E581:E595,\"A\")","v":4},{"$f":"COUNTIF('[1]Testee answer 2011'!F581:F595,\"A\")","v":2},{"$f":"COUNTIF('[1]Testee answer 2011'!G581:G595,\"A\")","v":8},{"$f":"COUNTIF('[1]Testee answer 2011'!H581:H595,\"A\")","v":7},{"$f":"COUNTIF('[1]Testee answer 2011'!I581:I595,\"A\")","v":1},{"$f":"COUNTIF('[1]Testee answer 2011'!J581:J595,\"A\")","v":11},{"$f":"COUNTIF('[1]Testee answer 2011'!K581:K595,\"A\")","v":10},{"$f":"COUNTIF('[1]Testee answer 2011'!L581:L595,\"A\")","v":11},{"$f":"COUNTIF('[1]Testee answer 2011'!M581:M595,\"A\")","v":7},{"$f":"COUNTIF('[1]Testee answer 2011'!N581:N595,\"A\")","v":2},{"$f":"COUNTIF('[1]Testee answer 2011'!O581:O595,\"A\")","v":3},{"$f":"COUNTIF('[1]Testee answer 2011'!P581:P595,\"A\")","v":3},{"$f":"COUNTIF('[1]Testee answer 2011'!Q581:Q595,\"A\")","v":1},{"$f":"COUNTIF('[1]Testee answer 2011'!R581:R595,\"A\")","v":2},{"$f":"COUNTIF('[1]Testee answer 2011'!S581:S595,\"A\")","v":3},{"$f":"COUNTIF('[1]Testee answer 2011'!T581:T595,\"A\")","v":9},{"$f":"COUNTIF('[1]Testee answer 2011'!U581:U595,\"A\")","v":3},{"$f":"COUNTIF('[1]Testee answer 2011'!V581:V595,\"A\")","v":0},{"$f":"COUNTIF('[1]Testee answer 2011'!W581:W595,\"A\")","v":5},{"$f":"COUNTIF('[1]Testee answer 2011'!X581:X595,\"A\")","v":3},{"$f":"COUNTIF('[1]Testee answer 2011'!Y581:Y595,\"A\")","v":3},{"$f":"COUNTIF('[1]Testee answer 2011'!Z581:Z595,\"A\")","v":4},{"$f":"COUNTIF('[1]Testee answer 2011'!AA581:AA595,\"A\")","v":10},{"$f":"COUNTIF('[1]Testee answer 2011'!AB581:AB595,\"A\")","v":1},{"$f":"COUNTIF('[1]Testee answer 2011'!AC581:AC595,\"A\")","v":0},{"$f":"COUNTIF('[1]Testee answer 2011'!AD581:AD595,\"A\")","v":6},{"$f":"COUNTIF('[1]Testee answer 2011'!AE581:AE595,\"A\")","v":5},{"$f":"COUNTIF('[1]Testee answer 2011'!AF581:AF595,\"A\")","v":1},{"$f":"COUNTIF('[1]Testee answer 2011'!AG581:AG595,\"A\")","v":3},{"$f":"COUNTIF('[1]Testee answer 2011'!AH581:AH595,\"A\")","v":5},{"$f":"COUNTIF('[1]Testee answer 2011'!AI581:AI595,\"A\")","v":4},{"$f":"COUNTIF('[1]Testee answer 2011'!AJ581:AJ595,\"A\")","v":4},{"$f":"COUNTIF('[1]Testee answer 2011'!AK581:AK595,\"A\")","v":5},{"$f":"COUNTIF('[1]Testee answer 2011'!AL581:AL595,\"A\")","v":2},{"$f":"COUNTIF('[1]Testee answer 2011'!AM581:AM595,\"A\")","v":1},{"$f":"COUNTIF('[1]Testee answer 2011'!AN581:AN595,\"A\")","v":1},{"$f":"COUNTIF('[1]Testee answer 2011'!AO581:AO595,\"A\")","v":9},{"$f":"COUNTIF('[1]Testee answer 2011'!AP581:AP595,\"A\")","v":4},{"$f":"COUNTIF('[1]Testee answer 2011'!AQ581:AQ595,\"A\")","v":1},{"$f":"COUNTIF('[1]Testee answer 2011'!AR581:AR595,\"A\")","v":1},{"$f":"COUNTIF('[1]Testee answer 2011'!AS581:AS595,\"A\")","v":2},{"$f":"COUNTIF('[1]Testee answer 2011'!AT581:AT595,\"A\")","v":1},{"$f":"COUNTIF('[1]Testee answer 2011'!AU581:AU595,\"A\")","v":0},{"$f":"COUNTIF('[1]Testee answer 2011'!AV581:AV595,\"A\")","v":0},{"$f":"COUNTIF('[1]Testee answer 2011'!AW581:AW595,\"A\")","v":11},{"$f":"COUNTIF('[1]Testee answer 2011'!AX581:AX595,\"A\")","v":8},{"$f":"COUNTIF('[1]Testee answer 2011'!AY581:AY595,\"A\")","v":3},{"$f":"COUNTIF('[1]Testee answer 2011'!AZ581:AZ595,\"A\")","v":3},{"$f":"COUNTIF('[1]Testee answer 2011'!BA581:BA595,\"A\")","v":8},{"$f":"COUNTIF('[1]Testee answer 2011'!BB581:BB595,\"A\")","v":7},{"$f":"COUNTIF('[1]Testee answer 2011'!BC581:BC595,\"A\")","v":3},{"$f":"COUNTIF('[1]Testee answer 2011'!BD581:BD595,\"A\")","v":8},{"$f":"COUNTIF('[1]Testee answer 2011'!BE581:BE595,\"A\")","v":13},{"$f":"COUNTIF('[1]Testee answer 2011'!BF581:BF595,\"A\")","v":1},{"$f":"COUNTIF('[1]Testee answer 2011'!BG581:BG595,\"A\")","v":14},{"$f":"COUNTIF('[1]Testee answer 2011'!BH581:BH595,\"A\")","v":7},{"$f":"COUNTIF('[1]Testee answer 2011'!BI581:BI595,\"A\")","v":3}]
["SF5",{"$f":"COUNTIF('[1]Testee answer 2011'!D581:D595,\"B\")","v":0},{"$f":"COUNTIF('[1]Testee answer 2011'!E581:E595,\"B\")","v":10},{"$f":"COUNTIF('[1]Testee answer 2011'!F581:F595,\"B\")","v":11},{"$f":"COUNTIF('[1]Testee answer 2011'!G581:G595,\"B\")","v":6},{"$f":"COUNTIF('[1]Testee answer 2011'!H581:H595,\"B\")","v":4},{"$f":"COUNTIF('[1]Testee answer 2011'!I581:I595,\"B\")","v":5},{"$f":"COUNTIF('[1]Testee answer 2011'!J581:J595,\"B\")","v":3},{"$f":"COUNTIF('[1]Testee answer 2011'!K581:K595,\"B\")","v":4},{"$f":"COUNTIF('[1]Testee answer 2011'!L581:L595,\"B\")","v":3},{"$f":"COUNTIF('[1]Testee answer 2011'!M581:M595,\"B\")","v":4},{"$f":"COUNTIF('[1]Testee answer 2011'!N581:N595,\"B\")","v":4},{"$f":"COUNTIF('[1]Testee answer 2011'!O581:O595,\"B\")","v":4},{"$f":"COUNTIF('[1]Testee answer 2011'!P581:P595,\"B\")","v":3},{"$f":"COUNTIF('[1]Testee answer 2011'!Q581:Q595,\"B\")","v":2},{"$f":"COUNTIF('[1]Testee answer 2011'!R581:R595,\"B\")","v":0},{"$f":"COUNTIF('[1]Testee answer 2011'!S581:S595,\"B\")","v":5},{"$f":"COUNTIF('[1]Testee answer 2011'!T581:T595,\"B\")","v":2},{"$f":"COUNTIF('[1]Testee answer 2011'!U581:U595,\"B\")","v":6},{"$f":"COUNTIF('[1]Testee answer 2011'!V581:V595,\"B\")","v":3},{"$f":"COUNTIF('[1]Testee answer 2011'!W581:W595,\"B\")","v":2},{"$f":"COUNTIF('[1]Testee answer 2011'!X581:X595,\"B\")","v":1},{"$f":"COUNTIF('[1]Testee answer 2011'!Y581:Y595,\"B\")","v":4},{"$f":"COUNTIF('[1]Testee answer 2011'!Z581:Z595,\"B\")","v":4},{"$f":"COUNTIF('[1]Testee answer 2011'!AA581:AA595,\"B\")","v":1},{"$f":"COUNTIF('[1]Testee answer 2011'!AB581:AB595,\"B\")","v":1},{"$f":"COUNTIF('[1]Testee answer 2011'!AC581:AC595,\"B\")","v":2},{"$f":"COUNTIF('[1]Testee answer 2011'!AD581:AD595,\"B\")","v":0},{"$f":"COUNTIF('[1]Testee answer 2011'!AE581:AE595,\"B\")","v":0},{"$f":"COUNTIF('[1]Testee answer 2011'!AF581:AF595,\"B\")","v":1},{"$f":"COUNTIF('[1]Testee answer 2011'!AG581:AG595,\"B\")","v":2},{"$f":"COUNTIF('[1]Testee answer 2011'!AH581:AH595,\"B\")","v":5},{"$f":"COUNTIF('[1]Testee answer 2011'!AI581:AI595,\"B\")","v":4},{"$f":"COUNTIF('[1]Testee answer 2011'!AJ581:AJ595,\"B\")","v":0},{"$f":"COUNTIF('[1]Testee answer 2011'!AK581:AK595,\"B\")","v":1},{"$f":"COUNTIF('[1]Testee answer 2011'!AL581:AL595,\"B\")","v":2},{"$f":"COUNTIF('[1]Testee answer 2011'!AM581:AM595,\"B\")","v":1},{"$f":"COUNTIF('[1]Testee answer 2011'!AN581:AN595,\"B\")","v":1},{"$f":"COUNTIF('[1]Testee answer 2011'!AO581:AO595,\"B\")","v":5},{"$f":"COUNTIF('[1]Testee answer 2011'!AP581:AP595,\"B\")","v":10},{"$f":"COUNTIF('[1]Testee answer 2011'!AQ581:AQ595,\"B\")","v":13},{"$f":"COUNTIF('[1]Testee answer 2011'!AR581:AR595,\"B\")","v":13},{"$f":"COUNTIF('[1]Testee answer 2011'!AS581:AS595,\"B\")","v":12},{"$f":"COUNTIF('[1]Testee answer 2011'!AT581:AT595,\"B\")","v":1},{"$f":"COUNTIF('[1]Testee answer 2011'!AU581:AU595,\"B\")","v":1},{"$f":"COUNTIF('[1]Testee answer 2011'!AV581:AV595,\"B\")","v":1},{"$f":"COUNTIF('[1]Testee answer 2011'!AW581:AW595,\"B\")","v":2},{"$f":"COUNTIF('[1]Testee answer 2011'!AX581:AX595,\"B\")","v":2},{"$f":"COUNTIF('[1]Testee answer 2011'!AY581:AY595,\"B\")","v":2},{"$f":"COUNTIF('[1]Testee answer 2011'!AZ581:AZ595,\"B\")","v":1},{"$f":"COUNTIF('[1]Testee answer 2011'!BA581:BA595,\"B\")","v":6},{"$f":"COUNTIF('[1]Testee answer 2011'!BB581:BB595,\"B\")","v":7},{"$f":"COUNTIF('[1]Testee answer 2011'!BC581:BC595,\"B\")","v":11},{"$f":"COUNTIF('[1]Testee answer 2011'!BD581:BD595,\"B\")","v":6},{"$f":"COUNTIF('[1]Testee answer 2011'!BE581:BE595,\"B\")","v":1},{"$f":"COUNTIF('[1]Testee answer 2011'!BF581:BF595,\"B\")","v":13},{"$f":"COUNTIF('[1]Testee answer 2011'!BG581:BG595,\"B\")","v":0},{"$f":"COUNTIF('[1]Testee answer 2011'!BH581:BH595,\"B\")","v":7},{"$f":"COUNTIF('[1]Testee answer 2011'!BI581:BI595,\"B\")","v":11}]
["SF5",{"$f":"COUNTIF('[1]Testee answer 2011'!D581:D595,\"C\")","v":0},{"$f":"COUNTIF('[1]Testee answer 2011'!E581:E595,\"C\")","v":0},{"$f":"COUNTIF('[1]Testee answer 2011'!F581:F595,\"C\")","v":1},{"$f":"COUNTIF('[1]Testee answer 2011'!G581:G595,\"C\")","v":0},{"$f":"COUNTIF('[1]Testee answer 2011'!H581:H595,\"C\")","v":2},{"$f":"COUNTIF('[1]Testee answer 2011'!I581:I595,\"C\")","v":6},{"$f":"COUNTIF('[1]Testee answer 2011'!J581:J595,\"C\")","v":0},{"$f":"COUNTIF('[1]Testee answer 2011'!K581:K595,\"C\")","v":0},{"$f":"COUNTIF('[1]Testee answer 2011'!L581:L595,\"C\")","v":0},{"$f":"COUNTIF('[1]Testee answer 2011'!M581:M595,\"C\")","v":3},{"$f":"COUNTIF('[1]Testee answer 2011'!N581:N595,\"C\")","v":7},{"$f":"COUNTIF('[1]Testee answer 2011'!O581:O595,\"C\")","v":5},{"$f":"COUNTIF('[1]Testee answer 2011'!P581:P595,\"C\")","v":4},{"$f":"COUNTIF('[1]Testee answer 2011'!Q581:Q595,\"C\")","v":4},{"$f":"COUNTIF('[1]Testee answer 2011'!R581:R595,\"C\")","v":4},{"$f":"COUNTIF('[1]Testee answer 2011'!S581:S595,\"C\")","v":1},{"$f":"COUNTIF('[1]Testee answer 2011'!T581:T595,\"C\")","v":2},{"$f":"COUNTIF('[1]Testee answer 2011'!U581:U595,\"C\")","v":5},{"$f":"COUNTIF('[1]Testee answer 2011'!V581:V595,\"C\")","v":5},{"$f":"COUNTIF('[1]Testee answer 2011'!W581:W595,\"C\")","v":4},{"$f":"COUNTIF('[1]Testee answer 2011'!X581:X595,\"C\")","v":8},{"$f":"COUNTIF('[1]Testee answer 2011'!Y581:Y595,\"C\")","v":3},{"$f":"COUNTIF('[1]Testee answer 2011'!Z581:Z595,\"C\")","v":5},{"$f":"COUNTIF('[1]Testee answer 2011'!AA581:AA595,\"C\")","v":2},{"$f":"COUNTIF('[1]Testee answer 2011'!AB581:AB595,\"C\")","v":1},{"$f":"COUNTIF('[1]Testee answer 2011'!AC581:AC595,\"C\")","v":9},{"$f":"COUNTIF('[1]Testee answer 2011'!AD581:AD595,\"C\")","v":6},{"$f":"COUNTIF('[1]Testee answer 2011'!AE581:AE595,\"C\")","v":4},{"$f":"COUNTIF('[1]Testee answer 2011'!AF581:AF595,\"C\")","v":1},{"$f":"COUNTIF('[1]Testee answer 2011'!AG581:AG595,\"C\")","v":2},{"$f":"COUNTIF('[1]Testee answer 2011'!AH581:AH595,\"C\")","v":4},{"$f":"COUNTIF('[1]Testee answer 2011'!AI581:AI595,\"C\")","v":4},{"$f":"COUNTIF('[1]Testee answer 2011'!AJ581:AJ595,\"C\")","v":2},{"$f":"COUNTIF('[1]Testee answer 2011'!AK581:AK595,\"C\")","v":2},{"$f":"COUNTIF('[1]Testee answer 2011'!AL581:AL595,\"C\")","v":1},{"$f":"COUNTIF('[1]Testee answer 2011'!AM581:AM595,\"C\")","v":3},{"$f":"COUNTIF('[1]Testee answer 2011'!AN581:AN595,\"C\")","v":11},{"$f":"COUNTIF('[1]Testee answer 2011'!AO581:AO595,\"C\")","v":0},{"$f":"COUNTIF('[1]Testee answer 2011'!AP581:AP595,\"C\")","v":0},{"$f":"COUNTIF('[1]Testee answer 2011'!AQ581:AQ595,\"C\")","v":0},{"$f":"COUNTIF('[1]Testee answer 2011'!AR581:AR595,\"C\")","v":0},{"$f":"COUNTIF('[1]Testee answer 2011'!AS581:AS595,\"C\")","v":0},{"$f":"COUNTIF('[1]Testee answer 2011'!AT581:AT595,\"C\")","v":10},{"$f":"COUNTIF('[1]Testee answer 2011'!AU581:AU595,\"C\")","v":5},{"$f":"COUNTIF('[1]Testee answer 2011'!AV581:AV595,\"C\")","v":9},{"$f":"COUNTIF('[1]Testee answer 2011'!AW581:AW595,\"C\")","v":1},{"$f":"COUNTIF('[1]Testee answer 2011'!AX581:AX595,\"C\")","v":3},{"$f":"COUNTIF('[1]Testee answer 2011'!AY581:AY595,\"C\")","v":7},{"$f":"COUNTIF('[1]Testee answer 2011'!AZ581:AZ595,\"C\")","v":7},{"$f":"COUNTIF('[1]Testee answer 2011'!BA581:BA595,\"C\")","v":0},{"$f":"COUNTIF('[1]Testee answer 2011'!BB581:BB595,\"C\")","v":0},{"$f":"COUNTIF('[1]Testee answer 2011'!BC581:BC595,\"C\")","v":0},{"$f":"COUNTIF('[1]Testee answer 2011'!BD581:BD595,\"C\")","v":0},{"$f":"COUNTIF('[1]Testee answer 2011'!BE581:BE595,\"C\")","v":0},{"$f":"COUNTIF('[1]Testee answer 2011'!BF581:BF595,\"C\")","v":0},{"$f":"COUNTIF('[1]Testee answer 2011'!BG581:BG595,\"C\")","v":0},{"$f":"COUNTIF('[1]Testee answer 2011'!BH581:BH595,\"C\")","v":0},{"$f":"COUNTIF('[1]Testee answer 2011'!BI581:BI595,\"C\")","v":0}]
["SF5",{"$f":"COUNTIF('[1]Testee answer 2011'!D581:D595,\"E\")","v":11},{"$f":"COUNTIF('[1]Testee answer 2011'!E581:E595,\"D\")","v":0},{"$f":"COUNTIF('[1]Testee answer 2011'!F581:F595,\"D\")","v":0},{"$f":"COUNTIF('[1]Testee answer 2011'!G581:G595,\"D\")","v":0},{"$f":"COUNTIF('[1]Testee answer 2011'!H581:H595,\"D\")","v":1},{"$f":"COUNTIF('[1]Testee answer 2011'!I581:I595,\"D\")","v":2},{"$f":"COUNTIF('[1]Testee answer 2011'!J581:J595,\"D\")","v":0},{"$f":"COUNTIF('[1]Testee answer 2011'!K581:K595,\"D\")","v":0},{"$f":"COUNTIF('[1]Testee answer 2011'!L581:L595,\"D\")","v":0},{"$f":"COUNTIF('[1]Testee answer 2011'!M581:M595,\"D\")","v":0},{"$f":"COUNTIF('[1]Testee answer 2011'!N581:N595,\"D\")","v":1},{"$f":"COUNTIF('[1]Testee answer 2011'!O581:O595,\"D\")","v":2},{"$f":"COUNTIF('[1]Testee answer 2011'!P581:P595,\"D\")","v":4},{"$f":"COUNTIF('[1]Testee answer 2011'!Q581:Q595,\"D\")","v":7},{"$f":"COUNTIF('[1]Testee answer 2011'!R581:R595,\"D\")","v":8},{"$f":"COUNTIF('[1]Testee answer 2011'!S581:S595,\"D\")","v":5},{"$f":"COUNTIF('[1]Testee answer 2011'!T581:T595,\"D\")","v":1},{"$f":"COUNTIF('[1]Testee answer 2011'!U581:U595,\"D\")","v":0},{"$f":"COUNTIF('[1]Testee answer 2011'!V581:V595,\"D\")","v":6},{"$f":"COUNTIF('[1]Testee answer 2011'!W581:W595,\"D\")","v":3},{"$f":"COUNTIF('[1]Testee answer 2011'!X581:X595,\"D\")","v":2},{"$f":"COUNTIF('[1]Testee answer 2011'!Y581:Y595,\"D\")","v":4},{"$f":"COUNTIF('[1]Testee answer 2011'!Z581:Z595,\"D\")","v":1},{"$f":"COUNTIF('[1]Testee answer 2011'!AA581:AA595,\"D\")","v":1},{"$f":"COUNTIF('[1]Testee answer 2011'!AB581:AB595,\"D\")","v":11},{"$f":"COUNTIF('[1]Testee answer 2011'!AC581:AC595,\"D\")","v":3},{"$f":"COUNTIF('[1]Testee answer 2011'!AD581:AD595,\"D\")","v":2},{"$f":"COUNTIF('[1]Testee answer 2011'!AE581:AE595,\"D\")","v":5},{"$f":"COUNTIF('[1]Testee answer 2011'!AF581:AF595,\"D\")","v":11},{"$f":"COUNTIF('[1]Testee answer 2011'!AG581:AG595,\"D\")","v":7},{"$f":"COUNTIF('[1]Testee answer 2011'!AH581:AH595,\"D\")","v":0},{"$f":"COUNTIF('[1]Testee answer 2011'!AI581:AI595,\"D\")","v":2},{"$f":"COUNTIF('[1]Testee answer 2011'!AJ581:AJ595,\"D\")","v":8},{"$f":"COUNTIF('[1]Testee answer 2011'!AK581:AK595,\"D\")","v":6},{"$f":"COUNTIF('[1]Testee answer 2011'!AL581:AL595,\"D\")","v":9},{"$f":"COUNTIF('[1]Testee answer 2011'!AM581:AM595,\"D\")","v":9},{"$f":"COUNTIF('[1]Testee answer 2011'!AN581:AN595,\"D\")","v":1},{"$f":"COUNTIF('[1]Testee answer 2011'!AO581:AO595,\"D\")","v":0},{"$f":"COUNTIF('[1]Testee answer 2011'!AP581:AP595,\"D\")","v":0},{"$f":"COUNTIF('[1]Testee answer 2011'!AQ581:AQ595,\"D\")","v":0},{"$f":"COUNTIF('[1]Testee answer 2011'!AR581:AR595,\"D\")","v":0},{"$f":"COUNTIF('[1]Testee answer 2011'!AS581:AS595,\"D\")","v":0},{"$f":"COUNTIF('[1]Testee answer 2011'!AT581:AT595,\"D\")","v":2},{"$f":"COUNTIF('[1]Testee answer 2011'!AU581:AU595,\"D\")","v":8},{"$f":"COUNTIF('[1]Testee answer 2011'!AV581:AV595,\"D\")","v":4},{"$f":"COUNTIF('[1]Testee answer 2011'!AW581:AW595,\"D\")","v":0},{"$f":"COUNTIF('[1]Testee answer 2011'!AX581:AX595,\"D\")","v":1},{"$f":"COUNTIF('[1]Testee answer 2011'!AY581:AY595,\"D\")","v":2},{"$f":"COUNTIF('[1]Testee answer 2011'!AZ581:AZ595,\"D\")","v":3},{"$f":"COUNTIF('[1]Testee answer 2011'!BA581:BA595,\"D\")","v":0},{"$f":"COUNTIF('[1]Testee answer 2011'!BB581:BB595,\"D\")","v":0},{"$f":"COUNTIF('[1]Testee answer 2011'!BC581:BC595,\"D\")","v":0},{"$f":"COUNTIF('[1]Testee answer 2011'!BD581:BD595,\"D\")","v":0},{"$f":"COUNTIF('[1]Testee answer 2011'!BE581:BE595,\"D\")","v":0},{"$f":"COUNTIF('[1]Testee answer 2011'!BF581:BF595,\"D\")","v":0},{"$f":"COUNTIF('[1]Testee answer 2011'!BG581:BG595,\"D\")","v":0},{"$f":"COUNTIF('[1]Testee answer 2011'!BH581:BH595,\"D\")","v":0},{"$f":"COUNTIF('[1]Testee answer 2011'!BI581:BI595,\"D\")","v":0}]
["PLEng4",{"$f":"COUNTIF('[1]Testee answer 2011'!D701:D710,\"A\")","v":0},{"$f":"COUNTIF('[1]Testee answer 2011'!E701:E710,\"A\")","v":1},{"$f":"COUNTIF('[1]Testee answer 2011'!F701:F710,\"A\")","v":0},{"$f":"COUNTIF('[1]Testee answer 2011'!G701:G710,\"A\")","v":4},{"$f":"COUNTIF('[1]Testee answer 2011'!H701:H710,\"A\")","v":4},{"$f":"COUNTIF('[1]Testee answer 2011'!I701:I710,\"A\")","v":1},{"$f":"COUNTIF('[1]Testee answer 2011'!J701:J710,\"A\")","v":5},{"$f":"COUNTIF('[1]Testee answer 2011'!K701:K710,\"A\")","v":5},{"$f":"COUNTIF('[1]Testee answer 2011'!L701:L710,\"A\")","v":4},{"$f":"COUNTIF('[1]Testee answer 2011'!M701:M710,\"A\")","v":2},{"$f":"COUNTIF('[1]Testee answer 2011'!N701:N710,\"A\")","v":2},{"$f":"COUNTIF('[1]Testee answer 2011'!O701:O710,\"A\")","v":1},{"$f":"COUNTIF('[1]Testee answer 2011'!P701:P710,\"A\")","v":2},{"$f":"COUNTIF('[1]Testee answer 2011'!Q701:Q710,\"A\")","v":0},{"$f":"COUNTIF('[1]Testee answer 2011'!R701:R710,\"A\")","v":1},{"$f":"COUNTIF('[1]Testee answer 2011'!S701:S710,\"A\")","v":1},{"$f":"COUNTIF('[1]Testee answer 2011'!T701:T710,\"A\")","v":4},{"$f":"COUNTIF('[1]Testee answer 2011'!U701:U710,\"A\")","v":0},{"$f":"COUNTIF('[1]Testee answer 2011'!V701:V710,\"A\")","v":0},{"$f":"COUNTIF('[1]Testee answer 2011'!W701:W710,\"A\")","v":2},{"$f":"COUNTIF('[1]Testee answer 2011'!X701:X710,\"A\")","v":2},{"$f":"COUNTIF('[1]Testee answer 2011'!Y701:Y710,\"A\")","v":1},{"$f":"COUNTIF('[1]Testee answer 2011'!Z701:Z710,\"A\")","v":1},{"$f":"COUNTIF('[1]Testee answer 2011'!AA701:AA710,\"A\")","v":4},{"$f":"COUNTIF('[1]Testee answer 2011'!AB701:AB710,\"A\")","v":0},{"$f":"COUNTIF('[1]Testee answer 2011'!AC701:AC710,\"A\")","v":0},{"$f":"COUNTIF('[1]Testee answer 2011'!AD701:AD710,\"A\")","v":4},{"$f":"COUNTIF('[1]Testee answer 2011'!AE701:AE710,\"A\")","v":4},{"$f":"COUNTIF('[1]Testee answer 2011'!AF701:AF710,\"A\")","v":0},{"$f":"COUNTIF('[1]Testee answer 2011'!AG701:AG710,\"A\")","v":2},{"$f":"COUNTIF('[1]Testee answer 2011'!AH701:AH710,\"A\")","v":1},{"$f":"COUNTIF('[1]Testee answer 2011'!AI701:AI710,\"A\")","v":2},{"$f":"COUNTIF('[1]Testee answer 2011'!AJ701:AJ710,\"A\")","v":1},{"$f":"COUNTIF('[1]Testee answer 2011'!AK701:AK710,\"A\")","v":1},{"$f":"COUNTIF('[1]Testee answer 2011'!AL701:AL710,\"A\")","v":2},{"$f":"COUNTIF('[1]Testee answer 2011'!AM701:AM710,\"A\")","v":0},{"$f":"COUNTIF('[1]Testee answer 2011'!AN701:AN710,\"A\")","v":1},{"$f":"COUNTIF('[1]Testee answer 2011'!AO701:AO710,\"A\")","v":6},{"$f":"COUNTIF('[1]Testee answer 2011'!AP701:AP710,\"A\")","v":1},{"$f":"COUNTIF('[1]Testee answer 2011'!AQ701:AQ710,\"A\")","v":0},{"$f":"COUNTIF('[1]Testee answer 2011'!AR701:AR710,\"A\")","v":1},{"$f":"COUNTIF('[1]Testee answer 2011'!AS701:AS710,\"A\")","v":1},{"$f":"COUNTIF('[1]Testee answer 2011'!AT701:AT710,\"A\")","v":1},{"$f":"COUNTIF('[1]Testee answer 2011'!AU701:AU710,\"A\")","v":0},{"$f":"COUNTIF('[1]Testee answer 2011'!AV701:AV710,\"A\")","v":0},{"$f":"COUNTIF('[1]Testee answer 2011'!AW701:AW710,\"A\")","v":6},{"$f":"COUNTIF('[1]Testee answer 2011'!AX701:AX710,\"A\")","v":3},{"$f":"COUNTIF('[1]Testee answer 2011'!AY701:AY710,\"A\")","v":1},{"$f":"COUNTIF('[1]Testee answer 2011'!AZ701:AZ710,\"A\")","v":1},{"$f":"COUNTIF('[1]Testee answer 2011'!BA701:BA710,\"A\")","v":4},{"$f":"COUNTIF('[1]Testee answer 2011'!BB701:BB710,\"A\")","v":2},{"$f":"COUNTIF('[1]Testee answer 2011'!BC701:BC710,\"A\")","v":1},{"$f":"COUNTIF('[1]Testee answer 2011'!BD701:BD710,\"A\")","v":5},{"$f":"COUNTIF('[1]Testee answer 2011'!BE701:BE710,\"A\")","v":6},{"$f":"COUNTIF('[1]Testee answer 2011'!BF701:BF710,\"A\")","v":0},{"$f":"COUNTIF('[1]Testee answer 2011'!BG701:BG710,\"A\")","v":6},{"$f":"COUNTIF('[1]Testee answer 2011'!BH701:BH710,\"A\")","v":2},{"$f":"COUNTIF('[1]Testee answer 2011'!BI701:BI710,\"A\")","v":1}]
["PLEng4",{"$f":"COUNTIF('[1]Testee answer 2011'!D701:D710,\"B\")","v":0},{"$f":"COUNTIF('[1]Testee answer 2011'!E701:E710,\"B\")","v":5},{"$f":"COUNTIF('[1]Testee answer 2011'!F701:F710,\"B\")","v":6},{"$f":"COUNTIF('[1]Testee answer 2011'!G701:G710,\"B\")","v":2},{"$f":"COUNTIF('[1]Testee answer 2011'!H701:H710,\"B\")","v":2},{"$f":"COUNTIF('[1]Testee answer 2011'!I701:I710,\"B\")","v":3},{"$f":"COUNTIF('[1]Testee answer 2011'!J701:J710,\"B\")","v":1},{"$f":"COUNTIF('[1]Testee answer 2011'!K701:K710,\"B\")","v":1},{"$f":"COUNTIF('[1]Testee answer 2011'!L701:L710,\"B\")","v":2},{"$f":"COUNTIF('[1]Testee answer 2011'!M701:M710,\"B\")","v":2},{"$f":"COUNTIF('[1]Testee answer 2011'!N701:N710,\"B\")","v":1},{"$f":"COUNTIF('[1]Testee answer 2011'!O701:O710,\"B\")","v":1},{"$f":"COUNTIF('[1]Testee answer 2011'!P701:P710,\"B\")","v":0},{"$f":"COUNTIF('[1]Testee answer 2011'!Q701:Q710,\"B\")","v":1},{"$f":"COUNTIF('[1]Testee answer 2011'!R701:R710,\"B\")","v":0},{"$f":"COUNTIF('[1]Testee answer 2011'!S701:S710,\"B\")","v":2},{"$f":"COUNTIF('[1]Testee answer 2011'!T701:T710,\"B\")","v":0},{"$f":"COUNTIF('[1]Testee answer 2011'!U701:U710,\"B\")","v":3},{"$f":"COUNTIF('[1]Testee answer 2011'!V701:V710,\"B\")","v":2},{"$f":"COUNTIF('[1]Testee answer 2011'!W701:W710,\"B\")","v":2},{"$f":"COUNTIF('[1]Testee answer 2011'!X701:X710,\"B\")","v":1},{"$f":"COUNTIF('[1]Testee answer 2011'!Y701:Y710,\"B\")","v":2},{"$f":"COUNTIF('[1]Testee answer 2011'!Z701:Z710,\"B\")","v":3},{"$f":"COUNTIF('[1]Testee answer 2011'!AA701:AA710,\"B\")","v":1},{"$f":"COUNTIF('[1]Testee answer 2011'!AB701:AB710,\"B\")","v":1},{"$f":"COUNTIF('[1]Testee answer 2011'!AC701:AC710,\"B\")","v":2},{"$f":"COUNTIF('[1]Testee answer 2011'!AD701:AD710,\"B\")","v":0},{"$f":"COUNTIF('[1]Testee answer 2011'!AE701:AE710,\"B\")","v":0},{"$f":"COUNTIF('[1]Testee answer 2011'!AF701:AF710,\"B\")","v":0},{"$f":"COUNTIF('[1]Testee answer 2011'!AG701:AG710,\"B\")","v":1},{"$f":"COUNTIF('[1]Testee answer 2011'!AH701:AH710,\"B\")","v":3},{"$f":"COUNTIF('[1]Testee answer 2011'!AI701:AI710,\"B\")","v":0},{"$f":"COUNTIF('[1]Testee answer 2011'!AJ701:AJ710,\"B\")","v":0},{"$f":"COUNTIF('[1]Testee answer 2011'!AK701:AK710,\"B\")","v":0},{"$f":"COUNTIF('[1]Testee answer 2011'!AL701:AL710,\"B\")","v":0},{"$f":"COUNTIF('[1]Testee answer 2011'!AM701:AM710,\"B\")","v":0},{"$f":"COUNTIF('[1]Testee answer 2011'!AN701:AN710,\"B\")","v":0},{"$f":"COUNTIF('[1]Testee answer 2011'!AO701:AO710,\"B\")","v":0},{"$f":"COUNTIF('[1]Testee answer 2011'!AP701:AP710,\"B\")","v":5},{"$f":"COUNTIF('[1]Testee answer 2011'!AQ701:AQ710,\"B\")","v":6},{"$f":"COUNTIF('[1]Testee answer 2011'!AR701:AR710,\"B\")","v":5},{"$f":"COUNTIF('[1]Testee answer 2011'!AS701:AS710,\"B\")","v":5},{"$f":"COUNTIF('[1]Testee answer 2011'!AT701:AT710,\"B\")","v":1},{"$f":"COUNTIF('[1]Testee answer 2011'!AU701:AU710,\"B\")","v":1},{"$f":"COUNTIF('[1]Testee answer 2011'!AV701:AV710,\"B\")","v":0},{"$f":"COUNTIF('[1]Testee answer 2011'!AW701:AW710,\"B\")","v":0},{"$f":"COUNTIF('[1]Testee answer 2011'!AX701:AX710,\"B\")","v":1},{"$f":"COUNTIF('[1]Testee answer 2011'!AY701:AY710,\"B\")","v":1},{"$f":"COUNTIF('[1]Testee answer 2011'!AZ701:AZ710,\"B\")","v":0},{"$f":"COUNTIF('[1]Testee answer 2011'!BA701:BA710,\"B\")","v":2},{"$f":"COUNTIF('[1]Testee answer 2011'!BB701:BB710,\"B\")","v":4},{"$f":"COUNTIF('[1]Testee answer 2011'!BC701:BC710,\"B\")","v":5},{"$f":"COUNTIF('[1]Testee answer 2011'!BD701:BD710,\"B\")","v":1},{"$f":"COUNTIF('[1]Testee answer 2011'!BE701:BE710,\"B\")","v":0},{"$f":"COUNTIF('[1]Testee answer 2011'!BF701:BF710,\"B\")","v":6},{"$f":"COUNTIF('[1]Testee answer 2011'!BG701:BG710,\"B\")","v":0},{"$f":"COUNTIF('[1]Testee answer 2011'!BH701:BH710,\"B\")","v":4},{"$f":"COUNTIF('[1]Testee answer 2011'!BI701:BI710,\"B\")","v":5}]
["PLEng4",{"$f":"COUNTIF('[1]Testee answer 2011'!D701:D710,\"C\")","v":0},{"$f":"COUNTIF('[1]Testee answer 2011'!E701:E710,\"C\")","v":0},{"$f":"COUNTIF('[1]Testee answer 2011'!F701:F710,\"C\")","v":0},{"$f":"COUNTIF('[1]Testee answer 2011'!G701:G710,\"C\")","v":0},{"$f":"COUNTIF('[1]Testee answer 2011'!H701:H710,\"C\")","v":0},{"$f":"COUNTIF('[1]Testee answer 2011'!I701:I710,\"C\")","v":1},{"$f":"COUNTIF('[1]Testee answer 2011'!J701:J710,\"C\")","v":0},{"$f":"COUNTIF('[1]Testee answer 2011'!K701:K710,\"C\")","v":0},{"$f":"COUNTIF('[1]Testee answer 2011'!L701:L710,\"C\")","v":0},{"$f":"COUNTIF('[1]Testee answer 2011'!M701:M710,\"C\")","v":2},{"$f":"COUNTIF('[1]Testee answer 2011'!N701:N710,\"C\")","v":3},{"$f":"COUNTIF('[1]Testee answer 2011'!O701:O710,\"C\")","v":4},{"$f":"COUNTIF('[1]Testee answer 2011'!P701:P710,\"C\")","v":2},{"$f":"COUNTIF('[1]Testee answer 2011'!Q701:Q710,\"C\")","v":2},{"$f":"COUNTIF('[1]Testee answer 2011'!R701:R710,\"C\")","v":1},{"$f":"COUNTIF('[1]Testee answer 2011'!S701:S710,\"C\")","v":0},{"$f":"COUNTIF('[1]Testee answer 2011'!T701:T710,\"C\")","v":2},{"$f":"COUNTIF('[1]Testee answer 2011'!U701:U710,\"C\")","v":3},{"$f":"COUNTIF('[1]Testee answer 2011'!V701:V710,\"C\")","v":2},{"$f":"COUNTIF('[1]Testee answer 2011'!W701:W710,\"C\")","v":0},{"$f":"COUNTIF('[1]Testee answer 2011'!X701:X710,\"C\")","v":2},{"$f":"COUNTIF('[1]Testee answer 2011'!Y701:Y710,\"C\")","v":1},{"$f":"COUNTIF('[1]Testee answer 2011'!Z701:Z710,\"C\")","v":2},{"$f":"COUNTIF('[1]Testee answer 2011'!AA701:AA710,\"C\")","v":1},{"$f":"COUNTIF('[1]Testee answer 2011'!AB701:AB710,\"C\")","v":0},{"$f":"COUNTIF('[1]Testee answer 2011'!AC701:AC710,\"C\")","v":3},{"$f":"COUNTIF('[1]Testee answer 2011'!AD701:AD710,\"C\")","v":1},{"$f":"COUNTIF('[1]Testee answer 2011'!AE701:AE710,\"C\")","v":1},{"$f":"COUNTIF('[1]Testee answer 2011'!AF701:AF710,\"C\")","v":0},{"$f":"COUNTIF('[1]Testee answer 2011'!AG701:AG710,\"C\")","v":1},{"$f":"COUNTIF('[1]Testee answer 2011'!AH701:AH710,\"C\")","v":2},{"$f":"COUNTIF('[1]Testee answer 2011'!AI701:AI710,\"C\")","v":3},{"$f":"COUNTIF('[1]Testee answer 2011'!AJ701:AJ710,\"C\")","v":0},{"$f":"COUNTIF('[1]Testee answer 2011'!AK701:AK710,\"C\")","v":1},{"$f":"COUNTIF('[1]Testee answer 2011'!AL701:AL710,\"C\")","v":0},{"$f":"COUNTIF('[1]Testee answer 2011'!AM701:AM710,\"C\")","v":2},{"$f":"COUNTIF('[1]Testee answer 2011'!AN701:AN710,\"C\")","v":5},{"$f":"COUNTIF('[1]Testee answer 2011'!AO701:AO710,\"C\")","v":0},{"$f":"COUNTIF('[1]Testee answer 2011'!AP701:AP710,\"C\")","v":0},{"$f":"COUNTIF('[1]Testee answer 2011'!AQ701:AQ710,\"C\")","v":0},{"$f":"COUNTIF('[1]Testee answer 2011'!AR701:AR710,\"C\")","v":0},{"$f":"COUNTIF('[1]Testee answer 2011'!AS701:AS710,\"C\")","v":0},{"$f":"COUNTIF('[1]Testee answer 2011'!AT701:AT710,\"C\")","v":3},{"$f":"COUNTIF('[1]Testee answer 2011'!AU701:AU710,\"C\")","v":1},{"$f":"COUNTIF('[1]Testee answer 2011'!AV701:AV710,\"C\")","v":5},{"$f":"COUNTIF('[1]Testee answer 2011'!AW701:AW710,\"C\")","v":0},{"$f":"COUNTIF('[1]Testee answer 2011'!AX701:AX710,\"C\")","v":2},{"$f":"COUNTIF('[1]Testee answer 2011'!AY701:AY710,\"C\")","v":2},{"$f":"COUNTIF('[1]Testee answer 2011'!AZ701:AZ710,\"C\")","v":3},{"$f":"COUNTIF('[1]Testee answer 2011'!BA701:BA710,\"C\")","v":0},{"$f":"COUNTIF('[1]Testee answer 2011'!BB701:BB710,\"C\")","v":0},{"$f":"COUNTIF('[1]Testee answer 2011'!BC701:BC710,\"C\")","v":0},{"$f":"COUNTIF('[1]Testee answer 2011'!BD701:BD710,\"C\")","v":0},{"$f":"COUNTIF('[1]Testee answer 2011'!BE701:BE710,\"C\")","v":0},{"$f":"COUNTIF('[1]Testee answer 2011'!BF701:BF710,\"C\")","v":0},{"$f":"COUNTIF('[1]Testee answer 2011'!BG701:BG710,\"C\")","v":0},{"$f":"COUNTIF('[1]Testee answer 2011'!BH701:BH710,\"C\")","v":0},{"$f":"COUNTIF('[1]Testee answer 2011'!BI701:BI710,\"C\")","v":0}]
["PLEng4",{"$f":"COUNTIF('[1]Testee answer 2011'!D701:D710,\"D\")","v":6},{"$f":"COUNTIF('[1]Testee answer 2011'!E701:E710,\"D\")","v":0},{"$f":"COUNTIF('[1]Testee answer 2011'!F701:F710,\"D\")","v":0},{"$f":"COUNTIF('[1]Testee answer 2011'!G701:G710,\"D\")","v":0},{"$f":"COUNTIF('[1]Testee answer 2011'!H701:H710,\"D\")","v":0},{"$f":"COUNTIF('[1]Testee answer 2011'!I701:I710,\"D\")","v":1},{"$f":"COUNTIF('[1]Testee answer 2011'!J701:J710,\"D\")","v":0},{"$f":"COUNTIF('[1]Testee answer 2011'!K701:K710,\"D\")","v":0},{"$f":"COUNTIF('[1]Testee answer 2011'!L701:L710,\"D\")","v":0},{"$f":"COUNTIF('[1]Testee answer 2011'!M701:M710,\"D\")","v":0},{"$f":"COUNTIF('[1]Testee answer 2011'!N701:N710,\"D\")","v":0},{"$f":"COUNTIF('[1]Testee answer 2011'!O701:O710,\"D\")","v":0},{"$f":"COUNTIF('[1]Testee answer 2011'!P701:P710,\"D\")","v":2},{"$f":"COUNTIF('[1]Testee answer 2011'!Q701:Q710,\"D\")","v":3},{"$f":"COUNTIF('[1]Testee answer 2011'!R701:R710,\"D\")","v":4},{"$f":"COUNTIF('[1]Testee answer 2011'!S701:S710,\"D\")","v":3},{"$f":"COUNTIF('[1]Testee answer 2011'!T701:T710,\"D\")","v":0},{"$f":"COUNTIF('[1]Testee answer 2011'!U701:U710,\"D\")","v":0},{"$f":"COUNTIF('[1]Testee answer 2011'!V701:V710,\"D\")","v":2},{"$f":"COUNTIF('[1]Testee answer 2011'!W701:W710,\"D\")","v":2},{"$f":"COUNTIF('[1]Testee answer 2011'!X701:X710,\"D\")","v":1},{"$f":"COUNTIF('[1]Testee answer 2011'!Y701:Y710,\"D\")","v":2},{"$f":"COUNTIF('[1]Testee answer 2011'!Z701:Z710,\"D\")","v":0},{"$f":"COUNTIF('[1]Testee answer 2011'!AA701:AA710,\"D\")","v":0},{"$f":"COUNTIF('[1]Testee answer 2011'!AB701:AB710,\"D\")","v":5},{"$f":"COUNTIF('[1]Testee answer 2011'!AC701:AC710,\"D\")","v":1},{"$f":"COUNTIF('[1]Testee answer 2011'!AD701:AD710,\"D\")","v":1},{"$f":"COUNTIF('[1]Testee answer 2011'!AE701:AE710,\"D\")","v":1},{"$f":"COUNTIF('[1]Testee answer 2011'!AF701:AF710,\"D\")","v":6},{"$f":"COUNTIF('[1]Testee answer 2011'!AG701:AG710,\"D\")","v":2},{"$f":"COUNTIF('[1]Testee answer 2011'!AH701:AH710,\"D\")","v":0},{"$f":"COUNTIF('[1]Testee answer 2011'!AI701:AI710,\"D\")","v":1},{"$f":"COUNTIF('[1]Testee answer 2011'!AJ701:AJ710,\"D\")","v":5},{"$f":"COUNTIF('[1]Testee answer 2011'!AK701:AK710,\"D\")","v":4},{"$f":"COUNTIF('[1]Testee answer 2011'!AL701:AL710,\"D\")","v":4},{"$f":"COUNTIF('[1]Testee answer 2011'!AM701:AM710,\"D\")","v":4},{"$f":"COUNTIF('[1]Testee answer 2011'!AN701:AN710,\"D\")","v":0},{"$f":"COUNTIF('[1]Testee answer 2011'!AO701:AO710,\"D\")","v":0},{"$f":"COUNTIF('[1]Testee answer 2011'!AP701:AP710,\"D\")","v":0},{"$f":"COUNTIF('[1]Testee answer 2011'!AQ701:AQ710,\"D\")","v":0},{"$f":"COUNTIF('[1]Testee answer 2011'!AR701:AR710,\"D\")","v":0},{"$f":"COUNTIF('[1]Testee answer 2011'!AS701:AS710,\"D\")","v":0},{"$f":"COUNTIF('[1]Testee answer 2011'!AT701:AT710,\"D\")","v":1},{"$f":"COUNTIF('[1]Testee answer 2011'!AU701:AU710,\"D\")","v":4},{"$f":"COUNTIF('[1]Testee answer 2011'!AV701:AV710,\"D\")","v":1},{"$f":"COUNTIF('[1]Testee answer 2011'!AW701:AW710,\"D\")","v":0},{"$f":"COUNTIF('[1]Testee answer 2011'!AX701:AX710,\"D\")","v":0},{"$f":"COUNTIF('[1]Testee answer 2011'!AY701:AY710,\"D\")","v":2},{"$f":"COUNTIF('[1]Testee answer 2011'!AZ701:AZ710,\"D\")","v":2},{"$f":"COUNTIF('[1]Testee answer 2011'!BA701:BA710,\"D\")","v":0},{"$f":"COUNTIF('[1]Testee answer 2011'!BB701:BB710,\"D\")","v":0},{"$f":"COUNTIF('[1]Testee answer 2011'!BC701:BC710,\"D\")","v":0},{"$f":"COUNTIF('[1]Testee answer 2011'!BD701:BD710,\"D\")","v":0},{"$f":"COUNTIF('[1]Testee answer 2011'!BE701:BE710,\"D\")","v":0},{"$f":"COUNTIF('[1]Testee answer 2011'!BF701:BF710,\"D\")","v":0},{"$f":"COUNTIF('[1]Testee answer 2011'!BG701:BG710,\"D\")","v":0},{"$f":"COUNTIF('[1]Testee answer 2011'!BH701:BH710,\"D\")","v":0},{"$f":"COUNTIF('[1]Testee answer 2011'!BI701:BI710,\"D\")","v":0}]
["TOTAL",{"$f":"COUNTIF('[1]Testee answer 2011'!D:D,\"A\")","v":287},{"$f":"COUNTIF('[1]Testee answer 2011'!E:E,\"A\")","v":184},{"$f":"COUNTIF('[1]Testee answer 2011'!F:F,\"A\")","v":208},{"$f":"COUNTIF('[1]Testee answer 2011'!G:G,\"A\")","v":430},{"$f":"COUNTIF('[1]Testee answer 2011'!H:H,\"A\")","v":379},{"$f":"COUNTIF('[1]Testee answer 2011'!I:I,\"A\")","v":56},{"$f":"COUNTIF('[1]Testee answer 2011'!J:J,\"A\")","v":379},{"$f":"COUNTIF('[1]Testee answer 2011'!K:K,\"A\")","v":349},{"$f":"COUNTIF('[1]Testee answer 2011'!L:L,\"A\")","v":351},{"$f":"COUNTIF('[1]Testee answer 2011'!M:M,\"A\")","v":344},{"$f":"COUNTIF('[1]Testee answer 2011'!N:N,\"A\")","v":184},{"$f":"COUNTIF('[1]Testee answer 2011'!O:O,\"A\")","v":122},{"$f":"COUNTIF('[1]Testee answer 2011'!P:P,\"A\")","v":96},{"$f":"COUNTIF('[1]Testee answer 2011'!Q:Q,\"A\")","v":55},{"$f":"COUNTIF('[1]Testee answer 2011'!R:R,\"A\")","v":103},{"$f":"COUNTIF('[1]Testee answer 2011'!S:S,\"A\")","v":143},{"$f":"COUNTIF('[1]Testee answer 2011'!T:T,\"A\")","v":284},{"$f":"COUNTIF('[1]Testee answer 2011'!U:U,\"A\")","v":147},{"$f":"COUNTIF('[1]Testee answer 2011'!V:V,\"A\")","v":39},{"$f":"COUNTIF('[1]Testee answer 2011'!W:W,\"A\")","v":124},{"$f":"COUNTIF('[1]Testee answer 2011'!X:X,\"A\")","v":105},{"$f":"COUNTIF('[1]Testee answer 2011'!Y:Y,\"A\")","v":165},{"$f":"COUNTIF('[1]Testee answer 2011'!Z:Z,\"A\")","v":221},{"$f":"COUNTIF('[1]Testee answer 2011'!AA:AA,\"A\")","v":330},{"$f":"COUNTIF('[1]Testee answer 2011'!AB:AB,\"A\")","v":34},{"$f":"COUNTIF('[1]Testee answer 2011'!AC:AC,\"A\")","v":122},{"$f":"COUNTIF('[1]Testee answer 2011'!AD:AD,\"A\")","v":245},{"$f":"COUNTIF('[1]Testee answer 2011'!AE:AE,\"A\")","v":105},{"$f":"COUNTIF('[1]Testee answer 2011'!AF:AF,\"A\")","v":53},{"$f":"COUNTIF('[1]Testee answer 2011'!AG:AG,\"A\")","v":86},{"$f":"COUNTIF('[1]Testee answer 2011'!AH:AH,\"A\")","v":306},{"$f":"COUNTIF('[1]Testee answer 2011'!AI:AI,\"A\")","v":151},{"$f":"COUNTIF('[1]Testee answer 2011'!AJ:AJ,\"A\")","v":196},{"$f":"COUNTIF('[1]Testee answer 2011'!AK:AK,\"A\")","v":199},{"$f":"COUNTIF('[1]Testee answer 2011'!AL:AL,\"A\")","v":46},{"$f":"COUNTIF('[1]Testee answer 2011'!AM:AM,\"A\")","v":45},{"$f":"COUNTIF('[1]Testee answer 2011'!AN:AN,\"A\")","v":113},{"$f":"COUNTIF('[1]Testee answer 2011'!AO:AO,\"A\")","v":257},{"$f":"COUNTIF('[1]Testee answer 2011'!AP:AP,\"A\")","v":134},{"$f":"COUNTIF('[1]Testee answer 2011'!AQ:AQ,\"A\")","v":69},{"$f":"COUNTIF('[1]Testee answer 2011'!AR:AR,\"A\")","v":100},{"$f":"COUNTIF('[1]Testee answer 2011'!AS:AS,\"A\")","v":48},{"$f":"COUNTIF('[1]Testee answer 2011'!AT:AT,\"A\")","v":40},{"$f":"COUNTIF('[1]Testee answer 2011'!AU:AU,\"A\")","v":19},{"$f":"COUNTIF('[1]Testee answer 2011'!AV:AV,\"A\")","v":40},{"$f":"COUNTIF('[1]Testee answer 2011'!AW:AW,\"A\")","v":317},{"$f":"COUNTIF('[1]Testee answer 2011'!AX:AX,\"A\")","v":216},{"$f":"COUNTIF('[1]Testee answer 2011'!AY:AY,\"A\")","v":114},{"$f":"COUNTIF('[1]Testee answer 2011'!AZ:AZ,\"A\")","v":111},{"$f":"COUNTIF('[1]Testee answer 2011'!BA:BA,\"A\")","v":551},{"$f":"COUNTIF('[1]Testee answer 2011'!BB:BB,\"A\")","v":246},{"$f":"COUNTIF('[1]Testee answer 2011'!BC:BC,\"A\")","v":111},{"$f":"COUNTIF('[1]Testee answer 2011'!BD:BD,\"A\")","v":302},{"$f":"COUNTIF('[1]Testee answer 2011'!BE:BE,\"A\")","v":547},{"$f":"COUNTIF('[1]Testee answer 2011'!BF:BF,\"A\")","v":41},{"$f":"COUNTIF('[1]Testee answer 2011'!BG:BG,\"A\")","v":529},{"$f":"COUNTIF('[1]Testee answer 2011'!BH:BH,\"A\")","v":314},{"$f":"COUNTIF('[1]Testee answer 2011'!BI:BI,\"A\")","v":79}]
[null,{"$f":"COUNTIF('[1]Testee answer 2011'!D:D,\"B\")","v":152},{"$f":"COUNTIF('[1]Testee answer 2011'!E:E,\"B\")","v":497},{"$f":"COUNTIF('[1]Testee answer 2011'!F:F,\"B\")","v":411},{"$f":"COUNTIF('[1]Testee answer 2011'!G:G,\"B\")","v":242},{"$f":"COUNTIF('[1]Testee answer 2011'!H:H,\"B\")","v":133},{"$f":"COUNTIF('[1]Testee answer 2011'!I:I,\"B\")","v":319},{"$f":"COUNTIF('[1]Testee answer 2011'!J:J,\"B\")","v":271},{"$f":"COUNTIF('[1]Testee answer 2011'!K:K,\"B\")","v":270},{"$f":"COUNTIF('[1]Testee answer 2011'!L:L,\"B\")","v":258},{"$f":"COUNTIF('[1]Testee answer 2011'!M:M,\"B\")","v":191},{"$f":"COUNTIF('[1]Testee answer 2011'!N:N,\"B\")","v":222},{"$f":"COUNTIF('[1]Testee answer 2011'!O:O,\"B\")","v":232},{"$f":"COUNTIF('[1]Testee answer 2011'!P:P,\"B\")","v":177},{"$f":"COUNTIF('[1]Testee answer 2011'!Q:Q,\"B\")","v":82},{"$f":"COUNTIF('[1]Testee answer 2011'!R:R,\"B\")","v":118},{"$f":"COUNTIF('[1]Testee answer 2011'!S:S,\"B\")","v":132},{"$f":"COUNTIF('[1]Testee answer 2011'!T:T,\"B\")","v":115},{"$f":"COUNTIF('[1]Testee answer 2011'!U:U,\"B\")","v":216},{"$f":"COUNTIF('[1]Testee answer 2011'!V:V,\"B\")","v":95},{"$f":"COUNTIF('[1]Testee answer 2011'!W:W,\"B\")","v":155},{"$f":"COUNTIF('[1]Testee answer 2011'!X:X,\"B\")","v":155},{"$f":"COUNTIF('[1]Testee answer 2011'!Y:Y,\"B\")","v":148},{"$f":"COUNTIF('[1]Testee answer 2011'!Z:Z,\"B\")","v":165},{"$f":"COUNTIF('[1]Testee answer 2011'!AA:AA,\"B\")","v":154},{"$f":"COUNTIF('[1]Testee answer 2011'!AB:AB,\"B\")","v":48},{"$f":"COUNTIF('[1]Testee answer 2011'!AC:AC,\"B\")","v":155},{"$f":"COUNTIF('[1]Testee answer 2011'!AD:AD,\"B\")","v":121},{"$f":"COUNTIF('[1]Testee answer 2011'!AE:AE,\"B\")","v":83},{"$f":"COUNTIF('[1]Testee answer 2011'!AF:AF,\"B\")","v":43},{"$f":"COUNTIF('[1]Testee answer 2011'!AG:AG,\"B\")","v":88},{"$f":"COUNTIF('[1]Testee answer 2011'!AH:AH,\"B\")","v":223},{"$f":"COUNTIF('[1]Testee answer 2011'!AI:AI,\"B\")","v":236},{"$f":"COUNTIF('[1]Testee answer 2011'!AJ:AJ,\"B\")","v":51},{"$f":"COUNTIF('[1]Testee answer 2011'!AK:AK,\"B\")","v":56},{"$f":"COUNTIF('[1]Testee answer 2011'!AL:AL,\"B\")","v":138},{"$f":"COUNTIF('[1]Testee answer 2011'!AM:AM,\"B\")","v":79},{"$f":"COUNTIF('[1]Testee answer 2011'!AN:AN,\"B\")","v":127},{"$f":"COUNTIF('[1]Testee answer 2011'!AO:AO,\"B\")","v":419},{"$f":"COUNTIF('[1]Testee answer 2011'!AP:AP,\"B\")","v":546},{"$f":"COUNTIF('[1]Testee answer 2011'!AQ:AQ,\"B\")","v":611},{"$f":"COUNTIF('[1]Testee answer 2011'!AR:AR,\"B\")","v":577},{"$f":"COUNTIF('[1]Testee answer 2011'!AS:AS,\"B\")","v":632},{"$f":"COUNTIF('[1]Testee answer 2011'!AT:AT,\"B\")","v":94},{"$f":"COUNTIF('[1]Testee answer 2011'!AU:AU,\"B\")","v":46},{"$f":"COUNTIF('[1]Testee answer 2011'!AV:AV,\"B\")","v":68},{"$f":"COUNTIF('[1]Testee answer 2011'!AW:AW,\"B\")","v":207},{"$f":"COUNTIF('[1]Testee answer 2011'!AX:AX,\"B\")","v":248},{"$f":"COUNTIF('[1]Testee answer 2011'!AY:AY,\"B\")","v":162},{"$f":"COUNTIF('[1]Testee answer 2011'!AZ:AZ,\"B\")","v":122},{"$f":"COUNTIF('[1]Testee answer 2011'!BA:BA,\"B\")","v":130},{"$f":"COUNTIF('[1]Testee answer 2011'!BB:BB,\"B\")","v":435},{"$f":"COUNTIF('[1]Testee answer 2011'!BC:BC,\"B\")","v":568},{"$f":"COUNTIF('[1]Testee answer 2011'!BD:BD,\"B\")","v":374},{"$f":"COUNTIF('[1]Testee answer 2011'!BE:BE,\"B\")","v":129},{"$f":"COUNTIF('[1]Testee answer 2011'!BF:BF,\"B\")","v":635},{"$f":"COUNTIF('[1]Testee answer 2011'!BG:BG,\"B\")","v":148},{"$f":"COUNTIF('[1]Testee answer 2011'!BH:BH,\"B\")","v":362},{"$f":"COUNTIF('[1]Testee answer 2011'!BI:BI,\"B\")","v":600}]
[null,{"$f":"COUNTIF('[1]Testee answer 2011'!D:D,\"C\")","v":124},{"$f":"COUNTIF('[1]Testee answer 2011'!E:E,\"C\")","v":0},{"$f":"COUNTIF('[1]Testee answer 2011'!F:F,\"C\")","v":57},{"$f":"COUNTIF('[1]Testee answer 2011'!G:G,\"C\")","v":8},{"$f":"COUNTIF('[1]Testee answer 2011'!H:H,\"C\")","v":120},{"$f":"COUNTIF('[1]Testee answer 2011'!I:I,\"C\")","v":241},{"$f":"COUNTIF('[1]Testee answer 2011'!J:J,\"C\")","v":31},{"$f":"COUNTIF('[1]Testee answer 2011'!K:K,\"C\")","v":61},{"$f":"COUNTIF('[1]Testee answer 2011'!L:L,\"C\")","v":72},{"$f":"COUNTIF('[1]Testee answer 2011'!M:M,\"C\")","v":135},{"$f":"COUNTIF('[1]Testee answer 2011'!N:N,\"C\")","v":239},{"$f":"COUNTIF('[1]Testee answer 2011'!O:O,\"C\")","v":269},{"$f":"COUNTIF('[1]Testee answer 2011'!P:P,\"C\")","v":322},{"$f":"COUNTIF('[1]Testee answer 2011'!Q:Q,\"C\")","v":312},{"$f":"COUNTIF('[1]Testee answer 2011'!R:R,\"C\")","v":266},{"$f":"COUNTIF('[1]Testee answer 2011'!S:S,\"C\")","v":208},{"$f":"COUNTIF('[1]Testee answer 2011'!T:T,\"C\")","v":170},{"$f":"COUNTIF('[1]Testee answer 2011'!U:U,\"C\")","v":278},{"$f":"COUNTIF('[1]Testee answer 2011'!V:V,\"C\")","v":282},{"$f":"COUNTIF('[1]Testee answer 2011'!W:W,\"C\")","v":264},{"$f":"COUNTIF('[1]Testee answer 2011'!X:X,\"C\")","v":281},{"$f":"COUNTIF('[1]Testee answer 2011'!Y:Y,\"C\")","v":195},{"$f":"COUNTIF('[1]Testee answer 2011'!Z:Z,\"C\")","v":205},{"$f":"COUNTIF('[1]Testee answer 2011'!AA:AA,\"C\")","v":167},{"$f":"COUNTIF('[1]Testee answer 2011'!AB:AB,\"C\")","v":170},{"$f":"COUNTIF('[1]Testee answer 2011'!AC:AC,\"C\")","v":229},{"$f":"COUNTIF('[1]Testee answer 2011'!AD:AD,\"C\")","v":217},{"$f":"COUNTIF('[1]Testee answer 2011'!AE:AE,\"C\")","v":202},{"$f":"COUNTIF('[1]Testee answer 2011'!AF:AF,\"C\")","v":198},{"$f":"COUNTIF('[1]Testee answer 2011'!AG:AG,\"C\")","v":228},{"$f":"COUNTIF('[1]Testee answer 2011'!AH:AH,\"C\")","v":137},{"$f":"COUNTIF('[1]Testee answer 2011'!AI:AI,\"C\")","v":233},{"$f":"COUNTIF('[1]Testee answer 2011'!AJ:AJ,\"C\")","v":196},{"$f":"COUNTIF('[1]Testee answer 2011'!AK:AK,\"C\")","v":214},{"$f":"COUNTIF('[1]Testee answer 2011'!AL:AL,\"C\")","v":289},{"$f":"COUNTIF('[1]Testee answer 2011'!AM:AM,\"C\")","v":309},{"$f":"COUNTIF('[1]Testee answer 2011'!AN:AN,\"C\")","v":297},{"$f":"COUNTIF('[1]Testee answer 2011'!AO:AO,\"C\")","v":0},{"$f":"COUNTIF('[1]Testee answer 2011'!AP:AP,\"C\")","v":0},{"$f":"COUNTIF('[1]Testee answer 2011'!AQ:AQ,\"C\")","v":0},{"$f":"COUNTIF('[1]Testee answer 2011'!AR:AR,\"C\")","v":4},{"$f":"COUNTIF('[1]Testee answer 2011'!AS:AS,\"C\")","v":0},{"$f":"COUNTIF('[1]Testee answer 2011'!AT:AT,\"C\")","v":281},{"$f":"COUNTIF('[1]Testee answer 2011'!AU:AU,\"C\")","v":169},{"$f":"COUNTIF('[1]Testee answer 2011'!AV:AV,\"C\")","v":266},{"$f":"COUNTIF('[1]Testee answer 2011'!AW:AW,\"C\")","v":135},{"$f":"COUNTIF('[1]Testee answer 2011'!AX:AX,\"C\")","v":191},{"$f":"COUNTIF('[1]Testee answer 2011'!AY:AY,\"C\")","v":274},{"$f":"COUNTIF('[1]Testee answer 2011'!AZ:AZ,\"C\")","v":265},{"$f":"COUNTIF('[1]Testee answer 2011'!BA:BA,\"C\")","v":0},{"$f":"COUNTIF('[1]Testee answer 2011'!BB:BB,\"C\")","v":0},{"$f":"COUNTIF('[1]Testee answer 2011'!BC:BC,\"C\")","v":0},{"$f":"COUNTIF('[1]Testee answer 2011'!BD:BD,\"C\")","v":2},{"$f":"COUNTIF('[1]Testee answer 2011'!BE:BE,\"C\")","v":0},{"$f":"COUNTIF('[1]Testee answer 2011'!BF:BF,\"C\")","v":5},{"$f":"COUNTIF('[1]Testee answer 2011'!BG:BG,\"C\")","v":4},{"$f":"COUNTIF('[1]Testee answer 2011'!BH:BH,\"C\")","v":4},{"$f":"COUNTIF('[1]Testee answer 2011'!BI:BI,\"C\")","v":1}]
[null,{"$f":"COUNTIF('[1]Testee answer 2011'!D:D,\"D\")","v":103},{"$f":"COUNTIF('[1]Testee answer 2011'!E:E,\"D\")","v":0},{"$f":"COUNTIF('[1]Testee answer 2011'!F:F,\"D\")","v":5},{"$f":"COUNTIF('[1]Testee answer 2011'!G:G,\"D\")","v":1},{"$f":"COUNTIF('[1]Testee answer 2011'!H:H,\"D\")","v":49},{"$f":"COUNTIF('[1]Testee answer 2011'!I:I,\"D\")","v":65},{"$f":"COUNTIF('[1]Testee answer 2011'!J:J,\"D\")","v":0},{"$f":"COUNTIF('[1]Testee answer 2011'!K:K,\"D\")","v":1},{"$f":"COUNTIF('[1]Testee answer 2011'!L:L,\"D\")","v":0},{"$f":"COUNTIF('[1]Testee answer 2011'!M:M,\"D\")","v":11},{"$f":"COUNTIF('[1]Testee answer 2011'!N:N,\"D\")","v":36},{"$f":"COUNTIF('[1]Testee answer 2011'!O:O,\"D\")","v":58},{"$f":"COUNTIF('[1]Testee answer 2011'!P:P,\"D\")","v":86},{"$f":"COUNTIF('[1]Testee answer 2011'!Q:Q,\"D\")","v":232},{"$f":"COUNTIF('[1]Testee answer 2011'!R:R,\"D\")","v":194},{"$f":"COUNTIF('[1]Testee answer 2011'!S:S,\"D\")","v":198},{"$f":"COUNTIF('[1]Testee answer 2011'!T:T,\"D\")","v":112},{"$f":"COUNTIF('[1]Testee answer 2011'!U:U,\"D\")","v":40},{"$f":"COUNTIF('[1]Testee answer 2011'!V:V,\"D\")","v":265},{"$f":"COUNTIF('[1]Testee answer 2011'!W:W,\"D\")","v":138},{"$f":"COUNTIF('[1]Testee answer 2011'!X:X,\"D\")","v":140},{"$f":"COUNTIF('[1]Testee answer 2011'!Y:Y,\"D\")","v":173},{"$f":"COUNTIF('[1]Testee answer 2011'!Z:Z,\"D\")","v":90},{"$f":"COUNTIF('[1]Testee answer 2011'!AA:AA,\"D\")","v":30},{"$f":"COUNTIF('[1]Testee answer 2011'!AB:AB,\"D\")","v":429},{"$f":"COUNTIF('[1]Testee answer 2011'!AC:AC,\"D\")","v":175},{"$f":"COUNTIF('[1]Testee answer 2011'!AD:AD,\"D\")","v":98},{"$f":"COUNTIF('[1]Testee answer 2011'!AE:AE,\"D\")","v":291},{"$f":"COUNTIF('[1]Testee answer 2011'!AF:AF,\"D\")","v":387},{"$f":"COUNTIF('[1]Testee answer 2011'!AG:AG,\"D\")","v":279},{"$f":"COUNTIF('[1]Testee answer 2011'!AH:AH,\"D\")","v":15},{"$f":"COUNTIF('[1]Testee answer 2011'!AI:AI,\"D\")","v":61},{"$f":"COUNTIF('[1]Testee answer 2011'!AJ:AJ,\"D\")","v":238},{"$f":"COUNTIF('[1]Testee answer 2011'!AK:AK,\"D\")","v":212},{"$f":"COUNTIF('[1]Testee answer 2011'!AL:AL,\"D\")","v":208},{"$f":"COUNTIF('[1]Testee answer 2011'!AM:AM,\"D\")","v":248},{"$f":"COUNTIF('[1]Testee answer 2011'!AN:AN,\"D\")","v":144},{"$f":"COUNTIF('[1]Testee answer 2011'!AO:AO,\"D\")","v":5},{"$f":"COUNTIF('[1]Testee answer 2011'!AP:AP,\"D\")","v":1},{"$f":"COUNTIF('[1]Testee answer 2011'!AQ:AQ,\"D\")","v":1},{"$f":"COUNTIF('[1]Testee answer 2011'!AR:AR,\"D\")","v":0},{"$f":"COUNTIF('[1]Testee answer 2011'!AS:AS,\"D\")","v":1},{"$f":"COUNTIF('[1]Testee answer 2011'!AT:AT,\"D\")","v":266},{"$f":"COUNTIF('[1]Testee answer 2011'!AU:AU,\"D\")","v":447},{"$f":"COUNTIF('[1]Testee answer 2011'!AV:AV,\"D\")","v":307},{"$f":"COUNTIF('[1]Testee answer 2011'!AW:AW,\"D\")","v":22},{"$f":"COUNTIF('[1]Testee answer 2011'!AX:AX,\"D\")","v":26},{"$f":"COUNTIF('[1]Testee answer 2011'!AY:AY,\"D\")","v":131},{"$f":"COUNTIF('[1]Testee answer 2011'!AZ:AZ,\"D\")","v":183},{"$f":"COUNTIF('[1]Testee answer 2011'!BA:BA,\"D\")","v":0},{"$f":"COUNTIF('[1]Testee answer 2011'!BB:BB,\"D\")","v":0},{"$f":"COUNTIF('[1]Testee answer 2011'!BC:BC,\"D\")","v":1},{"$f":"COUNTIF('[1]Testee answer 2011'!BD:BD,\"D\")","v":3},{"$f":"COUNTIF('[1]Testee answer 2011'!BE:BE,\"D\")","v":4},{"$f":"COUNTIF('[1]Testee answer 2011'!BF:BF,\"D\")","v":0},{"$f":"COUNTIF('[1]Testee answer 2011'!BG:BG,\"D\")","v":0},{"$f":"COUNTIF('[1]Testee answer 2011'!BH:BH,\"D\")","v":1},{"$f":"COUNTIF('[1]Testee answer 2011'!BI:BI,\"D\")","v":1}]
[null,{"$f":"COUNTIF('[1]Testee answer 2011'!D:D,\"E\")","v":15}]
[null,{"$f":"SUM(B147:B151)","v":681}]

{"sheet":"Report","index":1,"n_rows":59,"n_cols":12,"rows_kept":59,"cut":false,"hidden":false,"merged":[]}
["ВЪПРОСИ"]
["3. Курс"," A = І",287,null,"B = ІІ",152,null,"C = ІІІ           ",124,null,"D = ІV",103]
["4. Пол"," A = МЪЖ",184,null,"B = ЖЕНА",497,null,null,0,null,null,0]
["5. Посещение на лекции"," A = Всички",208,null,"B = Голяма част ",411,null,"C = Малка част",57,null," D = Нито една",5]
["6. Посещение на упражнения"," A = Всички",430,null,"B = Голяма част ",242,null,"C = Малка част",8,null," D = Нито едно",1]
["7. Ако не сте посещавали занятия, коя е причината за това"," A = Посещавал съм",379,null,"B = Работя и уча",133,null,"C = Безинтересни са",120,null,"D = Мога да се подготвя сам",49]
["8. Успех от следването до момента"," A = Отличен",56,null,"B = Много добър",319,null,"C = Добър",241,null,"D = Среден",65]
["9. квалификационната характеристика на специалността си"," A = ДА ",379,null,"B = ЧАСТИЧНО",271,null,"C = НЕ",31,null,null,0]
["10. учебния план, по който се обучавате"," A = ДА ",349,null,"B = ЧАСТИЧНО",270,null,"C = НЕ",61,null,null,1]
["11. учебните програми на дисциплините, които изучавате"," A = ДА ",351,null,"B = ЧАСТИЧНО",258,null,"C = НЕ",72,null,null,0]
["12. на развитието общата Ви култура"," A = ДА",344,null,"B = Във висока степен ",191,null,"C = В известна степен",135,null," D = НЕ",11]
["13. професионалната Ви подготовка"," A = ДА",184,null,"B = Във висока степен ",222,null,"C = В известна степен",239,null," D = НЕ",36]
["14. актуални и отразяват постиженията на науката"," A = ДА",122,null,"B = Във висока степен ",232,null,"C = В известна степен",269,null," D = НЕ",58]
["15. актуални и ориентирани към потребностите на практиката"," A = ДА",96,null,"B = Във висока степен ",177,null,"C = В известна степен",322,null," D = НЕ",86]
["16. анахронични и самоцелни"," A = ДА",55,null,"B = Във висока степен ",82,null,"C = В известна степен",312,null," D = НЕ",232]
["17. добро и дава възможност за самостоятелна работа"," A = ДА",103,null,"B = Във висока степен ",118,null,"C = В известна степен",266,null," D = НЕ",194]
["18. напрегнато и ограничава възможностите за самостоятелна работа"," A = ДА",143,null,"B = Във висока степен ",132,null,"C = В известна степен",208,null," D = НЕ",198]
["19. съобразена по-скоро с интересите и възможностите на преподавателите, отколкото с тези на студентите"," A = ДА",284,null,"B = Във висока степен ",115,null,"C = В известна степен",170,null," D = НЕ",112]
["20. съдържателни и интересни"," A = ДА",147,null,"B = Във висока степен ",216,null,"C = В известна степен",278,null," D = НЕ",40]
["21. скучни и безинтересни"," A = ДА",39,null,"B = Във висока степен ",95,null,"C = В известна степен",282,null," D = НЕ",265]
["22. способност за творческо мислене"," A = ДА",124,null,"B = Във висока степен ",155,null,"C = В известна степен",264,null," D = НЕ",138]
["23. способност за вземане на решения"," A = ДА",105,null,"B = Във висока степен ",155,null,"C = В известна степен",281,null," D = НЕ",140]
["24. умения за работа в екип"," A = ДА",165,null,"B = Във висока степен ",148,null,"C = В известна степен",195,null," D = НЕ  ",173]
["25. комуникативни умения"," A = ДА",221,null,"B = Във висока степен ",165,null,"C = В известна степен",205,null," D = НЕ",90]
["26. полезни и необходими"," A = ДА",330,null,"B = Във висока степен ",154,null,"C = В известна степен",167,null," D = НЕ",30]
["27. самоцелни и безполезни"," A = ДА",34,null,"B = Във висока степен ",48,null,"C = В известна степен",170,null," D = НЕ",429]
["28. библиотеките в Университета разполага с необходимата Ви литература"," A = ДА",122,null,"B = Във висока степен ",155,null,"C = В известна степен",229,null," D = НЕ",175]
["29. услугите са достъпни за Вас"," A = ДА",245,null,"B = Във висока степен ",121,null,"C = В известна степен",217,null," D = НЕ",98]
["30. административното обслужване е на добро равнище"," A = ДА",105,null,"B = Във висока степен ",83,null,"C = В известна степен",202,null," D = НЕ",291]
["31. в Университета има условия за спорт"," A = ДА",53,null,"B = Във висока степен ",43,null,"C = В известна степен",198,null," D = НЕ",387]
["32. социалните условия (стипендии, общежития. стол, почивна база) са добре решени"," A = ДА",86,null,"B = Във висока степен ",88,null,"C = В известна степен",228,null," D = НЕ",279]
["33. преподавателите Ви са добре подготвени и познават новостите в научната област, в която работят"," A = ДА",306,null,"B = Във висока степен ",223,null,"C = В известна степен",137,null," D = НЕ",15]
["34. преподавателите Ви са толерантни, комуникативни и мотивирани в работата си със студентите"," A = ДА",151,null,"B = Във висока степен ",236,null,"C = В известна степен",233,null," D = НЕ",61]
["35. има корумпирани преподаватели"," A = ДА",196,null,"B = Във висока степен ",51,null,"C = В известна степен",196,null," D = НЕ",238]
["36. има корумпирани служители"," A = ДА",199,null,"B = Във висока степен ",56,null,"C = В известна степен",214,null," D = НЕ",212]
["37. материалната база е добра"," A = ДА",46,null,"B = Във висока степен ",138,null,"C = В известна степен",289,null," D = НЕ",208]
["38. учебно-техническите средства са съвременни и подпомагат учебния процес"," A = ДА",45,null,"B = Във висока степен ",79,null,"C = В известна степен",309,null," D = НЕ",248]
["39. учебниците и учебно-помощните материали са достъпни и подпомагат обучението Ви"," A = ДА",113,null,"B = Във висока степен ",127,null,"C = В известна степен",297,null," D = НЕ",144]
["40. публични лекции, срещи с представители на науката, политиката, бизнеса културата"," A = ДА",257,null,"B = НЕ",419,null,null,0,null,null,5]
["41. студентски творчески инициативи"," A = ДА",134,null,"B = НЕ",546,null,null,0,null,null,1]
["42. програми за обмен на студенти"," A = ДА",69,null,"B = НЕ",611,null,null,0,null,null,1]
["43. дискусии, кръгли маси, конференции"," A = ДА",100,null,"B = НЕ",577,null,null,4,null,null,0]
["44. проекти на преподавателските екипи"," A = ДА",48,null,"B = НЕ",632,null,null,0,null,null,1]
["45. научните изследвания на вашите преподаватели"," A = ДА",40,null,"B = Във висока степен ",94,null,"C = В известна степен",281,null," D = НЕ",266]
["46. научно-изследователска програма на Факултета"," A = ДА",19,null,"B = Във висока степен ",46,null,"C = В известна степен",169,null," D = НЕ",447]
["47. научните издания на факултета"," A = ДА",40,null,"B = Във висока степен ",68,null,"C = В известна степен",266,null," D = НЕ",307]
["48. преподава на академично равнище"," A = ДА",317,null,"B = Във висока степен ",207,null,"C = В известна степен",135,null," D = НЕ",22]
["49. работи с добре подготвени и отдадени на работата си преподаватели"," A = ДА",216,null,"B = Във висока степен ",248,null,"C = В известна степен",191,null," D = НЕ",26]
["50. толерира творчеството, инициативата, самостоятелното мислене"," A = ДА",114,null,"B = Във висока степен ",162,null,"C = В известна степен",274,null," D = НЕ",131]
["51. уважават индивидуалните способности и насърчава индивидуалното развитие на студентите"," A = ДА",111,null,"B = Във висока степен ",122,null,"C = В известна степен",265,null," D = НЕ",183]
["52. има възможност да получите образование по предпочитана специалност"," A = ДА",551,null,"B = НЕ",130,null,null,0,null,null,0]
["53. родителите Ви настояват да продължите образованието си"," A = ДА",246,null,"B = НЕ",435,null,null,0,null,null,0]
["54. приятелите и съучениците Ви учат тук"," A = ДА",111,null,"B = НЕ ",568,null,null,0,null,null,1]
["55. е в района, в който сте роден(а) и живеете"," A = ДА",302,null,"B = НЕ ",374,null,null,2,null,null,3]
["56. е висше училище с традиции и авторитет"," A = ДА",547,null,"B = НЕ",129,null,null,0,null,null,4]
["57. били потърпевш на корупционен натиск"," A = ДА",41,null,"B = НЕ ",635,null,null,5,null,null,0]
["58. чували, че има корумпирани преподаватели и служители, но не сте се сблъсквали лично с корупция в Университета"," A = ДА",529,null,"B = НЕ",148,null,null,4,null,null,0]
["59. сигурни, че има корумпирани преподаватели и служители в ПУ"," A = ДА",314,null,"B = НЕ",362,null,null,4,null,null,1]
["60. сигурни, че няма корумпирани преподаватели и служители в ПУ"," A = ДА",79,null,"B = НЕ",600,null,null,1,null,null,1]

{"sheet":"Data","index":2,"n_rows":164,"n_cols":20,"rows_kept":164,"cut":false,"hidden":false,"merged":[]}
["ВЪПРОСИ",null,null,null,null,null,null,null,null,null,null,null,null,null,"дали отговор"]
["3. Курс"," 1 = І","2 = ІІ","3 = ІІІ           ","4 = ІV",287,152,124,103,null,{"$f":"F2/O2","v":0.43093093093093093},{"$f":"G2/O2","v":0.22822822822822822},{"$f":"H2/O2","v":0.18618618618618618},{"$f":"I2/O2","v":0.15465465465465467},{"$f":"SUM(F2:I2)","v":666}]
["4. Пол"," 1 = МЪЖ","2 = ЖЕНА",null,null,184,497,0,0,null,0.27019089574155652,0.72980910425844348,null,null,681]
["5. Посещение на лекции"," 1 = Всички","2 = Голяма част ","3 = Малка част"," 4 = Нито една",208,411,57,5,null,0.3054331864904552,0.6035242290748899,{"$f":"H4/O4","v":8.3700440528634359E-2},{"$f":"I4/O4","v":7.3421439060205578E-3},681]
["6. Посещение на упражнения"," 1 = Всички","2 = Голяма част ","3 = Малка част"," 4 = Нито едно",430,242,8,1,null,0.63142437591776801,0.35535976505139499,1.1747430249632892E-2,{"$f":"I5/O5","v":1.4684287812041115E-3},681]
["7. Ако не сте посещавали занятия, коя е причината за това"," 1 = Посещавал съм","2 = Работя и уча","3 = Безинтересни са","4 = Мога да се подготвя сам",379,133,120,49,null,0.55653450807635829,0.19530102790014683,0.1762114537444934,{"$f":"I6/O6","v":7.1953010279001473E-2},681]
["8. Успех от следването до момента"," 1 = Отличен","2 = Много добър","3 = Добър","4 = Среден",56,319,241,65,null,8.223201174743025E-2,0.46842878120411158,0.35389133627019087,{"$f":"I7/O7","v":9.544787077826726E-2},681]
["9. квалификационната характеристика на специалността си"," 1 = ДА ","2 = ЧАСТИЧНО","3 = НЕ",null,379,271,31,0,null,0.55653450807635829,0.39794419970631423,4.552129221732746E-2,null,681]
["10. учебния план, по който се обучавате"," 1 = ДА ","2 = ЧАСТИЧНО","3 = НЕ",null,349,270,61,1,null,0.51248164464023493,0.3964757709251101,8.957415565345081E-2,null,681]
["11. учебните програми на дисциплините, които изучавате"," 1 = ДА ","2 = ЧАСТИЧНО","3 = НЕ",null,351,258,72,0,null,0.51541850220264318,0.3788546255506608,0.10572687224669604,null,681]
["12. на развитието общата Ви култура"," 1 = ДА","2 = Във висока степен ","3 = В известна степен"," 4 = НЕ",344,191,135,11,null,0.50513950073421443,0.28046989720998533,0.19823788546255505,{"$f":"I11/O11","v":1.6152716593245228E-2},681]
["13. професионалната Ви подготовка"," 1 = ДА","2 = Във висока степен ","3 = В известна степен"," 4 = НЕ",184,222,239,36,null,0.27019089574155652,0.32599118942731276,0.35095447870778268,5.2863436123348019E-2,681]
["14. актуални и отразяват постиженията на науката"," 1 = ДА","2 = Във висока степен ","3 = В известна степен"," 4 = НЕ",122,232,269,58,null,0.17914831130690162,0.34067547723935387,0.39500734214390604,8.5168869309838469E-2,681]
["15. актуални и ориентирани към потребностите на практиката"," 1 = ДА","2 = Във висока степен ","3 = В известна степен"," 4 = НЕ",96,177,322,86,null,0.14096916299559473,0.25991189427312777,0.47283406754772395,0.12628487518355361,681]
["16. анахронични и самоцелни"," 1 = ДА","2 = Във висока степен ","3 = В известна степен"," 4 = НЕ",55,82,312,232,null,8.0763582966226141E-2,0.12041116005873716,0.45814977973568283,0.34067547723935387,681]
["17. добро и дава възможност за самостоятелна работа"," 1 = ДА","2 = Във висока степен ","3 = В известна степен"," 4 = НЕ",103,118,266,194,null,0.1512481644640235,0.17327459618208516,0.39060205580029367,0.28487518355359764,681]
["18. напрегнато и ограничава възможностите за самостоятелна работа"," 1 = ДА","2 = Във висока степен ","3 = В известна степен"," 4 = НЕ",143,132,208,198,null,0.20998531571218795,0.19383259911894274,0.3054331864904552,0.29074889867841408,681]
["19. съобразена по-скоро с интересите и възможностите на преподавателите, отколкото с тези на студентите"," 1 = ДА","2 = Във висока степен ","3 = В известна степен"," 4 = НЕ",284,115,170,112,null,0.41703377386196772,0.16886930983847284,0.24963289280469897,0.1644640234948605,681]
["20. съдържателни и интересни"," 1 = ДА","2 = Във висока степен ","3 = В известна степен"," 4 = НЕ",147,216,278,40,null,0.21585903083700442,0.31718061674008813,0.40822320117474303,5.8737151248164463E-2,681]
["21. скучни и безинтересни"," 1 = ДА","2 = Във висока степен ","3 = В известна степен"," 4 = НЕ",39,95,282,265,null,5.7268722466960353E-2,0.1395007342143906,0.41409691629955947,0.3891336270190896,681]
["22. способност за творческо мислене"," 1 = ДА","2 = Във висока степен ","3 = В известна степен"," 4 = НЕ",124,155,264,138,null,0.18208516886930984,0.22760646108663729,0.38766519823788548,0.20264317180616739,681]
["23. способност за вземане на решения"," 1 = ДА","2 = Във висока степен ","3 = В известна степен"," 4 = НЕ",105,155,281,140,null,0.15418502202643172,0.22760646108663729,0.41262848751835535,0.20558002936857561,681]
["24. умения за работа в екип"," 1 = ДА","2 = Във висока степен ","3 = В известна степен"," 4 = НЕ  ",165,148,195,173,null,0.24229074889867841,0.21732745961820851,0.28634361233480177,0.25403817914831128,681]
["25. комуникативни умения"," 1 = ДА","2 = Във висока степен ","3 = В известна степен"," 4 = НЕ",221,165,205,90,null,0.32452276064610869,0.24229074889867841,0.30102790014684289,0.13215859030837004,681]
["26. полезни и необходими"," 1 = ДА","2 = Във висока степен ","3 = В известна степен"," 4 = НЕ",330,154,167,30,null,0.48458149779735682,0.2261380323054332,0.24522760646108663,4.405286343612335E-2,681]
["27. самоцелни и безполезни"," 1 = ДА","2 = Във висока степен ","3 = В известна степен"," 4 = НЕ",34,48,170,429,null,4.9926578560939794E-2,7.0484581497797363E-2,0.24963289280469897,0.62995594713656389,681]
["28. библиотеките в Университета разполага с необходимата Ви литература"," 1 = ДА","2 = Във висока степен ","3 = В известна степен"," 4 = НЕ",122,155,229,175,null,0.17914831130690162,0.22760646108663729,0.33627019089574156,0.25697503671071953,681]
["29. услугите са достъпни за Вас"," 1 = ДА","2 = Във висока степен ","3 = В известна степен"," 4 = НЕ",245,121,217,98,null,0.35976505139500736,0.1776798825256975,0.3186490455212922,0.14390602055800295,681]
["30. административното обслужване е на добро равнище"," 1 = ДА","2 = Във висока степен ","3 = В известна степен"," 4 = НЕ",105,83,202,291,null,0.15418502202643172,0.12187958883994127,0.29662261380323052,0.42731277533039647,681]
["31. в Университета има условия за спорт"," 1 = ДА","2 = Във висока степен ","3 = В известна степен"," 4 = НЕ",53,43,198,387,null,7.7826725403817909E-2,6.3142437591776804E-2,0.29074889867841408,0.56828193832599116,681]
["32. социалните условия (стипендии, общежития. стол, почивна база) са добре решени"," 1 = ДА","2 = Във висока степен ","3 = В известна степен"," 4 = НЕ",86,88,228,279,null,0.12628487518355361,0.12922173274596183,0.33480176211453744,0.40969162995594716,681]
["33. преподавателите Ви са добре подготвени и познават новостите в научната област, в която работят"," 1 = ДА","2 = Във висока степен ","3 = В известна степен"," 4 = НЕ",306,223,137,15,null,0.44933920704845814,0.32745961820851688,0.2011747430249633,2.2026431718061675E-2,681]
["34. преподавателите Ви са толерантни, комуникативни и мотивирани в работата си със студентите"," 1 = ДА","2 = Във висока степен ","3 = В известна степен"," 4 = НЕ",151,236,233,61,null,0.22173274596182085,0.34654919236417031,0.342143906020558,8.957415565345081E-2,681]
["35. има корумпирани преподаватели"," 1 = ДА","2 = Във висока степен ","3 = В известна степен"," 4 = НЕ",196,51,196,238,null,{"$f":"F34/O34","v":0.28781204111600589},{"$f":"G34/O34","v":7.4889867841409691E-2},0.28781204111600589,0.34948604992657856,{"$f":"SUM(F34:I34)","v":681}]
["36. има корумпирани служители"," 1 = ДА","2 = Във висока степен ","3 = В известна степен"," 4 = НЕ",199,56,214,212,null,0.2922173274596182,8.223201174743025E-2,0.31424375917767988,0.31130690161527164,681]
["37. материалната база е добра"," 1 = ДА","2 = Във висока степен ","3 = В известна степен"," 4 = НЕ",177,198,200,106,null,0.25991189427312777,0.29074889867841408,0.29368575624082233,0.15565345080763582,681]
["38. учебно-техническите средства са съвременни и подпомагат учебния процес"," 1 = ДА","2 = Във висока степен ","3 = В известна степен"," 4 = НЕ",201,167,189,124,null,0.29515418502202645,0.24522760646108663,0.27753303964757708,0.18208516886930984,681]
["39. учебниците и учебно-помощните материали са достъпни и подпомагат обучението Ви"," 1 = ДА","2 = Във висока степен ","3 = В известна степен"," 4 = НЕ",113,127,297,144,null,0.16593245227606462,0.18649045521292218,0.43612334801762115,0.21145374449339208,681]
["40. публични лекции, срещи с представители на науката, политиката, бизнеса културата"," 1 = ДА","2 = НЕ",null,null,257,419,0,5,null,0.37738619676945667,0.61527165932452277,null,null,681]
["41. студентски творчески инициативи"," 1 = ДА","2 = НЕ",null,null,134,546,0,1,null,0.19676945668135096,0.80176211453744495,null,null,681]
["42. програми за обмен на студенти"," 1 = ДА","2 = НЕ",null,null,69,611,0,1,null,0.1013215859030837,0.89720998531571217,null,null,681]
["43. дискусии, кръгли маси, конференции"," 1 = ДА","2 = НЕ",null,null,100,577,4,0,null,0.14684287812041116,0.84728340675477243,null,null,681]
["44. проекти на преподавателските екипи"," 1 = ДА","2 = НЕ",null,null,48,632,0,1,null,7.0484581497797363E-2,0.92804698972099853,null,null,681]
["45. научните изследвания на вашите преподаватели"," 1 = ДА","2 = Във висока степен ","3 = В известна степен"," 4 = НЕ",40,94,281,266,null,5.8737151248164463E-2,0.13803230543318648,{"$f":"H44/O44","v":0.41262848751835535},{"$f":"I44/O44","v":0.39060205580029367},681]
["46. научно-изследователска програма на Факултета"," 1 = ДА","2 = Във висока степен ","3 = В известна степен"," 4 = НЕ",19,46,169,447,null,2.7900146842878122E-2,6.7547723935389131E-2,0.24816446402349487,0.65638766519823788,681]
["47. научните издания на факултета"," 1 = ДА","2 = Във висока степен ","3 = В известна степен"," 4 = НЕ",40,68,266,307,null,5.8737151248164463E-2,9.9853157121879588E-2,0.39060205580029367,0.45080763582966227,681]
["48. преподава на академично равнище"," 1 = ДА","2 = Във висока степен ","3 = В известна степен"," 4 = НЕ",317,207,135,22,null,0.46549192364170339,0.30396475770925108,0.19823788546255505,3.2305433186490456E-2,681]
["49. работи с добре подготвени и отдадени на работата си преподаватели"," 1 = ДА","2 = Във висока степен ","3 = В известна степен"," 4 = НЕ",216,248,191,26,null,0.31718061674008813,0.36417033773861968,0.28046989720998533,3.81791483113069E-2,681]
["50. толерира творчеството, инициативата, самостоятелното мислене"," 1 = ДА","2 = Във висока степен ","3 = В известна степен"," 4 = НЕ",114,162,274,131,null,0.16740088105726872,0.23788546255506607,0.4023494860499266,0.19236417033773862,681]
["51. уважават индивидуалните способности и насърчава индивидуалното развитие на студентите"," 1 = ДА","2 = Във висока степен ","3 = В известна степен"," 4 = НЕ",111,122,265,183,null,0.16299559471365638,0.17914831130690162,0.3891336270190896,0.2687224669603524,681]
["52. има възможност да получите образование по предпочитана специалност"," 1 = ДА","2 = НЕ",null,null,551,130,0,0,null,{"$f":"F51/O51","v":0.80910425844346545},{"$f":"G51/O51","v":0.19089574155653452},null,null,681]
["53. родителите Ви настояват да продължите образованието си"," 1 = ДА","2 = НЕ",null,null,246,435,0,0,null,0.36123348017621143,0.63876651982378851,null,null,681]
["54. приятелите и съучениците Ви учат тук"," 1 = ДА","2 = НЕ ",null,null,111,568,0,1,null,0.16323529411764706,0.83529411764705885,null,null,680]
["55. е в района, в който сте роден(а) и живеете"," 1 = ДА","2 = НЕ ",null,null,302,374,2,3,null,0.44346549192364171,0.54919236417033779,null,null,681]
["56. е висше училище с традиции и авторитет"," 1 = ДА","2 = НЕ",null,null,547,129,0,4,null,0.80441176470588238,0.18970588235294117,null,null,680]
["57. били потърпевш на корупционен натиск"," 1 = ДА","2 = НЕ ",null,null,41,635,5,0,null,6.0205580029368579E-2,0.9324522760646109,null,null,681]
["58. чували, че има корумпирани преподаватели и служители, но не сте се сблъсквали лично с корупция в Университета"," 1 = ДА","2 = НЕ",null,null,529,148,4,0,null,0.77679882525697508,0.21732745961820851,null,null,681]
["59. сигурни, че има корумпирани преподаватели и служители в ПУ"," 1 = ДА","2 = НЕ",null,null,314,362,4,1,null,0.46108663729809102,0.53157121879588842,null,null,681]
["60. сигурни, че няма корумпирани преподаватели и служители в ПУ"," 1 = ДА","2 = НЕ",null,null,79,600,1,1,null,0.11600587371512482,0.88105726872246692,null,null,681]
[]
[]
[]
[]
[]
[]
[]
[]
[]
[]
[]
[]
[]
[]
[]
[]
[]
[]
[]
[]
[]
[]
[]
[]
[]
[]
[]
[]
[]
[]
[]
[]
[]
[]
[]
[]
[]
[]
[]
[]
[]
[]
[]
[]
[]
[]
[]
[]
[]
[]
[]
[]
[]
[]
[]
[]
[]
[]
[]
[]
[]
[]
[]
[]
[]
[]
[]
[]
[]
[]
[]
[]
[]
[]
[]
[]
[]
[]
[]
[]
[]
[]
[]
[]
[]
[]
[]
[]
[]
[]
[]
[]
[]
[]
[]
[]
[]
[]
[]
[]
[null,null,null,null,null,null,null,null,null,null,null,null,null,null,null,"40. публични лекции, срещи с представители на науката, политиката, бизнеса културата"," 1 = ДА","2 = НЕ",190,330]
[null,null,null,null,null,null,null,null,null,null,null,null,null,null,null,"41. студентски творчески инициативи"," 1 = ДА","2 = НЕ",101,420]
[null,null,null,null,null,null,null,null,null,null,null,null,null,null,null,"42. програми за обмен на студенти"," 1 = ДА","2 = НЕ",53,468]
[null,null,null,null,null,null,null,null,null,null,null,null,null,null,null,"43. дискусии, кръгли маси, конференции"," 1 = ДА","2 = НЕ",77,443]
[null,null,null,null,null,null,null,null,null,null,null,null,null,null,null,"44. проекти на преподавателските екипи"," 1 = ДА","2 = НЕ",37,484]

{"sheet":"Data diagrams (1)","index":3,"n_rows":42,"n_cols":16384,"rows_kept":42,"cut":false,"hidden":false,"merged":[]}
["ВЪПРОСИ"]
[{"$f":"Data!A2","v":"3. Курс"},"Първи курс","Втори курс","Трети курс","Четвърти курс"]
[null,{"$f":"Data!F2","v":287},{"$f":"Data!G2","v":152},{"$f":"Data!H2","v":124},{"$f":"Data!I2","v":103}]
[{"$f":"'Data diagrams (noprint)'!A2","v":"4. Пол"},{"$f":"'Data diagrams (noprint)'!B2","v":" 1 = МЪЖ"},{"$f":"'Data diagrams (noprint)'!C2","v":"2 = ЖЕНА"}]
[null,{"$f":"'Data diagrams (noprint)'!B3","v":184},{"$f":"'Data diagrams (noprint)'!C3","v":497}]
[{"$f":"Data!A4","v":"5. Посещение на лекции"},{"$f":"Data!B4","v":" 1 = Всички"},{"$f":"Data!C4","v":"2 = Голяма част "},{"$f":"Data!D4","v":"3 = Малка част"},{"$f":"Data!E4","v":" 4 = Нито една"}]
[null,{"$f":"Data!F4","v":208},{"$f":"Data!G4","v":411},{"$f":"Data!H4","v":57},{"$f":"Data!I4","v":5}]
[{"$f":"'Data diagrams (noprint)'!A4","v":"6. Посещение на упражнения"},{"$f":"'Data diagrams (noprint)'!B4","v":" 1 = Всички"},{"$f":"'Data diagrams (noprint)'!C4","v":"2 = Голяма част "},{"$f":"'Data diagrams (noprint)'!D4","v":"3 = Малка част"},{"$f":"'Data diagrams (noprint)'!E4","v":" 4 = Нито едно"}]
[null,{"$f":"'Data diagrams (noprint)'!B5","v":430},{"$f":"'Data diagrams (noprint)'!C5","v":242},{"$f":"'Data diagrams (noprint)'!D5","v":8},{"$f":"'Data diagrams (noprint)'!E5","v":1}]
[{"$f":"Data!A6","v":"7. Ако не сте посещавали занятия, коя е причината за това"},{"$f":"Data!B6","v":" 1 = Посещавал съм"},{"$f":"Data!C6","v":"2 = Работя и уча"},{"$f":"Data!D6","v":"3 = Безинтересни са"},{"$f":"Data!E6","v":"4 = Мога да се подготвя сам"}]
[null,{"$f":"Data!F6","v":379},{"$f":"Data!G6","v":133},{"$f":"Data!H6","v":120},{"$f":"Data!I6","v":49}]
[{"$f":"Data!A8","v":"9. квалификационната характеристика на специалността си"},{"$f":"Data!B8","v":" 1 = ДА "},{"$f":"Data!C8","v":"2 = ЧАСТИЧНО"},{"$f":"Data!D8","v":"3 = НЕ"}]
[null,{"$f":"Data!F8","v":379},{"$f":"Data!G8","v":271},{"$f":"Data!H8","v":31}]
[{"$f":"'Data diagrams (noprint)'!A8","v":"10. учебния план, по който се обучавате"},{"$f":"'Data diagrams (noprint)'!B8","v":" 1 = ДА "},{"$f":"'Data diagrams (noprint)'!C8","v":"2 = ЧАСТИЧНО"},{"$f":"'Data diagrams (noprint)'!D8","v":"3 = НЕ"},null,null,null,null,{"$f":"'Data diagrams (noprint)'!I8","v":0},{"$f":"'Data diagrams (noprint)'!J8","v":0},{"$f":"'Data diagrams (noprint)'!K8","v":0},{"$f":"'Data diagrams (noprint)'!L8","v":0},{"$f":"'Data diagrams (noprint)'!M8","v":0},{"$f":"'Data diagrams (noprint)'!N8","v":0},{"$f":"'Data diagrams (noprint)'!O8","v":0},{"$f":"'Data diagrams (noprint)'!P8","v":0},{"$f":"'Data diagrams (noprint)'!Q8","v":0},{"$f":"'Data diagrams (noprint)'!R8","v":0},{"$f":"'Data diagrams (noprint)'!S8","v":0},{"$f":"'Data diagrams (noprint)'!T8","v":0},{"$f":"'Data diagrams (noprint)'!U8","v":0},{"$f":"'Data diagrams (noprint)'!V8","v":0},{"$f":"'Data diagrams (noprint)'!W8","v":0},{"$f":"'Data diagrams (noprint)'!X8","v":0},{"$f":"'Data diagrams (noprint)'!Y8","v":0},{"$f":"'Data diagrams (noprint)'!Z8","v":0},{"$f":"'Data diagrams (noprint)'!AA8","v":0},{"$f":"'Data diagrams (noprint)'!AB8","v":0},{"$f":"'Data diagrams (noprint)'!AC8","v":0},{"$f":"'Data diagrams (noprint)'!AD8","v":0},{"$f":"'Data diagrams (noprint)'!AE8","v":0},{"$f":"'Data diagrams (noprint)'!AF8","v":0},{"$f":"'Data diagrams (noprint)'!AG8","v":0},{"$f":"'Data diagrams (noprint)'!AH8","v":0},{"$f":"'Data diagrams (noprint)'!AI8","v":0},{"$f":"'Data diagrams (noprint)'!AJ8","v":0},{"$f":"'Data diagrams (noprint)'!AK8","v":0},{"$f":"'Data diagrams (noprint)'!AL8","v":0},{"$f":"'Data diagrams (noprint)'!AM8","v":0},{"$f":"'Data diagrams (noprint)'!AN8","v":0},{"$f":"'Data diagrams (noprint)'!AO8","v":0},{"$f":"'Data diagrams (noprint)'!AP8","v":0},{"$f":"'Data diagrams (noprint)'!AQ8","v":0},{"$f":"'Data diagrams (noprint)'!AR8","v":0},{"$f":"'Data diagrams (noprint)'!AS8","v":0},{"$f":"'Data diagrams (noprint)'!AT8","v":0},{"$f":"'Data diagrams (noprint)'!AU8","v":0},{"$f":"'Data diagrams (noprint)'!AV8","v":0},{"$f":"'Data diagrams (noprint)'!AW8","v":0},{"$f":"'Data diagrams (noprint)'!AX8","v":0},{"$f":"'Data diagrams (noprint)'!AY8","v":0},{"$f":"'Data diagrams (noprint)'!AZ8","v":0},{"$f":"'Data diagrams (noprint)'!BA8","v":0},{"$f":"'Data diagrams (noprint)'!BB8","v":0},{"$f":"'Data diagrams (noprint)'!BC8","v":0},{"$f":"'Data diagrams (noprint)'!BD8","v":0},{"$f":"'Data diagrams (noprint)'!BE8","v":0},{"$f":"'Data diagrams (noprint)'!BF8","v":0},{"$f":"'Data diagrams (noprint)'!BG8","v":0},{"$f":"'Data diagrams (noprint)'!BH8","v":0},{"$f":"'Data diagrams (noprint)'!BI8","v":0},{"$f":"'Data diagrams (noprint)'!BJ8","v":0},{"$f":"'Data diagrams (noprint)'!BK8","v":0},{"$f":"'Data diagrams (noprint)'!BL8","v":0},{"$f":"'Data diagrams (noprint)'!BM8","v":0},{"$f":"'Data diagrams (noprint)'!BN8","v":0},{"$f":"'Data diagrams (noprint)'!BO8","v":0},{"$f":"'Data diagrams (noprint)'!BP8","v":0},{"$f":"'Data diagrams (noprint)'!BQ8","v":0},{"$f":"'Data diagrams (noprint)'!BR8","v":0},{"$f":"'Data diagrams (noprint)'!BS8","v":0},{"$f":"'Data diagrams (noprint)'!BT8","v":0},{"$f":"'Data diagrams (noprint)'!BU8","v":0},{"$f":"'Data diagrams (noprint)'!BV8","v":0},{"$f":"'Data diagrams (noprint)'!BW8","v":0},{"$f":"'Data diagrams (noprint)'!BX8","v":0},{"$f":"'Data diagrams (noprint)'!BY8","v":0},{"$f":"'Data diagrams (noprint)'!BZ8","v":0},{"$f":"'Data diagrams (noprint)'!CA8","v":0},{"$f":"'Data diagrams (noprint)'!CB8","v":0},{"$f":"'Data diagrams (noprint)'!CC8","v":0},{"$f":"'Data diagrams (noprint)'!CD8","v":0},{"$f":"'Data diagrams (noprint)'!CE8","v":0},{"$f":"'Data diagrams (noprint)'!CF8","v":0},{"$f":"'Data diagrams (noprint)'!CG8","v":0},{"$f":"'Data diagrams (noprint)'!CH8","v":0},{"$f":"'Data diagrams (noprint)'!CI8","v":0},{"$f":"'Data diagrams (noprint)'!CJ8","v":0},{"$f":"'Data diagrams (noprint)'!CK8","v":0},{"$f":"'Data diagrams (noprint)'!CL8","v":0},{"$f":"'Data diagrams (noprint)'!CM8","v":0},{"$f":"'Data diagrams (noprint)'!CN8","v":0},{"$f":"'Data diagrams (noprint)'!CO8","v":0},{"$f":"'Data diagrams (noprint)'!CP8","v":0},{"$f":"'Data diagrams (noprint)'!CQ8","v":0},{"$f":"'Data diagrams (noprint)'!CR8","v":0},{"$f":"'Data diagrams (noprint)'!CS8","v":0},{"$f":"'Data diagrams (noprint)'!CT8","v":0},{"$f":"'Data diagrams (noprint)'!CU8","v":0},{"$f":"'Data diagrams (noprint)'!CV8","v":0},{"$f":"'Data diagrams (noprint)'!CW8","v":0},{"$f":"'Data diagrams (noprint)'!CX8","v":0},{"$f":"'Data diagrams (noprint)'!CY8","v":0},{"$f":"'Data diagrams (noprint)'!CZ8","v":0},{"$f":"'Data diagrams (noprint)'!DA8","v":0},{"$f":"'Data diagrams (noprint)'!DB8","v":0},{"$f":"'Data diagrams (noprint)'!DC8","v":0},{"$f":"'Data diagrams (noprint)'!DD8","v":0},{"$f":"'Data diagrams (noprint)'!DE8","v":0},{"$f":"'Data diagrams (noprint)'!DF8","v":0},{"$f":"'Data diagrams (noprint)'!DG8","v":0},{"$f":"'Data diagrams (noprint)'!DH8","v":0},{"$f":"'Data diagrams (noprint)'!DI8","v":0},{"$f":"'Data diagrams (noprint)'!DJ8","v":0},{"$f":"'Data diagrams (noprint)'!DK8","v":0},{"$f":"'Data diagrams (noprint)'!DL8","v":0},{"$f":"'Data diagrams (noprint)'!DM8","v":0},{"$f":"'Data diagrams (noprint)'!DN8","v":0},{"$f":"'Data diagrams (noprint)'!DO8","v":0},{"$f":"'Data diagrams (noprint)'!DP8","v":0},{"$f":"'Data diagrams (noprint)'!DQ8","v":0},{"$f":"'Data diagrams (noprint)'!DR8","v":0},{"$f":"'Data diagrams (noprint)'!DS8","v":0},{"$f":"'Data diagrams (noprint)'!DT8","v":0},{"$f":"'Data diagrams (noprint)'!DU8","v":0},{"$f":"'Data diagrams (noprint)'!DV8","v":0},{"$f":"'Data diagrams (noprint)'!DW8","v":0},{"$f":"'Data diagrams (noprint)'!DX8","v":0},{"$f":"'Data diagrams (noprint)'!DY8","v":0},{"$f":"'Data diagrams (noprint)'!DZ8","v":0},{"$f":"'Data diagrams (noprint)'!EA8","v":0},{"$f":"'Data diagrams (noprint)'!EB8","v":0},{"$f":"'Data diagrams (noprint)'!EC8","v":0},{"$f":"'Data diagrams (noprint)'!ED8","v":0},{"$f":"'Data diagrams (noprint)'!EE8","v":0},{"$f":"'Data diagrams (noprint)'!EF8","v":0},{"$f":"'Data diagrams (noprint)'!EG8","v":0},{"$f":"'Data diagrams (noprint)'!EH8","v":0},{"$f":"'Data diagrams (noprint)'!EI8","v":0},{"$f":"'Data diagrams (noprint)'!EJ8","v":0},{"$f":"'Data diagrams (noprint)'!EK8","v":0},{"$f":"'Data diagrams (noprint)'!EL8","v":0},{"$f":"'Data diagrams (noprint)'!EM8","v":0},{"$f":"'Data diagrams (noprint)'!EN8","v":0},{"$f":"'Data diagrams (noprint)'!EO8","v":0},{"$f":"'Data diagrams (noprint)'!EP8","v":0},{"$f":"'Data diagrams (noprint)'!EQ8","v":0},{"$f":"'Data diagrams (noprint)'!ER8","v":0},{"$f":"'Data diagrams (noprint)'!ES8","v":0},{"$f":"'Data diagrams (noprint)'!ET8","v":0},{"$f":"'Data diagrams (noprint)'!EU8","v":0},{"$f":"'Data diagrams (noprint)'!EV8","v":0},{"$f":"'Data diagrams (noprint)'!EW8","v":0},{"$f":"'Data diagrams (noprint)'!EX8","v":0},{"$f":"'Data diagrams (noprint)'!EY8","v":0},{"$f":"'Data diagrams (noprint)'!EZ8","v":0},{"$f":"'Data diagrams (noprint)'!FA8","v":0},{"$f":"'Data diagrams (noprint)'!FB8","v":0},{"$f":"'Data diagrams (noprint)'!FC8","v":0},{"$f":"'Data diagrams (noprint)'!FD8","v":0},{"$f":"'Data diagrams (noprint)'!FE8","v":0},{"$f":"'Data diagrams (noprint)'!FF8","v":0},{"$f":"'Data diagrams (noprint)'!FG8","v":0},{"$f":"'Data diagrams (noprint)'!FH8","v":0},{"$f":"'Data diagrams (noprint)'!FI8","v":0},{"$f":"'Data diagrams (noprint)'!FJ8","v":0},{"$f":"'Data diagrams (noprint)'!FK8","v":0},{"$f":"'Data diagrams (noprint)'!FL8","v":0},{"$f":"'Data diagrams (noprint)'!FM8","v":0},{"$f":"'Data diagrams (noprint)'!FN8","v":0},{"$f":"'Data diagrams (noprint)'!FO8","v":0},{"$f":"'Data diagrams (noprint)'!FP8","v":0},{"$f":"'Data diagrams (noprint)'!FQ8","v":0},{"$f":"'Data diagrams (noprint)'!FR8","v":0},{"$f":"'Data diagrams (noprint)'!FS8","v":0},{"$f":"'Data diagrams (noprint)'!FT8","v":0},{"$f":"'Data diagrams (noprint)'!FU8","v":0},{"$f":"'Data diagrams (noprint)'!FV8","v":0},{"$f":"'Data diagrams (noprint)'!FW8","v":0},{"$f":"'Data diagrams (noprint)'!FX8","v":0},{"$f":"'Data diagrams (noprint)'!FY8","v":0},{"$f":"'Data diagrams (noprint)'!FZ8","v":0},{"$f":"'Data diagrams (noprint)'!GA8","v":0},{"$f":"'Data diagrams (noprint)'!GB8","v":0},{"$f":"'Data diagrams (noprint)'!GC8","v":0},{"$f":"'Data diagrams (noprint)'!GD8","v":0},{"$f":"'Data diagrams (noprint)'!GE8","v":0},{"$f":"'Data diagrams (noprint)'!GF8","v":0},{"$f":"'Data diagrams (noprint)'!GG8","v":0},{"$f":"'Data diagrams (noprint)'!GH8","v":0},{"$f":"'Data diagrams (noprint)'!GI8","v":0},{"$f":"'Data diagrams (noprint)'!GJ8","v":0},{"$f":"'Data diagrams (noprint)'!GK8","v":0},{"$f":"'Data diagrams (noprint)'!GL8","v":0},{"$f":"'Data diagrams (noprint)'!GM8","v":0},{"$f":"'Data diagrams (noprint)'!GN8","v":0},{"$f":"'Data diagrams (noprint)'!GO8","v":0},{"$f":"'Data diagrams (noprint)'!GP8","v":0},{"$f":"'Data diagrams (noprint)'!GQ8","v":0},{"$f":"'Data diagrams (noprint)'!GR8","v":0},{"$f":"'Data diagrams (noprint)'!GS8","v":0},{"$f":"'Data diagrams (noprint)'!GT8","v":0},{"$f":"'Data diagrams (noprint)'!GU8","v":0},{"$f":"'Data diagrams (noprint)'!GV8","v":0},{"$f":"'Data diagrams (noprint)'!GW8","v":0},{"$f":"'Data diagrams (noprint)'!GX8","v":0},{"$f":"'Data diagrams (noprint)'!GY8","v":0},{"$f":"'Data diagrams (noprint)'!GZ8","v":0},{"$f":"'Data diagrams (noprint)'!HA8","v":0},{"$f":"'Data diagrams (noprint)'!HB8","v":0},{"$f":"'Data diagrams (noprint)'!HC8","v":0},{"$f":"'Data diagrams (noprint)'!HD8","v":0},{"$f":"'Data diagrams (noprint)'!HE8","v":0},{"$f":"'Data diagrams (noprint)'!HF8","v":0},{"$f":"'Data diagrams (noprint)'!HG8","v":0},{"$f":"'Data diagrams (noprint)'!HH8","v":0},{"$f":"'Data diagrams (noprint)'!HI8","v":0},{"$f":"'Data diagrams (noprint)'!HJ8","v":0},{"$f":"'Data diagrams (noprint)'!HK8","v":0},{"$f":"'Data diagrams (noprint)'!HL8","v":0},{"$f":"'Data diagrams (noprint)'!HM8","v":0},{"$f":"'Data diagrams (noprint)'!HN8","v":0},{"$f":"'Data diagrams (noprint)'!HO8","v":0},{"$f":"'Data diagrams (noprint)'!HP8","v":0},{"$f":"'Data diagrams (noprint)'!HQ8","v":0},{"$f":"'Data diagrams (noprint)'!HR8","v":0},{"$f":"'Data diagrams (noprint)'!HS8","v":0},{"$f":"'Data diagrams (noprint)'!HT8","v":0},{"$f":"'Data diagrams (noprint)'!HU8","v":0},{"$f":"'Data diagrams (noprint)'!HV8","v":0},{"$f":"'Data diagrams (noprint)'!HW8","v":0},{"$f":"'Data diagrams (noprint)'!HX8","v":0},{"$f":"'Data diagrams (noprint)'!HY8","v":0},{"$f":"'Data diagrams (noprint)'!HZ8","v":0},{"$f":"'Data diagrams (noprint)'!IA8","v":0},{"$f":"'Data diagrams (noprint)'!IB8","v":0},{"$f":"'Data diagrams (noprint)'!IC8","v":0},{"$f":"'Data diagrams (noprint)'!ID8","v":0},{"$f":"'Data diagrams (noprint)'!IE8","v":0},{"$f":"'Data diagrams (noprint)'!IF8","v":0},{"$f":"'Data diagrams (noprint)'!IG8","v":0},{"$f":"'Data diagrams (noprint)'!IH8","v":0},{"$f":"'Data diagrams (noprint)'!II8","v":0},{"$f":"'Data diagrams (noprint)'!IJ8","v":0},{"$f":"'Data diagrams (noprint)'!IK8","v":0},{"$f":"'Data diagrams (noprint)'!IL8","v":0},{"$f":"'Data diagrams (noprint)'!IM8","v":0},{"$f":"'Data diagrams (noprint)'!IN8","v":0},{"$f":"'Data diagrams (noprint)'!IO8","v":0},{"$f":"'Data diagrams (noprint)'!IP8","v":0},{"$f":"'Data diagrams (noprint)'!IQ8","v":0},{"$f":"'Data diagrams (noprint)'!IR8","v":0},{"$f":"'Data diagrams (noprint)'!IS8","v":0},{"$f":"'Data diagrams (noprint)'!IT8","v":0},{"$f":"'Data diagrams (noprint)'!IU8","v":0},{"$f":"'Data diagrams (noprint)'!IV8","v":0},{"$f":"'Data diagrams (noprint)'!IW8","v":0},{"$f":"'Data diagrams (noprint)'!IX8","v":0},{"$f":"'Data diagrams (noprint)'!IY8","v":0},{"$f":"'Data diagrams (noprint)'!IZ8","v":0},{"$f":"'Data diagrams (noprint)'!JA8","v":0},{"$f":"'Data diagrams (noprint)'!JB8","v":0},{"$f":"'Data diagrams (noprint)'!JC8","v":0},{"$f":"'Data diagrams (noprint)'!JD8","v":0},{"$f":"'Data diagrams (noprint)'!JE8","v":0},{"$f":"'Data diagrams (noprint)'!JF8","v":0},{"$f":"'Data diagrams (noprint)'!JG8","v":0},{"$f":"'Data diagrams (noprint)'!JH8","v":0},{"$f":"'Data diagrams (noprint)'!JI8","v":0},{"$f":"'Data diagrams (noprint)'!JJ8","v":0},{"$f":"'Data diagrams (noprint)'!JK8","v":0},{"$f":"'Data diagrams (noprint)'!JL8","v":0},{"$f":"'Data diagrams (noprint)'!JM8","v":0},{"$f":"'Data diagrams (noprint)'!JN8","v":0},{"$f":"'Data diagrams (noprint)'!JO8","v":0},{"$f":"'Data diagrams (noprint)'!JP8","v":0},{"$f":"'Data diagrams (noprint)'!JQ8","v":0},{"$f":"'Data diagrams (noprint)'!JR8","v":0},{"$f":"'Data diagrams (noprint)'!JS8","v":0},{"$f":"'Data diagrams (noprint)'!JT8","v":0},{"$f":"'Data diagrams (noprint)'!JU8","v":0},{"$f":"'Data diagrams (noprint)'!JV8","v":0},{"$f":"'Data diagrams (noprint)'!JW8","v":0},{"$f":"'Data diagrams (noprint)'!JX8","v":0},{"$f":"'Data diagrams (noprint)'!JY8","v":0},{"$f":"'Data diagrams (noprint)'!JZ8","v":0},{"$f":"'Data diagrams (noprint)'!KA8","v":0},{"$f":"'Data diagrams (noprint)'!KB8","v":0},{"$f":"'Data diagrams (noprint)'!KC8","v":0},{"$f":"'Data diagrams (noprint)'!KD8","v":0},{"$f":"'Data diagrams (noprint)'!KE8","v":0},{"$f":"'Data diagrams (noprint)'!KF8","v":0},{"$f":"'Data diagrams (noprint)'!KG8","v":0},{"$f":"'Data diagrams (noprint)'!KH8","v":0},{"$f":"'Data diagrams (noprint)'!KI8","v":0},{"$f":"'Data diagrams (noprint)'!KJ8","v":0},{"$f":"'Data diagrams (noprint)'!KK8","v":0},{"$f":"'Data diagrams (noprint)'!KL8","v":0},{"$f":"'Data diagrams (noprint)'!KM8","v":0},{"$f":"'Data diagrams (noprint)'!KN8","v":0},{"$f":"'Data diagrams (noprint)'!KO8","v":0},{"$f":"'Data diagrams (noprint)'!KP8","v":0},{"$f":"'Data diagrams (noprint)'!KQ8","v":0},{"$f":"'Data diagrams (noprint)'!KR8","v":0},{"$f":"'Data diagrams (noprint)'!KS8","v":0},{"$f":"'Data diagrams (noprint)'!KT8","v":0},{"$f":"'Data diagrams (noprint)'!KU8","v":0},{"$f":"'Data diagrams (noprint)'!KV8","v":0},{"$f":"'Data diagrams (noprint)'!KW8","v":0},{"$f":"'Data diagrams (noprint)'!KX8","v":0},{"$f":"'Data diagrams (noprint)'!KY8","v":0},{"$f":"'Data diagrams (noprint)'!KZ8","v":0},{"$f":"'Data diagrams (noprint)'!LA8","v":0},{"$f":"'Data diagrams (noprint)'!LB8","v":0},{"$f":"'Data diagrams (noprint)'!LC8","v":0},{"$f":"'Data diagrams (noprint)'!LD8","v":0},{"$f":"'Data diagrams (noprint)'!LE8","v":0},{"$f":"'Data diagrams (noprint)'!LF8","v":0},{"$f":"'Data diagrams (noprint)'!LG8","v":0},{"$f":"'Data diagrams (noprint)'!LH8","v":0},{"$f":"'Data diagrams (noprint)'!LI8","v":0},{"$f":"'Data diagrams (noprint)'!LJ8","v":0},{"$f":"'Data diagrams (noprint)'!LK8","v":0},{"$f":"'Data diagrams (noprint)'!LL8","v":0},{"$f":"'Data diagrams (noprint)'!LM8","v":0},{"$f":"'Data diagrams (noprint)'!LN8","v":0},{"$f":"'Data diagrams (noprint)'!LO8","v":0},{"$f":"'Data diagrams (noprint)'!LP8","v":0},{"$f":"'Data diagrams (noprint)'!LQ8","v":0},{"$f":"'Data diagrams (noprint)'!LR8","v":0},{"$f":"'Data diagrams (noprint)'!LS8","v":0},{"$f":"'Data diagrams (noprint)'!LT8","v":0},{"$f":"'Data diagrams (noprint)'!LU8","v":0},{"$f":"'Data diagrams (noprint)'!LV8","v":0},{"$f":"'Data diagrams (noprint)'!LW8","v":0},{"$f":"'Data diagrams (noprint)'!LX8","v":0},{"$f":"'Data diagrams (noprint)'!LY8","v":0},{"$f":"'Data diagrams (noprint)'!LZ8","v":0},{"$f":"'Data diagrams (noprint)'!MA8","v":0},{"$f":"'Data diagrams (noprint)'!MB8","v":0},{"$f":"'Data diagrams (noprint)'!MC8","v":0},{"$f":"'Data diagrams (noprint)'!MD8","v":0},{"$f":"'Data diagrams (noprint)'!ME8","v":0},{"$f":"'Data diagrams (noprint)'!MF8","v":0},{"$f":"'Data diagrams (noprint)'!MG8","v":0},{"$f":"'Data diagrams (noprint)'!MH8","v":0},{"$f":"'Data diagrams (noprint)'!MI8","v":0},{"$f":"'Data diagrams (noprint)'!MJ8","v":0},{"$f":"'Data diagrams (noprint)'!MK8","v":0},{"$f":"'Data diagrams (noprint)'!ML8","v":0},{"$f":"'Data diagrams (noprint)'!MM8","v":0},{"$f":"'Data diagrams (noprint)'!MN8","v":0},{"$f":"'Data diagrams (noprint)'!MO8","v":0},{"$f":"'Data diagrams (noprint)'!MP8","v":0},{"$f":"'Data diagrams (noprint)'!MQ8","v":0},{"$f":"'Data diagrams (noprint)'!MR8","v":0},{"$f":"'Data diagrams (noprint)'!MS8","v":0},{"$f":"'Data diagrams (noprint)'!MT8","v":0},{"$f":"'Data diagrams (noprint)'!MU8","v":0},{"$f":"'Data diagrams (noprint)'!MV8","v":0},{"$f":"'Data diagrams (noprint)'!MW8","v":0},{"$f":"'Data diagrams (noprint)'!MX8","v":0},{"$f":"'Data diagrams (noprint)'!MY8","v":0},{"$f":"'Data diagrams (noprint)'!MZ8","v":0},{"$f":"'Data diagrams (noprint)'!NA8","v":0},{"$f":"'Data diagrams (noprint)'!NB8","v":0},{"$f":"'Data diagrams (noprint)'!NC8","v":0},{"$f":"'Data diagrams (noprint)'!ND8","v":0},{"$f":"'Data diagrams (noprint)'!NE8","v":0},{"$f":"'Data diagrams (noprint)'!NF8","v":0},{"$f":"'Data diagrams (noprint)'!NG8","v":0},{"$f":"'Data diagrams (noprint)'!NH8","v":0},{"$f":"'Data diagrams (noprint)'!NI8","v":0},{"$f":"'Data diagrams (noprint)'!NJ8","v":0},{"$f":"'Data diagrams (noprint)'!NK8","v":0},{"$f":"'Data diagrams (noprint)'!NL8","v":0},{"$f":"'Data diagrams (noprint)'!NM8","v":0},{"$f":"'Data diagrams (noprint)'!NN8","v":0},{"$f":"'Data diagrams (noprint)'!NO8","v":0},{"$f":"'Data diagrams (noprint)'!NP8","v":0},{"$f":"'Data diagrams (noprint)'!NQ8","v":0},{"$f":"'Data diagrams (noprint)'!NR8","v":0},{"$f":"'Data diagrams (noprint)'!NS8","v":0},{"$f":"'Data diagrams (noprint)'!NT8","v":0},{"$f":"'Data diagrams (noprint)'!NU8","v":0},{"$f":"'Data diagrams (noprint)'!NV8","v":0},{"$f":"'Data diagrams (noprint)'!NW8","v":0},{"$f":"'Data diagrams (noprint)'!NX8","v":0},{"$f":"'Data diagrams (noprint)'!NY8","v":0},{"$f":"'Data diagrams (noprint)'!NZ8","v":0},{"$f":"'Data diagrams (noprint)'!OA8","v":0},{"$f":"'Data diagrams (noprint)'!OB8","v":0},{"$f":"'Data diagrams (noprint)'!OC8","v":0},{"$f":"'Data diagrams (noprint)'!OD8","v":0},{"$f":"'Data diagrams (noprint)'!OE8","v":0},{"$f":"'Data diagrams (noprint)'!OF8","v":0},{"$f":"'Data diagrams (noprint)'!OG8","v":0},{"$f":"'Data diagrams (noprint)'!OH8","v":0},{"$f":"'Data diagrams (noprint)'!OI8","v":0},{"$f":"'Data diagrams (noprint)'!OJ8","v":0},{"$f":"'Data diagrams (noprint)'!OK8","v":0},{"$f":"'Data diagrams (noprint)'!OL8","v":0},{"$f":"'Data diagrams (noprint)'!OM8","v":0},{"$f":"'Data diagrams (noprint)'!ON8","v":0},{"$f":"'Data diagrams (noprint)'!OO8","v":0},{"$f":"'Data diagrams (noprint)'!OP8","v":0},{"$f":"'Data diagrams (noprint)'!OQ8","v":0},{"$f":"'Data diagrams (noprint)'!OR8","v":0},{"$f":"'Data diagrams (noprint)'!OS8","v":0},{"$f":"'Data diagrams (noprint)'!OT8","v":0},{"$f":"'Data diagrams (noprint)'!OU8","v":0},{"$f":"'Data diagrams (noprint)'!OV8","v":0},{"$f":"'Data diagrams (noprint)'!OW8","v":0},{"$f":"'Data diagrams (noprint)'!OX8","v":0},{"$f":"'Data diagrams (noprint)'!OY8","v":0},{"$f":"'Data diagrams (noprint)'!OZ8","v":0},{"$f":"'Data diagrams (noprint)'!PA8","v":0},{"$f":"'Data diagrams (noprint)'!PB8","v":0},{"$f":"'Data diagrams (noprint)'!PC8","v":0},{"$f":"'Data diagrams (noprint)'!PD8","v":0},{"$f":"'Data diagrams (noprint)'!PE8","v":0},{"$f":"'Data diagrams (noprint)'!PF8","v":0},{"$f":"'Data diagrams (noprint)'!PG8","v":0},{"$f":"'Data diagrams (noprint)'!PH8","v":0},{"$f":"'Data diagrams (noprint)'!PI8","v":0},{"$f":"'Data diagrams (noprint)'!PJ8","v":0},{"$f":"'Data diagrams (noprint)'!PK8","v":0},{"$f":"'Data diagrams (noprint)'!PL8","v":0},{"$f":"'Data diagrams (noprint)'!PM8","v":0},{"$f":"'Data diagrams (noprint)'!PN8","v":0},{"$f":"'Data diagrams (noprint)'!PO8","v":0},{"$f":"'Data diagrams (noprint)'!PP8","v":0},{"$f":"'Data diagrams (noprint)'!PQ8","v":0},{"$f":"'Data diagrams (noprint)'!PR8","v":0},{"$f":"'Data diagrams (noprint)'!PS8","v":0},{"$f":"'Data diagrams (noprint)'!PT8","v":0},{"$f":"'Data diagrams (noprint)'!PU8","v":0},{"$f":"'Data diagrams (noprint)'!PV8","v":0},{"$f":"'Data diagrams (noprint)'!PW8","v":0},{"$f":"'Data diagrams (noprint)'!PX8","v":0},{"$f":"'Data diagrams (noprint)'!PY8","v":0},{"$f":"'Data diagrams (noprint)'!PZ8","v":0},{"$f":"'Data diagrams (noprint)'!QA8","v":0},{"$f":"'Data diagrams (noprint)'!QB8","v":0},{"$f":"'Data diagrams (noprint)'!QC8","v":0},{"$f":"'Data diagrams (noprint)'!QD8","v":0},{"$f":"'Data diagrams (noprint)'!QE8","v":0},{"$f":"'Data diagrams (noprint)'!QF8","v":0},{"$f":"'Data diagrams (noprint)'!QG8","v":0},{"$f":"'Data diagrams (noprint)'!QH8","v":0},{"$f":"'Data diagrams (noprint)'!QI8","v":0},{"$f":"'Data diagrams (noprint)'!QJ8","v":0},{"$f":"'Data diagrams (noprint)'!QK8","v":0},{"$f":"'Data diagrams (noprint)'!QL8","v":0},{"$f":"'Data diagrams (noprint)'!QM8","v":0},{"$f":"'Data diagrams (noprint)'!QN8","v":0},{"$f":"'Data diagrams (noprint)'!QO8","v":0},{"$f":"'Data diagrams (noprint)'!QP8","v":0},{"$f":"'Data diagrams (noprint)'!QQ8","v":0},{"$f":"'Data diagrams (noprint)'!QR8","v":0},{"$f":"'Data diagrams (noprint)'!QS8","v":0},{"$f":"'Data diagrams (noprint)'!QT8","v":0},{"$f":"'Data diagrams (noprint)'!QU8","v":0},{"$f":"'Data diagrams (noprint)'!QV8","v":0},{"$f":"'Data diagrams (noprint)'!QW8","v":0},{"$f":"'Data diagrams (noprint)'!QX8","v":0},{"$f":"'Data diagrams (noprint)'!QY8","v":0},{"$f":"'Data diagrams (noprint)'!QZ8","v":0},{"$f":"'Data diagrams (noprint)'!RA8","v":0},{"$f":"'Data diagrams (noprint)'!RB8","v":0},{"$f":"'Data diagrams (noprint)'!RC8","v":0},{"$f":"'Data diagrams (noprint)'!RD8","v":0},{"$f":"'Data diagrams (noprint)'!RE8","v":0},{"$f":"'Data diagrams (noprint)'!RF8","v":0},{"$f":"'Data diagrams (noprint)'!RG8","v":0},{"$f":"'Data diagrams (noprint)'!RH8","v":0},{"$f":"'Data diagrams (noprint)'!RI8","v":0},{"$f":"'Data diagrams (noprint)'!RJ8","v":0},{"$f":"'Data diagrams (noprint)'!RK8","v":0},{"$f":"'Data diagrams (noprint)'!RL8","v":0},{"$f":"'Data diagrams (noprint)'!RM8","v":0},{"$f":"'Data diagrams (noprint)'!RN8","v":0},{"$f":"'Data diagrams (noprint)'!RO8","v":0},{"$f":"'Data diagrams (noprint)'!RP8","v":0},{"$f":"'Data diagrams (noprint)'!RQ8","v":0},{"$f":"'Data diagrams (noprint)'!RR8","v":0},{"$f":"'Data diagrams (noprint)'!RS8","v":0},{"$f":"'Data diagrams (noprint)'!RT8","v":0},{"$f":"'Data diagrams (noprint)'!RU8","v":0},{"$f":"'Data diagrams (noprint)'!RV8","v":0},{"$f":"'Data diagrams (noprint)'!RW8","v":0},{"$f":"'Data diagrams (noprint)'!RX8","v":0},{"$f":"'Data diagrams (noprint)'!RY8","v":0},{"$f":"'Data diagrams (noprint)'!RZ8","v":0},{"$f":"'Data diagrams (noprint)'!SA8","v":0},{"$f":"'Data diagrams (noprint)'!SB8","v":0},{"$f":"'Data diagrams (noprint)'!SC8","v":0},{"$f":"'Data diagrams (noprint)'!SD8","v":0},{"$f":"'Data diagrams (noprint)'!SE8","v":0},{"$f":"'Data diagrams (noprint)'!SF8","v":0},{"$f":"'Data diagrams (noprint)'!SG8","v":0},{"$f":"'Data diagrams (noprint)'!SH8","v":0},{"$f":"'Data diagrams (noprint)'!SI8","v":0},{"$f":"'Data diagrams (noprint)'!SJ8","v":0},{"$f":"'Data diagrams (noprint)'!SK8","v":0},{"$f":"'Data diagrams (noprint)'!SL8","v":0},{"$f":"'Data diagrams (noprint)'!SM8","v":0},{"$f":"'Data diagrams (noprint)'!SN8","v":0},{"$f":"'Data diagrams (noprint)'!SO8","v":0},{"$f":"'Data diagrams (noprint)'!SP8","v":0},{"$f":"'Data diagrams (noprint)'!SQ8","v":0},{"$f":"'Data diagrams (noprint)'!SR8","v":0},{"$f":"'Data diagrams (noprint)'!SS8","v":0},{"$f":"'Data diagrams (noprint)'!ST8","v":0},{"$f":"'Data diagrams (noprint)'!SU8","v":0},{"$f":"'Data diagrams (noprint)'!SV8","v":0},{"$f":"'Data diagrams (noprint)'!SW8","v":0},{"$f":"'Data diagrams (noprint)'!SX8","v":0},{"$f":"'Data diagrams (noprint)'!SY8","v":0},{"$f":"'Data diagrams (noprint)'!SZ8","v":0},{"$f":"'Data diagrams (noprint)'!TA8","v":0},{"$f":"'Data diagrams (noprint)'!TB8","v":0},{"$f":"'Data diagrams (noprint)'!TC8","v":0},{"$f":"'Data diagrams (noprint)'!TD8","v":0},{"$f":"'Data diagrams (noprint)'!TE8","v":0},{"$f":"'Data diagrams (noprint)'!TF8","v":0},{"$f":"'Data diagrams (noprint)'!TG8","v":0},{"$f":"'Data diagrams (noprint)'!TH8","v":0},{"$f":"'Data diagrams (noprint)'!TI8","v":0},{"$f":"'Data diagrams (noprint)'!TJ8","v":0},{"$f":"'Data diagrams (noprint)'!TK8","v":0},{"$f":"'Data diagrams (noprint)'!TL8","v":0},{"$f":"'Data diagrams (noprint)'!TM8","v":0},{"$f":"'Data diagrams (noprint)'!TN8","v":0},{"$f":"'Data diagrams (noprint)'!TO8","v":0},{"$f":"'Data diagrams (noprint)'!TP8","v":0},{"$f":"'Data diagrams (noprint)'!TQ8","v":0},{"$f":"'Data diagrams (noprint)'!TR8","v":0},{"$f":"'Data diagrams (noprint)'!TS8","v":0},{"$f":"'Data diagrams (noprint)'!TT8","v":0},{"$f":"'Data diagrams (noprint)'!TU8","v":0},{"$f":"'Data diagrams (noprint)'!TV8","v":0},{"$f":"'Data diagrams (noprint)'!TW8","v":0},{"$f":"'Data diagrams (noprint)'!TX8","v":0},{"$f":"'Data diagrams (noprint)'!TY8","v":0},{"$f":"'Data diagrams (noprint)'!TZ8","v":0},{"$f":"'Data diagrams (noprint)'!UA8","v":0},{"$f":"'Data diagrams (noprint)'!UB8","v":0},{"$f":"'Data diagrams (noprint)'!UC8","v":0},{"$f":"'Data diagrams (noprint)'!UD8","v":0},{"$f":"'Data diagrams (noprint)'!UE8","v":0},{"$f":"'Data diagrams (noprint)'!UF8","v":0},{"$f":"'Data diagrams (noprint)'!UG8","v":0},{"$f":"'Data diagrams (noprint)'!UH8","v":0},{"$f":"'Data diagrams (noprint)'!UI8","v":0},{"$f":"'Data diagrams (noprint)'!UJ8","v":0},{"$f":"'Data diagrams (noprint)'!UK8","v":0},{"$f":"'Data diagrams (noprint)'!UL8","v":0},{"$f":"'Data diagrams (noprint)'!UM8","v":0},{"$f":"'Data diagrams (noprint)'!UN8","v":0},{"$f":"'Data diagrams (noprint)'!UO8","v":0},{"$f":"'Data diagrams (noprint)'!UP8","v":0},{"$f":"'Data diagrams (noprint)'!UQ8","v":0},{"$f":"'Data diagrams (noprint)'!UR8","v":0},{"$f":"'Data diagrams (noprint)'!US8","v":0},{"$f":"'Data diagrams (noprint)'!UT8","v":0},{"$f":"'Data diagrams (noprint)'!UU8","v":0},{"$f":"'Data diagrams (noprint)'!UV8","v":0},{"$f":"'Data diagrams (noprint)'!UW8","v":0},{"$f":"'Data diagrams (noprint)'!UX8","v":0},{"$f":"'Data diagrams (noprint)'!UY8","v":0},{"$f":"'Data diagrams (noprint)'!UZ8","v":0},{"$f":"'Data diagrams (noprint)'!VA8","v":0},{"$f":"'Data diagrams (noprint)'!VB8","v":0},{"$f":"'Data diagrams (noprint)'!VC8","v":0},{"$f":"'Data diagrams (noprint)'!VD8","v":0},{"$f":"'Data diagrams (noprint)'!VE8","v":0},{"$f":"'Data diagrams (noprint)'!VF8","v":0},{"$f":"'Data diagrams (noprint)'!VG8","v":0},{"$f":"'Data diagrams (noprint)'!VH8","v":0},{"$f":"'Data diagrams (noprint)'!VI8","v":0},{"$f":"'Data diagrams (noprint)'!VJ8","v":0},{"$f":"'Data diagrams (noprint)'!VK8","v":0},{"$f":"'Data diagrams (noprint)'!VL8","v":0},{"$f":"'Data diagrams (noprint)'!VM8","v":0},{"$f":"'Data diagrams (noprint)'!VN8","v":0},{"$f":"'Data diagrams (noprint)'!VO8","v":0},{"$f":"'Data diagrams (noprint)'!VP8","v":0},{"$f":"'Data diagrams (noprint)'!VQ8","v":0},{"$f":"'Data diagrams (noprint)'!VR8","v":0},{"$f":"'Data diagrams (noprint)'!VS8","v":0},{"$f":"'Data diagrams (noprint)'!VT8","v":0},{"$f":"'Data diagrams (noprint)'!VU8","v":0},{"$f":"'Data diagrams (noprint)'!VV8","v":0},{"$f":"'Data diagrams (noprint)'!VW8","v":0},{"$f":"'Data diagrams (noprint)'!VX8","v":0},{"$f":"'Data diagrams (noprint)'!VY8","v":0},{"$f":"'Data diagrams (noprint)'!VZ8","v":0},{"$f":"'Data diagrams (noprint)'!WA8","v":0},{"$f":"'Data diagrams (noprint)'!WB8","v":0},{"$f":"'Data diagrams (noprint)'!WC8","v":0},{"$f":"'Data diagrams (noprint)'!WD8","v":0},{"$f":"'Data diagrams (noprint)'!WE8","v":0},{"$f":"'Data diagrams (noprint)'!WF8","v":0},{"$f":"'Data diagrams (noprint)'!WG8","v":0},{"$f":"'Data diagrams (noprint)'!WH8","v":0},{"$f":"'Data diagrams (noprint)'!WI8","v":0},{"$f":"'Data diagrams (noprint)'!WJ8","v":0},{"$f":"'Data diagrams (noprint)'!WK8","v":0},{"$f":"'Data diagrams (noprint)'!WL8","v":0},{"$f":"'Data diagrams (noprint)'!WM8","v":0},{"$f":"'Data diagrams (noprint)'!WN8","v":0},{"$f":"'Data diagrams (noprint)'!WO8","v":0},{"$f":"'Data diagrams (noprint)'!WP8","v":0},{"$f":"'Data diagrams (noprint)'!WQ8","v":0},{"$f":"'Data diagrams (noprint)'!WR8","v":0},{"$f":"'Data diagrams (noprint)'!WS8","v":0},{"$f":"'Data diagrams (noprint)'!WT8","v":0},{"$f":"'Data diagrams (noprint)'!WU8","v":0},{"$f":"'Data diagrams (noprint)'!WV8","v":0},{"$f":"'Data diagrams (noprint)'!WW8","v":0},{"$f":"'Data diagrams (noprint)'!WX8","v":0},{"$f":"'Data diagrams (noprint)'!WY8","v":0},{"$f":"'Data diagrams (noprint)'!WZ8","v":0},{"$f":"'Data diagrams (noprint)'!XA8","v":0},{"$f":"'Data diagrams (noprint)'!XB8","v":0},{"$f":"'Data diagrams (noprint)'!XC8","v":0},{"$f":"'Data diagrams (noprint)'!XD8","v":0},{"$f":"'Data diagrams (noprint)'!XE8","v":0},{"$f":"'Data diagrams (noprint)'!XF8","v":0},{"$f":"'Data diagrams (noprint)'!XG8","v":0},{"$f":"'Data diagrams (noprint)'!XH8","v":0},{"$f":"'Data diagrams (noprint)'!XI8","v":0},{"$f":"'Data diagrams (noprint)'!XJ8","v":0},{"$f":"'Data diagrams (noprint)'!XK8","v":0},{"$f":"'Data diagrams (noprint)'!XL8","v":0},{"$f":"'Data diagrams (noprint)'!XM8","v":0},{"$f":"'Data diagrams (noprint)'!XN8","v":0},{"$f":"'Data diagrams (noprint)'!XO8","v":0},{"$f":"'Data diagrams (noprint)'!XP8","v":0},{"$f":"'Data diagrams (noprint)'!XQ8","v":0},{"$f":"'Data diagrams (noprint)'!XR8","v":0},{"$f":"'Data diagrams (noprint)'!XS8","v":0},{"$f":"'Data diagrams (noprint)'!XT8","v":0},{"$f":"'Data diagrams (noprint)'!XU8","v":0},{"$f":"'Data diagrams (noprint)'!XV8","v":0},{"$f":"'Data diagrams (noprint)'!XW8","v":0},{"$f":"'Data diagrams (noprint)'!XX8","v":0},{"$f":"'Data diagrams (noprint)'!XY8","v":0},{"$f":"'Data diagrams (noprint)'!XZ8","v":0},{"$f":"'Data diagrams (noprint)'!YA8","v":0},{"$f":"'Data diagrams (noprint)'!YB8","v":0},{"$f":"'Data diagrams (noprint)'!YC8","v":0},{"$f":"'Data diagrams (noprint)'!YD8","v":0},{"$f":"'Data diagrams (noprint)'!YE8","v":0},{"$f":"'Data diagrams (noprint)'!YF8","v":0},{"$f":"'Data diagrams (noprint)'!YG8","v":0},{"$f":"'Data diagrams (noprint)'!YH8","v":0},{"$f":"'Data diagrams (noprint)'!YI8","v":0},{"$f":"'Data diagrams (noprint)'!YJ8","v":0},{"$f":"'Data diagrams (noprint)'!YK8","v":0},{"$f":"'Data diagrams (noprint)'!YL8","v":0},{"$f":"'Data diagrams (noprint)'!YM8","v":0},{"$f":"'Data diagrams (noprint)'!YN8","v":0},{"$f":"'Data diagrams (noprint)'!YO8","v":0},{"$f":"'Data diagrams (noprint)'!YP8","v":0},{"$f":"'Data diagrams (noprint)'!YQ8","v":0},{"$f":"'Data diagrams (noprint)'!YR8","v":0},{"$f":"'Data diagrams (noprint)'!YS8","v":0},{"$f":"'Data diagrams (noprint)'!YT8","v":0},{"$f":"'Data diagrams (noprint)'!YU8","v":0},{"$f":"'Data diagrams (noprint)'!YV8","v":0},{"$f":"'Data diagrams (noprint)'!YW8","v":0},{"$f":"'Data diagrams (noprint)'!YX8","v":0},{"$f":"'Data diagrams (noprint)'!YY8","v":0},{"$f":"'Data diagrams (noprint)'!YZ8","v":0},{"$f":"'Data diagrams (noprint)'!ZA8","v":0},{"$f":"'Data diagrams (noprint)'!ZB8","v":0},{"$f":"'Data diagrams (noprint)'!ZC8","v":0},{"$f":"'Data diagrams (noprint)'!ZD8","v":0},{"$f":"'Data diagrams (noprint)'!ZE8","v":0},{"$f":"'Data diagrams (noprint)'!ZF8","v":0},{"$f":"'Data diagrams (noprint)'!ZG8","v":0},{"$f":"'Data diagrams (noprint)'!ZH8","v":0},{"$f":"'Data diagrams (noprint)'!ZI8","v":0},{"$f":"'Data diagrams (noprint)'!ZJ8","v":0},{"$f":"'Data diagrams (noprint)'!ZK8","v":0},{"$f":"'Data diagrams (noprint)'!ZL8","v":0},{"$f":"'Data diagrams (noprint)'!ZM8","v":0},{"$f":"'Data diagrams (noprint)'!ZN8","v":0},{"$f":"'Data diagrams (noprint)'!ZO8","v":0},{"$f":"'Data diagrams (noprint)'!ZP8","v":0},{"$f":"'Data diagrams (noprint)'!ZQ8","v":0},{"$f":"'Data diagrams (noprint)'!ZR8","v":0},{"$f":"'Data diagrams (noprint)'!ZS8","v":0},{"$f":"'Data diagrams (noprint)'!ZT8","v":0},{"$f":"'Data diagrams (noprint)'!ZU8","v":0},{"$f":"'Data diagrams (noprint)'!ZV8","v":0},{"$f":"'Data diagrams (noprint)'!ZW8","v":0},{"$f":"'Data diagrams (noprint)'!ZX8","v":0},{"$f":"'Data diagrams (noprint)'!ZY8","v":0},{"$f":"'Data diagrams (noprint)'!ZZ8","v":0},{"$f":"'Data diagrams (noprint)'!AAA8","v":0},{"$f":"'Data diagrams (noprint)'!AAB8","v":0},{"$f":"'Data diagrams (noprint)'!AAC8","v":0},{"$f":"'Data diagrams (noprint)'!AAD8","v":0},{"$f":"'Data diagrams (noprint)'!AAE8","v":0},{"$f":"'Data diagrams (noprint)'!AAF8","v":0},{"$f":"'Data diagrams (noprint)'!AAG8","v":0},{"$f":"'Data diagrams (noprint)'!AAH8","v":0},{"$f":"'Data diagrams (noprint)'!AAI8","v":0},{"$f":"'Data diagrams (noprint)'!AAJ8","v":0},{"$f":"'Data diagrams (noprint)'!AAK8","v":0},{"$f":"'Data diagrams (noprint)'!AAL8","v":0},{"$f":"'Data diagrams (noprint)'!AAM8","v":0},{"$f":"'Data diagrams (noprint)'!AAN8","v":0},{"$f":"'Data diagrams (noprint)'!AAO8","v":0},{"$f":"'Data diagrams (noprint)'!AAP8","v":0},{"$f":"'Data diagrams (noprint)'!AAQ8","v":0},{"$f":"'Data diagrams (noprint)'!AAR8","v":0},{"$f":"'Data diagrams (noprint)'!AAS8","v":0},{"$f":"'Data diagrams (noprint)'!AAT8","v":0},{"$f":"'Data diagrams (noprint)'!AAU8","v":0},{"$f":"'Data diagrams (noprint)'!AAV8","v":0},{"$f":"'Data diagrams (noprint)'!AAW8","v":0},{"$f":"'Data diagrams (noprint)'!AAX8","v":0},{"$f":"'Data diagrams (noprint)'!AAY8","v":0},{"$f":"'Data diagrams (noprint)'!AAZ8","v":0},{"$f":"'Data diagrams (noprint)'!ABA8","v":0},{"$f":"'Data diagrams (noprint)'!ABB8","v":0},{"$f":"'Data diagrams (noprint)'!ABC8","v":0},{"$f":"'Data diagrams (noprint)'!ABD8","v":0},{"$f":"'Data diagrams (noprint)'!ABE8","v":0},{"$f":"'Data diagrams (noprint)'!ABF8","v":0},{"$f":"'Data diagrams (noprint)'!ABG8","v":0},{"$f":"'Data diagrams (noprint)'!ABH8","v":0},{"$f":"'Data diagrams (noprint)'!ABI8","v":0},{"$f":"'Data diagrams (noprint)'!ABJ8","v":0},{"$f":"'Data diagrams (noprint)'!ABK8","v":0},{"$f":"'Data diagrams (noprint)'!ABL8","v":0},{"$f":"'Data diagrams (noprint)'!ABM8","v":0},{"$f":"'Data diagrams (noprint)'!ABN8","v":0},{"$f":"'Data diagrams (noprint)'!ABO8","v":0},{"$f":"'Data diagrams (noprint)'!ABP8","v":0},{"$f":"'Data diagrams (noprint)'!ABQ8","v":0},{"$f":"'Data diagrams (noprint)'!ABR8","v":0},{"$f":"'Data diagrams (noprint)'!ABS8","v":0},{"$f":"'Data diagrams (noprint)'!ABT8","v":0},{"$f":"'Data diagrams (noprint)'!ABU8","v":0},{"$f":"'Data diagrams (noprint)'!ABV8","v":0},{"$f":"'Data diagrams (noprint)'!ABW8","v":0},{"$f":"'Data diagrams (noprint)'!ABX8","v":0},{"$f":"'Data diagrams (noprint)'!ABY8","v":0},{"$f":"'Data diagrams (noprint)'!ABZ8","v":0},{"$f":"'Data diagrams (noprint)'!ACA8","v":0},{"$f":"'Data diagrams (noprint)'!ACB8","v":0},{"$f":"'Data diagrams (noprint)'!ACC8","v":0},{"$f":"'Data diagrams (noprint)'!ACD8","v":0},{"$f":"'Data diagrams (noprint)'!ACE8","v":0},{"$f":"'Data diagrams (noprint)'!ACF8","v":0},{"$f":"'Data diagrams (noprint)'!ACG8","v":0},{"$f":"'Data diagrams (noprint)'!ACH8","v":0},{"$f":"'Data diagrams (noprint)'!ACI8","v":0},{"$f":"'Data diagrams (noprint)'!ACJ8","v":0},{"$f":"'Data diagrams (noprint)'!ACK8","v":0},{"$f":"'Data diagrams (noprint)'!ACL8","v":0},{"$f":"'Data diagrams (noprint)'!ACM8","v":0},{"$f":"'Data diagrams (noprint)'!ACN8","v":0},{"$f":"'Data diagrams (noprint)'!ACO8","v":0},{"$f":"'Data diagrams (noprint)'!ACP8","v":0},{"$f":"'Data diagrams (noprint)'!ACQ8","v":0},{"$f":"'Data diagrams (noprint)'!ACR8","v":0},{"$f":"'Data diagrams (noprint)'!ACS8","v":0},{"$f":"'Data diagrams (noprint)'!ACT8","v":0},{"$f":"'Data diagrams (noprint)'!ACU8","v":0},{"$f":"'Data diagrams (noprint)'!ACV8","v":0},{"$f":"'Data diagrams (noprint)'!ACW8","v":0},{"$f":"'Data diagrams (noprint)'!ACX8","v":0},{"$f":"'Data diagrams (noprint)'!ACY8","v":0},{"$f":"'Data diagrams (noprint)'!ACZ8","v":0},{"$f":"'Data diagrams (noprint)'!ADA8","v":0},{"$f":"'Data diagrams (noprint)'!ADB8","v":0},{"$f":"'Data diagrams (noprint)'!ADC8","v":0},{"$f":"'Data diagrams (noprint)'!ADD8","v":0},{"$f":"'Data diagrams (noprint)'!ADE8","v":0},{"$f":"'Data diagrams (noprint)'!ADF8","v":0},{"$f":"'Data diagrams (noprint)'!ADG8","v":0},{"$f":"'Data diagrams (noprint)'!ADH8","v":0},{"$f":"'Data diagrams (noprint)'!ADI8","v":0},{"$f":"'Data diagrams (noprint)'!ADJ8","v":0},{"$f":"'Data diagrams (noprint)'!ADK8","v":0},{"$f":"'Data diagrams (noprint)'!ADL8","v":0},{"$f":"'Data diagrams (noprint)'!ADM8","v":0},{"$f":"'Data diagrams (noprint)'!ADN8","v":0},{"$f":"'Data diagrams (noprint)'!ADO8","v":0},{"$f":"'Data diagrams (noprint)'!ADP8","v":0},{"$f":"'Data diagrams (noprint)'!ADQ8","v":0},{"$f":"'Data diagrams (noprint)'!ADR8","v":0},{"$f":"'Data diagrams (noprint)'!ADS8","v":0},{"$f":"'Data diagrams (noprint)'!ADT8","v":0},{"$f":"'Data diagrams (noprint)'!ADU8","v":0},{"$f":"'Data diagrams (noprint)'!ADV8","v":0},{"$f":"'Data diagrams (noprint)'!ADW8","v":0},{"$f":"'Data diagrams (noprint)'!ADX8","v":0},{"$f":"'Data diagrams (noprint)'!ADY8","v":0},{"$f":"'Data diagrams (noprint)'!ADZ8","v":0},{"$f":"'Data diagrams (noprint)'!AEA8","v":0},{"$f":"'Data diagrams (noprint)'!AEB8","v":0},{"$f":"'Data diagrams (noprint)'!AEC8","v":0},{"$f":"'Data diagrams (noprint)'!AED8","v":0},{"$f":"'Data diagrams (noprint)'!AEE8","v":0},{"$f":"'Data diagrams (noprint)'!AEF8","v":0},{"$f":"'Data diagrams (noprint)'!AEG8","v":0},{"$f":"'Data diagrams (noprint)'!AEH8","v":0},{"$f":"'Data diagrams (noprint)'!AEI8","v":0},{"$f":"'Data diagrams (noprint)'!AEJ8","v":0},{"$f":"'Data diagrams (noprint)'!AEK8","v":0},{"$f":"'Data diagrams (noprint)'!AEL8","v":0},{"$f":"'Data diagrams (noprint)'!AEM8","v":0},{"$f":"'Data diagrams (noprint)'!AEN8","v":0},{"$f":"'Data diagrams (noprint)'!AEO8","v":0},{"$f":"'Data diagrams (noprint)'!AEP8","v":0},{"$f":"'Data diagrams (noprint)'!AEQ8","v":0},{"$f":"'Data diagrams (noprint)'!AER8","v":0},{"$f":"'Data diagrams (noprint)'!AES8","v":0},{"$f":"'Data diagrams (noprint)'!AET8","v":0},{"$f":"'Data diagrams (noprint)'!AEU8","v":0},{"$f":"'Data diagrams (noprint)'!AEV8","v":0},{"$f":"'Data diagrams (noprint)'!AEW8","v":0},{"$f":"'Data diagrams (noprint)'!AEX8","v":0},{"$f":"'Data diagrams (noprint)'!AEY8","v":0},{"$f":"'Data diagrams (noprint)'!AEZ8","v":0},{"$f":"'Data diagrams (noprint)'!AFA8","v":0},{"$f":"'Data diagrams (noprint)'!AFB8","v":0},{"$f":"'Data diagrams (noprint)'!AFC8","v":0},{"$f":"'Data diagrams (noprint)'!AFD8","v":0},{"$f":"'Data diagrams (noprint)'!AFE8","v":0},{"$f":"'Data diagrams (noprint)'!AFF8","v":0},{"$f":"'Data diagrams (noprint)'!AFG8","v":0},{"$f":"'Data diagrams (noprint)'!AFH8","v":0},{"$f":"'Data diagrams (noprint)'!AFI8","v":0},{"$f":"'Data diagrams (noprint)'!AFJ8","v":0},{"$f":"'Data diagrams (noprint)'!AFK8","v":0},{"$f":"'Data diagrams (noprint)'!AFL8","v":0},{"$f":"'Data diagrams (noprint)'!AFM8","v":0},{"$f":"'Data diagrams (noprint)'!AFN8","v":0},{"$f":"'Data diagrams (noprint)'!AFO8","v":0},{"$f":"'Data diagrams (noprint)'!AFP8","v":0},{"$f":"'Data diagrams (noprint)'!AFQ8","v":0},{"$f":"'Data diagrams (noprint)'!AFR8","v":0},{"$f":"'Data diagrams (noprint)'!AFS8","v":0},{"$f":"'Data diagrams (noprint)'!AFT8","v":0},{"$f":"'Data diagrams (noprint)'!AFU8","v":0},{"$f":"'Data diagrams (noprint)'!AFV8","v":0},{"$f":"'Data diagrams (noprint)'!AFW8","v":0},{"$f":"'Data diagrams (noprint)'!AFX8","v":0},{"$f":"'Data diagrams (noprint)'!AFY8","v":0},{"$f":"'Data diagrams (noprint)'!AFZ8","v":0},{"$f":"'Data diagrams (noprint)'!AGA8","v":0},{"$f":"'Data diagrams (noprint)'!AGB8","v":0},{"$f":"'Data diagrams (noprint)'!AGC8","v":0},{"$f":"'Data diagrams (noprint)'!AGD8","v":0},{"$f":"'Data diagrams (noprint)'!AGE8","v":0},{"$f":"'Data diagrams (noprint)'!AGF8","v":0},{"$f":"'Data diagrams (noprint)'!AGG8","v":0},{"$f":"'Data diagrams (noprint)'!AGH8","v":0},{"$f":"'Data diagrams (noprint)'!AGI8","v":0},{"$f":"'Data diagrams (noprint)'!AGJ8","v":0},{"$f":"'Data diagrams (noprint)'!AGK8","v":0},{"$f":"'Data diagrams (noprint)'!AGL8","v":0},{"$f":"'Data diagrams (noprint)'!AGM8","v":0},{"$f":"'Data diagrams (noprint)'!AGN8","v":0},{"$f":"'Data diagrams (noprint)'!AGO8","v":0},{"$f":"'Data diagrams (noprint)'!AGP8","v":0},{"$f":"'Data diagrams (noprint)'!AGQ8","v":0},{"$f":"'Data diagrams (noprint)'!AGR8","v":0},{"$f":"'Data diagrams (noprint)'!AGS8","v":0},{"$f":"'Data diagrams (noprint)'!AGT8","v":0},{"$f":"'Data diagrams (noprint)'!AGU8","v":0},{"$f":"'Data diagrams (noprint)'!AGV8","v":0},{"$f":"'Data diagrams (noprint)'!AGW8","v":0},{"$f":"'Data diagrams (noprint)'!AGX8","v":0},{"$f":"'Data diagrams (noprint)'!AGY8","v":0},{"$f":"'Data diagrams (noprint)'!AGZ8","v":0},{"$f":"'Data diagrams (noprint)'!AHA8","v":0},{"$f":"'Data diagrams (noprint)'!AHB8","v":0},{"$f":"'Data diagrams (noprint)'!AHC8","v":0},{"$f":"'Data diagrams (noprint)'!AHD8","v":0},{"$f":"'Data diagrams (noprint)'!AHE8","v":0},{"$f":"'Data diagrams (noprint)'!AHF8","v":0},{"$f":"'Data diagrams (noprint)'!AHG8","v":0},{"$f":"'Data diagrams (noprint)'!AHH8","v":0},{"$f":"'Data diagrams (noprint)'!AHI8","v":0},{"$f":"'Data diagrams (noprint)'!AHJ8","v":0},{"$f":"'Data diagrams (noprint)'!AHK8","v":0},{"$f":"'Data diagrams (noprint)'!AHL8","v":0},{"$f":"'Data diagrams (noprint)'!AHM8","v":0},{"$f":"'Data diagrams (noprint)'!AHN8","v":0},{"$f":"'Data diagrams (noprint)'!AHO8","v":0},{"$f":"'Data diagrams (noprint)'!AHP8","v":0},{"$f":"'Data diagrams (noprint)'!AHQ8","v":0},{"$f":"'Data diagrams (noprint)'!AHR8","v":0},{"$f":"'Data diagrams (noprint)'!AHS8","v":0},{"$f":"'Data diagrams (noprint)'!AHT8","v":0},{"$f":"'Data diagrams (noprint)'!AHU8","v":0},{"$f":"'Data diagrams (noprint)'!AHV8","v":0},{"$f":"'Data diagrams (noprint)'!AHW8","v":0},{"$f":"'Data diagrams (noprint)'!AHX8","v":0},{"$f":"'Data diagrams (noprint)'!AHY8","v":0},{"$f":"'Data diagrams (noprint)'!AHZ8","v":0},{"$f":"'Data diagrams (noprint)'!AIA8","v":0},{"$f":"'Data diagrams (noprint)'!AIB8","v":0},{"$f":"'Data diagrams (noprint)'!AIC8","v":0},{"$f":"'Data diagrams (noprint)'!AID8","v":0},{"$f":"'Data diagrams (noprint)'!AIE8","v":0},{"$f":"'Data diagrams (noprint)'!AIF8","v":0},{"$f":"'Data diagrams (noprint)'!AIG8","v":0},{"$f":"'Data diagrams (noprint)'!AIH8","v":0},{"$f":"'Data diagrams (noprint)'!AII8","v":0},{"$f":"'Data diagrams (noprint)'!AIJ8","v":0},{"$f":"'Data diagrams (noprint)'!AIK8","v":0},{"$f":"'Data diagrams (noprint)'!AIL8","v":0},{"$f":"'Data diagrams (noprint)'!AIM8","v":0},{"$f":"'Data diagrams (noprint)'!AIN8","v":0},{"$f":"'Data diagrams (noprint)'!AIO8","v":0},{"$f":"'Data diagrams (noprint)'!AIP8","v":0},{"$f":"'Data diagrams (noprint)'!AIQ8","v":0},{"$f":"'Data diagrams (noprint)'!AIR8","v":0},{"$f":"'Data diagrams (noprint)'!AIS8","v":0},{"$f":"'Data diagrams (noprint)'!AIT8","v":0},{"$f":"'Data diagrams (noprint)'!AIU8","v":0},{"$f":"'Data diagrams (noprint)'!AIV8","v":0},{"$f":"'Data diagrams (noprint)'!AIW8","v":0},{"$f":"'Data diagrams (noprint)'!AIX8","v":0},{"$f":"'Data diagrams (noprint)'!AIY8","v":0},{"$f":"'Data diagrams (noprint)'!AIZ8","v":0},{"$f":"'Data diagrams (noprint)'!AJA8","v":0},{"$f":"'Data diagrams (noprint)'!AJB8","v":0},{"$f":"'Data diagrams (noprint)'!AJC8","v":0},{"$f":"'Data diagrams (noprint)'!AJD8","v":0},{"$f":"'Data diagrams (noprint)'!AJE8","v":0},{"$f":"'Data diagrams (noprint)'!AJF8","v":0},{"$f":"'Data diagrams (noprint)'!AJG8","v":0},{"$f":"'Data diagrams (noprint)'!AJH8","v":0},{"$f":"'Data diagrams (noprint)'!AJI8","v":0},{"$f":"'Data diagrams (noprint)'!AJJ8","v":0},{"$f":"'Data diagrams (noprint)'!AJK8","v":0},{"$f":"'Data diagrams (noprint)'!AJL8","v":0},{"$f":"'Data diagrams (noprint)'!AJM8","v":0},{"$f":"'Data diagrams (noprint)'!AJN8","v":0},{"$f":"'Data diagrams (noprint)'!AJO8","v":0},{"$f":"'Data diagrams (noprint)'!AJP8","v":0},{"$f":"'Data diagrams (noprint)'!AJQ8","v":0},{"$f":"'Data diagrams (noprint)'!AJR8","v":0},{"$f":"'Data diagrams (noprint)'!AJS8","v":0},{"$f":"'Data diagrams (noprint)'!AJT8","v":0},{"$f":"'Data diagrams (noprint)'!AJU8","v":0},{"$f":"'Data diagrams (noprint)'!AJV8","v":0},{"$f":"'Data diagrams (noprint)'!AJW8","v":0},{"$f":"'Data diagrams (noprint)'!AJX8","v":0},{"$f":"'Data diagrams (noprint)'!AJY8","v":0},{"$f":"'Data diagrams (noprint)'!AJZ8","v":0},{"$f":"'Data diagrams (noprint)'!AKA8","v":0},{"$f":"'Data diagrams (noprint)'!AKB8","v":0},{"$f":"'Data diagrams (noprint)'!AKC8","v":0},{"$f":"'Data diagrams (noprint)'!AKD8","v":0},{"$f":"'Data diagrams (noprint)'!AKE8","v":0},{"$f":"'Data diagrams (noprint)'!AKF8","v":0},{"$f":"'Data diagrams (noprint)'!AKG8","v":0},{"$f":"'Data diagrams (noprint)'!AKH8","v":0},{"$f":"'Data diagrams (noprint)'!AKI8","v":0},{"$f":"'Data diagrams (noprint)'!AKJ8","v":0},{"$f":"'Data diagrams (noprint)'!AKK8","v":0},{"$f":"'Data diagrams (noprint)'!AKL8","v":0},{"$f":"'Data diagrams (noprint)'!AKM8","v":0},{"$f":"'Data diagrams (noprint)'!AKN8","v":0},{"$f":"'Data diagrams (noprint)'!AKO8","v":0},{"$f":"'Data diagrams (noprint)'!AKP8","v":0},{"$f":"'Data diagrams (noprint)'!AKQ8","v":0},{"$f":"'Data diagrams (noprint)'!AKR8","v":0},{"$f":"'Data diagrams (noprint)'!AKS8","v":0},{"$f":"'Data diagrams (noprint)'!AKT8","v":0},{"$f":"'Data diagrams (noprint)'!AKU8","v":0},{"$f":"'Data diagrams (noprint)'!AKV8","v":0},{"$f":"'Data diagrams (noprint)'!AKW8","v":0},{"$f":"'Data diagrams (noprint)'!AKX8","v":0},{"$f":"'Data diagrams (noprint)'!AKY8","v":0},{"$f":"'Data diagrams (noprint)'!AKZ8","v":0},{"$f":"'Data diagrams (noprint)'!ALA8","v":0},{"$f":"'Data diagrams (noprint)'!ALB8","v":0},{"$f":"'Data diagrams (noprint)'!ALC8","v":0},{"$f":"'Data diagrams (noprint)'!ALD8","v":0},{"$f":"'Data diagrams (noprint)'!ALE8","v":0},{"$f":"'Data diagrams (noprint)'!ALF8","v":0},{"$f":"'Data diagrams (noprint)'!ALG8","v":0},{"$f":"'Data diagrams (noprint)'!ALH8","v":0},{"$f":"'Data diagrams (noprint)'!ALI8","v":0},{"$f":"'Data diagrams (noprint)'!ALJ8","v":0},{"$f":"'Data diagrams (noprint)'!ALK8","v":0},{"$f":"'Data diagrams (noprint)'!ALL8","v":0},{"$f":"'Data diagrams (noprint)'!ALM8","v":0},{"$f":"'Data diagrams (noprint)'!ALN8","v":0},{"$f":"'Data diagrams (noprint)'!ALO8","v":0},{"$f":"'Data diagrams (noprint)'!ALP8","v":0},{"$f":"'Data diagrams (noprint)'!ALQ8","v":0},{"$f":"'Data diagrams (noprint)'!ALR8","v":0},{"$f":"'Data diagrams (noprint)'!ALS8","v":0},{"$f":"'Data diagrams (noprint)'!ALT8","v":0},{"$f":"'Data diagrams (noprint)'!ALU8","v":0},{"$f":"'Data diagrams (noprint)'!ALV8","v":0},{"$f":"'Data diagrams (noprint)'!ALW8","v":0},{"$f":"'Data diagrams (noprint)'!ALX8","v":0},{"$f":"'Data diagrams (noprint)'!ALY8","v":0},{"$f":"'Data diagrams (noprint)'!ALZ8","v":0},{"$f":"'Data diagrams (noprint)'!AMA8","v":0},{"$f":"'Data diagrams (noprint)'!AMB8","v":0},{"$f":"'Data diagrams (noprint)'!AMC8","v":0},{"$f":"'Data diagrams (noprint)'!AMD8","v":0},{"$f":"'Data diagrams (noprint)'!AME8","v":0},{"$f":"'Data diagrams (noprint)'!AMF8","v":0},{"$f":"'Data diagrams (noprint)'!AMG8","v":0},{"$f":"'Data diagrams (noprint)'!AMH8","v":0},{"$f":"'Data diagrams (noprint)'!AMI8","v":0},{"$f":"'Data diagrams (noprint)'!AMJ8","v":0},{"$f":"'Data diagrams (noprint)'!AMK8","v":0},{"$f":"'Data diagrams (noprint)'!AML8","v":0},{"$f":"'Data diagrams (noprint)'!AMM8","v":0},{"$f":"'Data diagrams (noprint)'!AMN8","v":0},{"$f":"'Data diagrams (noprint)'!AMO8","v":0},{"$f":"'Data diagrams (noprint)'!AMP8","v":0},{"$f":"'Data diagrams (noprint)'!AMQ8","v":0},{"$f":"'Data diagrams (noprint)'!AMR8","v":0},{"$f":"'Data diagrams (noprint)'!AMS8","v":0},{"$f":"'Data diagrams (noprint)'!AMT8","v":0},{"$f":"'Data diagrams (noprint)'!AMU8","v":0},{"$f":"'Data diagrams (noprint)'!AMV8","v":0},{"$f":"'Data diagrams (noprint)'!AMW8","v":0},{"$f":"'Data diagrams (noprint)'!AMX8","v":0},{"$f":"'Data diagrams (noprint)'!AMY8","v":0},{"$f":"'Data diagrams (noprint)'!AMZ8","v":0},{"$f":"'Data diagrams (noprint)'!ANA8","v":0},{"$f":"'Data diagrams (noprint)'!ANB8","v":0},{"$f":"'Data diagrams (noprint)'!ANC8","v":0},{"$f":"'Data diagrams (noprint)'!AND8","v":0},{"$f":"'Data diagrams (noprint)'!ANE8","v":0},{"$f":"'Data diagrams (noprint)'!ANF8","v":0},{"$f":"'Data diagrams (noprint)'!ANG8","v":0},{"$f":"'Data diagrams (noprint)'!ANH8","v":0},{"$f":"'Data diagrams (noprint)'!ANI8","v":0},{"$f":"'Data diagrams (noprint)'!ANJ8","v":0},{"$f":"'Data diagrams (noprint)'!ANK8","v":0},{"$f":"'Data diagrams (noprint)'!ANL8","v":0},{"$f":"'Data diagrams (noprint)'!ANM8","v":0},{"$f":"'Data diagrams (noprint)'!ANN8","v":0},{"$f":"'Data diagrams (noprint)'!ANO8","v":0},{"$f":"'Data diagrams (noprint)'!ANP8","v":0},{"$f":"'Data diagrams (noprint)'!ANQ8","v":0},{"$f":"'Data diagrams (noprint)'!ANR8","v":0},{"$f":"'Data diagrams (noprint)'!ANS8","v":0},{"$f":"'Data diagrams (noprint)'!ANT8","v":0},{"$f":"'Data diagrams (noprint)'!ANU8","v":0},{"$f":"'Data diagrams (noprint)'!ANV8","v":0},{"$f":"'Data diagrams (noprint)'!ANW8","v":0},{"$f":"'Data diagrams (noprint)'!ANX8","v":0},{"$f":"'Data diagrams (noprint)'!ANY8","v":0},{"$f":"'Data diagrams (noprint)'!ANZ8","v":0},{"$f":"'Data diagrams (noprint)'!AOA8","v":0},{"$f":"'Data diagrams (noprint)'!AOB8","v":0},{"$f":"'Data diagrams (noprint)'!AOC8","v":0},{"$f":"'Data diagrams (noprint)'!AOD8","v":0},{"$f":"'Data diagrams (noprint)'!AOE8","v":0},{"$f":"'Data diagrams (noprint)'!AOF8","v":0},{"$f":"'Data diagrams (noprint)'!AOG8","v":0},{"$f":"'Data diagrams (noprint)'!AOH8","v":0},{"$f":"'Data diagrams (noprint)'!AOI8","v":0},{"$f":"'Data diagrams (noprint)'!AOJ8","v":0},{"$f":"'Data diagrams (noprint)'!AOK8","v":0},{"$f":"'Data diagrams (noprint)'!AOL8","v":0},{"$f":"'Data diagrams (noprint)'!AOM8","v":0},{"$f":"'Data diagrams (noprint)'!AON8","v":0},{"$f":"'Data diagrams (noprint)'!AOO8","v":0},{"$f":"'Data diagrams (noprint)'!AOP8","v":0},{"$f":"'Data diagrams (noprint)'!AOQ8","v":0},{"$f":"'Data diagrams (noprint)'!AOR8","v":0},{"$f":"'Data diagrams (noprint)'!AOS8","v":0},{"$f":"'Data diagrams (noprint)'!AOT8","v":0},{"$f":"'Data diagrams (noprint)'!AOU8","v":0},{"$f":"'Data diagrams (noprint)'!AOV8","v":0},{"$f":"'Data diagrams (noprint)'!AOW8","v":0},{"$f":"'Data diagrams (noprint)'!AOX8","v":0},{"$f":"'Data diagrams (noprint)'!AOY8","v":0},{"$f":"'Data diagrams (noprint)'!AOZ8","v":0},{"$f":"'Data diagrams (noprint)'!APA8","v":0},{"$f":"'Data diagrams (noprint)'!APB8","v":0},{"$f":"'Data diagrams (noprint)'!APC8","v":0},{"$f":"'Data diagrams (noprint)'!APD8","v":0},{"$f":"'Data diagrams (noprint)'!APE8","v":0},{"$f":"'Data diagrams (noprint)'!APF8","v":0},{"$f":"'Data diagrams (noprint)'!APG8","v":0},{"$f":"'Data diagrams (noprint)'!APH8","v":0},{"$f":"'Data diagrams (noprint)'!API8","v":0},{"$f":"'Data diagrams (noprint)'!APJ8","v":0},{"$f":"'Data diagrams (noprint)'!APK8","v":0},{"$f":"'Data diagrams (noprint)'!APL8","v":0},{"$f":"'Data diagrams (noprint)'!APM8","v":0},{"$f":"'Data diagrams (noprint)'!APN8","v":0},{"$f":"'Data diagrams (noprint)'!APO8","v":0},{"$f":"'Data diagrams (noprint)'!APP8","v":0},{"$f":"'Data diagrams (noprint)'!APQ8","v":0},{"$f":"'Data diagrams (noprint)'!APR8","v":0},{"$f":"'Data diagrams (noprint)'!APS8","v":0},{"$f":"'Data diagrams (noprint)'!APT8","v":0},{"$f":"'Data diagrams (noprint)'!APU8","v":0},{"$f":"'Data diagrams (noprint)'!APV8","v":0},{"$f":"'Data diagrams (noprint)'!APW8","v":0},{"$f":"'Data diagrams (noprint)'!APX8","v":0},{"$f":"'Data diagrams (noprint)'!APY8","v":0},{"$f":"'Data diagrams (noprint)'!APZ8","v":0},{"$f":"'Data diagrams (noprint)'!AQA8","v":0},{"$f":"'Data diagrams (noprint)'!AQB8","v":0},{"$f":"'Data diagrams (noprint)'!AQC8","v":0},{"$f":"'Data diagrams (noprint)'!AQD8","v":0},{"$f":"'Data diagrams (noprint)'!AQE8","v":0},{"$f":"'Data diagrams (noprint)'!AQF8","v":0},{"$f":"'Data diagrams (noprint)'!AQG8","v":0},{"$f":"'Data diagrams (noprint)'!AQH8","v":0},{"$f":"'Data diagrams (noprint)'!AQI8","v":0},{"$f":"'Data diagrams (noprint)'!AQJ8","v":0},{"$f":"'Data diagrams (noprint)'!AQK8","v":0},{"$f":"'Data diagrams (noprint)'!AQL8","v":0},{"$f":"'Data diagrams (noprint)'!AQM8","v":0},{"$f":"'Data diagrams (noprint)'!AQN8","v":0},{"$f":"'Data diagrams (noprint)'!AQO8","v":0},{"$f":"'Data diagrams (noprint)'!AQP8","v":0},{"$f":"'Data diagrams (noprint)'!AQQ8","v":0},{"$f":"'Data diagrams (noprint)'!AQR8","v":0},{"$f":"'Data diagrams (noprint)'!AQS8","v":0},{"$f":"'Data diagrams (noprint)'!AQT8","v":0},{"$f":"'Data diagrams (noprint)'!AQU8","v":0},{"$f":"'Data diagrams (noprint)'!AQV8","v":0},{"$f":"'Data diagrams (noprint)'!AQW8","v":0},{"$f":"'Data diagrams (noprint)'!AQX8","v":0},{"$f":"'Data diagrams (noprint)'!AQY8","v":0},{"$f":"'Data diagrams (noprint)'!AQZ8","v":0},{"$f":"'Data diagrams (noprint)'!ARA8","v":0},{"$f":"'Data diagrams (noprint)'!ARB8","v":0},{"$f":"'Data diagrams (noprint)'!ARC8","v":0},{"$f":"'Data diagrams (noprint)'!ARD8","v":0},{"$f":"'Data diagrams (noprint)'!ARE8","v":0},{"$f":"'Data diagrams (noprint)'!ARF8","v":0},{"$f":"'Data diagrams (noprint)'!ARG8","v":0},{"$f":"'Data diagrams (noprint)'!ARH8","v":0},{"$f":"'Data diagrams (noprint)'!ARI8","v":0},{"$f":"'Data diagrams (noprint)'!ARJ8","v":0},{"$f":"'Data diagrams (noprint)'!ARK8","v":0},{"$f":"'Data diagrams (noprint)'!ARL8","v":0},{"$f":"'Data diagrams (noprint)'!ARM8","v":0},{"$f":"'Data diagrams (noprint)'!ARN8","v":0},{"$f":"'Data diagrams (noprint)'!ARO8","v":0},{"$f":"'Data diagrams (noprint)'!ARP8","v":0},{"$f":"'Data diagrams (noprint)'!ARQ8","v":0},{"$f":"'Data diagrams (noprint)'!ARR8","v":0},{"$f":"'Data diagrams (noprint)'!ARS8","v":0},{"$f":"'Data diagrams (noprint)'!ART8","v":0},{"$f":"'Data diagrams (noprint)'!ARU8","v":0},{"$f":"'Data diagrams (noprint)'!ARV8","v":0},{"$f":"'Data diagrams (noprint)'!ARW8","v":0},{"$f":"'Data diagrams (noprint)'!ARX8","v":0},{"$f":"'Data diagrams (noprint)'!ARY8","v":0},{"$f":"'Data diagrams (noprint)'!ARZ8","v":0},{"$f":"'Data diagrams (noprint)'!ASA8","v":0},{"$f":"'Data diagrams (noprint)'!ASB8","v":0},{"$f":"'Data diagrams (noprint)'!ASC8","v":0},{"$f":"'Data diagrams (noprint)'!ASD8","v":0},{"$f":"'Data diagrams (noprint)'!ASE8","v":0},{"$f":"'Data diagrams (noprint)'!ASF8","v":0},{"$f":"'Data diagrams (noprint)'!ASG8","v":0},{"$f":"'Data diagrams (noprint)'!ASH8","v":0},{"$f":"'Data diagrams (noprint)'!ASI8","v":0},{"$f":"'Data diagrams (noprint)'!ASJ8","v":0},{"$f":"'Data diagrams (noprint)'!ASK8","v":0},{"$f":"'Data diagrams (noprint)'!ASL8","v":0},{"$f":"'Data diagrams (noprint)'!ASM8","v":0},{"$f":"'Data diagrams (noprint)'!ASN8","v":0},{"$f":"'Data diagrams (noprint)'!ASO8","v":0},{"$f":"'Data diagrams (noprint)'!ASP8","v":0},{"$f":"'Data diagrams (noprint)'!ASQ8","v":0},{"$f":"'Data diagrams (noprint)'!ASR8","v":0},{"$f":"'Data diagrams (noprint)'!ASS8","v":0},{"$f":"'Data diagrams (noprint)'!AST8","v":0},{"$f":"'Data diagrams (noprint)'!ASU8","v":0},{"$f":"'Data diagrams (noprint)'!ASV8","v":0},{"$f":"'Data diagrams (noprint)'!ASW8","v":0},{"$f":"'Data diagrams (noprint)'!ASX8","v":0},{"$f":"'Data diagrams (noprint)'!ASY8","v":0},{"$f":"'Data diagrams (noprint)'!ASZ8","v":0},{"$f":"'Data diagrams (noprint)'!ATA8","v":0},{"$f":"'Data diagrams (noprint)'!ATB8","v":0},{"$f":"'Data diagrams (noprint)'!ATC8","v":0},{"$f":"'Data diagrams (noprint)'!ATD8","v":0},{"$f":"'Data diagrams (noprint)'!ATE8","v":0},{"$f":"'Data diagrams (noprint)'!ATF8","v":0},{"$f":"'Data diagrams (noprint)'!ATG8","v":0},{"$f":"'Data diagrams (noprint)'!ATH8","v":0},{"$f":"'Data diagrams (noprint)'!ATI8","v":0},{"$f":"'Data diagrams (noprint)'!ATJ8","v":0},{"$f":"'Data diagrams (noprint)'!ATK8","v":0},{"$f":"'Data diagrams (noprint)'!ATL8","v":0},{"$f":"'Data diagrams (noprint)'!ATM8","v":0},{"$f":"'Data diagrams (noprint)'!ATN8","v":0},{"$f":"'Data diagrams (noprint)'!ATO8","v":0},{"$f":"'Data diagrams (noprint)'!ATP8","v":0},{"$f":"'Data diagrams (noprint)'!ATQ8","v":0},{"$f":"'Data diagrams (noprint)'!ATR8","v":0},{"$f":"'Data diagrams (noprint)'!ATS8","v":0},{"$f":"'Data diagrams (noprint)'!ATT8","v":0},{"$f":"'Data diagrams (noprint)'!ATU8","v":0},{"$f":"'Data diagrams (noprint)'!ATV8","v":0},{"$f":"'Data diagrams (noprint)'!ATW8","v":0},{"$f":"'Data diagrams (noprint)'!ATX8","v":0},{"$f":"'Data diagrams (noprint)'!ATY8","v":0},{"$f":"'Data diagrams (noprint)'!ATZ8","v":0},{"$f":"'Data diagrams (noprint)'!AUA8","v":0},{"$f":"'Data diagrams (noprint)'!AUB8","v":0},{"$f":"'Data diagrams (noprint)'!AUC8","v":0},{"$f":"'Data diagrams (noprint)'!AUD8","v":0},{"$f":"'Data diagrams (noprint)'!AUE8","v":0},{"$f":"'Data diagrams (noprint)'!AUF8","v":0},{"$f":"'Data diagrams (noprint)'!AUG8","v":0},{"$f":"'Data diagrams (noprint)'!AUH8","v":0},{"$f":"'Data diagrams (noprint)'!AUI8","v":0},{"$f":"'Data diagrams (noprint)'!AUJ8","v":0},{"$f":"'Data diagrams (noprint)'!AUK8","v":0},{"$f":"'Data diagrams (noprint)'!AUL8","v":0},{"$f":"'Data diagrams (noprint)'!AUM8","v":0},{"$f":"'Data diagrams (noprint)'!AUN8","v":0},{"$f":"'Data diagrams (noprint)'!AUO8","v":0},{"$f":"'Data diagrams (noprint)'!AUP8","v":0},{"$f":"'Data diagrams (noprint)'!AUQ8","v":0},{"$f":"'Data diagrams (noprint)'!AUR8","v":0},{"$f":"'Data diagrams (noprint)'!AUS8","v":0},{"$f":"'Data diagrams (noprint)'!AUT8","v":0},{"$f":"'Data diagrams (noprint)'!AUU8","v":0},{"$f":"'Data diagrams (noprint)'!AUV8","v":0},{"$f":"'Data diagrams (noprint)'!AUW8","v":0},{"$f":"'Data diagrams (noprint)'!AUX8","v":0},{"$f":"'Data diagrams (noprint)'!AUY8","v":0},{"$f":"'Data diagrams (noprint)'!AUZ8","v":0},{"$f":"'Data diagrams (noprint)'!AVA8","v":0},{"$f":"'Data diagrams (noprint)'!AVB8","v":0},{"$f":"'Data diagrams (noprint)'!AVC8","v":0},{"$f":"'Data diagrams (noprint)'!AVD8","v":0},{"$f":"'Data diagrams (noprint)'!AVE8","v":0},{"$f":"'Data diagrams (noprint)'!AVF8","v":0},{"$f":"'Data diagrams (noprint)'!AVG8","v":0},{"$f":"'Data diagrams (noprint)'!AVH8","v":0},{"$f":"'Data diagrams (noprint)'!AVI8","v":0},{"$f":"'Data diagrams (noprint)'!AVJ8","v":0},{"$f":"'Data diagrams (noprint)'!AVK8","v":0},{"$f":"'Data diagrams (noprint)'!AVL8","v":0},{"$f":"'Data diagrams (noprint)'!AVM8","v":0},{"$f":"'Data diagrams (noprint)'!AVN8","v":0},{"$f":"'Data diagrams (noprint)'!AVO8","v":0},{"$f":"'Data diagrams (noprint)'!AVP8","v":0},{"$f":"'Data diagrams (noprint)'!AVQ8","v":0},{"$f":"'Data diagrams (noprint)'!AVR8","v":0},{"$f":"'Data diagrams (noprint)'!AVS8","v":0},{"$f":"'Data diagrams (noprint)'!AVT8","v":0},{"$f":"'Data diagrams (noprint)'!AVU8","v":0},{"$f":"'Data diagrams (noprint)'!AVV8","v":0},{"$f":"'Data diagrams (noprint)'!AVW8","v":0},{"$f":"'Data diagrams (noprint)'!AVX8","v":0},{"$f":"'Data diagrams (noprint)'!AVY8","v":0},{"$f":"'Data diagrams (noprint)'!AVZ8","v":0},{"$f":"'Data diagrams (noprint)'!AWA8","v":0},{"$f":"'Data diagrams (noprint)'!AWB8","v":0},{"$f":"'Data diagrams (noprint)'!AWC8","v":0},{"$f":"'Data diagrams (noprint)'!AWD8","v":0},{"$f":"'Data diagrams (noprint)'!AWE8","v":0},{"$f":"'Data diagrams (noprint)'!AWF8","v":0},{"$f":"'Data diagrams (noprint)'!AWG8","v":0},{"$f":"'Data diagrams (noprint)'!AWH8","v":0},{"$f":"'Data diagrams (noprint)'!AWI8","v":0},{"$f":"'Data diagrams (noprint)'!AWJ8","v":0},{"$f":"'Data diagrams (noprint)'!AWK8","v":0},{"$f":"'Data diagrams (noprint)'!AWL8","v":0},{"$f":"'Data diagrams (noprint)'!AWM8","v":0},{"$f":"'Data diagrams (noprint)'!AWN8","v":0},{"$f":"'Data diagrams (noprint)'!AWO8","v":0},{"$f":"'Data diagrams (noprint)'!AWP8","v":0},{"$f":"'Data diagrams (noprint)'!AWQ8","v":0},{"$f":"'Data diagrams (noprint)'!AWR8","v":0},{"$f":"'Data diagrams (noprint)'!AWS8","v":0},{"$f":"'Data diagrams (noprint)'!AWT8","v":0},{"$f":"'Data diagrams (noprint)'!AWU8","v":0},{"$f":"'Data diagrams (noprint)'!AWV8","v":0},{"$f":"'Data diagrams (noprint)'!AWW8","v":0},{"$f":"'Data diagrams (noprint)'!AWX8","v":0},{"$f":"'Data diagrams (noprint)'!AWY8","v":0},{"$f":"'Data diagrams (noprint)'!AWZ8","v":0},{"$f":"'Data diagrams (noprint)'!AXA8","v":0},{"$f":"'Data diagrams (noprint)'!AXB8","v":0},{"$f":"'Data diagrams (noprint)'!AXC8","v":0},{"$f":"'Data diagrams (noprint)'!AXD8","v":0},{"$f":"'Data diagrams (noprint)'!AXE8","v":0},{"$f":"'Data diagrams (noprint)'!AXF8","v":0},{"$f":"'Data diagrams (noprint)'!AXG8","v":0},{"$f":"'Data diagrams (noprint)'!AXH8","v":0},{"$f":"'Data diagrams (noprint)'!AXI8","v":0},{"$f":"'Data diagrams (noprint)'!AXJ8","v":0},{"$f":"'Data diagrams (noprint)'!AXK8","v":0},{"$f":"'Data diagrams (noprint)'!AXL8","v":0},{"$f":"'Data diagrams (noprint)'!AXM8","v":0},{"$f":"'Data diagrams (noprint)'!AXN8","v":0},{"$f":"'Data diagrams (noprint)'!AXO8","v":0},{"$f":"'Data diagrams (noprint)'!AXP8","v":0},{"$f":"'Data diagrams (noprint)'!AXQ8","v":0},{"$f":"'Data diagrams (noprint)'!AXR8","v":0},{"$f":"'Data diagrams (noprint)'!AXS8","v":0},{"$f":"'Data diagrams (noprint)'!AXT8","v":0},{"$f":"'Data diagrams (noprint)'!AXU8","v":0},{"$f":"'Data diagrams (noprint)'!AXV8","v":0},{"$f":"'Data diagrams (noprint)'!AXW8","v":0},{"$f":"'Data diagrams (noprint)'!AXX8","v":0},{"$f":"'Data diagrams (noprint)'!AXY8","v":0},{"$f":"'Data diagrams (noprint)'!AXZ8","v":0},{"$f":"'Data diagrams (noprint)'!AYA8","v":0},{"$f":"'Data diagrams (noprint)'!AYB8","v":0},{"$f":"'Data diagrams (noprint)'!AYC8","v":0},{"$f":"'Data diagrams (noprint)'!AYD8","v":0},{"$f":"'Data diagrams (noprint)'!AYE8","v":0},{"$f":"'Data diagrams (noprint)'!AYF8","v":0},{"$f":"'Data diagrams (noprint)'!AYG8","v":0},{"$f":"'Data diagrams (noprint)'!AYH8","v":0},{"$f":"'Data diagrams (noprint)'!AYI8","v":0},{"$f":"'Data diagrams (noprint)'!AYJ8","v":0},{"$f":"'Data diagrams (noprint)'!AYK8","v":0},{"$f":"'Data diagrams (noprint)'!AYL8","v":0},{"$f":"'Data diagrams (noprint)'!AYM8","v":0},{"$f":"'Data diagrams (noprint)'!AYN8","v":0},{"$f":"'Data diagrams (noprint)'!AYO8","v":0},{"$f":"'Data diagrams (noprint)'!AYP8","v":0},{"$f":"'Data diagrams (noprint)'!AYQ8","v":0},{"$f":"'Data diagrams (noprint)'!AYR8","v":0},{"$f":"'Data diagrams (noprint)'!AYS8","v":0},{"$f":"'Data diagrams (noprint)'!AYT8","v":0},{"$f":"'Data diagrams (noprint)'!AYU8","v":0},{"$f":"'Data diagrams (noprint)'!AYV8","v":0},{"$f":"'Data diagrams (noprint)'!AYW8","v":0},{"$f":"'Data diagrams (noprint)'!AYX8","v":0},{"$f":"'Data diagrams (noprint)'!AYY8","v":0},{"$f":"'Data diagrams (noprint)'!AYZ8","v":0},{"$f":"'Data diagrams (noprint)'!AZA8","v":0},{"$f":"'Data diagrams (noprint)'!AZB8","v":0},{"$f":"'Data diagrams (noprint)'!AZC8","v":0},{"$f":"'Data diagrams (noprint)'!AZD8","v":0},{"$f":"'Data diagrams (noprint)'!AZE8","v":0},{"$f":"'Data diagrams (noprint)'!AZF8","v":0},{"$f":"'Data diagrams (noprint)'!AZG8","v":0},{"$f":"'Data diagrams (noprint)'!AZH8","v":0},{"$f":"'Data diagrams (noprint)'!AZI8","v":0},{"$f":"'Data diagrams (noprint)'!AZJ8","v":0},{"$f":"'Data diagrams (noprint)'!AZK8","v":0},{"$f":"'Data diagrams (noprint)'!AZL8","v":0},{"$f":"'Data diagrams (noprint)'!AZM8","v":0},{"$f":"'Data diagrams (noprint)'!AZN8","v":0},{"$f":"'Data diagrams (noprint)'!AZO8","v":0},{"$f":"'Data diagrams (noprint)'!AZP8","v":0},{"$f":"'Data diagrams (noprint)'!AZQ8","v":0},{"$f":"'Data diagrams (noprint)'!AZR8","v":0},{"$f":"'Data diagrams (noprint)'!AZS8","v":0},{"$f":"'Data diagrams (noprint)'!AZT8","v":0},{"$f":"'Data diagrams (noprint)'!AZU8","v":0},{"$f":"'Data diagrams (noprint)'!AZV8","v":0},{"$f":"'Data diagrams (noprint)'!AZW8","v":0},{"$f":"'Data diagrams (noprint)'!AZX8","v":0},{"$f":"'Data diagrams (noprint)'!AZY8","v":0},{"$f":"'Data diagrams (noprint)'!AZZ8","v":0},{"$f":"'Data diagrams (noprint)'!BAA8","v":0},{"$f":"'Data diagrams (noprint)'!BAB8","v":0},{"$f":"'Data diagrams (noprint)'!BAC8","v":0},{"$f":"'Data diagrams (noprint)'!BAD8","v":0},{"$f":"'Data diagrams (noprint)'!BAE8","v":0},{"$f":"'Data diagrams (noprint)'!BAF8","v":0},{"$f":"'Data diagrams (noprint)'!BAG8","v":0},{"$f":"'Data diagrams (noprint)'!BAH8","v":0},{"$f":"'Data diagrams (noprint)'!BAI8","v":0},{"$f":"'Data diagrams (noprint)'!BAJ8","v":0},{"$f":"'Data diagrams (noprint)'!BAK8","v":0},{"$f":"'Data diagrams (noprint)'!BAL8","v":0},{"$f":"'Data diagrams (noprint)'!BAM8","v":0},{"$f":"'Data diagrams (noprint)'!BAN8","v":0},{"$f":"'Data diagrams (noprint)'!BAO8","v":0},{"$f":"'Data diagrams (noprint)'!BAP8","v":0},{"$f":"'Data diagrams (noprint)'!BAQ8","v":0},{"$f":"'Data diagrams (noprint)'!BAR8","v":0},{"$f":"'Data diagrams (noprint)'!BAS8","v":0},{"$f":"'Data diagrams (noprint)'!BAT8","v":0},{"$f":"'Data diagrams (noprint)'!BAU8","v":0},{"$f":"'Data diagrams (noprint)'!BAV8","v":0},{"$f":"'Data diagrams (noprint)'!BAW8","v":0},{"$f":"'Data diagrams (noprint)'!BAX8","v":0},{"$f":"'Data diagrams (noprint)'!BAY8","v":0},{"$f":"'Data diagrams (noprint)'!BAZ8","v":0},{"$f":"'Data diagrams (noprint)'!BBA8","v":0},{"$f":"'Data diagrams (noprint)'!BBB8","v":0},{"$f":"'Data diagrams (noprint)'!BBC8","v":0},{"$f":"'Data diagrams (noprint)'!BBD8","v":0},{"$f":"'Data diagrams (noprint)'!BBE8","v":0},{"$f":"'Data diagrams (noprint)'!BBF8","v":0},{"$f":"'Data diagrams (noprint)'!BBG8","v":0},{"$f":"'Data diagrams (noprint)'!BBH8","v":0},{"$f":"'Data diagrams (noprint)'!BBI8","v":0},{"$f":"'Data diagrams (noprint)'!BBJ8","v":0},{"$f":"'Data diagrams (noprint)'!BBK8","v":0},{"$f":"'Data diagrams (noprint)'!BBL8","v":0},{"$f":"'Data diagrams (noprint)'!BBM8","v":0},{"$f":"'Data diagrams (noprint)'!BBN8","v":0},{"$f":"'Data diagrams (noprint)'!BBO8","v":0},{"$f":"'Data diagrams (noprint)'!BBP8","v":0},{"$f":"'Data diagrams (noprint)'!BBQ8","v":0},{"$f":"'Data diagrams (noprint)'!BBR8","v":0},{"$f":"'Data diagrams (noprint)'!BBS8","v":0},{"$f":"'Data diagrams (noprint)'!BBT8","v":0},{"$f":"'Data diagrams (noprint)'!BBU8","v":0},{"$f":"'Data diagrams (noprint)'!BBV8","v":0},{"$f":"'Data diagrams (noprint)'!BBW8","v":0},{"$f":"'Data diagrams (noprint)'!BBX8","v":0},{"$f":"'Data diagrams (noprint)'!BBY8","v":0},{"$f":"'Data diagrams (noprint)'!BBZ8","v":0},{"$f":"'Data diagrams (noprint)'!BCA8","v":0},{"$f":"'Data diagrams (noprint)'!BCB8","v":0},{"$f":"'Data diagrams (noprint)'!BCC8","v":0},{"$f":"'Data diagrams (noprint)'!BCD8","v":0},{"$f":"'Data diagrams (noprint)'!BCE8","v":0},{"$f":"'Data diagrams (noprint)'!BCF8","v":0},{"$f":"'Data diagrams (noprint)'!BCG8","v":0},{"$f":"'Data diagrams (noprint)'!BCH8","v":0},{"$f":"'Data diagrams (noprint)'!BCI8","v":0},{"$f":"'Data diagrams (noprint)'!BCJ8","v":0},{"$f":"'Data diagrams (noprint)'!BCK8","v":0},{"$f":"'Data diagrams (noprint)'!BCL8","v":0},{"$f":"'Data diagrams (noprint)'!BCM8","v":0},{"$f":"'Data diagrams (noprint)'!BCN8","v":0},{"$f":"'Data diagrams (noprint)'!BCO8","v":0},{"$f":"'Data diagrams (noprint)'!BCP8","v":0},{"$f":"'Data diagrams (noprint)'!BCQ8","v":0},{"$f":"'Data diagrams (noprint)'!BCR8","v":0},{"$f":"'Data diagrams (noprint)'!BCS8","v":0},{"$f":"'Data diagrams (noprint)'!BCT8","v":0},{"$f":"'Data diagrams (noprint)'!BCU8","v":0},{"$f":"'Data diagrams (noprint)'!BCV8","v":0},{"$f":"'Data diagrams (noprint)'!BCW8","v":0},{"$f":"'Data diagrams (noprint)'!BCX8","v":0},{"$f":"'Data diagrams (noprint)'!BCY8","v":0},{"$f":"'Data diagrams (noprint)'!BCZ8","v":0},{"$f":"'Data diagrams (noprint)'!BDA8","v":0},{"$f":"'Data diagrams (noprint)'!BDB8","v":0},{"$f":"'Data diagrams (noprint)'!BDC8","v":0},{"$f":"'Data diagrams (noprint)'!BDD8","v":0},{"$f":"'Data diagrams (noprint)'!BDE8","v":0},{"$f":"'Data diagrams (noprint)'!BDF8","v":0},{"$f":"'Data diagrams (noprint)'!BDG8","v":0},{"$f":"'Data diagrams (noprint)'!BDH8","v":0},{"$f":"'Data diagrams (noprint)'!BDI8","v":0},{"$f":"'Data diagrams (noprint)'!BDJ8","v":0},{"$f":"'Data diagrams (noprint)'!BDK8","v":0},{"$f":"'Data diagrams (noprint)'!BDL8","v":0},{"$f":"'Data diagrams (noprint)'!BDM8","v":0},{"$f":"'Data diagrams (noprint)'!BDN8","v":0},{"$f":"'Data diagrams (noprint)'!BDO8","v":0},{"$f":"'Data diagrams (noprint)'!BDP8","v":0},{"$f":"'Data diagrams (noprint)'!BDQ8","v":0},{"$f":"'Data diagrams (noprint)'!BDR8","v":0},{"$f":"'Data diagrams (noprint)'!BDS8","v":0},{"$f":"'Data diagrams (noprint)'!BDT8","v":0},{"$f":"'Data diagrams (noprint)'!BDU8","v":0},{"$f":"'Data diagrams (noprint)'!BDV8","v":0},{"$f":"'Data diagrams (noprint)'!BDW8","v":0},{"$f":"'Data diagrams (noprint)'!BDX8","v":0},{"$f":"'Data diagrams (noprint)'!BDY8","v":0},{"$f":"'Data diagrams (noprint)'!BDZ8","v":0},{"$f":"'Data diagrams (noprint)'!BEA8","v":0},{"$f":"'Data diagrams (noprint)'!BEB8","v":0},{"$f":"'Data diagrams (noprint)'!BEC8","v":0},{"$f":"'Data diagrams (noprint)'!BED8","v":0},{"$f":"'Data diagrams (noprint)'!BEE8","v":0},{"$f":"'Data diagrams (noprint)'!BEF8","v":0},{"$f":"'Data diagrams (noprint)'!BEG8","v":0},{"$f":"'Data diagrams (noprint)'!BEH8","v":0},{"$f":"'Data diagrams (noprint)'!BEI8","v":0},{"$f":"'Data diagrams (noprint)'!BEJ8","v":0},{"$f":"'Data diagrams (noprint)'!BEK8","v":0},{"$f":"'Data diagrams (noprint)'!BEL8","v":0},{"$f":"'Data diagrams (noprint)'!BEM8","v":0},{"$f":"'Data diagrams (noprint)'!BEN8","v":0},{"$f":"'Data diagrams (noprint)'!BEO8","v":0},{"$f":"'Data diagrams (noprint)'!BEP8","v":0},{"$f":"'Data diagrams (noprint)'!BEQ8","v":0},{"$f":"'Data diagrams (noprint)'!BER8","v":0},{"$f":"'Data diagrams (noprint)'!BES8","v":0},{"$f":"'Data diagrams (noprint)'!BET8","v":0},{"$f":"'Data diagrams (noprint)'!BEU8","v":0},{"$f":"'Data diagrams (noprint)'!BEV8","v":0},{"$f":"'Data diagrams (noprint)'!BEW8","v":0},{"$f":"'Data diagrams (noprint)'!BEX8","v":0},{"$f":"'Data diagrams (noprint)'!BEY8","v":0},{"$f":"'Data diagrams (noprint)'!BEZ8","v":0},{"$f":"'Data diagrams (noprint)'!BFA8","v":0},{"$f":"'Data diagrams (noprint)'!BFB8","v":0},{"$f":"'Data diagrams (noprint)'!BFC8","v":0},{"$f":"'Data diagrams (noprint)'!BFD8","v":0},{"$f":"'Data diagrams (noprint)'!BFE8","v":0},{"$f":"'Data diagrams (noprint)'!BFF8","v":0},{"$f":"'Data diagrams (noprint)'!BFG8","v":0},{"$f":"'Data diagrams (noprint)'!BFH8","v":0},{"$f":"'Data diagrams (noprint)'!BFI8","v":0},{"$f":"'Data diagrams (noprint)'!BFJ8","v":0},{"$f":"'Data diagrams (noprint)'!BFK8","v":0},{"$f":"'Data diagrams (noprint)'!BFL8","v":0},{"$f":"'Data diagrams (noprint)'!BFM8","v":0},{"$f":"'Data diagrams (noprint)'!BFN8","v":0},{"$f":"'Data diagrams (noprint)'!BFO8","v":0},{"$f":"'Data diagrams (noprint)'!BFP8","v":0},{"$f":"'Data diagrams (noprint)'!BFQ8","v":0},{"$f":"'Data diagrams (noprint)'!BFR8","v":0},{"$f":"'Data diagrams (noprint)'!BFS8","v":0},{"$f":"'Data diagrams (noprint)'!BFT8","v":0},{"$f":"'Data diagrams (noprint)'!BFU8","v":0},{"$f":"'Data diagrams (noprint)'!BFV8","v":0},{"$f":"'Data diagrams (noprint)'!BFW8","v":0},{"$f":"'Data diagrams (noprint)'!BFX8","v":0},{"$f":"'Data diagrams (noprint)'!BFY8","v":0},{"$f":"'Data diagrams (noprint)'!BFZ8","v":0},{"$f":"'Data diagrams (noprint)'!BGA8","v":0},{"$f":"'Data diagrams (noprint)'!BGB8","v":0},{"$f":"'Data diagrams (noprint)'!BGC8","v":0},{"$f":"'Data diagrams (noprint)'!BGD8","v":0},{"$f":"'Data diagrams (noprint)'!BGE8","v":0},{"$f":"'Data diagrams (noprint)'!BGF8","v":0},{"$f":"'Data diagrams (noprint)'!BGG8","v":0},{"$f":"'Data diagrams (noprint)'!BGH8","v":0},{"$f":"'Data diagrams (noprint)'!BGI8","v":0},{"$f":"'Data diagrams (noprint)'!BGJ8","v":0},{"$f":"'Data diagrams (noprint)'!BGK8","v":0},{"$f":"'Data diagrams (noprint)'!BGL8","v":0},{"$f":"'Data diagrams (noprint)'!BGM8","v":0},{"$f":"'Data diagrams (noprint)'!BGN8","v":0},{"$f":"'Data diagrams (noprint)'!BGO8","v":0},{"$f":"'Data diagrams (noprint)'!BGP8","v":0},{"$f":"'Data diagrams (noprint)'!BGQ8","v":0},{"$f":"'Data diagrams (noprint)'!BGR8","v":0},{"$f":"'Data diagrams (noprint)'!BGS8","v":0},{"$f":"'Data diagrams (noprint)'!BGT8","v":0},{"$f":"'Data diagrams (noprint)'!BGU8","v":0},{"$f":"'Data diagrams (noprint)'!BGV8","v":0},{"$f":"'Data diagrams (noprint)'!BGW8","v":0},{"$f":"'Data diagrams (noprint)'!BGX8","v":0},{"$f":"'Data diagrams (noprint)'!BGY8","v":0},{"$f":"'Data diagrams (noprint)'!BGZ8","v":0},{"$f":"'Data diagrams (noprint)'!BHA8","v":0},{"$f":"'Data diagrams (noprint)'!BHB8","v":0},{"$f":"'Data diagrams (noprint)'!BHC8","v":0},{"$f":"'Data diagrams (noprint)'!BHD8","v":0},{"$f":"'Data diagrams (noprint)'!BHE8","v":0},{"$f":"'Data diagrams (noprint)'!BHF8","v":0},{"$f":"'Data diagrams (noprint)'!BHG8","v":0},{"$f":"'Data diagrams (noprint)'!BHH8","v":0},{"$f":"'Data diagrams (noprint)'!BHI8","v":0},{"$f":"'Data diagrams (noprint)'!BHJ8","v":0},{"$f":"'Data diagrams (noprint)'!BHK8","v":0},{"$f":"'Data diagrams (noprint)'!BHL8","v":0},{"$f":"'Data diagrams (noprint)'!BHM8","v":0},{"$f":"'Data diagrams (noprint)'!BHN8","v":0},{"$f":"'Data diagrams (noprint)'!BHO8","v":0},{"$f":"'Data diagrams (noprint)'!BHP8","v":0},{"$f":"'Data diagrams (noprint)'!BHQ8","v":0},{"$f":"'Data diagrams (noprint)'!BHR8","v":0},{"$f":"'Data diagrams (noprint)'!BHS8","v":0},{"$f":"'Data diagrams (noprint)'!BHT8","v":0},{"$f":"'Data diagrams (noprint)'!BHU8","v":0},{"$f":"'Data diagrams (noprint)'!BHV8","v":0},{"$f":"'Data diagrams (noprint)'!BHW8","v":0},{"$f":"'Data diagrams (noprint)'!BHX8","v":0},{"$f":"'Data diagrams (noprint)'!BHY8","v":0},{"$f":"'Data diagrams (noprint)'!BHZ8","v":0},{"$f":"'Data diagrams (noprint)'!BIA8","v":0},{"$f":"'Data diagrams (noprint)'!BIB8","v":0},{"$f":"'Data diagrams (noprint)'!BIC8","v":0},{"$f":"'Data diagrams (noprint)'!BID8","v":0},{"$f":"'Data diagrams (noprint)'!BIE8","v":0},{"$f":"'Data diagrams (noprint)'!BIF8","v":0},{"$f":"'Data diagrams (noprint)'!BIG8","v":0},{"$f":"'Data diagrams (noprint)'!BIH8","v":0},{"$f":"'Data diagrams (noprint)'!BII8","v":0},{"$f":"'Data diagrams (noprint)'!BIJ8","v":0},{"$f":"'Data diagrams (noprint)'!BIK8","v":0},{"$f":"'Data diagrams (noprint)'!BIL8","v":0},{"$f":"'Data diagrams (noprint)'!BIM8","v":0},{"$f":"'Data diagrams (noprint)'!BIN8","v":0},{"$f":"'Data diagrams (noprint)'!BIO8","v":0},{"$f":"'Data diagrams (noprint)'!BIP8","v":0},{"$f":"'Data diagrams (noprint)'!BIQ8","v":0},{"$f":"'Data diagrams (noprint)'!BIR8","v":0},{"$f":"'Data diagrams (noprint)'!BIS8","v":0},{"$f":"'Data diagrams (noprint)'!BIT8","v":0},{"$f":"'Data diagrams (noprint)'!BIU8","v":0},{"$f":"'Data diagrams (noprint)'!BIV8","v":0},{"$f":"'Data diagrams (noprint)'!BIW8","v":0},{"$f":"'Data diagrams (noprint)'!BIX8","v":0},{"$f":"'Data diagrams (noprint)'!BIY8","v":0},{"$f":"'Data diagrams (noprint)'!BIZ8","v":0},{"$f":"'Data diagrams (noprint)'!BJA8","v":0},{"$f":"'Data diagrams (noprint)'!BJB8","v":0},{"$f":"'Data diagrams (noprint)'!BJC8","v":0},{"$f":"'Data diagrams (noprint)'!BJD8","v":0},{"$f":"'Data diagrams (noprint)'!BJE8","v":0},{"$f":"'Data diagrams (noprint)'!BJF8","v":0},{"$f":"'Data diagrams (noprint)'!BJG8","v":0},{"$f":"'Data diagrams (noprint)'!BJH8","v":0},{"$f":"'Data diagrams (noprint)'!BJI8","v":0},{"$f":"'Data diagrams (noprint)'!BJJ8","v":0},{"$f":"'Data diagrams (noprint)'!BJK8","v":0},{"$f":"'Data diagrams (noprint)'!BJL8","v":0},{"$f":"'Data diagrams (noprint)'!BJM8","v":0},{"$f":"'Data diagrams (noprint)'!BJN8","v":0},{"$f":"'Data diagrams (noprint)'!BJO8","v":0},{"$f":"'Data diagrams (noprint)'!BJP8","v":0},{"$f":"'Data diagrams (noprint)'!BJQ8","v":0},{"$f":"'Data diagrams (noprint)'!BJR8","v":0},{"$f":"'Data diagrams (noprint)'!BJS8","v":0},{"$f":"'Data diagrams (noprint)'!BJT8","v":0},{"$f":"'Data diagrams (noprint)'!BJU8","v":0},{"$f":"'Data diagrams (noprint)'!BJV8","v":0},{"$f":"'Data diagrams (noprint)'!BJW8","v":0},{"$f":"'Data diagrams (noprint)'!BJX8","v":0},{"$f":"'Data diagrams (noprint)'!BJY8","v":0},{"$f":"'Data diagrams (noprint)'!BJZ8","v":0},{"$f":"'Data diagrams (noprint)'!BKA8","v":0},{"$f":"'Data diagrams (noprint)'!BKB8","v":0},{"$f":"'Data diagrams (noprint)'!BKC8","v":0},{"$f":"'Data diagrams (noprint)'!BKD8","v":0},{"$f":"'Data diagrams (noprint)'!BKE8","v":0},{"$f":"'Data diagrams (noprint)'!BKF8","v":0},{"$f":"'Data diagrams (noprint)'!BKG8","v":0},{"$f":"'Data diagrams (noprint)'!BKH8","v":0},{"$f":"'Data diagrams (noprint)'!BKI8","v":0},{"$f":"'Data diagrams (noprint)'!BKJ8","v":0},{"$f":"'Data diagrams (noprint)'!BKK8","v":0},{"$f":"'Data diagrams (noprint)'!BKL8","v":0},{"$f":"'Data diagrams (noprint)'!BKM8","v":0},{"$f":"'Data diagrams (noprint)'!BKN8","v":0},{"$f":"'Data diagrams (noprint)'!BKO8","v":0},{"$f":"'Data diagrams (noprint)'!BKP8","v":0},{"$f":"'Data diagrams (noprint)'!BKQ8","v":0},{"$f":"'Data diagrams (noprint)'!BKR8","v":0},{"$f":"'Data diagrams (noprint)'!BKS8","v":0},{"$f":"'Data diagrams (noprint)'!BKT8","v":0},{"$f":"'Data diagrams (noprint)'!BKU8","v":0},{"$f":"'Data diagrams (noprint)'!BKV8","v":0},{"$f":"'Data diagrams (noprint)'!BKW8","v":0},{"$f":"'Data diagrams (noprint)'!BKX8","v":0},{"$f":"'Data diagrams (noprint)'!BKY8","v":0},{"$f":"'Data diagrams (noprint)'!BKZ8","v":0},{"$f":"'Data diagrams (noprint)'!BLA8","v":0},{"$f":"'Data diagrams (noprint)'!BLB8","v":0},{"$f":"'Data diagrams (noprint)'!BLC8","v":0},{"$f":"'Data diagrams (noprint)'!BLD8","v":0},{"$f":"'Data diagrams (noprint)'!BLE8","v":0},{"$f":"'Data diagrams (noprint)'!BLF8","v":0},{"$f":"'Data diagrams (noprint)'!BLG8","v":0},{"$f":"'Data diagrams (noprint)'!BLH8","v":0},{"$f":"'Data diagrams (noprint)'!BLI8","v":0},{"$f":"'Data diagrams (noprint)'!BLJ8","v":0},{"$f":"'Data diagrams (noprint)'!BLK8","v":0},{"$f":"'Data diagrams (noprint)'!BLL8","v":0},{"$f":"'Data diagrams (noprint)'!BLM8","v":0},{"$f":"'Data diagrams (noprint)'!BLN8","v":0},{"$f":"'Data diagrams (noprint)'!BLO8","v":0},{"$f":"'Data diagrams (noprint)'!BLP8","v":0},{"$f":"'Data diagrams (noprint)'!BLQ8","v":0},{"$f":"'Data diagrams (noprint)'!BLR8","v":0},{"$f":"'Data diagrams (noprint)'!BLS8","v":0},{"$f":"'Data diagrams (noprint)'!BLT8","v":0},{"$f":"'Data diagrams (noprint)'!BLU8","v":0},{"$f":"'Data diagrams (noprint)'!BLV8","v":0},{"$f":"'Data diagrams (noprint)'!BLW8","v":0},{"$f":"'Data diagrams (noprint)'!BLX8","v":0},{"$f":"'Data diagrams (noprint)'!BLY8","v":0},{"$f":"'Data diagrams (noprint)'!BLZ8","v":0},{"$f":"'Data diagrams (noprint)'!BMA8","v":0},{"$f":"'Data diagrams (noprint)'!BMB8","v":0},{"$f":"'Data diagrams (noprint)'!BMC8","v":0},{"$f":"'Data diagrams (noprint)'!BMD8","v":0},{"$f":"'Data diagrams (noprint)'!BME8","v":0},{"$f":"'Data diagrams (noprint)'!BMF8","v":0},{"$f":"'Data diagrams (noprint)'!BMG8","v":0},{"$f":"'Data diagrams (noprint)'!BMH8","v":0},{"$f":"'Data diagrams (noprint)'!BMI8","v":0},{"$f":"'Data diagrams (noprint)'!BMJ8","v":0},{"$f":"'Data diagrams (noprint)'!BMK8","v":0},{"$f":"'Data diagrams (noprint)'!BML8","v":0},{"$f":"'Data diagrams (noprint)'!BMM8","v":0},{"$f":"'Data diagrams (noprint)'!BMN8","v":0},{"$f":"'Data diagrams (noprint)'!BMO8","v":0},{"$f":"'Data diagrams (noprint)'!BMP8","v":0},{"$f":"'Data diagrams (noprint)'!BMQ8","v":0},{"$f":"'Data diagrams (noprint)'!BMR8","v":0},{"$f":"'Data diagrams (noprint)'!BMS8","v":0},{"$f":"'Data diagrams (noprint)'!BMT8","v":0},{"$f":"'Data diagrams (noprint)'!BMU8","v":0},{"$f":"'Data diagrams (noprint)'!BMV8","v":0},{"$f":"'Data diagrams (noprint)'!BMW8","v":0},{"$f":"'Data diagrams (noprint)'!BMX8","v":0},{"$f":"'Data diagrams (noprint)'!BMY8","v":0},{"$f":"'Data diagrams (noprint)'!BMZ8","v":0},{"$f":"'Data diagrams (noprint)'!BNA8","v":0},{"$f":"'Data diagrams (noprint)'!BNB8","v":0},{"$f":"'Data diagrams (noprint)'!BNC8","v":0},{"$f":"'Data diagrams (noprint)'!BND8","v":0},{"$f":"'Data diagrams (noprint)'!BNE8","v":0},{"$f":"'Data diagrams (noprint)'!BNF8","v":0},{"$f":"'Data diagrams (noprint)'!BNG8","v":0},{"$f":"'Data diagrams (noprint)'!BNH8","v":0},{"$f":"'Data diagrams (noprint)'!BNI8","v":0},{"$f":"'Data diagrams (noprint)'!BNJ8","v":0},{"$f":"'Data diagrams (noprint)'!BNK8","v":0},{"$f":"'Data diagrams (noprint)'!BNL8","v":0},{"$f":"'Data diagrams (noprint)'!BNM8","v":0},{"$f":"'Data diagrams (noprint)'!BNN8","v":0},{"$f":"'Data diagrams (noprint)'!BNO8","v":0},{"$f":"'Data diagrams (noprint)'!BNP8","v":0},{"$f":"'Data diagrams (noprint)'!BNQ8","v":0},{"$f":"'Data diagrams (noprint)'!BNR8","v":0},{"$f":"'Data diagrams (noprint)'!BNS8","v":0},{"$f":"'Data diagrams (noprint)'!BNT8","v":0},{"$f":"'Data diagrams (noprint)'!BNU8","v":0},{"$f":"'Data diagrams (noprint)'!BNV8","v":0},{"$f":"'Data diagrams (noprint)'!BNW8","v":0},{"$f":"'Data diagrams (noprint)'!BNX8","v":0},{"$f":"'Data diagrams (noprint)'!BNY8","v":0},{"$f":"'Data diagrams (noprint)'!BNZ8","v":0},{"$f":"'Data diagrams (noprint)'!BOA8","v":0},{"$f":"'Data diagrams (noprint)'!BOB8","v":0},{"$f":"'Data diagrams (noprint)'!BOC8","v":0},{"$f":"'Data diagrams (noprint)'!BOD8","v":0},{"$f":"'Data diagrams (noprint)'!BOE8","v":0},{"$f":"'Data diagrams (noprint)'!BOF8","v":0},{"$f":"'Data diagrams (noprint)'!BOG8","v":0},{"$f":"'Data diagrams (noprint)'!BOH8","v":0},{"$f":"'Data diagrams (noprint)'!BOI8","v":0},{"$f":"'Data diagrams (noprint)'!BOJ8","v":0},{"$f":"'Data diagrams (noprint)'!BOK8","v":0},{"$f":"'Data diagrams (noprint)'!BOL8","v":0},{"$f":"'Data diagrams (noprint)'!BOM8","v":0},{"$f":"'Data diagrams (noprint)'!BON8","v":0},{"$f":"'Data diagrams (noprint)'!BOO8","v":0},{"$f":"'Data diagrams (noprint)'!BOP8","v":0},{"$f":"'Data diagrams (noprint)'!BOQ8","v":0},{"$f":"'Data diagrams (noprint)'!BOR8","v":0},{"$f":"'Data diagrams (noprint)'!BOS8","v":0},{"$f":"'Data diagrams (noprint)'!BOT8","v":0},{"$f":"'Data diagrams (noprint)'!BOU8","v":0},{"$f":"'Data diagrams (noprint)'!BOV8","v":0},{"$f":"'Data diagrams (noprint)'!BOW8","v":0},{"$f":"'Data diagrams (noprint)'!BOX8","v":0},{"$f":"'Data diagrams (noprint)'!BOY8","v":0},{"$f":"'Data diagrams (noprint)'!BOZ8","v":0},{"$f":"'Data diagrams (noprint)'!BPA8","v":0},{"$f":"'Data diagrams (noprint)'!BPB8","v":0},{"$f":"'Data diagrams (noprint)'!BPC8","v":0},{"$f":"'Data diagrams (noprint)'!BPD8","v":0},{"$f":"'Data diagrams (noprint)'!BPE8","v":0},{"$f":"'Data diagrams (noprint)'!BPF8","v":0},{"$f":"'Data diagrams (noprint)'!BPG8","v":0},{"$f":"'Data diagrams (noprint)'!BPH8","v":0},{"$f":"'Data diagrams (noprint)'!BPI8","v":0},{"$f":"'Data diagrams (noprint)'!BPJ8","v":0},{"$f":"'Data diagrams (noprint)'!BPK8","v":0},{"$f":"'Data diagrams (noprint)'!BPL8","v":0},{"$f":"'Data diagrams (noprint)'!BPM8","v":0},{"$f":"'Data diagrams (noprint)'!BPN8","v":0},{"$f":"'Data diagrams (noprint)'!BPO8","v":0},{"$f":"'Data diagrams (noprint)'!BPP8","v":0},{"$f":"'Data diagrams (noprint)'!BPQ8","v":0},{"$f":"'Data diagrams (noprint)'!BPR8","v":0},{"$f":"'Data diagrams (noprint)'!BPS8","v":0},{"$f":"'Data diagrams (noprint)'!BPT8","v":0},{"$f":"'Data diagrams (noprint)'!BPU8","v":0},{"$f":"'Data diagrams (noprint)'!BPV8","v":0},{"$f":"'Data diagrams (noprint)'!BPW8","v":0},{"$f":"'Data diagrams (noprint)'!BPX8","v":0},{"$f":"'Data diagrams (noprint)'!BPY8","v":0},{"$f":"'Data diagrams (noprint)'!BPZ8","v":0},{"$f":"'Data diagrams (noprint)'!BQA8","v":0},{"$f":"'Data diagrams (noprint)'!BQB8","v":0},{"$f":"'Data diagrams (noprint)'!BQC8","v":0},{"$f":"'Data diagrams (noprint)'!BQD8","v":0},{"$f":"'Data diagrams (noprint)'!BQE8","v":0},{"$f":"'Data diagrams (noprint)'!BQF8","v":0},{"$f":"'Data diagrams (noprint)'!BQG8","v":0},{"$f":"'Data diagrams (noprint)'!BQH8","v":0},{"$f":"'Data diagrams (noprint)'!BQI8","v":0},{"$f":"'Data diagrams (noprint)'!BQJ8","v":0},{"$f":"'Data diagrams (noprint)'!BQK8","v":0},{"$f":"'Data diagrams (noprint)'!BQL8","v":0},{"$f":"'Data diagrams (noprint)'!BQM8","v":0},{"$f":"'Data diagrams (noprint)'!BQN8","v":0},{"$f":"'Data diagrams (noprint)'!BQO8","v":0},{"$f":"'Data diagrams (noprint)'!BQP8","v":0},{"$f":"'Data diagrams (noprint)'!BQQ8","v":0},{"$f":"'Data diagrams (noprint)'!BQR8","v":0},{"$f":"'Data diagrams (noprint)'!BQS8","v":0},{"$f":"'Data diagrams (noprint)'!BQT8","v":0},{"$f":"'Data diagrams (noprint)'!BQU8","v":0},{"$f":"'Data diagrams (noprint)'!BQV8","v":0},{"$f":"'Data diagrams (noprint)'!BQW8","v":0},{"$f":"'Data diagrams (noprint)'!BQX8","v":0},{"$f":"'Data diagrams (noprint)'!BQY8","v":0},{"$f":"'Data diagrams (noprint)'!BQZ8","v":0},{"$f":"'Data diagrams (noprint)'!BRA8","v":0},{"$f":"'Data diagrams (noprint)'!BRB8","v":0},{"$f":"'Data diagrams (noprint)'!BRC8","v":0},{"$f":"'Data diagrams (noprint)'!BRD8","v":0},{"$f":"'Data diagrams (noprint)'!BRE8","v":0},{"$f":"'Data diagrams (noprint)'!BRF8","v":0},{"$f":"'Data diagrams (noprint)'!BRG8","v":0},{"$f":"'Data diagrams (noprint)'!BRH8","v":0},{"$f":"'Data diagrams (noprint)'!BRI8","v":0},{"$f":"'Data diagrams (noprint)'!BRJ8","v":0},{"$f":"'Data diagrams (noprint)'!BRK8","v":0},{"$f":"'Data diagrams (noprint)'!BRL8","v":0},{"$f":"'Data diagrams (noprint)'!BRM8","v":0},{"$f":"'Data diagrams (noprint)'!BRN8","v":0},{"$f":"'Data diagrams (noprint)'!BRO8","v":0},{"$f":"'Data diagrams (noprint)'!BRP8","v":0},{"$f":"'Data diagrams (noprint)'!BRQ8","v":0},{"$f":"'Data diagrams (noprint)'!BRR8","v":0},{"$f":"'Data diagrams (noprint)'!BRS8","v":0},{"$f":"'Data diagrams (noprint)'!BRT8","v":0},{"$f":"'Data diagrams (noprint)'!BRU8","v":0},{"$f":"'Data diagrams (noprint)'!BRV8","v":0},{"$f":"'Data diagrams (noprint)'!BRW8","v":0},{"$f":"'Data diagrams (noprint)'!BRX8","v":0},{"$f":"'Data diagrams (noprint)'!BRY8","v":0},{"$f":"'Data diagrams (noprint)'!BRZ8","v":0},{"$f":"'Data diagrams (noprint)'!BSA8","v":0},{"$f":"'Data diagrams (noprint)'!BSB8","v":0},{"$f":"'Data diagrams (noprint)'!BSC8","v":0},{"$f":"'Data diagrams (noprint)'!BSD8","v":0},{"$f":"'Data diagrams (noprint)'!BSE8","v":0},{"$f":"'Data diagrams (noprint)'!BSF8","v":0},{"$f":"'Data diagrams (noprint)'!BSG8","v":0},{"$f":"'Data diagrams (noprint)'!BSH8","v":0},{"$f":"'Data diagrams (noprint)'!BSI8","v":0},{"$f":"'Data diagrams (noprint)'!BSJ8","v":0},{"$f":"'Data diagrams (noprint)'!BSK8","v":0},{"$f":"'Data diagrams (noprint)'!BSL8","v":0},{"$f":"'Data diagrams (noprint)'!BSM8","v":0},{"$f":"'Data diagrams (noprint)'!BSN8","v":0},{"$f":"'Data diagrams (noprint)'!BSO8","v":0},{"$f":"'Data diagrams (noprint)'!BSP8","v":0},{"$f":"'Data diagrams (noprint)'!BSQ8","v":0},{"$f":"'Data diagrams (noprint)'!BSR8","v":0},{"$f":"'Data diagrams (noprint)'!BSS8","v":0},{"$f":"'Data diagrams (noprint)'!BST8","v":0},{"$f":"'Data diagrams (noprint)'!BSU8","v":0},{"$f":"'Data diagrams (noprint)'!BSV8","v":0},{"$f":"'Data diagrams (noprint)'!BSW8","v":0},{"$f":"'Data diagrams (noprint)'!BSX8","v":0},{"$f":"'Data diagrams (noprint)'!BSY8","v":0},{"$f":"'Data diagrams (noprint)'!BSZ8","v":0},{"$f":"'Data diagrams (noprint)'!BTA8","v":0},{"$f":"'Data diagrams (noprint)'!BTB8","v":0},{"$f":"'Data diagrams (noprint)'!BTC8","v":0},{"$f":"'Data diagrams (noprint)'!BTD8","v":0},{"$f":"'Data diagrams (noprint)'!BTE8","v":0},{"$f":"'Data diagrams (noprint)'!BTF8","v":0},{"$f":"'Data diagrams (noprint)'!BTG8","v":0},{"$f":"'Data diagrams (noprint)'!BTH8","v":0},{"$f":"'Data diagrams (noprint)'!BTI8","v":0},{"$f":"'Data diagrams (noprint)'!BTJ8","v":0},{"$f":"'Data diagrams (noprint)'!BTK8","v":0},{"$f":"'Data diagrams (noprint)'!BTL8","v":0},{"$f":"'Data diagrams (noprint)'!BTM8","v":0},{"$f":"'Data diagrams (noprint)'!BTN8","v":0},{"$f":"'Data diagrams (noprint)'!BTO8","v":0},{"$f":"'Data diagrams (noprint)'!BTP8","v":0},{"$f":"'Data diagrams (noprint)'!BTQ8","v":0},{"$f":"'Data diagrams (noprint)'!BTR8","v":0},{"$f":"'Data diagrams (noprint)'!BTS8","v":0},{"$f":"'Data diagrams (noprint)'!BTT8","v":0},{"$f":"'Data diagrams (noprint)'!BTU8","v":0},{"$f":"'Data diagrams (noprint)'!BTV8","v":0},{"$f":"'Data diagrams (noprint)'!BTW8","v":0},{"$f":"'Data diagrams (noprint)'!BTX8","v":0},{"$f":"'Data diagrams (noprint)'!BTY8","v":0},{"$f":"'Data diagrams (noprint)'!BTZ8","v":0},{"$f":"'Data diagrams (noprint)'!BUA8","v":0},{"$f":"'Data diagrams (noprint)'!BUB8","v":0},{"$f":"'Data diagrams (noprint)'!BUC8","v":0},{"$f":"'Data diagrams (noprint)'!BUD8","v":0},{"$f":"'Data diagrams (noprint)'!BUE8","v":0},{"$f":"'Data diagrams (noprint)'!BUF8","v":0},{"$f":"'Data diagrams (noprint)'!BUG8","v":0},{"$f":"'Data diagrams (noprint)'!BUH8","v":0},{"$f":"'Data diagrams (noprint)'!BUI8","v":0},{"$f":"'Data diagrams (noprint)'!BUJ8","v":0},{"$f":"'Data diagrams (noprint)'!BUK8","v":0},{"$f":"'Data diagrams (noprint)'!BUL8","v":0},{"$f":"'Data diagrams (noprint)'!BUM8","v":0},{"$f":"'Data diagrams (noprint)'!BUN8","v":0},{"$f":"'Data diagrams (noprint)'!BUO8","v":0},{"$f":"'Data diagrams (noprint)'!BUP8","v":0},{"$f":"'Data diagrams (noprint)'!BUQ8","v":0},{"$f":"'Data diagrams (noprint)'!BUR8","v":0},{"$f":"'Data diagrams (noprint)'!BUS8","v":0},{"$f":"'Data diagrams (noprint)'!BUT8","v":0},{"$f":"'Data diagrams (noprint)'!BUU8","v":0},{"$f":"'Data diagrams (noprint)'!BUV8","v":0},{"$f":"'Data diagrams (noprint)'!BUW8","v":0},{"$f":"'Data diagrams (noprint)'!BUX8","v":0},{"$f":"'Data diagrams (noprint)'!BUY8","v":0},{"$f":"'Data diagrams (noprint)'!BUZ8","v":0},{"$f":"'Data diagrams (noprint)'!BVA8","v":0},{"$f":"'Data diagrams (noprint)'!BVB8","v":0},{"$f":"'Data diagrams (noprint)'!BVC8","v":0},{"$f":"'Data diagrams (noprint)'!BVD8","v":0},{"$f":"'Data diagrams (noprint)'!BVE8","v":0},{"$f":"'Data diagrams (noprint)'!BVF8","v":0},{"$f":"'Data diagrams (noprint)'!BVG8","v":0},{"$f":"'Data diagrams (noprint)'!BVH8","v":0},{"$f":"'Data diagrams (noprint)'!BVI8","v":0},{"$f":"'Data diagrams (noprint)'!BVJ8","v":0},{"$f":"'Data diagrams (noprint)'!BVK8","v":0},{"$f":"'Data diagrams (noprint)'!BVL8","v":0},{"$f":"'Data diagrams (noprint)'!BVM8","v":0},{"$f":"'Data diagrams (noprint)'!BVN8","v":0},{"$f":"'Data diagrams (noprint)'!BVO8","v":0},{"$f":"'Data diagrams (noprint)'!BVP8","v":0},{"$f":"'Data diagrams (noprint)'!BVQ8","v":0},{"$f":"'Data diagrams (noprint)'!BVR8","v":0},{"$f":"'Data diagrams (noprint)'!BVS8","v":0},{"$f":"'Data diagrams (noprint)'!BVT8","v":0},{"$f":"'Data diagrams (noprint)'!BVU8","v":0},{"$f":"'Data diagrams (noprint)'!BVV8","v":0},{"$f":"'Data diagrams (noprint)'!BVW8","v":0},{"$f":"'Data diagrams (noprint)'!BVX8","v":0},{"$f":"'Data diagrams (noprint)'!BVY8","v":0},{"$f":"'Data diagrams (noprint)'!BVZ8","v":0},{"$f":"'Data diagrams (noprint)'!BWA8","v":0},{"$f":"'Data diagrams (noprint)'!BWB8","v":0},{"$f":"'Data diagrams (noprint)'!BWC8","v":0},{"$f":"'Data diagrams (noprint)'!BWD8","v":0},{"$f":"'Data diagrams (noprint)'!BWE8","v":0},{"$f":"'Data diagrams (noprint)'!BWF8","v":0},{"$f":"'Data diagrams (noprint)'!BWG8","v":0},{"$f":"'Data diagrams (noprint)'!BWH8","v":0},{"$f":"'Data diagrams (noprint)'!BWI8","v":0},{"$f":"'Data diagrams (noprint)'!BWJ8","v":0},{"$f":"'Data diagrams (noprint)'!BWK8","v":0},{"$f":"'Data diagrams (noprint)'!BWL8","v":0},{"$f":"'Data diagrams (noprint)'!BWM8","v":0},{"$f":"'Data diagrams (noprint)'!BWN8","v":0},{"$f":"'Data diagrams (noprint)'!BWO8","v":0},{"$f":"'Data diagrams (noprint)'!BWP8","v":0},{"$f":"'Data diagrams (noprint)'!BWQ8","v":0},{"$f":"'Data diagrams (noprint)'!BWR8","v":0},{"$f":"'Data diagrams (noprint)'!BWS8","v":0},{"$f":"'Data diagrams (noprint)'!BWT8","v":0},{"$f":"'Data diagrams (noprint)'!BWU8","v":0},{"$f":"'Data diagrams (noprint)'!BWV8","v":0},{"$f":"'Data diagrams (noprint)'!BWW8","v":0},{"$f":"'Data diagrams (noprint)'!BWX8","v":0},{"$f":"'Data diagrams (noprint)'!BWY8","v":0},{"$f":"'Data diagrams (noprint)'!BWZ8","v":0},{"$f":"'Data diagrams (noprint)'!BXA8","v":0},{"$f":"'Data diagrams (noprint)'!BXB8","v":0},{"$f":"'Data diagrams (noprint)'!BXC8","v":0},{"$f":"'Data diagrams (noprint)'!BXD8","v":0},{"$f":"'Data diagrams (noprint)'!BXE8","v":0},{"$f":"'Data diagrams (noprint)'!BXF8","v":0},{"$f":"'Data diagrams (noprint)'!BXG8","v":0},{"$f":"'Data diagrams (noprint)'!BXH8","v":0},{"$f":"'Data diagrams (noprint)'!BXI8","v":0},{"$f":"'Data diagrams (noprint)'!BXJ8","v":0},{"$f":"'Data diagrams (noprint)'!BXK8","v":0},{"$f":"'Data diagrams (noprint)'!BXL8","v":0},{"$f":"'Data diagrams (noprint)'!BXM8","v":0},{"$f":"'Data diagrams (noprint)'!BXN8","v":0},{"$f":"'Data diagrams (noprint)'!BXO8","v":0},{"$f":"'Data diagrams (noprint)'!BXP8","v":0},{"$f":"'Data diagrams (noprint)'!BXQ8","v":0},{"$f":"'Data diagrams (noprint)'!BXR8","v":0},{"$f":"'Data diagrams (noprint)'!BXS8","v":0},{"$f":"'Data diagrams (noprint)'!BXT8","v":0},{"$f":"'Data diagrams (noprint)'!BXU8","v":0},{"$f":"'Data diagrams (noprint)'!BXV8","v":0},{"$f":"'Data diagrams (noprint)'!BXW8","v":0},{"$f":"'Data diagrams (noprint)'!BXX8","v":0},{"$f":"'Data diagrams (noprint)'!BXY8","v":0},{"$f":"'Data diagrams (noprint)'!BXZ8","v":0},{"$f":"'Data diagrams (noprint)'!BYA8","v":0},{"$f":"'Data diagrams (noprint)'!BYB8","v":0},{"$f":"'Data diagrams (noprint)'!BYC8","v":0},{"$f":"'Data diagrams (noprint)'!BYD8","v":0},{"$f":"'Data diagrams (noprint)'!BYE8","v":0},{"$f":"'Data diagrams (noprint)'!BYF8","v":0},{"$f":"'Data diagrams (noprint)'!BYG8","v":0},{"$f":"'Data diagrams (noprint)'!BYH8","v":0},{"$f":"'Data diagrams (noprint)'!BYI8","v":0},{"$f":"'Data diagrams (noprint)'!BYJ8","v":0},{"$f":"'Data diagrams (noprint)'!BYK8","v":0},{"$f":"'Data diagrams (noprint)'!BYL8","v":0},{"$f":"'Data diagrams (noprint)'!BYM8","v":0},{"$f":"'Data diagrams (noprint)'!BYN8","v":0},{"$f":"'Data diagrams (noprint)'!BYO8","v":0},{"$f":"'Data diagrams (noprint)'!BYP8","v":0},{"$f":"'Data diagrams (noprint)'!BYQ8","v":0},{"$f":"'Data diagrams (noprint)'!BYR8","v":0},{"$f":"'Data diagrams (noprint)'!BYS8","v":0},{"$f":"'Data diagrams (noprint)'!BYT8","v":0},{"$f":"'Data diagrams (noprint)'!BYU8","v":0},{"$f":"'Data diagrams (noprint)'!BYV8","v":0},{"$f":"'Data diagrams (noprint)'!BYW8","v":0},{"$f":"'Data diagrams (noprint)'!BYX8","v":0},{"$f":"'Data diagrams (noprint)'!BYY8","v":0},{"$f":"'Data diagrams (noprint)'!BYZ8","v":0},{"$f":"'Data diagrams (noprint)'!BZA8","v":0},{"$f":"'Data diagrams (noprint)'!BZB8","v":0},{"$f":"'Data diagrams (noprint)'!BZC8","v":0},{"$f":"'Data diagrams (noprint)'!BZD8","v":0},{"$f":"'Data diagrams (noprint)'!BZE8","v":0},{"$f":"'Data diagrams (noprint)'!BZF8","v":0},{"$f":"'Data diagrams (noprint)'!BZG8","v":0},{"$f":"'Data diagrams (noprint)'!BZH8","v":0},{"$f":"'Data diagrams (noprint)'!BZI8","v":0},{"$f":"'Data diagrams (noprint)'!BZJ8","v":0},{"$f":"'Data diagrams (noprint)'!BZK8","v":0},{"$f":"'Data diagrams (noprint)'!BZL8","v":0},{"$f":"'Data diagrams (noprint)'!BZM8","v":0},{"$f":"'Data diagrams (noprint)'!BZN8","v":0},{"$f":"'Data diagrams (noprint)'!BZO8","v":0},{"$f":"'Data diagrams (noprint)'!BZP8","v":0},{"$f":"'Data diagrams (noprint)'!BZQ8","v":0},{"$f":"'Data diagrams (noprint)'!BZR8","v":0},{"$f":"'Data diagrams (noprint)'!BZS8","v":0},{"$f":"'Data diagrams (noprint)'!BZT8","v":0},{"$f":"'Data diagrams (noprint)'!BZU8","v":0},{"$f":"'Data diagrams (noprint)'!BZV8","v":0},{"$f":"'Data diagrams (noprint)'!BZW8","v":0},{"$f":"'Data diagrams (noprint)'!BZX8","v":0},{"$f":"'Data diagrams (noprint)'!BZY8","v":0},{"$f":"'Data diagrams (noprint)'!BZZ8","v":0},{"$f":"'Data diagrams (noprint)'!CAA8","v":0},{"$f":"'Data diagrams (noprint)'!CAB8","v":0},{"$f":"'Data diagrams (noprint)'!CAC8","v":0},{"$f":"'Data diagrams (noprint)'!CAD8","v":0},{"$f":"'Data diagrams (noprint)'!CAE8","v":0},{"$f":"'Data diagrams (noprint)'!CAF8","v":0},{"$f":"'Data diagrams (noprint)'!CAG8","v":0},{"$f":"'Data diagrams (noprint)'!CAH8","v":0},{"$f":"'Data diagrams (noprint)'!CAI8","v":0},{"$f":"'Data diagrams (noprint)'!CAJ8","v":0},{"$f":"'Data diagrams (noprint)'!CAK8","v":0},{"$f":"'Data diagrams (noprint)'!CAL8","v":0},{"$f":"'Data diagrams (noprint)'!CAM8","v":0},{"$f":"'Data diagrams (noprint)'!CAN8","v":0},{"$f":"'Data diagrams (noprint)'!CAO8","v":0},{"$f":"'Data diagrams (noprint)'!CAP8","v":0},{"$f":"'Data diagrams (noprint)'!CAQ8","v":0},{"$f":"'Data diagrams (noprint)'!CAR8","v":0},{"$f":"'Data diagrams (noprint)'!CAS8","v":0},{"$f":"'Data diagrams (noprint)'!CAT8","v":0},{"$f":"'Data diagrams (noprint)'!CAU8","v":0},{"$f":"'Data diagrams (noprint)'!CAV8","v":0},{"$f":"'Data diagrams (noprint)'!CAW8","v":0},{"$f":"'Data diagrams (noprint)'!CAX8","v":0},{"$f":"'Data diagrams (noprint)'!CAY8","v":0},{"$f":"'Data diagrams (noprint)'!CAZ8","v":0},{"$f":"'Data diagrams (noprint)'!CBA8","v":0},{"$f":"'Data diagrams (noprint)'!CBB8","v":0},{"$f":"'Data diagrams (noprint)'!CBC8","v":0},{"$f":"'Data diagrams (noprint)'!CBD8","v":0},{"$f":"'Data diagrams (noprint)'!CBE8","v":0},{"$f":"'Data diagrams (noprint)'!CBF8","v":0},{"$f":"'Data diagrams (noprint)'!CBG8","v":0},{"$f":"'Data diagrams (noprint)'!CBH8","v":0},{"$f":"'Data diagrams (noprint)'!CBI8","v":0},{"$f":"'Data diagrams (noprint)'!CBJ8","v":0},{"$f":"'Data diagrams (noprint)'!CBK8","v":0},{"$f":"'Data diagrams (noprint)'!CBL8","v":0},{"$f":"'Data diagrams (noprint)'!CBM8","v":0},{"$f":"'Data diagrams (noprint)'!CBN8","v":0},{"$f":"'Data diagrams (noprint)'!CBO8","v":0},{"$f":"'Data diagrams (noprint)'!CBP8","v":0},{"$f":"'Data diagrams (noprint)'!CBQ8","v":0},{"$f":"'Data diagrams (noprint)'!CBR8","v":0},{"$f":"'Data diagrams (noprint)'!CBS8","v":0},{"$f":"'Data diagrams (noprint)'!CBT8","v":0},{"$f":"'Data diagrams (noprint)'!CBU8","v":0},{"$f":"'Data diagrams (noprint)'!CBV8","v":0},{"$f":"'Data diagrams (noprint)'!CBW8","v":0},{"$f":"'Data diagrams (noprint)'!CBX8","v":0},{"$f":"'Data diagrams (noprint)'!CBY8","v":0},{"$f":"'Data diagrams (noprint)'!CBZ8","v":0},{"$f":"'Data diagrams (noprint)'!CCA8","v":0},{"$f":"'Data diagrams (noprint)'!CCB8","v":0},{"$f":"'Data diagrams (noprint)'!CCC8","v":0},{"$f":"'Data diagrams (noprint)'!CCD8","v":0},{"$f":"'Data diagrams (noprint)'!CCE8","v":0},{"$f":"'Data diagrams (noprint)'!CCF8","v":0},{"$f":"'Data diagrams (noprint)'!CCG8","v":0},{"$f":"'Data diagrams (noprint)'!CCH8","v":0},{"$f":"'Data diagrams (noprint)'!CCI8","v":0},{"$f":"'Data diagrams (noprint)'!CCJ8","v":0},{"$f":"'Data diagrams (noprint)'!CCK8","v":0},{"$f":"'Data diagrams (noprint)'!CCL8","v":0},{"$f":"'Data diagrams (noprint)'!CCM8","v":0},{"$f":"'Data diagrams (noprint)'!CCN8","v":0},{"$f":"'Data diagrams (noprint)'!CCO8","v":0},{"$f":"'Data diagrams (noprint)'!CCP8","v":0},{"$f":"'Data diagrams (noprint)'!CCQ8","v":0},{"$f":"'Data diagrams (noprint)'!CCR8","v":0},{"$f":"'Data diagrams (noprint)'!CCS8","v":0},{"$f":"'Data diagrams (noprint)'!CCT8","v":0},{"$f":"'Data diagrams (noprint)'!CCU8","v":0},{"$f":"'Data diagrams (noprint)'!CCV8","v":0},{"$f":"'Data diagrams (noprint)'!CCW8","v":0},{"$f":"'Data diagrams (noprint)'!CCX8","v":0},{"$f":"'Data diagrams (noprint)'!CCY8","v":0},{"$f":"'Data diagrams (noprint)'!CCZ8","v":0},{"$f":"'Data diagrams (noprint)'!CDA8","v":0},{"$f":"'Data diagrams (noprint)'!CDB8","v":0},{"$f":"'Data diagrams (noprint)'!CDC8","v":0},{"$f":"'Data diagrams (noprint)'!CDD8","v":0},{"$f":"'Data diagrams (noprint)'!CDE8","v":0},{"$f":"'Data diagrams (noprint)'!CDF8","v":0},{"$f":"'Data diagrams (noprint)'!CDG8","v":0},{"$f":"'Data diagrams (noprint)'!CDH8","v":0},{"$f":"'Data diagrams (noprint)'!CDI8","v":0},{"$f":"'Data diagrams (noprint)'!CDJ8","v":0},{"$f":"'Data diagrams (noprint)'!CDK8","v":0},{"$f":"'Data diagrams (noprint)'!CDL8","v":0},{"$f":"'Data diagrams (noprint)'!CDM8","v":0},{"$f":"'Data diagrams (noprint)'!CDN8","v":0},{"$f":"'Data diagrams (noprint)'!CDO8","v":0},{"$f":"'Data diagrams (noprint)'!CDP8","v":0},{"$f":"'Data diagrams (noprint)'!CDQ8","v":0},{"$f":"'Data diagrams (noprint)'!CDR8","v":0},{"$f":"'Data diagrams (noprint)'!CDS8","v":0},{"$f":"'Data diagrams (noprint)'!CDT8","v":0},{"$f":"'Data diagrams (noprint)'!CDU8","v":0},{"$f":"'Data diagrams (noprint)'!CDV8","v":0},{"$f":"'Data diagrams (noprint)'!CDW8","v":0},{"$f":"'Data diagrams (noprint)'!CDX8","v":0},{"$f":"'Data diagrams (noprint)'!CDY8","v":0},{"$f":"'Data diagrams (noprint)'!CDZ8","v":0},{"$f":"'Data diagrams (noprint)'!CEA8","v":0},{"$f":"'Data diagrams (noprint)'!CEB8","v":0},{"$f":"'Data diagrams (noprint)'!CEC8","v":0},{"$f":"'Data diagrams (noprint)'!CED8","v":0},{"$f":"'Data diagrams (noprint)'!CEE8","v":0},{"$f":"'Data diagrams (noprint)'!CEF8","v":0},{"$f":"'Data diagrams (noprint)'!CEG8","v":0},{"$f":"'Data diagrams (noprint)'!CEH8","v":0},{"$f":"'Data diagrams (noprint)'!CEI8","v":0},{"$f":"'Data diagrams (noprint)'!CEJ8","v":0},{"$f":"'Data diagrams (noprint)'!CEK8","v":0},{"$f":"'Data diagrams (noprint)'!CEL8","v":0},{"$f":"'Data diagrams (noprint)'!CEM8","v":0},{"$f":"'Data diagrams (noprint)'!CEN8","v":0},{"$f":"'Data diagrams (noprint)'!CEO8","v":0},{"$f":"'Data diagrams (noprint)'!CEP8","v":0},{"$f":"'Data diagrams (noprint)'!CEQ8","v":0},{"$f":"'Data diagrams (noprint)'!CER8","v":0},{"$f":"'Data diagrams (noprint)'!CES8","v":0},{"$f":"'Data diagrams (noprint)'!CET8","v":0},{"$f":"'Data diagrams (noprint)'!CEU8","v":0},{"$f":"'Data diagrams (noprint)'!CEV8","v":0},{"$f":"'Data diagrams (noprint)'!CEW8","v":0},{"$f":"'Data diagrams (noprint)'!CEX8","v":0},{"$f":"'Data diagrams (noprint)'!CEY8","v":0},{"$f":"'Data diagrams (noprint)'!CEZ8","v":0},{"$f":"'Data diagrams (noprint)'!CFA8","v":0},{"$f":"'Data diagrams (noprint)'!CFB8","v":0},{"$f":"'Data diagrams (noprint)'!CFC8","v":0},{"$f":"'Data diagrams (noprint)'!CFD8","v":0},{"$f":"'Data diagrams (noprint)'!CFE8","v":0},{"$f":"'Data diagrams (noprint)'!CFF8","v":0},{"$f":"'Data diagrams (noprint)'!CFG8","v":0},{"$f":"'Data diagrams (noprint)'!CFH8","v":0},{"$f":"'Data diagrams (noprint)'!CFI8","v":0},{"$f":"'Data diagrams (noprint)'!CFJ8","v":0},{"$f":"'Data diagrams (noprint)'!CFK8","v":0},{"$f":"'Data diagrams (noprint)'!CFL8","v":0},{"$f":"'Data diagrams (noprint)'!CFM8","v":0},{"$f":"'Data diagrams (noprint)'!CFN8","v":0},{"$f":"'Data diagrams (noprint)'!CFO8","v":0},{"$f":"'Data diagrams (noprint)'!CFP8","v":0},{"$f":"'Data diagrams (noprint)'!CFQ8","v":0},{"$f":"'Data diagrams (noprint)'!CFR8","v":0},{"$f":"'Data diagrams (noprint)'!CFS8","v":0},{"$f":"'Data diagrams (noprint)'!CFT8","v":0},{"$f":"'Data diagrams (noprint)'!CFU8","v":0},{"$f":"'Data diagrams (noprint)'!CFV8","v":0},{"$f":"'Data diagrams (noprint)'!CFW8","v":0},{"$f":"'Data diagrams (noprint)'!CFX8","v":0},{"$f":"'Data diagrams (noprint)'!CFY8","v":0},{"$f":"'Data diagrams (noprint)'!CFZ8","v":0},{"$f":"'Data diagrams (noprint)'!CGA8","v":0},{"$f":"'Data diagrams (noprint)'!CGB8","v":0},{"$f":"'Data diagrams (noprint)'!CGC8","v":0},{"$f":"'Data diagrams (noprint)'!CGD8","v":0},{"$f":"'Data diagrams (noprint)'!CGE8","v":0},{"$f":"'Data diagrams (noprint)'!CGF8","v":0},{"$f":"'Data diagrams (noprint)'!CGG8","v":0},{"$f":"'Data diagrams (noprint)'!CGH8","v":0},{"$f":"'Data diagrams (noprint)'!CGI8","v":0},{"$f":"'Data diagrams (noprint)'!CGJ8","v":0},{"$f":"'Data diagrams (noprint)'!CGK8","v":0},{"$f":"'Data diagrams (noprint)'!CGL8","v":0},{"$f":"'Data diagrams (noprint)'!CGM8","v":0},{"$f":"'Data diagrams (noprint)'!CGN8","v":0},{"$f":"'Data diagrams (noprint)'!CGO8","v":0},{"$f":"'Data diagrams (noprint)'!CGP8","v":0},{"$f":"'Data diagrams (noprint)'!CGQ8","v":0},{"$f":"'Data diagrams (noprint)'!CGR8","v":0},{"$f":"'Data diagrams (noprint)'!CGS8","v":0},{"$f":"'Data diagrams (noprint)'!CGT8","v":0},{"$f":"'Data diagrams (noprint)'!CGU8","v":0},{"$f":"'Data diagrams (noprint)'!CGV8","v":0},{"$f":"'Data diagrams (noprint)'!CGW8","v":0},{"$f":"'Data diagrams (noprint)'!CGX8","v":0},{"$f":"'Data diagrams (noprint)'!CGY8","v":0},{"$f":"'Data diagrams (noprint)'!CGZ8","v":0},{"$f":"'Data diagrams (noprint)'!CHA8","v":0},{"$f":"'Data diagrams (noprint)'!CHB8","v":0},{"$f":"'Data diagrams (noprint)'!CHC8","v":0},{"$f":"'Data diagrams (noprint)'!CHD8","v":0},{"$f":"'Data diagrams (noprint)'!CHE8","v":0},{"$f":"'Data diagrams (noprint)'!CHF8","v":0},{"$f":"'Data diagrams (noprint)'!CHG8","v":0},{"$f":"'Data diagrams (noprint)'!CHH8","v":0},{"$f":"'Data diagrams (noprint)'!CHI8","v":0},{"$f":"'Data diagrams (noprint)'!CHJ8","v":0},{"$f":"'Data diagrams (noprint)'!CHK8","v":0},{"$f":"'Data diagrams (noprint)'!CHL8","v":0},{"$f":"'Data diagrams (noprint)'!CHM8","v":0},{"$f":"'Data diagrams (noprint)'!CHN8","v":0},{"$f":"'Data diagrams (noprint)'!CHO8","v":0},{"$f":"'Data diagrams (noprint)'!CHP8","v":0},{"$f":"'Data diagrams (noprint)'!CHQ8","v":0},{"$f":"'Data diagrams (noprint)'!CHR8","v":0},{"$f":"'Data diagrams (noprint)'!CHS8","v":0},{"$f":"'Data diagrams (noprint)'!CHT8","v":0},{"$f":"'Data diagrams (noprint)'!CHU8","v":0},{"$f":"'Data diagrams (noprint)'!CHV8","v":0},{"$f":"'Data diagrams (noprint)'!CHW8","v":0},{"$f":"'Data diagrams (noprint)'!CHX8","v":0},{"$f":"'Data diagrams (noprint)'!CHY8","v":0},{"$f":"'Data diagrams (noprint)'!CHZ8","v":0},{"$f":"'Data diagrams (noprint)'!CIA8","v":0},{"$f":"'Data diagrams (noprint)'!CIB8","v":0},{"$f":"'Data diagrams (noprint)'!CIC8","v":0},{"$f":"'Data diagrams (noprint)'!CID8","v":0},{"$f":"'Data diagrams (noprint)'!CIE8","v":0},{"$f":"'Data diagrams (noprint)'!CIF8","v":0},{"$f":"'Data diagrams (noprint)'!CIG8","v":0},{"$f":"'Data diagrams (noprint)'!CIH8","v":0},{"$f":"'Data diagrams (noprint)'!CII8","v":0},{"$f":"'Data diagrams (noprint)'!CIJ8","v":0},{"$f":"'Data diagrams (noprint)'!CIK8","v":0},{"$f":"'Data diagrams (noprint)'!CIL8","v":0},{"$f":"'Data diagrams (noprint)'!CIM8","v":0},{"$f":"'Data diagrams (noprint)'!CIN8","v":0},{"$f":"'Data diagrams (noprint)'!CIO8","v":0},{"$f":"'Data diagrams (noprint)'!CIP8","v":0},{"$f":"'Data diagrams (noprint)'!CIQ8","v":0},{"$f":"'Data diagrams (noprint)'!CIR8","v":0},{"$f":"'Data diagrams (noprint)'!CIS8","v":0},{"$f":"'Data diagrams (noprint)'!CIT8","v":0},{"$f":"'Data diagrams (noprint)'!CIU8","v":0},{"$f":"'Data diagrams (noprint)'!CIV8","v":0},{"$f":"'Data diagrams (noprint)'!CIW8","v":0},{"$f":"'Data diagrams (noprint)'!CIX8","v":0},{"$f":"'Data diagrams (noprint)'!CIY8","v":0},{"$f":"'Data diagrams (noprint)'!CIZ8","v":0},{"$f":"'Data diagrams (noprint)'!CJA8","v":0},{"$f":"'Data diagrams (noprint)'!CJB8","v":0},{"$f":"'Data diagrams (noprint)'!CJC8","v":0},{"$f":"'Data diagrams (noprint)'!CJD8","v":0},{"$f":"'Data diagrams (noprint)'!CJE8","v":0},{"$f":"'Data diagrams (noprint)'!CJF8","v":0},{"$f":"'Data diagrams (noprint)'!CJG8","v":0},{"$f":"'Data diagrams (noprint)'!CJH8","v":0},{"$f":"'Data diagrams (noprint)'!CJI8","v":0},{"$f":"'Data diagrams (noprint)'!CJJ8","v":0},{"$f":"'Data diagrams (noprint)'!CJK8","v":0},{"$f":"'Data diagrams (noprint)'!CJL8","v":0},{"$f":"'Data diagrams (noprint)'!CJM8","v":0},{"$f":"'Data diagrams (noprint)'!CJN8","v":0},{"$f":"'Data diagrams (noprint)'!CJO8","v":0},{"$f":"'Data diagrams (noprint)'!CJP8","v":0},{"$f":"'Data diagrams (noprint)'!CJQ8","v":0},{"$f":"'Data diagrams (noprint)'!CJR8","v":0},{"$f":"'Data diagrams (noprint)'!CJS8","v":0},{"$f":"'Data diagrams (noprint)'!CJT8","v":0},{"$f":"'Data diagrams (noprint)'!CJU8","v":0},{"$f":"'Data diagrams (noprint)'!CJV8","v":0},{"$f":"'Data diagrams (noprint)'!CJW8","v":0},{"$f":"'Data diagrams (noprint)'!CJX8","v":0},{"$f":"'Data diagrams (noprint)'!CJY8","v":0},{"$f":"'Data diagrams (noprint)'!CJZ8","v":0},{"$f":"'Data diagrams (noprint)'!CKA8","v":0},{"$f":"'Data diagrams (noprint)'!CKB8","v":0},{"$f":"'Data diagrams (noprint)'!CKC8","v":0},{"$f":"'Data diagrams (noprint)'!CKD8","v":0},{"$f":"'Data diagrams (noprint)'!CKE8","v":0},{"$f":"'Data diagrams (noprint)'!CKF8","v":0},{"$f":"'Data diagrams (noprint)'!CKG8","v":0},{"$f":"'Data diagrams (noprint)'!CKH8","v":0},{"$f":"'Data diagrams (noprint)'!CKI8","v":0},{"$f":"'Data diagrams (noprint)'!CKJ8","v":0},{"$f":"'Data diagrams (noprint)'!CKK8","v":0},{"$f":"'Data diagrams (noprint)'!CKL8","v":0},{"$f":"'Data diagrams (noprint)'!CKM8","v":0},{"$f":"'Data diagrams (noprint)'!CKN8","v":0},{"$f":"'Data diagrams (noprint)'!CKO8","v":0},{"$f":"'Data diagrams (noprint)'!CKP8","v":0},{"$f":"'Data diagrams (noprint)'!CKQ8","v":0},{"$f":"'Data diagrams (noprint)'!CKR8","v":0},{"$f":"'Data diagrams (noprint)'!CKS8","v":0},{"$f":"'Data diagrams (noprint)'!CKT8","v":0},{"$f":"'Data diagrams (noprint)'!CKU8","v":0},{"$f":"'Data diagrams (noprint)'!CKV8","v":0},{"$f":"'Data diagrams (noprint)'!CKW8","v":0},{"$f":"'Data diagrams (noprint)'!CKX8","v":0},{"$f":"'Data diagrams (noprint)'!CKY8","v":0},{"$f":"'Data diagrams (noprint)'!CKZ8","v":0},{"$f":"'Data diagrams (noprint)'!CLA8","v":0},{"$f":"'Data diagrams (noprint)'!CLB8","v":0},{"$f":"'Data diagrams (noprint)'!CLC8","v":0},{"$f":"'Data diagrams (noprint)'!CLD8","v":0},{"$f":"'Data diagrams (noprint)'!CLE8","v":0},{"$f":"'Data diagrams (noprint)'!CLF8","v":0},{"$f":"'Data diagrams (noprint)'!CLG8","v":0},{"$f":"'Data diagrams (noprint)'!CLH8","v":0},{"$f":"'Data diagrams (noprint)'!CLI8","v":0},{"$f":"'Data diagrams (noprint)'!CLJ8","v":0},{"$f":"'Data diagrams (noprint)'!CLK8","v":0},{"$f":"'Data diagrams (noprint)'!CLL8","v":0},{"$f":"'Data diagrams (noprint)'!CLM8","v":0},{"$f":"'Data diagrams (noprint)'!CLN8","v":0},{"$f":"'Data diagrams (noprint)'!CLO8","v":0},{"$f":"'Data diagrams (noprint)'!CLP8","v":0},{"$f":"'Data diagrams (noprint)'!CLQ8","v":0},{"$f":"'Data diagrams (noprint)'!CLR8","v":0},{"$f":"'Data diagrams (noprint)'!CLS8","v":0},{"$f":"'Data diagrams (noprint)'!CLT8","v":0},{"$f":"'Data diagrams (noprint)'!CLU8","v":0},{"$f":"'Data diagrams (noprint)'!CLV8","v":0},{"$f":"'Data diagrams (noprint)'!CLW8","v":0},{"$f":"'Data diagrams (noprint)'!CLX8","v":0},{"$f":"'Data diagrams (noprint)'!CLY8","v":0},{"$f":"'Data diagrams (noprint)'!CLZ8","v":0},{"$f":"'Data diagrams (noprint)'!CMA8","v":0},{"$f":"'Data diagrams (noprint)'!CMB8","v":0},{"$f":"'Data diagrams (noprint)'!CMC8","v":0},{"$f":"'Data diagrams (noprint)'!CMD8","v":0},{"$f":"'Data diagrams (noprint)'!CME8","v":0},{"$f":"'Data diagrams (noprint)'!CMF8","v":0},{"$f":"'Data diagrams (noprint)'!CMG8","v":0},{"$f":"'Data diagrams (noprint)'!CMH8","v":0},{"$f":"'Data diagrams (noprint)'!CMI8","v":0},{"$f":"'Data diagrams (noprint)'!CMJ8","v":0},{"$f":"'Data diagrams (noprint)'!CMK8","v":0},{"$f":"'Data diagrams (noprint)'!CML8","v":0},{"$f":"'Data diagrams (noprint)'!CMM8","v":0},{"$f":"'Data diagrams (noprint)'!CMN8","v":0},{"$f":"'Data diagrams (noprint)'!CMO8","v":0},{"$f":"'Data diagrams (noprint)'!CMP8","v":0},{"$f":"'Data diagrams (noprint)'!CMQ8","v":0},{"$f":"'Data diagrams (noprint)'!CMR8","v":0},{"$f":"'Data diagrams (noprint)'!CMS8","v":0},{"$f":"'Data diagrams (noprint)'!CMT8","v":0},{"$f":"'Data diagrams (noprint)'!CMU8","v":0},{"$f":"'Data diagrams (noprint)'!CMV8","v":0},{"$f":"'Data diagrams (noprint)'!CMW8","v":0},{"$f":"'Data diagrams (noprint)'!CMX8","v":0},{"$f":"'Data diagrams (noprint)'!CMY8","v":0},{"$f":"'Data diagrams (noprint)'!CMZ8","v":0},{"$f":"'Data diagrams (noprint)'!CNA8","v":0},{"$f":"'Data diagrams (noprint)'!CNB8","v":0},{"$f":"'Data diagrams (noprint)'!CNC8","v":0},{"$f":"'Data diagrams (noprint)'!CND8","v":0},{"$f":"'Data diagrams (noprint)'!CNE8","v":0},{"$f":"'Data diagrams (noprint)'!CNF8","v":0},{"$f":"'Data diagrams (noprint)'!CNG8","v":0},{"$f":"'Data diagrams (noprint)'!CNH8","v":0},{"$f":"'Data diagrams (noprint)'!CNI8","v":0},{"$f":"'Data diagrams (noprint)'!CNJ8","v":0},{"$f":"'Data diagrams (noprint)'!CNK8","v":0},{"$f":"'Data diagrams (noprint)'!CNL8","v":0},{"$f":"'Data diagrams (noprint)'!CNM8","v":0},{"$f":"'Data diagrams (noprint)'!CNN8","v":0},{"$f":"'Data diagrams (noprint)'!CNO8","v":0},{"$f":"'Data diagrams (noprint)'!CNP8","v":0},{"$f":"'Data diagrams (noprint)'!CNQ8","v":0},{"$f":"'Data diagrams (noprint)'!CNR8","v":0},{"$f":"'Data diagrams (noprint)'!CNS8","v":0},{"$f":"'Data diagrams (noprint)'!CNT8","v":0},{"$f":"'Data diagrams (noprint)'!CNU8","v":0},{"$f":"'Data diagrams (noprint)'!CNV8","v":0},{"$f":"'Data diagrams (noprint)'!CNW8","v":0},{"$f":"'Data diagrams (noprint)'!CNX8","v":0},{"$f":"'Data diagrams (noprint)'!CNY8","v":0},{"$f":"'Data diagrams (noprint)'!CNZ8","v":0},{"$f":"'Data diagrams (noprint)'!COA8","v":0},{"$f":"'Data diagrams (noprint)'!COB8","v":0},{"$f":"'Data diagrams (noprint)'!COC8","v":0},{"$f":"'Data diagrams (noprint)'!COD8","v":0},{"$f":"'Data diagrams (noprint)'!COE8","v":0},{"$f":"'Data diagrams (noprint)'!COF8","v":0},{"$f":"'Data diagrams (noprint)'!COG8","v":0},{"$f":"'Data diagrams (noprint)'!COH8","v":0},{"$f":"'Data diagrams (noprint)'!COI8","v":0},{"$f":"'Data diagrams (noprint)'!COJ8","v":0},{"$f":"'Data diagrams (noprint)'!COK8","v":0},{"$f":"'Data diagrams (noprint)'!COL8","v":0},{"$f":"'Data diagrams (noprint)'!COM8","v":0},{"$f":"'Data diagrams (noprint)'!CON8","v":0},{"$f":"'Data diagrams (noprint)'!COO8","v":0},{"$f":"'Data diagrams (noprint)'!COP8","v":0},{"$f":"'Data diagrams (noprint)'!COQ8","v":0},{"$f":"'Data diagrams (noprint)'!COR8","v":0},{"$f":"'Data diagrams (noprint)'!COS8","v":0},{"$f":"'Data diagrams (noprint)'!COT8","v":0},{"$f":"'Data diagrams (noprint)'!COU8","v":0},{"$f":"'Data diagrams (noprint)'!COV8","v":0},{"$f":"'Data diagrams (noprint)'!COW8","v":0},{"$f":"'Data diagrams (noprint)'!COX8","v":0},{"$f":"'Data diagrams (noprint)'!COY8","v":0},{"$f":"'Data diagrams (noprint)'!COZ8","v":0},{"$f":"'Data diagrams (noprint)'!CPA8","v":0},{"$f":"'Data diagrams (noprint)'!CPB8","v":0},{"$f":"'Data diagrams (noprint)'!CPC8","v":0},{"$f":"'Data diagrams (noprint)'!CPD8","v":0},{"$f":"'Data diagrams (noprint)'!CPE8","v":0},{"$f":"'Data diagrams (noprint)'!CPF8","v":0},{"$f":"'Data diagrams (noprint)'!CPG8","v":0},{"$f":"'Data diagrams (noprint)'!CPH8","v":0},{"$f":"'Data diagrams (noprint)'!CPI8","v":0},{"$f":"'Data diagrams (noprint)'!CPJ8","v":0},{"$f":"'Data diagrams (noprint)'!CPK8","v":0},{"$f":"'Data diagrams (noprint)'!CPL8","v":0},{"$f":"'Data diagrams (noprint)'!CPM8","v":0},{"$f":"'Data diagrams (noprint)'!CPN8","v":0},{"$f":"'Data diagrams (noprint)'!CPO8","v":0},{"$f":"'Data diagrams (noprint)'!CPP8","v":0},{"$f":"'Data diagrams (noprint)'!CPQ8","v":0},{"$f":"'Data diagrams (noprint)'!CPR8","v":0},{"$f":"'Data diagrams (noprint)'!CPS8","v":0},{"$f":"'Data diagrams (noprint)'!CPT8","v":0},{"$f":"'Data diagrams (noprint)'!CPU8","v":0},{"$f":"'Data diagrams (noprint)'!CPV8","v":0},{"$f":"'Data diagrams (noprint)'!CPW8","v":0},{"$f":"'Data diagrams (noprint)'!CPX8","v":0},{"$f":"'Data diagrams (noprint)'!CPY8","v":0},{"$f":"'Data diagrams (noprint)'!CPZ8","v":0},{"$f":"'Data diagrams (noprint)'!CQA8","v":0},{"$f":"'Data diagrams (noprint)'!CQB8","v":0},{"$f":"'Data diagrams (noprint)'!CQC8","v":0},{"$f":"'Data diagrams (noprint)'!CQD8","v":0},{"$f":"'Data diagrams (noprint)'!CQE8","v":0},{"$f":"'Data diagrams (noprint)'!CQF8","v":0},{"$f":"'Data diagrams (noprint)'!CQG8","v":0},{"$f":"'Data diagrams (noprint)'!CQH8","v":0},{"$f":"'Data diagrams (noprint)'!CQI8","v":0},{"$f":"'Data diagrams (noprint)'!CQJ8","v":0},{"$f":"'Data diagrams (noprint)'!CQK8","v":0},{"$f":"'Data diagrams (noprint)'!CQL8","v":0},{"$f":"'Data diagrams (noprint)'!CQM8","v":0},{"$f":"'Data diagrams (noprint)'!CQN8","v":0},{"$f":"'Data diagrams (noprint)'!CQO8","v":0},{"$f":"'Data diagrams (noprint)'!CQP8","v":0},{"$f":"'Data diagrams (noprint)'!CQQ8","v":0},{"$f":"'Data diagrams (noprint)'!CQR8","v":0},{"$f":"'Data diagrams (noprint)'!CQS8","v":0},{"$f":"'Data diagrams (noprint)'!CQT8","v":0},{"$f":"'Data diagrams (noprint)'!CQU8","v":0},{"$f":"'Data diagrams (noprint)'!CQV8","v":0},{"$f":"'Data diagrams (noprint)'!CQW8","v":0},{"$f":"'Data diagrams (noprint)'!CQX8","v":0},{"$f":"'Data diagrams (noprint)'!CQY8","v":0},{"$f":"'Data diagrams (noprint)'!CQZ8","v":0},{"$f":"'Data diagrams (noprint)'!CRA8","v":0},{"$f":"'Data diagrams (noprint)'!CRB8","v":0},{"$f":"'Data diagrams (noprint)'!CRC8","v":0},{"$f":"'Data diagrams (noprint)'!CRD8","v":0},{"$f":"'Data diagrams (noprint)'!CRE8","v":0},{"$f":"'Data diagrams (noprint)'!CRF8","v":0},{"$f":"'Data diagrams (noprint)'!CRG8","v":0},{"$f":"'Data diagrams (noprint)'!CRH8","v":0},{"$f":"'Data diagrams (noprint)'!CRI8","v":0},{"$f":"'Data diagrams (noprint)'!CRJ8","v":0},{"$f":"'Data diagrams (noprint)'!CRK8","v":0},{"$f":"'Data diagrams (noprint)'!CRL8","v":0},{"$f":"'Data diagrams (noprint)'!CRM8","v":0},{"$f":"'Data diagrams (noprint)'!CRN8","v":0},{"$f":"'Data diagrams (noprint)'!CRO8","v":0},{"$f":"'Data diagrams (noprint)'!CRP8","v":0},{"$f":"'Data diagrams (noprint)'!CRQ8","v":0},{"$f":"'Data diagrams (noprint)'!CRR8","v":0},{"$f":"'Data diagrams (noprint)'!CRS8","v":0},{"$f":"'Data diagrams (noprint)'!CRT8","v":0},{"$f":"'Data diagrams (noprint)'!CRU8","v":0},{"$f":"'Data diagrams (noprint)'!CRV8","v":0},{"$f":"'Data diagrams (noprint)'!CRW8","v":0},{"$f":"'Data diagrams (noprint)'!CRX8","v":0},{"$f":"'Data diagrams (noprint)'!CRY8","v":0},{"$f":"'Data diagrams (noprint)'!CRZ8","v":0},{"$f":"'Data diagrams (noprint)'!CSA8","v":0},{"$f":"'Data diagrams (noprint)'!CSB8","v":0},{"$f":"'Data diagrams (noprint)'!CSC8","v":0},{"$f":"'Data diagrams (noprint)'!CSD8","v":0},{"$f":"'Data diagrams (noprint)'!CSE8","v":0},{"$f":"'Data diagrams (noprint)'!CSF8","v":0},{"$f":"'Data diagrams (noprint)'!CSG8","v":0},{"$f":"'Data diagrams (noprint)'!CSH8","v":0},{"$f":"'Data diagrams (noprint)'!CSI8","v":0},{"$f":"'Data diagrams (noprint)'!CSJ8","v":0},{"$f":"'Data diagrams (noprint)'!CSK8","v":0},{"$f":"'Data diagrams (noprint)'!CSL8","v":0},{"$f":"'Data diagrams (noprint)'!CSM8","v":0},{"$f":"'Data diagrams (noprint)'!CSN8","v":0},{"$f":"'Data diagrams (noprint)'!CSO8","v":0},{"$f":"'Data diagrams (noprint)'!CSP8","v":0},{"$f":"'Data diagrams (noprint)'!CSQ8","v":0},{"$f":"'Data diagrams (noprint)'!CSR8","v":0},{"$f":"'Data diagrams (noprint)'!CSS8","v":0},{"$f":"'Data diagrams (noprint)'!CST8","v":0},{"$f":"'Data diagrams (noprint)'!CSU8","v":0},{"$f":"'Data diagrams (noprint)'!CSV8","v":0},{"$f":"'Data diagrams (noprint)'!CSW8","v":0},{"$f":"'Data diagrams (noprint)'!CSX8","v":0},{"$f":"'Data diagrams (noprint)'!CSY8","v":0},{"$f":"'Data diagrams (noprint)'!CSZ8","v":0},{"$f":"'Data diagrams (noprint)'!CTA8","v":0},{"$f":"'Data diagrams (noprint)'!CTB8","v":0},{"$f":"'Data diagrams (noprint)'!CTC8","v":0},{"$f":"'Data diagrams (noprint)'!CTD8","v":0},{"$f":"'Data diagrams (noprint)'!CTE8","v":0},{"$f":"'Data diagrams (noprint)'!CTF8","v":0},{"$f":"'Data diagrams (noprint)'!CTG8","v":0},{"$f":"'Data diagrams (noprint)'!CTH8","v":0},{"$f":"'Data diagrams (noprint)'!CTI8","v":0},{"$f":"'Data diagrams (noprint)'!CTJ8","v":0},{"$f":"'Data diagrams (noprint)'!CTK8","v":0},{"$f":"'Data diagrams (noprint)'!CTL8","v":0},{"$f":"'Data diagrams (noprint)'!CTM8","v":0},{"$f":"'Data diagrams (noprint)'!CTN8","v":0},{"$f":"'Data diagrams (noprint)'!CTO8","v":0},{"$f":"'Data diagrams (noprint)'!CTP8","v":0},{"$f":"'Data diagrams (noprint)'!CTQ8","v":0},{"$f":"'Data diagrams (noprint)'!CTR8","v":0},{"$f":"'Data diagrams (noprint)'!CTS8","v":0},{"$f":"'Data diagrams (noprint)'!CTT8","v":0},{"$f":"'Data diagrams (noprint)'!CTU8","v":0},{"$f":"'Data diagrams (noprint)'!CTV8","v":0},{"$f":"'Data diagrams (noprint)'!CTW8","v":0},{"$f":"'Data diagrams (noprint)'!CTX8","v":0},{"$f":"'Data diagrams (noprint)'!CTY8","v":0},{"$f":"'Data diagrams (noprint)'!CTZ8","v":0},{"$f":"'Data diagrams (noprint)'!CUA8","v":0},{"$f":"'Data diagrams (noprint)'!CUB8","v":0},{"$f":"'Data diagrams (noprint)'!CUC8","v":0},{"$f":"'Data diagrams (noprint)'!CUD8","v":0},{"$f":"'Data diagrams (noprint)'!CUE8","v":0},{"$f":"'Data diagrams (noprint)'!CUF8","v":0},{"$f":"'Data diagrams (noprint)'!CUG8","v":0},{"$f":"'Data diagrams (noprint)'!CUH8","v":0},{"$f":"'Data diagrams (noprint)'!CUI8","v":0},{"$f":"'Data diagrams (noprint)'!CUJ8","v":0},{"$f":"'Data diagrams (noprint)'!CUK8","v":0},{"$f":"'Data diagrams (noprint)'!CUL8","v":0},{"$f":"'Data diagrams (noprint)'!CUM8","v":0},{"$f":"'Data diagrams (noprint)'!CUN8","v":0},{"$f":"'Data diagrams (noprint)'!CUO8","v":0},{"$f":"'Data diagrams (noprint)'!CUP8","v":0},{"$f":"'Data diagrams (noprint)'!CUQ8","v":0},{"$f":"'Data diagrams (noprint)'!CUR8","v":0},{"$f":"'Data diagrams (noprint)'!CUS8","v":0},{"$f":"'Data diagrams (noprint)'!CUT8","v":0},{"$f":"'Data diagrams (noprint)'!CUU8","v":0},{"$f":"'Data diagrams (noprint)'!CUV8","v":0},{"$f":"'Data diagrams (noprint)'!CUW8","v":0},{"$f":"'Data diagrams (noprint)'!CUX8","v":0},{"$f":"'Data diagrams (noprint)'!CUY8","v":0},{"$f":"'Data diagrams (noprint)'!CUZ8","v":0},{"$f":"'Data diagrams (noprint)'!CVA8","v":0},{"$f":"'Data diagrams (noprint)'!CVB8","v":0},{"$f":"'Data diagrams (noprint)'!CVC8","v":0},{"$f":"'Data diagrams (noprint)'!CVD8","v":0},{"$f":"'Data diagrams (noprint)'!CVE8","v":0},{"$f":"'Data diagrams (noprint)'!CVF8","v":0},{"$f":"'Data diagrams (noprint)'!CVG8","v":0},{"$f":"'Data diagrams (noprint)'!CVH8","v":0},{"$f":"'Data diagrams (noprint)'!CVI8","v":0},{"$f":"'Data diagrams (noprint)'!CVJ8","v":0},{"$f":"'Data diagrams (noprint)'!CVK8","v":0},{"$f":"'Data diagrams (noprint)'!CVL8","v":0},{"$f":"'Data diagrams (noprint)'!CVM8","v":0},{"$f":"'Data diagrams (noprint)'!CVN8","v":0},{"$f":"'Data diagrams (noprint)'!CVO8","v":0},{"$f":"'Data diagrams (noprint)'!CVP8","v":0},{"$f":"'Data diagrams (noprint)'!CVQ8","v":0},{"$f":"'Data diagrams (noprint)'!CVR8","v":0},{"$f":"'Data diagrams (noprint)'!CVS8","v":0},{"$f":"'Data diagrams (noprint)'!CVT8","v":0},{"$f":"'Data diagrams (noprint)'!CVU8","v":0},{"$f":"'Data diagrams (noprint)'!CVV8","v":0},{"$f":"'Data diagrams (noprint)'!CVW8","v":0},{"$f":"'Data diagrams (noprint)'!CVX8","v":0},{"$f":"'Data diagrams (noprint)'!CVY8","v":0},{"$f":"'Data diagrams (noprint)'!CVZ8","v":0},{"$f":"'Data diagrams (noprint)'!CWA8","v":0},{"$f":"'Data diagrams (noprint)'!CWB8","v":0},{"$f":"'Data diagrams (noprint)'!CWC8","v":0},{"$f":"'Data diagrams (noprint)'!CWD8","v":0},{"$f":"'Data diagrams (noprint)'!CWE8","v":0},{"$f":"'Data diagrams (noprint)'!CWF8","v":0},{"$f":"'Data diagrams (noprint)'!CWG8","v":0},{"$f":"'Data diagrams (noprint)'!CWH8","v":0},{"$f":"'Data diagrams (noprint)'!CWI8","v":0},{"$f":"'Data diagrams (noprint)'!CWJ8","v":0},{"$f":"'Data diagrams (noprint)'!CWK8","v":0},{"$f":"'Data diagrams (noprint)'!CWL8","v":0},{"$f":"'Data diagrams (noprint)'!CWM8","v":0},{"$f":"'Data diagrams (noprint)'!CWN8","v":0},{"$f":"'Data diagrams (noprint)'!CWO8","v":0},{"$f":"'Data diagrams (noprint)'!CWP8","v":0},{"$f":"'Data diagrams (noprint)'!CWQ8","v":0},{"$f":"'Data diagrams (noprint)'!CWR8","v":0},{"$f":"'Data diagrams (noprint)'!CWS8","v":0},{"$f":"'Data diagrams (noprint)'!CWT8","v":0},{"$f":"'Data diagrams (noprint)'!CWU8","v":0},{"$f":"'Data diagrams (noprint)'!CWV8","v":0},{"$f":"'Data diagrams (noprint)'!CWW8","v":0},{"$f":"'Data diagrams (noprint)'!CWX8","v":0},{"$f":"'Data diagrams (noprint)'!CWY8","v":0},{"$f":"'Data diagrams (noprint)'!CWZ8","v":0},{"$f":"'Data diagrams (noprint)'!CXA8","v":0},{"$f":"'Data diagrams (noprint)'!CXB8","v":0},{"$f":"'Data diagrams (noprint)'!CXC8","v":0},{"$f":"'Data diagrams (noprint)'!CXD8","v":0},{"$f":"'Data diagrams (noprint)'!CXE8","v":0},{"$f":"'Data diagrams (noprint)'!CXF8","v":0},{"$f":"'Data diagrams (noprint)'!CXG8","v":0},{"$f":"'Data diagrams (noprint)'!CXH8","v":0},{"$f":"'Data diagrams (noprint)'!CXI8","v":0},{"$f":"'Data diagrams (noprint)'!CXJ8","v":0},{"$f":"'Data diagrams (noprint)'!CXK8","v":0},{"$f":"'Data diagrams (noprint)'!CXL8","v":0},{"$f":"'Data diagrams (noprint)'!CXM8","v":0},{"$f":"'Data diagrams (noprint)'!CXN8","v":0},{"$f":"'Data diagrams (noprint)'!CXO8","v":0},{"$f":"'Data diagrams (noprint)'!CXP8","v":0},{"$f":"'Data diagrams (noprint)'!CXQ8","v":0},{"$f":"'Data diagrams (noprint)'!CXR8","v":0},{"$f":"'Data diagrams (noprint)'!CXS8","v":0},{"$f":"'Data diagrams (noprint)'!CXT8","v":0},{"$f":"'Data diagrams (noprint)'!CXU8","v":0},{"$f":"'Data diagrams (noprint)'!CXV8","v":0},{"$f":"'Data diagrams (noprint)'!CXW8","v":0},{"$f":"'Data diagrams (noprint)'!CXX8","v":0},{"$f":"'Data diagrams (noprint)'!CXY8","v":0},{"$f":"'Data diagrams (noprint)'!CXZ8","v":0},{"$f":"'Data diagrams (noprint)'!CYA8","v":0},{"$f":"'Data diagrams (noprint)'!CYB8","v":0},{"$f":"'Data diagrams (noprint)'!CYC8","v":0},{"$f":"'Data diagrams (noprint)'!CYD8","v":0},{"$f":"'Data diagrams (noprint)'!CYE8","v":0},{"$f":"'Data diagrams (noprint)'!CYF8","v":0},{"$f":"'Data diagrams (noprint)'!CYG8","v":0},{"$f":"'Data diagrams (noprint)'!CYH8","v":0},{"$f":"'Data diagrams (noprint)'!CYI8","v":0},{"$f":"'Data diagrams (noprint)'!CYJ8","v":0},{"$f":"'Data diagrams (noprint)'!CYK8","v":0},{"$f":"'Data diagrams (noprint)'!CYL8","v":0},{"$f":"'Data diagrams (noprint)'!CYM8","v":0},{"$f":"'Data diagrams (noprint)'!CYN8","v":0},{"$f":"'Data diagrams (noprint)'!CYO8","v":0},{"$f":"'Data diagrams (noprint)'!CYP8","v":0},{"$f":"'Data diagrams (noprint)'!CYQ8","v":0},{"$f":"'Data diagrams (noprint)'!CYR8","v":0},{"$f":"'Data diagrams (noprint)'!CYS8","v":0},{"$f":"'Data diagrams (noprint)'!CYT8","v":0},{"$f":"'Data diagrams (noprint)'!CYU8","v":0},{"$f":"'Data diagrams (noprint)'!CYV8","v":0},{"$f":"'Data diagrams (noprint)'!CYW8","v":0},{"$f":"'Data diagrams (noprint)'!CYX8","v":0},{"$f":"'Data diagrams (noprint)'!CYY8","v":0},{"$f":"'Data diagrams (noprint)'!CYZ8","v":0},{"$f":"'Data diagrams (noprint)'!CZA8","v":0},{"$f":"'Data diagrams (noprint)'!CZB8","v":0},{"$f":"'Data diagrams (noprint)'!CZC8","v":0},{"$f":"'Data diagrams (noprint)'!CZD8","v":0},{"$f":"'Data diagrams (noprint)'!CZE8","v":0},{"$f":"'Data diagrams (noprint)'!CZF8","v":0},{"$f":"'Data diagrams (noprint)'!CZG8","v":0},{"$f":"'Data diagrams (noprint)'!CZH8","v":0},{"$f":"'Data diagrams (noprint)'!CZI8","v":0},{"$f":"'Data diagrams (noprint)'!CZJ8","v":0},{"$f":"'Data diagrams (noprint)'!CZK8","v":0},{"$f":"'Data diagrams (noprint)'!CZL8","v":0},{"$f":"'Data diagrams (noprint)'!CZM8","v":0},{"$f":"'Data diagrams (noprint)'!CZN8","v":0},{"$f":"'Data diagrams (noprint)'!CZO8","v":0},{"$f":"'Data diagrams (noprint)'!CZP8","v":0},{"$f":"'Data diagrams (noprint)'!CZQ8","v":0},{"$f":"'Data diagrams (noprint)'!CZR8","v":0},{"$f":"'Data diagrams (noprint)'!CZS8","v":0},{"$f":"'Data diagrams (noprint)'!CZT8","v":0},{"$f":"'Data diagrams (noprint)'!CZU8","v":0},{"$f":"'Data diagrams (noprint)'!CZV8","v":0},{"$f":"'Data diagrams (noprint)'!CZW8","v":0},{"$f":"'Data diagrams (noprint)'!CZX8","v":0},{"$f":"'Data diagrams (noprint)'!CZY8","v":0},{"$f":"'Data diagrams (noprint)'!CZZ8","v":0},{"$f":"'Data diagrams (noprint)'!DAA8","v":0},{"$f":"'Data diagrams (noprint)'!DAB8","v":0},{"$f":"'Data diagrams (noprint)'!DAC8","v":0},{"$f":"'Data diagrams (noprint)'!DAD8","v":0},{"$f":"'Data diagrams (noprint)'!DAE8","v":0},{"$f":"'Data diagrams (noprint)'!DAF8","v":0},{"$f":"'Data diagrams (noprint)'!DAG8","v":0},{"$f":"'Data diagrams (noprint)'!DAH8","v":0},{"$f":"'Data diagrams (noprint)'!DAI8","v":0},{"$f":"'Data diagrams (noprint)'!DAJ8","v":0},{"$f":"'Data diagrams (noprint)'!DAK8","v":0},{"$f":"'Data diagrams (noprint)'!DAL8","v":0},{"$f":"'Data diagrams (noprint)'!DAM8","v":0},{"$f":"'Data diagrams (noprint)'!DAN8","v":0},{"$f":"'Data diagrams (noprint)'!DAO8","v":0},{"$f":"'Data diagrams (noprint)'!DAP8","v":0},{"$f":"'Data diagrams (noprint)'!DAQ8","v":0},{"$f":"'Data diagrams (noprint)'!DAR8","v":0},{"$f":"'Data diagrams (noprint)'!DAS8","v":0},{"$f":"'Data diagrams (noprint)'!DAT8","v":0},{"$f":"'Data diagrams (noprint)'!DAU8","v":0},{"$f":"'Data diagrams (noprint)'!DAV8","v":0},{"$f":"'Data diagrams (noprint)'!DAW8","v":0},{"$f":"'Data diagrams (noprint)'!DAX8","v":0},{"$f":"'Data diagrams (noprint)'!DAY8","v":0},{"$f":"'Data diagrams (noprint)'!DAZ8","v":0},{"$f":"'Data diagrams (noprint)'!DBA8","v":0},{"$f":"'Data diagrams (noprint)'!DBB8","v":0},{"$f":"'Data diagrams (noprint)'!DBC8","v":0},{"$f":"'Data diagrams (noprint)'!DBD8","v":0},{"$f":"'Data diagrams (noprint)'!DBE8","v":0},{"$f":"'Data diagrams (noprint)'!DBF8","v":0},{"$f":"'Data diagrams (noprint)'!DBG8","v":0},{"$f":"'Data diagrams (noprint)'!DBH8","v":0},{"$f":"'Data diagrams (noprint)'!DBI8","v":0},{"$f":"'Data diagrams (noprint)'!DBJ8","v":0},{"$f":"'Data diagrams (noprint)'!DBK8","v":0},{"$f":"'Data diagrams (noprint)'!DBL8","v":0},{"$f":"'Data diagrams (noprint)'!DBM8","v":0},{"$f":"'Data diagrams (noprint)'!DBN8","v":0},{"$f":"'Data diagrams (noprint)'!DBO8","v":0},{"$f":"'Data diagrams (noprint)'!DBP8","v":0},{"$f":"'Data diagrams (noprint)'!DBQ8","v":0},{"$f":"'Data diagrams (noprint)'!DBR8","v":0},{"$f":"'Data diagrams (noprint)'!DBS8","v":0},{"$f":"'Data diagrams (noprint)'!DBT8","v":0},{"$f":"'Data diagrams (noprint)'!DBU8","v":0},{"$f":"'Data diagrams (noprint)'!DBV8","v":0},{"$f":"'Data diagrams (noprint)'!DBW8","v":0},{"$f":"'Data diagrams (noprint)'!DBX8","v":0},{"$f":"'Data diagrams (noprint)'!DBY8","v":0},{"$f":"'Data diagrams (noprint)'!DBZ8","v":0},{"$f":"'Data diagrams (noprint)'!DCA8","v":0},{"$f":"'Data diagrams (noprint)'!DCB8","v":0},{"$f":"'Data diagrams (noprint)'!DCC8","v":0},{"$f":"'Data diagrams (noprint)'!DCD8","v":0},{"$f":"'Data diagrams (noprint)'!DCE8","v":0},{"$f":"'Data diagrams (noprint)'!DCF8","v":0},{"$f":"'Data diagrams (noprint)'!DCG8","v":0},{"$f":"'Data diagrams (noprint)'!DCH8","v":0},{"$f":"'Data diagrams (noprint)'!DCI8","v":0},{"$f":"'Data diagrams (noprint)'!DCJ8","v":0},{"$f":"'Data diagrams (noprint)'!DCK8","v":0},{"$f":"'Data diagrams (noprint)'!DCL8","v":0},{"$f":"'Data diagrams (noprint)'!DCM8","v":0},{"$f":"'Data diagrams (noprint)'!DCN8","v":0},{"$f":"'Data diagrams (noprint)'!DCO8","v":0},{"$f":"'Data diagrams (noprint)'!DCP8","v":0},{"$f":"'Data diagrams (noprint)'!DCQ8","v":0},{"$f":"'Data diagrams (noprint)'!DCR8","v":0},{"$f":"'Data diagrams (noprint)'!DCS8","v":0},{"$f":"'Data diagrams (noprint)'!DCT8","v":0},{"$f":"'Data diagrams (noprint)'!DCU8","v":0},{"$f":"'Data diagrams (noprint)'!DCV8","v":0},{"$f":"'Data diagrams (noprint)'!DCW8","v":0},{"$f":"'Data diagrams (noprint)'!DCX8","v":0},{"$f":"'Data diagrams (noprint)'!DCY8","v":0},{"$f":"'Data diagrams (noprint)'!DCZ8","v":0},{"$f":"'Data diagrams (noprint)'!DDA8","v":0},{"$f":"'Data diagrams (noprint)'!DDB8","v":0},{"$f":"'Data diagrams (noprint)'!DDC8","v":0},{"$f":"'Data diagrams (noprint)'!DDD8","v":0},{"$f":"'Data diagrams (noprint)'!DDE8","v":0},{"$f":"'Data diagrams (noprint)'!DDF8","v":0},{"$f":"'Data diagrams (noprint)'!DDG8","v":0},{"$f":"'Data diagrams (noprint)'!DDH8","v":0},{"$f":"'Data diagrams (noprint)'!DDI8","v":0},{"$f":"'Data diagrams (noprint)'!DDJ8","v":0},{"$f":"'Data diagrams (noprint)'!DDK8","v":0},{"$f":"'Data diagrams (noprint)'!DDL8","v":0},{"$f":"'Data diagrams (noprint)'!DDM8","v":0},{"$f":"'Data diagrams (noprint)'!DDN8","v":0},{"$f":"'Data diagrams (noprint)'!DDO8","v":0},{"$f":"'Data diagrams (noprint)'!DDP8","v":0},{"$f":"'Data diagrams (noprint)'!DDQ8","v":0},{"$f":"'Data diagrams (noprint)'!DDR8","v":0},{"$f":"'Data diagrams (noprint)'!DDS8","v":0},{"$f":"'Data diagrams (noprint)'!DDT8","v":0},{"$f":"'Data diagrams (noprint)'!DDU8","v":0},{"$f":"'Data diagrams (noprint)'!DDV8","v":0},{"$f":"'Data diagrams (noprint)'!DDW8","v":0},{"$f":"'Data diagrams (noprint)'!DDX8","v":0},{"$f":"'Data diagrams (noprint)'!DDY8","v":0},{"$f":"'Data diagrams (noprint)'!DDZ8","v":0},{"$f":"'Data diagrams (noprint)'!DEA8","v":0},{"$f":"'Data diagrams (noprint)'!DEB8","v":0},{"$f":"'Data diagrams (noprint)'!DEC8","v":0},{"$f":"'Data diagrams (noprint)'!DED8","v":0},{"$f":"'Data diagrams (noprint)'!DEE8","v":0},{"$f":"'Data diagrams (noprint)'!DEF8","v":0},{"$f":"'Data diagrams (noprint)'!DEG8","v":0},{"$f":"'Data diagrams (noprint)'!DEH8","v":0},{"$f":"'Data diagrams (noprint)'!DEI8","v":0},{"$f":"'Data diagrams (noprint)'!DEJ8","v":0},{"$f":"'Data diagrams (noprint)'!DEK8","v":0},{"$f":"'Data diagrams (noprint)'!DEL8","v":0},{"$f":"'Data diagrams (noprint)'!DEM8","v":0},{"$f":"'Data diagrams (noprint)'!DEN8","v":0},{"$f":"'Data diagrams (noprint)'!DEO8","v":0},{"$f":"'Data diagrams (noprint)'!DEP8","v":0},{"$f":"'Data diagrams (noprint)'!DEQ8","v":0},{"$f":"'Data diagrams (noprint)'!DER8","v":0},{"$f":"'Data diagrams (noprint)'!DES8","v":0},{"$f":"'Data diagrams (noprint)'!DET8","v":0},{"$f":"'Data diagrams (noprint)'!DEU8","v":0},{"$f":"'Data diagrams (noprint)'!DEV8","v":0},{"$f":"'Data diagrams (noprint)'!DEW8","v":0},{"$f":"'Data diagrams (noprint)'!DEX8","v":0},{"$f":"'Data diagrams (noprint)'!DEY8","v":0},{"$f":"'Data diagrams (noprint)'!DEZ8","v":0},{"$f":"'Data diagrams (noprint)'!DFA8","v":0},{"$f":"'Data diagrams (noprint)'!DFB8","v":0},{"$f":"'Data diagrams (noprint)'!DFC8","v":0},{"$f":"'Data diagrams (noprint)'!DFD8","v":0},{"$f":"'Data diagrams (noprint)'!DFE8","v":0},{"$f":"'Data diagrams (noprint)'!DFF8","v":0},{"$f":"'Data diagrams (noprint)'!DFG8","v":0},{"$f":"'Data diagrams (noprint)'!DFH8","v":0},{"$f":"'Data diagrams (noprint)'!DFI8","v":0},{"$f":"'Data diagrams (noprint)'!DFJ8","v":0},{"$f":"'Data diagrams (noprint)'!DFK8","v":0},{"$f":"'Data diagrams (noprint)'!DFL8","v":0},{"$f":"'Data diagrams (noprint)'!DFM8","v":0},{"$f":"'Data diagrams (noprint)'!DFN8","v":0},{"$f":"'Data diagrams (noprint)'!DFO8","v":0},{"$f":"'Data diagrams (noprint)'!DFP8","v":0},{"$f":"'Data diagrams (noprint)'!DFQ8","v":0},{"$f":"'Data diagrams (noprint)'!DFR8","v":0},{"$f":"'Data diagrams (noprint)'!DFS8","v":0},{"$f":"'Data diagrams (noprint)'!DFT8","v":0},{"$f":"'Data diagrams (noprint)'!DFU8","v":0},{"$f":"'Data diagrams (noprint)'!DFV8","v":0},{"$f":"'Data diagrams (noprint)'!DFW8","v":0},{"$f":"'Data diagrams (noprint)'!DFX8","v":0},{"$f":"'Data diagrams (noprint)'!DFY8","v":0},{"$f":"'Data diagrams (noprint)'!DFZ8","v":0},{"$f":"'Data diagrams (noprint)'!DGA8","v":0},{"$f":"'Data diagrams (noprint)'!DGB8","v":0},{"$f":"'Data diagrams (noprint)'!DGC8","v":0},{"$f":"'Data diagrams (noprint)'!DGD8","v":0},{"$f":"'Data diagrams (noprint)'!DGE8","v":0},{"$f":"'Data diagrams (noprint)'!DGF8","v":0},{"$f":"'Data diagrams (noprint)'!DGG8","v":0},{"$f":"'Data diagrams (noprint)'!DGH8","v":0},{"$f":"'Data diagrams (noprint)'!DGI8","v":0},{"$f":"'Data diagrams (noprint)'!DGJ8","v":0},{"$f":"'Data diagrams (noprint)'!DGK8","v":0},{"$f":"'Data diagrams (noprint)'!DGL8","v":0},{"$f":"'Data diagrams (noprint)'!DGM8","v":0},{"$f":"'Data diagrams (noprint)'!DGN8","v":0},{"$f":"'Data diagrams (noprint)'!DGO8","v":0},{"$f":"'Data diagrams (noprint)'!DGP8","v":0},{"$f":"'Data diagrams (noprint)'!DGQ8","v":0},{"$f":"'Data diagrams (noprint)'!DGR8","v":0},{"$f":"'Data diagrams (noprint)'!DGS8","v":0},{"$f":"'Data diagrams (noprint)'!DGT8","v":0},{"$f":"'Data diagrams (noprint)'!DGU8","v":0},{"$f":"'Data diagrams (noprint)'!DGV8","v":0},{"$f":"'Data diagrams (noprint)'!DGW8","v":0},{"$f":"'Data diagrams (noprint)'!DGX8","v":0},{"$f":"'Data diagrams (noprint)'!DGY8","v":0},{"$f":"'Data diagrams (noprint)'!DGZ8","v":0},{"$f":"'Data diagrams (noprint)'!DHA8","v":0},{"$f":"'Data diagrams (noprint)'!DHB8","v":0},{"$f":"'Data diagrams (noprint)'!DHC8","v":0},{"$f":"'Data diagrams (noprint)'!DHD8","v":0},{"$f":"'Data diagrams (noprint)'!DHE8","v":0},{"$f":"'Data diagrams (noprint)'!DHF8","v":0},{"$f":"'Data diagrams (noprint)'!DHG8","v":0},{"$f":"'Data diagrams (noprint)'!DHH8","v":0},{"$f":"'Data diagrams (noprint)'!DHI8","v":0},{"$f":"'Data diagrams (noprint)'!DHJ8","v":0},{"$f":"'Data diagrams (noprint)'!DHK8","v":0},{"$f":"'Data diagrams (noprint)'!DHL8","v":0},{"$f":"'Data diagrams (noprint)'!DHM8","v":0},{"$f":"'Data diagrams (noprint)'!DHN8","v":0},{"$f":"'Data diagrams (noprint)'!DHO8","v":0},{"$f":"'Data diagrams (noprint)'!DHP8","v":0},{"$f":"'Data diagrams (noprint)'!DHQ8","v":0},{"$f":"'Data diagrams (noprint)'!DHR8","v":0},{"$f":"'Data diagrams (noprint)'!DHS8","v":0},{"$f":"'Data diagrams (noprint)'!DHT8","v":0},{"$f":"'Data diagrams (noprint)'!DHU8","v":0},{"$f":"'Data diagrams (noprint)'!DHV8","v":0},{"$f":"'Data diagrams (noprint)'!DHW8","v":0},{"$f":"'Data diagrams (noprint)'!DHX8","v":0},{"$f":"'Data diagrams (noprint)'!DHY8","v":0},{"$f":"'Data diagrams (noprint)'!DHZ8","v":0},{"$f":"'Data diagrams (noprint)'!DIA8","v":0},{"$f":"'Data diagrams (noprint)'!DIB8","v":0},{"$f":"'Data diagrams (noprint)'!DIC8","v":0},{"$f":"'Data diagrams (noprint)'!DID8","v":0},{"$f":"'Data diagrams (noprint)'!DIE8","v":0},{"$f":"'Data diagrams (noprint)'!DIF8","v":0},{"$f":"'Data diagrams (noprint)'!DIG8","v":0},{"$f":"'Data diagrams (noprint)'!DIH8","v":0},{"$f":"'Data diagrams (noprint)'!DII8","v":0},{"$f":"'Data diagrams (noprint)'!DIJ8","v":0},{"$f":"'Data diagrams (noprint)'!DIK8","v":0},{"$f":"'Data diagrams (noprint)'!DIL8","v":0},{"$f":"'Data diagrams (noprint)'!DIM8","v":0},{"$f":"'Data diagrams (noprint)'!DIN8","v":0},{"$f":"'Data diagrams (noprint)'!DIO8","v":0},{"$f":"'Data diagrams (noprint)'!DIP8","v":0},{"$f":"'Data diagrams (noprint)'!DIQ8","v":0},{"$f":"'Data diagrams (noprint)'!DIR8","v":0},{"$f":"'Data diagrams (noprint)'!DIS8","v":0},{"$f":"'Data diagrams (noprint)'!DIT8","v":0},{"$f":"'Data diagrams (noprint)'!DIU8","v":0},{"$f":"'Data diagrams (noprint)'!DIV8","v":0},{"$f":"'Data diagrams (noprint)'!DIW8","v":0},{"$f":"'Data diagrams (noprint)'!DIX8","v":0},{"$f":"'Data diagrams (noprint)'!DIY8","v":0},{"$f":"'Data diagrams (noprint)'!DIZ8","v":0},{"$f":"'Data diagrams (noprint)'!DJA8","v":0},{"$f":"'Data diagrams (noprint)'!DJB8","v":0},{"$f":"'Data diagrams (noprint)'!DJC8","v":0},{"$f":"'Data diagrams (noprint)'!DJD8","v":0},{"$f":"'Data diagrams (noprint)'!DJE8","v":0},{"$f":"'Data diagrams (noprint)'!DJF8","v":0},{"$f":"'Data diagrams (noprint)'!DJG8","v":0},{"$f":"'Data diagrams (noprint)'!DJH8","v":0},{"$f":"'Data diagrams (noprint)'!DJI8","v":0},{"$f":"'Data diagrams (noprint)'!DJJ8","v":0},{"$f":"'Data diagrams (noprint)'!DJK8","v":0},{"$f":"'Data diagrams (noprint)'!DJL8","v":0},{"$f":"'Data diagrams (noprint)'!DJM8","v":0},{"$f":"'Data diagrams (noprint)'!DJN8","v":0},{"$f":"'Data diagrams (noprint)'!DJO8","v":0},{"$f":"'Data diagrams (noprint)'!DJP8","v":0},{"$f":"'Data diagrams (noprint)'!DJQ8","v":0},{"$f":"'Data diagrams (noprint)'!DJR8","v":0},{"$f":"'Data diagrams (noprint)'!DJS8","v":0},{"$f":"'Data diagrams (noprint)'!DJT8","v":0},{"$f":"'Data diagrams (noprint)'!DJU8","v":0},{"$f":"'Data diagrams (noprint)'!DJV8","v":0},{"$f":"'Data diagrams (noprint)'!DJW8","v":0},{"$f":"'Data diagrams (noprint)'!DJX8","v":0},{"$f":"'Data diagrams (noprint)'!DJY8","v":0},{"$f":"'Data diagrams (noprint)'!DJZ8","v":0},{"$f":"'Data diagrams (noprint)'!DKA8","v":0},{"$f":"'Data diagrams (noprint)'!DKB8","v":0},{"$f":"'Data diagrams (noprint)'!DKC8","v":0},{"$f":"'Data diagrams (noprint)'!DKD8","v":0},{"$f":"'Data diagrams (noprint)'!DKE8","v":0},{"$f":"'Data diagrams (noprint)'!DKF8","v":0},{"$f":"'Data diagrams (noprint)'!DKG8","v":0},{"$f":"'Data diagrams (noprint)'!DKH8","v":0},{"$f":"'Data diagrams (noprint)'!DKI8","v":0},{"$f":"'Data diagrams (noprint)'!DKJ8","v":0},{"$f":"'Data diagrams (noprint)'!DKK8","v":0},{"$f":"'Data diagrams (noprint)'!DKL8","v":0},{"$f":"'Data diagrams (noprint)'!DKM8","v":0},{"$f":"'Data diagrams (noprint)'!DKN8","v":0},{"$f":"'Data diagrams (noprint)'!DKO8","v":0},{"$f":"'Data diagrams (noprint)'!DKP8","v":0},{"$f":"'Data diagrams (noprint)'!DKQ8","v":0},{"$f":"'Data diagrams (noprint)'!DKR8","v":0},{"$f":"'Data diagrams (noprint)'!DKS8","v":0},{"$f":"'Data diagrams (noprint)'!DKT8","v":0},{"$f":"'Data diagrams (noprint)'!DKU8","v":0},{"$f":"'Data diagrams (noprint)'!DKV8","v":0},{"$f":"'Data diagrams (noprint)'!DKW8","v":0},{"$f":"'Data diagrams (noprint)'!DKX8","v":0},{"$f":"'Data diagrams (noprint)'!DKY8","v":0},{"$f":"'Data diagrams (noprint)'!DKZ8","v":0},{"$f":"'Data diagrams (noprint)'!DLA8","v":0},{"$f":"'Data diagrams (noprint)'!DLB8","v":0},{"$f":"'Data diagrams (noprint)'!DLC8","v":0},{"$f":"'Data diagrams (noprint)'!DLD8","v":0},{"$f":"'Data diagrams (noprint)'!DLE8","v":0},{"$f":"'Data diagrams (noprint)'!DLF8","v":0},{"$f":"'Data diagrams (noprint)'!DLG8","v":0},{"$f":"'Data diagrams (noprint)'!DLH8","v":0},{"$f":"'Data diagrams (noprint)'!DLI8","v":0},{"$f":"'Data diagrams (noprint)'!DLJ8","v":0},{"$f":"'Data diagrams (noprint)'!DLK8","v":0},{"$f":"'Data diagrams (noprint)'!DLL8","v":0},{"$f":"'Data diagrams (noprint)'!DLM8","v":0},{"$f":"'Data diagrams (noprint)'!DLN8","v":0},{"$f":"'Data diagrams (noprint)'!DLO8","v":0},{"$f":"'Data diagrams (noprint)'!DLP8","v":0},{"$f":"'Data diagrams (noprint)'!DLQ8","v":0},{"$f":"'Data diagrams (noprint)'!DLR8","v":0},{"$f":"'Data diagrams (noprint)'!DLS8","v":0},{"$f":"'Data diagrams (noprint)'!DLT8","v":0},{"$f":"'Data diagrams (noprint)'!DLU8","v":0},{"$f":"'Data diagrams (noprint)'!DLV8","v":0},{"$f":"'Data diagrams (noprint)'!DLW8","v":0},{"$f":"'Data diagrams (noprint)'!DLX8","v":0},{"$f":"'Data diagrams (noprint)'!DLY8","v":0},{"$f":"'Data diagrams (noprint)'!DLZ8","v":0},{"$f":"'Data diagrams (noprint)'!DMA8","v":0},{"$f":"'Data diagrams (noprint)'!DMB8","v":0},{"$f":"'Data diagrams (noprint)'!DMC8","v":0},{"$f":"'Data diagrams (noprint)'!DMD8","v":0},{"$f":"'Data diagrams (noprint)'!DME8","v":0},{"$f":"'Data diagrams (noprint)'!DMF8","v":0},{"$f":"'Data diagrams (noprint)'!DMG8","v":0},{"$f":"'Data diagrams (noprint)'!DMH8","v":0},{"$f":"'Data diagrams (noprint)'!DMI8","v":0},{"$f":"'Data diagrams (noprint)'!DMJ8","v":0},{"$f":"'Data diagrams (noprint)'!DMK8","v":0},{"$f":"'Data diagrams (noprint)'!DML8","v":0},{"$f":"'Data diagrams (noprint)'!DMM8","v":0},{"$f":"'Data diagrams (noprint)'!DMN8","v":0},{"$f":"'Data diagrams (noprint)'!DMO8","v":0},{"$f":"'Data diagrams (noprint)'!DMP8","v":0},{"$f":"'Data diagrams (noprint)'!DMQ8","v":0},{"$f":"'Data diagrams (noprint)'!DMR8","v":0},{"$f":"'Data diagrams (noprint)'!DMS8","v":0},{"$f":"'Data diagrams (noprint)'!DMT8","v":0},{"$f":"'Data diagrams (noprint)'!DMU8","v":0},{"$f":"'Data diagrams (noprint)'!DMV8","v":0},{"$f":"'Data diagrams (noprint)'!DMW8","v":0},{"$f":"'Data diagrams (noprint)'!DMX8","v":0},{"$f":"'Data diagrams (noprint)'!DMY8","v":0},{"$f":"'Data diagrams (noprint)'!DMZ8","v":0},{"$f":"'Data diagrams (noprint)'!DNA8","v":0},{"$f":"'Data diagrams (noprint)'!DNB8","v":0},{"$f":"'Data diagrams (noprint)'!DNC8","v":0},{"$f":"'Data diagrams (noprint)'!DND8","v":0},{"$f":"'Data diagrams (noprint)'!DNE8","v":0},{"$f":"'Data diagrams (noprint)'!DNF8","v":0},{"$f":"'Data diagrams (noprint)'!DNG8","v":0},{"$f":"'Data diagrams (noprint)'!DNH8","v":0},{"$f":"'Data diagrams (noprint)'!DNI8","v":0},{"$f":"'Data diagrams (noprint)'!DNJ8","v":0},{"$f":"'Data diagrams (noprint)'!DNK8","v":0},{"$f":"'Data diagrams (noprint)'!DNL8","v":0},{"$f":"'Data diagrams (noprint)'!DNM8","v":0},{"$f":"'Data diagrams (noprint)'!DNN8","v":0},{"$f":"'Data diagrams (noprint)'!DNO8","v":0},{"$f":"'Data diagrams (noprint)'!DNP8","v":0},{"$f":"'Data diagrams (noprint)'!DNQ8","v":0},{"$f":"'Data diagrams (noprint)'!DNR8","v":0},{"$f":"'Data diagrams (noprint)'!DNS8","v":0},{"$f":"'Data diagrams (noprint)'!DNT8","v":0},{"$f":"'Data diagrams (noprint)'!DNU8","v":0},{"$f":"'Data diagrams (noprint)'!DNV8","v":0},{"$f":"'Data diagrams (noprint)'!DNW8","v":0},{"$f":"'Data diagrams (noprint)'!DNX8","v":0},{"$f":"'Data diagrams (noprint)'!DNY8","v":0},{"$f":"'Data diagrams (noprint)'!DNZ8","v":0},{"$f":"'Data diagrams (noprint)'!DOA8","v":0},{"$f":"'Data diagrams (noprint)'!DOB8","v":0},{"$f":"'Data diagrams (noprint)'!DOC8","v":0},{"$f":"'Data diagrams (noprint)'!DOD8","v":0},{"$f":"'Data diagrams (noprint)'!DOE8","v":0},{"$f":"'Data diagrams (noprint)'!DOF8","v":0},{"$f":"'Data diagrams (noprint)'!DOG8","v":0},{"$f":"'Data diagrams (noprint)'!DOH8","v":0},{"$f":"'Data diagrams (noprint)'!DOI8","v":0},{"$f":"'Data diagrams (noprint)'!DOJ8","v":0},{"$f":"'Data diagrams (noprint)'!DOK8","v":0},{"$f":"'Data diagrams (noprint)'!DOL8","v":0},{"$f":"'Data diagrams (noprint)'!DOM8","v":0},{"$f":"'Data diagrams (noprint)'!DON8","v":0},{"$f":"'Data diagrams (noprint)'!DOO8","v":0},{"$f":"'Data diagrams (noprint)'!DOP8","v":0},{"$f":"'Data diagrams (noprint)'!DOQ8","v":0},{"$f":"'Data diagrams (noprint)'!DOR8","v":0},{"$f":"'Data diagrams (noprint)'!DOS8","v":0},{"$f":"'Data diagrams (noprint)'!DOT8","v":0},{"$f":"'Data diagrams (noprint)'!DOU8","v":0},{"$f":"'Data diagrams (noprint)'!DOV8","v":0},{"$f":"'Data diagrams (noprint)'!DOW8","v":0},{"$f":"'Data diagrams (noprint)'!DOX8","v":0},{"$f":"'Data diagrams (noprint)'!DOY8","v":0},{"$f":"'Data diagrams (noprint)'!DOZ8","v":0},{"$f":"'Data diagrams (noprint)'!DPA8","v":0},{"$f":"'Data diagrams (noprint)'!DPB8","v":0},{"$f":"'Data diagrams (noprint)'!DPC8","v":0},{"$f":"'Data diagrams (noprint)'!DPD8","v":0},{"$f":"'Data diagrams (noprint)'!DPE8","v":0},{"$f":"'Data diagrams (noprint)'!DPF8","v":0},{"$f":"'Data diagrams (noprint)'!DPG8","v":0},{"$f":"'Data diagrams (noprint)'!DPH8","v":0},{"$f":"'Data diagrams (noprint)'!DPI8","v":0},{"$f":"'Data diagrams (noprint)'!DPJ8","v":0},{"$f":"'Data diagrams (noprint)'!DPK8","v":0},{"$f":"'Data diagrams (noprint)'!DPL8","v":0},{"$f":"'Data diagrams (noprint)'!DPM8","v":0},{"$f":"'Data diagrams (noprint)'!DPN8","v":0},{"$f":"'Data diagrams (noprint)'!DPO8","v":0},{"$f":"'Data diagrams (noprint)'!DPP8","v":0},{"$f":"'Data diagrams (noprint)'!DPQ8","v":0},{"$f":"'Data diagrams (noprint)'!DPR8","v":0},{"$f":"'Data diagrams (noprint)'!DPS8","v":0},{"$f":"'Data diagrams (noprint)'!DPT8","v":0},{"$f":"'Data diagrams (noprint)'!DPU8","v":0},{"$f":"'Data diagrams (noprint)'!DPV8","v":0},{"$f":"'Data diagrams (noprint)'!DPW8","v":0},{"$f":"'Data diagrams (noprint)'!DPX8","v":0},{"$f":"'Data diagrams (noprint)'!DPY8","v":0},{"$f":"'Data diagrams (noprint)'!DPZ8","v":0},{"$f":"'Data diagrams (noprint)'!DQA8","v":0},{"$f":"'Data diagrams (noprint)'!DQB8","v":0},{"$f":"'Data diagrams (noprint)'!DQC8","v":0},{"$f":"'Data diagrams (noprint)'!DQD8","v":0},{"$f":"'Data diagrams (noprint)'!DQE8","v":0},{"$f":"'Data diagrams (noprint)'!DQF8","v":0},{"$f":"'Data diagrams (noprint)'!DQG8","v":0},{"$f":"'Data diagrams (noprint)'!DQH8","v":0},{"$f":"'Data diagrams (noprint)'!DQI8","v":0},{"$f":"'Data diagrams (noprint)'!DQJ8","v":0},{"$f":"'Data diagrams (noprint)'!DQK8","v":0},{"$f":"'Data diagrams (noprint)'!DQL8","v":0},{"$f":"'Data diagrams (noprint)'!DQM8","v":0},{"$f":"'Data diagrams (noprint)'!DQN8","v":0},{"$f":"'Data diagrams (noprint)'!DQO8","v":0},{"$f":"'Data diagrams (noprint)'!DQP8","v":0},{"$f":"'Data diagrams (noprint)'!DQQ8","v":0},{"$f":"'Data diagrams (noprint)'!DQR8","v":0},{"$f":"'Data diagrams (noprint)'!DQS8","v":0},{"$f":"'Data diagrams (noprint)'!DQT8","v":0},{"$f":"'Data diagrams (noprint)'!DQU8","v":0},{"$f":"'Data diagrams (noprint)'!DQV8","v":0},{"$f":"'Data diagrams (noprint)'!DQW8","v":0},{"$f":"'Data diagrams (noprint)'!DQX8","v":0},{"$f":"'Data diagrams (noprint)'!DQY8","v":0},{"$f":"'Data diagrams (noprint)'!DQZ8","v":0},{"$f":"'Data diagrams (noprint)'!DRA8","v":0},{"$f":"'Data diagrams (noprint)'!DRB8","v":0},{"$f":"'Data diagrams (noprint)'!DRC8","v":0},{"$f":"'Data diagrams (noprint)'!DRD8","v":0},{"$f":"'Data diagrams (noprint)'!DRE8","v":0},{"$f":"'Data diagrams (noprint)'!DRF8","v":0},{"$f":"'Data diagrams (noprint)'!DRG8","v":0},{"$f":"'Data diagrams (noprint)'!DRH8","v":0},{"$f":"'Data diagrams (noprint)'!DRI8","v":0},{"$f":"'Data diagrams (noprint)'!DRJ8","v":0},{"$f":"'Data diagrams (noprint)'!DRK8","v":0},{"$f":"'Data diagrams (noprint)'!DRL8","v":0},{"$f":"'Data diagrams (noprint)'!DRM8","v":0},{"$f":"'Data diagrams (noprint)'!DRN8","v":0},{"$f":"'Data diagrams (noprint)'!DRO8","v":0},{"$f":"'Data diagrams (noprint)'!DRP8","v":0},{"$f":"'Data diagrams (noprint)'!DRQ8","v":0},{"$f":"'Data diagrams (noprint)'!DRR8","v":0},{"$f":"'Data diagrams (noprint)'!DRS8","v":0},{"$f":"'Data diagrams (noprint)'!DRT8","v":0},{"$f":"'Data diagrams (noprint)'!DRU8","v":0},{"$f":"'Data diagrams (noprint)'!DRV8","v":0},{"$f":"'Data diagrams (noprint)'!DRW8","v":0},{"$f":"'Data diagrams (noprint)'!DRX8","v":0},{"$f":"'Data diagrams (noprint)'!DRY8","v":0},{"$f":"'Data diagrams (noprint)'!DRZ8","v":0},{"$f":"'Data diagrams (noprint)'!DSA8","v":0},{"$f":"'Data diagrams (noprint)'!DSB8","v":0},{"$f":"'Data diagrams (noprint)'!DSC8","v":0},{"$f":"'Data diagrams (noprint)'!DSD8","v":0},{"$f":"'Data diagrams (noprint)'!DSE8","v":0},{"$f":"'Data diagrams (noprint)'!DSF8","v":0},{"$f":"'Data diagrams (noprint)'!DSG8","v":0},{"$f":"'Data diagrams (noprint)'!DSH8","v":0},{"$f":"'Data diagrams (noprint)'!DSI8","v":0},{"$f":"'Data diagrams (noprint)'!DSJ8","v":0},{"$f":"'Data diagrams (noprint)'!DSK8","v":0},{"$f":"'Data diagrams (noprint)'!DSL8","v":0},{"$f":"'Data diagrams (noprint)'!DSM8","v":0},{"$f":"'Data diagrams (noprint)'!DSN8","v":0},{"$f":"'Data diagrams (noprint)'!DSO8","v":0},{"$f":"'Data diagrams (noprint)'!DSP8","v":0},{"$f":"'Data diagrams (noprint)'!DSQ8","v":0},{"$f":"'Data diagrams (noprint)'!DSR8","v":0},{"$f":"'Data diagrams (noprint)'!DSS8","v":0},{"$f":"'Data diagrams (noprint)'!DST8","v":0},{"$f":"'Data diagrams (noprint)'!DSU8","v":0},{"$f":"'Data diagrams (noprint)'!DSV8","v":0},{"$f":"'Data diagrams (noprint)'!DSW8","v":0},{"$f":"'Data diagrams (noprint)'!DSX8","v":0},{"$f":"'Data diagrams (noprint)'!DSY8","v":0},{"$f":"'Data diagrams (noprint)'!DSZ8","v":0},{"$f":"'Data diagrams (noprint)'!DTA8","v":0},{"$f":"'Data diagrams (noprint)'!DTB8","v":0},{"$f":"'Data diagrams (noprint)'!DTC8","v":0},{"$f":"'Data diagrams (noprint)'!DTD8","v":0},{"$f":"'Data diagrams (noprint)'!DTE8","v":0},{"$f":"'Data diagrams (noprint)'!DTF8","v":0},{"$f":"'Data diagrams (noprint)'!DTG8","v":0},{"$f":"'Data diagrams (noprint)'!DTH8","v":0},{"$f":"'Data diagrams (noprint)'!DTI8","v":0},{"$f":"'Data diagrams (noprint)'!DTJ8","v":0},{"$f":"'Data diagrams (noprint)'!DTK8","v":0},{"$f":"'Data diagrams (noprint)'!DTL8","v":0},{"$f":"'Data diagrams (noprint)'!DTM8","v":0},{"$f":"'Data diagrams (noprint)'!DTN8","v":0},{"$f":"'Data diagrams (noprint)'!DTO8","v":0},{"$f":"'Data diagrams (noprint)'!DTP8","v":0},{"$f":"'Data diagrams (noprint)'!DTQ8","v":0},{"$f":"'Data diagrams (noprint)'!DTR8","v":0},{"$f":"'Data diagrams (noprint)'!DTS8","v":0},{"$f":"'Data diagrams (noprint)'!DTT8","v":0},{"$f":"'Data diagrams (noprint)'!DTU8","v":0},{"$f":"'Data diagrams (noprint)'!DTV8","v":0},{"$f":"'Data diagrams (noprint)'!DTW8","v":0},{"$f":"'Data diagrams (noprint)'!DTX8","v":0},{"$f":"'Data diagrams (noprint)'!DTY8","v":0},{"$f":"'Data diagrams (noprint)'!DTZ8","v":0},{"$f":"'Data diagrams (noprint)'!DUA8","v":0},{"$f":"'Data diagrams (noprint)'!DUB8","v":0},{"$f":"'Data diagrams (noprint)'!DUC8","v":0},{"$f":"'Data diagrams (noprint)'!DUD8","v":0},{"$f":"'Data diagrams (noprint)'!DUE8","v":0},{"$f":"'Data diagrams (noprint)'!DUF8","v":0},{"$f":"'Data diagrams (noprint)'!DUG8","v":0},{"$f":"'Data diagrams (noprint)'!DUH8","v":0},{"$f":"'Data diagrams (noprint)'!DUI8","v":0},{"$f":"'Data diagrams (noprint)'!DUJ8","v":0},{"$f":"'Data diagrams (noprint)'!DUK8","v":0},{"$f":"'Data diagrams (noprint)'!DUL8","v":0},{"$f":"'Data diagrams (noprint)'!DUM8","v":0},{"$f":"'Data diagrams (noprint)'!DUN8","v":0},{"$f":"'Data diagrams (noprint)'!DUO8","v":0},{"$f":"'Data diagrams (noprint)'!DUP8","v":0},{"$f":"'Data diagrams (noprint)'!DUQ8","v":0},{"$f":"'Data diagrams (noprint)'!DUR8","v":0},{"$f":"'Data diagrams (noprint)'!DUS8","v":0},{"$f":"'Data diagrams (noprint)'!DUT8","v":0},{"$f":"'Data diagrams (noprint)'!DUU8","v":0},{"$f":"'Data diagrams (noprint)'!DUV8","v":0},{"$f":"'Data diagrams (noprint)'!DUW8","v":0},{"$f":"'Data diagrams (noprint)'!DUX8","v":0},{"$f":"'Data diagrams (noprint)'!DUY8","v":0},{"$f":"'Data diagrams (noprint)'!DUZ8","v":0},{"$f":"'Data diagrams (noprint)'!DVA8","v":0},{"$f":"'Data diagrams (noprint)'!DVB8","v":0},{"$f":"'Data diagrams (noprint)'!DVC8","v":0},{"$f":"'Data diagrams (noprint)'!DVD8","v":0},{"$f":"'Data diagrams (noprint)'!DVE8","v":0},{"$f":"'Data diagrams (noprint)'!DVF8","v":0},{"$f":"'Data diagrams (noprint)'!DVG8","v":0},{"$f":"'Data diagrams (noprint)'!DVH8","v":0},{"$f":"'Data diagrams (noprint)'!DVI8","v":0},{"$f":"'Data diagrams (noprint)'!DVJ8","v":0},{"$f":"'Data diagrams (noprint)'!DVK8","v":0},{"$f":"'Data diagrams (noprint)'!DVL8","v":0},{"$f":"'Data diagrams (noprint)'!DVM8","v":0},{"$f":"'Data diagrams (noprint)'!DVN8","v":0},{"$f":"'Data diagrams (noprint)'!DVO8","v":0},{"$f":"'Data diagrams (noprint)'!DVP8","v":0},{"$f":"'Data diagrams (noprint)'!DVQ8","v":0},{"$f":"'Data diagrams (noprint)'!DVR8","v":0},{"$f":"'Data diagrams (noprint)'!DVS8","v":0},{"$f":"'Data diagrams (noprint)'!DVT8","v":0},{"$f":"'Data diagrams (noprint)'!DVU8","v":0},{"$f":"'Data diagrams (noprint)'!DVV8","v":0},{"$f":"'Data diagrams (noprint)'!DVW8","v":0},{"$f":"'Data diagrams (noprint)'!DVX8","v":0},{"$f":"'Data diagrams (noprint)'!DVY8","v":0},{"$f":"'Data diagrams (noprint)'!DVZ8","v":0},{"$f":"'Data diagrams (noprint)'!DWA8","v":0},{"$f":"'Data diagrams (noprint)'!DWB8","v":0},{"$f":"'Data diagrams (noprint)'!DWC8","v":0},{"$f":"'Data diagrams (noprint)'!DWD8","v":0},{"$f":"'Data diagrams (noprint)'!DWE8","v":0},{"$f":"'Data diagrams (noprint)'!DWF8","v":0},{"$f":"'Data diagrams (noprint)'!DWG8","v":0},{"$f":"'Data diagrams (noprint)'!DWH8","v":0},{"$f":"'Data diagrams (noprint)'!DWI8","v":0},{"$f":"'Data diagrams (noprint)'!DWJ8","v":0},{"$f":"'Data diagrams (noprint)'!DWK8","v":0},{"$f":"'Data diagrams (noprint)'!DWL8","v":0},{"$f":"'Data diagrams (noprint)'!DWM8","v":0},{"$f":"'Data diagrams (noprint)'!DWN8","v":0},{"$f":"'Data diagrams (noprint)'!DWO8","v":0},{"$f":"'Data diagrams (noprint)'!DWP8","v":0},{"$f":"'Data diagrams (noprint)'!DWQ8","v":0},{"$f":"'Data diagrams (noprint)'!DWR8","v":0},{"$f":"'Data diagrams (noprint)'!DWS8","v":0},{"$f":"'Data diagrams (noprint)'!DWT8","v":0},{"$f":"'Data diagrams (noprint)'!DWU8","v":0},{"$f":"'Data diagrams (noprint)'!DWV8","v":0},{"$f":"'Data diagrams (noprint)'!DWW8","v":0},{"$f":"'Data diagrams (noprint)'!DWX8","v":0},{"$f":"'Data diagrams (noprint)'!DWY8","v":0},{"$f":"'Data diagrams (noprint)'!DWZ8","v":0},{"$f":"'Data diagrams (noprint)'!DXA8","v":0},{"$f":"'Data diagrams (noprint)'!DXB8","v":0},{"$f":"'Data diagrams (noprint)'!DXC8","v":0},{"$f":"'Data diagrams (noprint)'!DXD8","v":0},{"$f":"'Data diagrams (noprint)'!DXE8","v":0},{"$f":"'Data diagrams (noprint)'!DXF8","v":0},{"$f":"'Data diagrams (noprint)'!DXG8","v":0},{"$f":"'Data diagrams (noprint)'!DXH8","v":0},{"$f":"'Data diagrams (noprint)'!DXI8","v":0},{"$f":"'Data diagrams (noprint)'!DXJ8","v":0},{"$f":"'Data diagrams (noprint)'!DXK8","v":0},{"$f":"'Data diagrams (noprint)'!DXL8","v":0},{"$f":"'Data diagrams (noprint)'!DXM8","v":0},{"$f":"'Data diagrams (noprint)'!DXN8","v":0},{"$f":"'Data diagrams (noprint)'!DXO8","v":0},{"$f":"'Data diagrams (noprint)'!DXP8","v":0},{"$f":"'Data diagrams (noprint)'!DXQ8","v":0},{"$f":"'Data diagrams (noprint)'!DXR8","v":0},{"$f":"'Data diagrams (noprint)'!DXS8","v":0},{"$f":"'Data diagrams (noprint)'!DXT8","v":0},{"$f":"'Data diagrams (noprint)'!DXU8","v":0},{"$f":"'Data diagrams (noprint)'!DXV8","v":0},{"$f":"'Data diagrams (noprint)'!DXW8","v":0},{"$f":"'Data diagrams (noprint)'!DXX8","v":0},{"$f":"'Data diagrams (noprint)'!DXY8","v":0},{"$f":"'Data diagrams (noprint)'!DXZ8","v":0},{"$f":"'Data diagrams (noprint)'!DYA8","v":0},{"$f":"'Data diagrams (noprint)'!DYB8","v":0},{"$f":"'Data diagrams (noprint)'!DYC8","v":0},{"$f":"'Data diagrams (noprint)'!DYD8","v":0},{"$f":"'Data diagrams (noprint)'!DYE8","v":0},{"$f":"'Data diagrams (noprint)'!DYF8","v":0},{"$f":"'Data diagrams (noprint)'!DYG8","v":0},{"$f":"'Data diagrams (noprint)'!DYH8","v":0},{"$f":"'Data diagrams (noprint)'!DYI8","v":0},{"$f":"'Data diagrams (noprint)'!DYJ8","v":0},{"$f":"'Data diagrams (noprint)'!DYK8","v":0},{"$f":"'Data diagrams (noprint)'!DYL8","v":0},{"$f":"'Data diagrams (noprint)'!DYM8","v":0},{"$f":"'Data diagrams (noprint)'!DYN8","v":0},{"$f":"'Data diagrams (noprint)'!DYO8","v":0},{"$f":"'Data diagrams (noprint)'!DYP8","v":0},{"$f":"'Data diagrams (noprint)'!DYQ8","v":0},{"$f":"'Data diagrams (noprint)'!DYR8","v":0},{"$f":"'Data diagrams (noprint)'!DYS8","v":0},{"$f":"'Data diagrams (noprint)'!DYT8","v":0},{"$f":"'Data diagrams (noprint)'!DYU8","v":0},{"$f":"'Data diagrams (noprint)'!DYV8","v":0},{"$f":"'Data diagrams (noprint)'!DYW8","v":0},{"$f":"'Data diagrams (noprint)'!DYX8","v":0},{"$f":"'Data diagrams (noprint)'!DYY8","v":0},{"$f":"'Data diagrams (noprint)'!DYZ8","v":0},{"$f":"'Data diagrams (noprint)'!DZA8","v":0},{"$f":"'Data diagrams (noprint)'!DZB8","v":0},{"$f":"'Data diagrams (noprint)'!DZC8","v":0},{"$f":"'Data diagrams (noprint)'!DZD8","v":0},{"$f":"'Data diagrams (noprint)'!DZE8","v":0},{"$f":"'Data diagrams (noprint)'!DZF8","v":0},{"$f":"'Data diagrams (noprint)'!DZG8","v":0},{"$f":"'Data diagrams (noprint)'!DZH8","v":0},{"$f":"'Data diagrams (noprint)'!DZI8","v":0},{"$f":"'Data diagrams (noprint)'!DZJ8","v":0},{"$f":"'Data diagrams (noprint)'!DZK8","v":0},{"$f":"'Data diagrams (noprint)'!DZL8","v":0},{"$f":"'Data diagrams (noprint)'!DZM8","v":0},{"$f":"'Data diagrams (noprint)'!DZN8","v":0},{"$f":"'Data diagrams (noprint)'!DZO8","v":0},{"$f":"'Data diagrams (noprint)'!DZP8","v":0},{"$f":"'Data diagrams (noprint)'!DZQ8","v":0},{"$f":"'Data diagrams (noprint)'!DZR8","v":0},{"$f":"'Data diagrams (noprint)'!DZS8","v":0},{"$f":"'Data diagrams (noprint)'!DZT8","v":0},{"$f":"'Data diagrams (noprint)'!DZU8","v":0},{"$f":"'Data diagrams (noprint)'!DZV8","v":0},{"$f":"'Data diagrams (noprint)'!DZW8","v":0},{"$f":"'Data diagrams (noprint)'!DZX8","v":0},{"$f":"'Data diagrams (noprint)'!DZY8","v":0},{"$f":"'Data diagrams (noprint)'!DZZ8","v":0},{"$f":"'Data diagrams (noprint)'!EAA8","v":0},{"$f":"'Data diagrams (noprint)'!EAB8","v":0},{"$f":"'Data diagrams (noprint)'!EAC8","v":0},{"$f":"'Data diagrams (noprint)'!EAD8","v":0},{"$f":"'Data diagrams (noprint)'!EAE8","v":0},{"$f":"'Data diagrams (noprint)'!EAF8","v":0},{"$f":"'Data diagrams (noprint)'!EAG8","v":0},{"$f":"'Data diagrams (noprint)'!EAH8","v":0},{"$f":"'Data diagrams (noprint)'!EAI8","v":0},{"$f":"'Data diagrams (noprint)'!EAJ8","v":0},{"$f":"'Data diagrams (noprint)'!EAK8","v":0},{"$f":"'Data diagrams (noprint)'!EAL8","v":0},{"$f":"'Data diagrams (noprint)'!EAM8","v":0},{"$f":"'Data diagrams (noprint)'!EAN8","v":0},{"$f":"'Data diagrams (noprint)'!EAO8","v":0},{"$f":"'Data diagrams (noprint)'!EAP8","v":0},{"$f":"'Data diagrams (noprint)'!EAQ8","v":0},{"$f":"'Data diagrams (noprint)'!EAR8","v":0},{"$f":"'Data diagrams (noprint)'!EAS8","v":0},{"$f":"'Data diagrams (noprint)'!EAT8","v":0},{"$f":"'Data diagrams (noprint)'!EAU8","v":0},{"$f":"'Data diagrams (noprint)'!EAV8","v":0},{"$f":"'Data diagrams (noprint)'!EAW8","v":0},{"$f":"'Data diagrams (noprint)'!EAX8","v":0},{"$f":"'Data diagrams (noprint)'!EAY8","v":0},{"$f":"'Data diagrams (noprint)'!EAZ8","v":0},{"$f":"'Data diagrams (noprint)'!EBA8","v":0},{"$f":"'Data diagrams (noprint)'!EBB8","v":0},{"$f":"'Data diagrams (noprint)'!EBC8","v":0},{"$f":"'Data diagrams (noprint)'!EBD8","v":0},{"$f":"'Data diagrams (noprint)'!EBE8","v":0},{"$f":"'Data diagrams (noprint)'!EBF8","v":0},{"$f":"'Data diagrams (noprint)'!EBG8","v":0},{"$f":"'Data diagrams (noprint)'!EBH8","v":0},{"$f":"'Data diagrams (noprint)'!EBI8","v":0},{"$f":"'Data diagrams (noprint)'!EBJ8","v":0},{"$f":"'Data diagrams (noprint)'!EBK8","v":0},{"$f":"'Data diagrams (noprint)'!EBL8","v":0},{"$f":"'Data diagrams (noprint)'!EBM8","v":0},{"$f":"'Data diagrams (noprint)'!EBN8","v":0},{"$f":"'Data diagrams (noprint)'!EBO8","v":0},{"$f":"'Data diagrams (noprint)'!EBP8","v":0},{"$f":"'Data diagrams (noprint)'!EBQ8","v":0},{"$f":"'Data diagrams (noprint)'!EBR8","v":0},{"$f":"'Data diagrams (noprint)'!EBS8","v":0},{"$f":"'Data diagrams (noprint)'!EBT8","v":0},{"$f":"'Data diagrams (noprint)'!EBU8","v":0},{"$f":"'Data diagrams (noprint)'!EBV8","v":0},{"$f":"'Data diagrams (noprint)'!EBW8","v":0},{"$f":"'Data diagrams (noprint)'!EBX8","v":0},{"$f":"'Data diagrams (noprint)'!EBY8","v":0},{"$f":"'Data diagrams (noprint)'!EBZ8","v":0},{"$f":"'Data diagrams (noprint)'!ECA8","v":0},{"$f":"'Data diagrams (noprint)'!ECB8","v":0},{"$f":"'Data diagrams (noprint)'!ECC8","v":0},{"$f":"'Data diagrams (noprint)'!ECD8","v":0},{"$f":"'Data diagrams (noprint)'!ECE8","v":0},{"$f":"'Data diagrams (noprint)'!ECF8","v":0},{"$f":"'Data diagrams (noprint)'!ECG8","v":0},{"$f":"'Data diagrams (noprint)'!ECH8","v":0},{"$f":"'Data diagrams (noprint)'!ECI8","v":0},{"$f":"'Data diagrams (noprint)'!ECJ8","v":0},{"$f":"'Data diagrams (noprint)'!ECK8","v":0},{"$f":"'Data diagrams (noprint)'!ECL8","v":0},{"$f":"'Data diagrams (noprint)'!ECM8","v":0},{"$f":"'Data diagrams (noprint)'!ECN8","v":0},{"$f":"'Data diagrams (noprint)'!ECO8","v":0},{"$f":"'Data diagrams (noprint)'!ECP8","v":0},{"$f":"'Data diagrams (noprint)'!ECQ8","v":0},{"$f":"'Data diagrams (noprint)'!ECR8","v":0},{"$f":"'Data diagrams (noprint)'!ECS8","v":0},{"$f":"'Data diagrams (noprint)'!ECT8","v":0},{"$f":"'Data diagrams (noprint)'!ECU8","v":0},{"$f":"'Data diagrams (noprint)'!ECV8","v":0},{"$f":"'Data diagrams (noprint)'!ECW8","v":0},{"$f":"'Data diagrams (noprint)'!ECX8","v":0},{"$f":"'Data diagrams (noprint)'!ECY8","v":0},{"$f":"'Data diagrams (noprint)'!ECZ8","v":0},{"$f":"'Data diagrams (noprint)'!EDA8","v":0},{"$f":"'Data diagrams (noprint)'!EDB8","v":0},{"$f":"'Data diagrams (noprint)'!EDC8","v":0},{"$f":"'Data diagrams (noprint)'!EDD8","v":0},{"$f":"'Data diagrams (noprint)'!EDE8","v":0},{"$f":"'Data diagrams (noprint)'!EDF8","v":0},{"$f":"'Data diagrams (noprint)'!EDG8","v":0},{"$f":"'Data diagrams (noprint)'!EDH8","v":0},{"$f":"'Data diagrams (noprint)'!EDI8","v":0},{"$f":"'Data diagrams (noprint)'!EDJ8","v":0},{"$f":"'Data diagrams (noprint)'!EDK8","v":0},{"$f":"'Data diagrams (noprint)'!EDL8","v":0},{"$f":"'Data diagrams (noprint)'!EDM8","v":0},{"$f":"'Data diagrams (noprint)'!EDN8","v":0},{"$f":"'Data diagrams (noprint)'!EDO8","v":0},{"$f":"'Data diagrams (noprint)'!EDP8","v":0},{"$f":"'Data diagrams (noprint)'!EDQ8","v":0},{"$f":"'Data diagrams (noprint)'!EDR8","v":0},{"$f":"'Data diagrams (noprint)'!EDS8","v":0},{"$f":"'Data diagrams (noprint)'!EDT8","v":0},{"$f":"'Data diagrams (noprint)'!EDU8","v":0},{"$f":"'Data diagrams (noprint)'!EDV8","v":0},{"$f":"'Data diagrams (noprint)'!EDW8","v":0},{"$f":"'Data diagrams (noprint)'!EDX8","v":0},{"$f":"'Data diagrams (noprint)'!EDY8","v":0},{"$f":"'Data diagrams (noprint)'!EDZ8","v":0},{"$f":"'Data diagrams (noprint)'!EEA8","v":0},{"$f":"'Data diagrams (noprint)'!EEB8","v":0},{"$f":"'Data diagrams (noprint)'!EEC8","v":0},{"$f":"'Data diagrams (noprint)'!EED8","v":0},{"$f":"'Data diagrams (noprint)'!EEE8","v":0},{"$f":"'Data diagrams (noprint)'!EEF8","v":0},{"$f":"'Data diagrams (noprint)'!EEG8","v":0},{"$f":"'Data diagrams (noprint)'!EEH8","v":0},{"$f":"'Data diagrams (noprint)'!EEI8","v":0},{"$f":"'Data diagrams (noprint)'!EEJ8","v":0},{"$f":"'Data diagrams (noprint)'!EEK8","v":0},{"$f":"'Data diagrams (noprint)'!EEL8","v":0},{"$f":"'Data diagrams (noprint)'!EEM8","v":0},{"$f":"'Data diagrams (noprint)'!EEN8","v":0},{"$f":"'Data diagrams (noprint)'!EEO8","v":0},{"$f":"'Data diagrams (noprint)'!EEP8","v":0},{"$f":"'Data diagrams (noprint)'!EEQ8","v":0},{"$f":"'Data diagrams (noprint)'!EER8","v":0},{"$f":"'Data diagrams (noprint)'!EES8","v":0},{"$f":"'Data diagrams (noprint)'!EET8","v":0},{"$f":"'Data diagrams (noprint)'!EEU8","v":0},{"$f":"'Data diagrams (noprint)'!EEV8","v":0},{"$f":"'Data diagrams (noprint)'!EEW8","v":0},{"$f":"'Data diagrams (noprint)'!EEX8","v":0},{"$f":"'Data diagrams (noprint)'!EEY8","v":0},{"$f":"'Data diagrams (noprint)'!EEZ8","v":0},{"$f":"'Data diagrams (noprint)'!EFA8","v":0},{"$f":"'Data diagrams (noprint)'!EFB8","v":0},{"$f":"'Data diagrams (noprint)'!EFC8","v":0},{"$f":"'Data diagrams (noprint)'!EFD8","v":0},{"$f":"'Data diagrams (noprint)'!EFE8","v":0},{"$f":"'Data diagrams (noprint)'!EFF8","v":0},{"$f":"'Data diagrams (noprint)'!EFG8","v":0},{"$f":"'Data diagrams (noprint)'!EFH8","v":0},{"$f":"'Data diagrams (noprint)'!EFI8","v":0},{"$f":"'Data diagrams (noprint)'!EFJ8","v":0},{"$f":"'Data diagrams (noprint)'!EFK8","v":0},{"$f":"'Data diagrams (noprint)'!EFL8","v":0},{"$f":"'Data diagrams (noprint)'!EFM8","v":0},{"$f":"'Data diagrams (noprint)'!EFN8","v":0},{"$f":"'Data diagrams (noprint)'!EFO8","v":0},{"$f":"'Data diagrams (noprint)'!EFP8","v":0},{"$f":"'Data diagrams (noprint)'!EFQ8","v":0},{"$f":"'Data diagrams (noprint)'!EFR8","v":0},{"$f":"'Data diagrams (noprint)'!EFS8","v":0},{"$f":"'Data diagrams (noprint)'!EFT8","v":0},{"$f":"'Data diagrams (noprint)'!EFU8","v":0},{"$f":"'Data diagrams (noprint)'!EFV8","v":0},{"$f":"'Data diagrams (noprint)'!EFW8","v":0},{"$f":"'Data diagrams (noprint)'!EFX8","v":0},{"$f":"'Data diagrams (noprint)'!EFY8","v":0},{"$f":"'Data diagrams (noprint)'!EFZ8","v":0},{"$f":"'Data diagrams (noprint)'!EGA8","v":0},{"$f":"'Data diagrams (noprint)'!EGB8","v":0},{"$f":"'Data diagrams (noprint)'!EGC8","v":0},{"$f":"'Data diagrams (noprint)'!EGD8","v":0},{"$f":"'Data diagrams (noprint)'!EGE8","v":0},{"$f":"'Data diagrams (noprint)'!EGF8","v":0},{"$f":"'Data diagrams (noprint)'!EGG8","v":0},{"$f":"'Data diagrams (noprint)'!EGH8","v":0},{"$f":"'Data diagrams (noprint)'!EGI8","v":0},{"$f":"'Data diagrams (noprint)'!EGJ8","v":0},{"$f":"'Data diagrams (noprint)'!EGK8","v":0},{"$f":"'Data diagrams (noprint)'!EGL8","v":0},{"$f":"'Data diagrams (noprint)'!EGM8","v":0},{"$f":"'Data diagrams (noprint)'!EGN8","v":0},{"$f":"'Data diagrams (noprint)'!EGO8","v":0},{"$f":"'Data diagrams (noprint)'!EGP8","v":0},{"$f":"'Data diagrams (noprint)'!EGQ8","v":0},{"$f":"'Data diagrams (noprint)'!EGR8","v":0},{"$f":"'Data diagrams (noprint)'!EGS8","v":0},{"$f":"'Data diagrams (noprint)'!EGT8","v":0},{"$f":"'Data diagrams (noprint)'!EGU8","v":0},{"$f":"'Data diagrams (noprint)'!EGV8","v":0},{"$f":"'Data diagrams (noprint)'!EGW8","v":0},{"$f":"'Data diagrams (noprint)'!EGX8","v":0},{"$f":"'Data diagrams (noprint)'!EGY8","v":0},{"$f":"'Data diagrams (noprint)'!EGZ8","v":0},{"$f":"'Data diagrams (noprint)'!EHA8","v":0},{"$f":"'Data diagrams (noprint)'!EHB8","v":0},{"$f":"'Data diagrams (noprint)'!EHC8","v":0},{"$f":"'Data diagrams (noprint)'!EHD8","v":0},{"$f":"'Data diagrams (noprint)'!EHE8","v":0},{"$f":"'Data diagrams (noprint)'!EHF8","v":0},{"$f":"'Data diagrams (noprint)'!EHG8","v":0},{"$f":"'Data diagrams (noprint)'!EHH8","v":0},{"$f":"'Data diagrams (noprint)'!EHI8","v":0},{"$f":"'Data diagrams (noprint)'!EHJ8","v":0},{"$f":"'Data diagrams (noprint)'!EHK8","v":0},{"$f":"'Data diagrams (noprint)'!EHL8","v":0},{"$f":"'Data diagrams (noprint)'!EHM8","v":0},{"$f":"'Data diagrams (noprint)'!EHN8","v":0},{"$f":"'Data diagrams (noprint)'!EHO8","v":0},{"$f":"'Data diagrams (noprint)'!EHP8","v":0},{"$f":"'Data diagrams (noprint)'!EHQ8","v":0},{"$f":"'Data diagrams (noprint)'!EHR8","v":0},{"$f":"'Data diagrams (noprint)'!EHS8","v":0},{"$f":"'Data diagrams (noprint)'!EHT8","v":0},{"$f":"'Data diagrams (noprint)'!EHU8","v":0},{"$f":"'Data diagrams (noprint)'!EHV8","v":0},{"$f":"'Data diagrams (noprint)'!EHW8","v":0},{"$f":"'Data diagrams (noprint)'!EHX8","v":0},{"$f":"'Data diagrams (noprint)'!EHY8","v":0},{"$f":"'Data diagrams (noprint)'!EHZ8","v":0},{"$f":"'Data diagrams (noprint)'!EIA8","v":0},{"$f":"'Data diagrams (noprint)'!EIB8","v":0},{"$f":"'Data diagrams (noprint)'!EIC8","v":0},{"$f":"'Data diagrams (noprint)'!EID8","v":0},{"$f":"'Data diagrams (noprint)'!EIE8","v":0},{"$f":"'Data diagrams (noprint)'!EIF8","v":0},{"$f":"'Data diagrams (noprint)'!EIG8","v":0},{"$f":"'Data diagrams (noprint)'!EIH8","v":0},{"$f":"'Data diagrams (noprint)'!EII8","v":0},{"$f":"'Data diagrams (noprint)'!EIJ8","v":0},{"$f":"'Data diagrams (noprint)'!EIK8","v":0},{"$f":"'Data diagrams (noprint)'!EIL8","v":0},{"$f":"'Data diagrams (noprint)'!EIM8","v":0},{"$f":"'Data diagrams (noprint)'!EIN8","v":0},{"$f":"'Data diagrams (noprint)'!EIO8","v":0},{"$f":"'Data diagrams (noprint)'!EIP8","v":0},{"$f":"'Data diagrams (noprint)'!EIQ8","v":0},{"$f":"'Data diagrams (noprint)'!EIR8","v":0},{"$f":"'Data diagrams (noprint)'!EIS8","v":0},{"$f":"'Data diagrams (noprint)'!EIT8","v":0},{"$f":"'Data diagrams (noprint)'!EIU8","v":0},{"$f":"'Data diagrams (noprint)'!EIV8","v":0},{"$f":"'Data diagrams (noprint)'!EIW8","v":0},{"$f":"'Data diagrams (noprint)'!EIX8","v":0},{"$f":"'Data diagrams (noprint)'!EIY8","v":0},{"$f":"'Data diagrams (noprint)'!EIZ8","v":0},{"$f":"'Data diagrams (noprint)'!EJA8","v":0},{"$f":"'Data diagrams (noprint)'!EJB8","v":0},{"$f":"'Data diagrams (noprint)'!EJC8","v":0},{"$f":"'Data diagrams (noprint)'!EJD8","v":0},{"$f":"'Data diagrams (noprint)'!EJE8","v":0},{"$f":"'Data diagrams (noprint)'!EJF8","v":0},{"$f":"'Data diagrams (noprint)'!EJG8","v":0},{"$f":"'Data diagrams (noprint)'!EJH8","v":0},{"$f":"'Data diagrams (noprint)'!EJI8","v":0},{"$f":"'Data diagrams (noprint)'!EJJ8","v":0},{"$f":"'Data diagrams (noprint)'!EJK8","v":0},{"$f":"'Data diagrams (noprint)'!EJL8","v":0},{"$f":"'Data diagrams (noprint)'!EJM8","v":0},{"$f":"'Data diagrams (noprint)'!EJN8","v":0},{"$f":"'Data diagrams (noprint)'!EJO8","v":0},{"$f":"'Data diagrams (noprint)'!EJP8","v":0},{"$f":"'Data diagrams (noprint)'!EJQ8","v":0},{"$f":"'Data diagrams (noprint)'!EJR8","v":0},{"$f":"'Data diagrams (noprint)'!EJS8","v":0},{"$f":"'Data diagrams (noprint)'!EJT8","v":0},{"$f":"'Data diagrams (noprint)'!EJU8","v":0},{"$f":"'Data diagrams (noprint)'!EJV8","v":0},{"$f":"'Data diagrams (noprint)'!EJW8","v":0},{"$f":"'Data diagrams (noprint)'!EJX8","v":0},{"$f":"'Data diagrams (noprint)'!EJY8","v":0},{"$f":"'Data diagrams (noprint)'!EJZ8","v":0},{"$f":"'Data diagrams (noprint)'!EKA8","v":0},{"$f":"'Data diagrams (noprint)'!EKB8","v":0},{"$f":"'Data diagrams (noprint)'!EKC8","v":0},{"$f":"'Data diagrams (noprint)'!EKD8","v":0},{"$f":"'Data diagrams (noprint)'!EKE8","v":0},{"$f":"'Data diagrams (noprint)'!EKF8","v":0},{"$f":"'Data diagrams (noprint)'!EKG8","v":0},{"$f":"'Data diagrams (noprint)'!EKH8","v":0},{"$f":"'Data diagrams (noprint)'!EKI8","v":0},{"$f":"'Data diagrams (noprint)'!EKJ8","v":0},{"$f":"'Data diagrams (noprint)'!EKK8","v":0},{"$f":"'Data diagrams (noprint)'!EKL8","v":0},{"$f":"'Data diagrams (noprint)'!EKM8","v":0},{"$f":"'Data diagrams (noprint)'!EKN8","v":0},{"$f":"'Data diagrams (noprint)'!EKO8","v":0},{"$f":"'Data diagrams (noprint)'!EKP8","v":0},{"$f":"'Data diagrams (noprint)'!EKQ8","v":0},{"$f":"'Data diagrams (noprint)'!EKR8","v":0},{"$f":"'Data diagrams (noprint)'!EKS8","v":0},{"$f":"'Data diagrams (noprint)'!EKT8","v":0},{"$f":"'Data diagrams (noprint)'!EKU8","v":0},{"$f":"'Data diagrams (noprint)'!EKV8","v":0},{"$f":"'Data diagrams (noprint)'!EKW8","v":0},{"$f":"'Data diagrams (noprint)'!EKX8","v":0},{"$f":"'Data diagrams (noprint)'!EKY8","v":0},{"$f":"'Data diagrams (noprint)'!EKZ8","v":0},{"$f":"'Data diagrams (noprint)'!ELA8","v":0},{"$f":"'Data diagrams (noprint)'!ELB8","v":0},{"$f":"'Data diagrams (noprint)'!ELC8","v":0},{"$f":"'Data diagrams (noprint)'!ELD8","v":0},{"$f":"'Data diagrams (noprint)'!ELE8","v":0},{"$f":"'Data diagrams (noprint)'!ELF8","v":0},{"$f":"'Data diagrams (noprint)'!ELG8","v":0},{"$f":"'Data diagrams (noprint)'!ELH8","v":0},{"$f":"'Data diagrams (noprint)'!ELI8","v":0},{"$f":"'Data diagrams (noprint)'!ELJ8","v":0},{"$f":"'Data diagrams (noprint)'!ELK8","v":0},{"$f":"'Data diagrams (noprint)'!ELL8","v":0},{"$f":"'Data diagrams (noprint)'!ELM8","v":0},{"$f":"'Data diagrams (noprint)'!ELN8","v":0},{"$f":"'Data diagrams (noprint)'!ELO8","v":0},{"$f":"'Data diagrams (noprint)'!ELP8","v":0},{"$f":"'Data diagrams (noprint)'!ELQ8","v":0},{"$f":"'Data diagrams (noprint)'!ELR8","v":0},{"$f":"'Data diagrams (noprint)'!ELS8","v":0},{"$f":"'Data diagrams (noprint)'!ELT8","v":0},{"$f":"'Data diagrams (noprint)'!ELU8","v":0},{"$f":"'Data diagrams (noprint)'!ELV8","v":0},{"$f":"'Data diagrams (noprint)'!ELW8","v":0},{"$f":"'Data diagrams (noprint)'!ELX8","v":0},{"$f":"'Data diagrams (noprint)'!ELY8","v":0},{"$f":"'Data diagrams (noprint)'!ELZ8","v":0},{"$f":"'Data diagrams (noprint)'!EMA8","v":0},{"$f":"'Data diagrams (noprint)'!EMB8","v":0},{"$f":"'Data diagrams (noprint)'!EMC8","v":0},{"$f":"'Data diagrams (noprint)'!EMD8","v":0},{"$f":"'Data diagrams (noprint)'!EME8","v":0},{"$f":"'Data diagrams (noprint)'!EMF8","v":0},{"$f":"'Data diagrams (noprint)'!EMG8","v":0},{"$f":"'Data diagrams (noprint)'!EMH8","v":0},{"$f":"'Data diagrams (noprint)'!EMI8","v":0},{"$f":"'Data diagrams (noprint)'!EMJ8","v":0},{"$f":"'Data diagrams (noprint)'!EMK8","v":0},{"$f":"'Data diagrams (noprint)'!EML8","v":0},{"$f":"'Data diagrams (noprint)'!EMM8","v":0},{"$f":"'Data diagrams (noprint)'!EMN8","v":0},{"$f":"'Data diagrams (noprint)'!EMO8","v":0},{"$f":"'Data diagrams (noprint)'!EMP8","v":0},{"$f":"'Data diagrams (noprint)'!EMQ8","v":0},{"$f":"'Data diagrams (noprint)'!EMR8","v":0},{"$f":"'Data diagrams (noprint)'!EMS8","v":0},{"$f":"'Data diagrams (noprint)'!EMT8","v":0},{"$f":"'Data diagrams (noprint)'!EMU8","v":0},{"$f":"'Data diagrams (noprint)'!EMV8","v":0},{"$f":"'Data diagrams (noprint)'!EMW8","v":0},{"$f":"'Data diagrams (noprint)'!EMX8","v":0},{"$f":"'Data diagrams (noprint)'!EMY8","v":0},{"$f":"'Data diagrams (noprint)'!EMZ8","v":0},{"$f":"'Data diagrams (noprint)'!ENA8","v":0},{"$f":"'Data diagrams (noprint)'!ENB8","v":0},{"$f":"'Data diagrams (noprint)'!ENC8","v":0},{"$f":"'Data diagrams (noprint)'!END8","v":0},{"$f":"'Data diagrams (noprint)'!ENE8","v":0},{"$f":"'Data diagrams (noprint)'!ENF8","v":0},{"$f":"'Data diagrams (noprint)'!ENG8","v":0},{"$f":"'Data diagrams (noprint)'!ENH8","v":0},{"$f":"'Data diagrams (noprint)'!ENI8","v":0},{"$f":"'Data diagrams (noprint)'!ENJ8","v":0},{"$f":"'Data diagrams (noprint)'!ENK8","v":0},{"$f":"'Data diagrams (noprint)'!ENL8","v":0},{"$f":"'Data diagrams (noprint)'!ENM8","v":0},{"$f":"'Data diagrams (noprint)'!ENN8","v":0},{"$f":"'Data diagrams (noprint)'!ENO8","v":0},{"$f":"'Data diagrams (noprint)'!ENP8","v":0},{"$f":"'Data diagrams (noprint)'!ENQ8","v":0},{"$f":"'Data diagrams (noprint)'!ENR8","v":0},{"$f":"'Data diagrams (noprint)'!ENS8","v":0},{"$f":"'Data diagrams (noprint)'!ENT8","v":0},{"$f":"'Data diagrams (noprint)'!ENU8","v":0},{"$f":"'Data diagrams (noprint)'!ENV8","v":0},{"$f":"'Data diagrams (noprint)'!ENW8","v":0},{"$f":"'Data diagrams (noprint)'!ENX8","v":0},{"$f":"'Data diagrams (noprint)'!ENY8","v":0},{"$f":"'Data diagrams (noprint)'!ENZ8","v":0},{"$f":"'Data diagrams (noprint)'!EOA8","v":0},{"$f":"'Data diagrams (noprint)'!EOB8","v":0},{"$f":"'Data diagrams (noprint)'!EOC8","v":0},{"$f":"'Data diagrams (noprint)'!EOD8","v":0},{"$f":"'Data diagrams (noprint)'!EOE8","v":0},{"$f":"'Data diagrams (noprint)'!EOF8","v":0},{"$f":"'Data diagrams (noprint)'!EOG8","v":0},{"$f":"'Data diagrams (noprint)'!EOH8","v":0},{"$f":"'Data diagrams (noprint)'!EOI8","v":0},{"$f":"'Data diagrams (noprint)'!EOJ8","v":0},{"$f":"'Data diagrams (noprint)'!EOK8","v":0},{"$f":"'Data diagrams (noprint)'!EOL8","v":0},{"$f":"'Data diagrams (noprint)'!EOM8","v":0},{"$f":"'Data diagrams (noprint)'!EON8","v":0},{"$f":"'Data diagrams (noprint)'!EOO8","v":0},{"$f":"'Data diagrams (noprint)'!EOP8","v":0},{"$f":"'Data diagrams (noprint)'!EOQ8","v":0},{"$f":"'Data diagrams (noprint)'!EOR8","v":0},{"$f":"'Data diagrams (noprint)'!EOS8","v":0},{"$f":"'Data diagrams (noprint)'!EOT8","v":0},{"$f":"'Data diagrams (noprint)'!EOU8","v":0},{"$f":"'Data diagrams (noprint)'!EOV8","v":0},{"$f":"'Data diagrams (noprint)'!EOW8","v":0},{"$f":"'Data diagrams (noprint)'!EOX8","v":0},{"$f":"'Data diagrams (noprint)'!EOY8","v":0},{"$f":"'Data diagrams (noprint)'!EOZ8","v":0},{"$f":"'Data diagrams (noprint)'!EPA8","v":0},{"$f":"'Data diagrams (noprint)'!EPB8","v":0},{"$f":"'Data diagrams (noprint)'!EPC8","v":0},{"$f":"'Data diagrams (noprint)'!EPD8","v":0},{"$f":"'Data diagrams (noprint)'!EPE8","v":0},{"$f":"'Data diagrams (noprint)'!EPF8","v":0},{"$f":"'Data diagrams (noprint)'!EPG8","v":0},{"$f":"'Data diagrams (noprint)'!EPH8","v":0},{"$f":"'Data diagrams (noprint)'!EPI8","v":0},{"$f":"'Data diagrams (noprint)'!EPJ8","v":0},{"$f":"'Data diagrams (noprint)'!EPK8","v":0},{"$f":"'Data diagrams (noprint)'!EPL8","v":0},{"$f":"'Data diagrams (noprint)'!EPM8","v":0},{"$f":"'Data diagrams (noprint)'!EPN8","v":0},{"$f":"'Data diagrams (noprint)'!EPO8","v":0},{"$f":"'Data diagrams (noprint)'!EPP8","v":0},{"$f":"'Data diagrams (noprint)'!EPQ8","v":0},{"$f":"'Data diagrams (noprint)'!EPR8","v":0},{"$f":"'Data diagrams (noprint)'!EPS8","v":0},{"$f":"'Data diagrams (noprint)'!EPT8","v":0},{"$f":"'Data diagrams (noprint)'!EPU8","v":0},{"$f":"'Data diagrams (noprint)'!EPV8","v":0},{"$f":"'Data diagrams (noprint)'!EPW8","v":0},{"$f":"'Data diagrams (noprint)'!EPX8","v":0},{"$f":"'Data diagrams (noprint)'!EPY8","v":0},{"$f":"'Data diagrams (noprint)'!EPZ8","v":0},{"$f":"'Data diagrams (noprint)'!EQA8","v":0},{"$f":"'Data diagrams (noprint)'!EQB8","v":0},{"$f":"'Data diagrams (noprint)'!EQC8","v":0},{"$f":"'Data diagrams (noprint)'!EQD8","v":0},{"$f":"'Data diagrams (noprint)'!EQE8","v":0},{"$f":"'Data diagrams (noprint)'!EQF8","v":0},{"$f":"'Data diagrams (noprint)'!EQG8","v":0},{"$f":"'Data diagrams (noprint)'!EQH8","v":0},{"$f":"'Data diagrams (noprint)'!EQI8","v":0},{"$f":"'Data diagrams (noprint)'!EQJ8","v":0},{"$f":"'Data diagrams (noprint)'!EQK8","v":0},{"$f":"'Data diagrams (noprint)'!EQL8","v":0},{"$f":"'Data diagrams (noprint)'!EQM8","v":0},{"$f":"'Data diagrams (noprint)'!EQN8","v":0},{"$f":"'Data diagrams (noprint)'!EQO8","v":0},{"$f":"'Data diagrams (noprint)'!EQP8","v":0},{"$f":"'Data diagrams (noprint)'!EQQ8","v":0},{"$f":"'Data diagrams (noprint)'!EQR8","v":0},{"$f":"'Data diagrams (noprint)'!EQS8","v":0},{"$f":"'Data diagrams (noprint)'!EQT8","v":0},{"$f":"'Data diagrams (noprint)'!EQU8","v":0},{"$f":"'Data diagrams (noprint)'!EQV8","v":0},{"$f":"'Data diagrams (noprint)'!EQW8","v":0},{"$f":"'Data diagrams (noprint)'!EQX8","v":0},{"$f":"'Data diagrams (noprint)'!EQY8","v":0},{"$f":"'Data diagrams (noprint)'!EQZ8","v":0},{"$f":"'Data diagrams (noprint)'!ERA8","v":0},{"$f":"'Data diagrams (noprint)'!ERB8","v":0},{"$f":"'Data diagrams (noprint)'!ERC8","v":0},{"$f":"'Data diagrams (noprint)'!ERD8","v":0},{"$f":"'Data diagrams (noprint)'!ERE8","v":0},{"$f":"'Data diagrams (noprint)'!ERF8","v":0},{"$f":"'Data diagrams (noprint)'!ERG8","v":0},{"$f":"'Data diagrams (noprint)'!ERH8","v":0},{"$f":"'Data diagrams (noprint)'!ERI8","v":0},{"$f":"'Data diagrams (noprint)'!ERJ8","v":0},{"$f":"'Data diagrams (noprint)'!ERK8","v":0},{"$f":"'Data diagrams (noprint)'!ERL8","v":0},{"$f":"'Data diagrams (noprint)'!ERM8","v":0},{"$f":"'Data diagrams (noprint)'!ERN8","v":0},{"$f":"'Data diagrams (noprint)'!ERO8","v":0},{"$f":"'Data diagrams (noprint)'!ERP8","v":0},{"$f":"'Data diagrams (noprint)'!ERQ8","v":0},{"$f":"'Data diagrams (noprint)'!ERR8","v":0},{"$f":"'Data diagrams (noprint)'!ERS8","v":0},{"$f":"'Data diagrams (noprint)'!ERT8","v":0},{"$f":"'Data diagrams (noprint)'!ERU8","v":0},{"$f":"'Data diagrams (noprint)'!ERV8","v":0},{"$f":"'Data diagrams (noprint)'!ERW8","v":0},{"$f":"'Data diagrams (noprint)'!ERX8","v":0},{"$f":"'Data diagrams (noprint)'!ERY8","v":0},{"$f":"'Data diagrams (noprint)'!ERZ8","v":0},{"$f":"'Data diagrams (noprint)'!ESA8","v":0},{"$f":"'Data diagrams (noprint)'!ESB8","v":0},{"$f":"'Data diagrams (noprint)'!ESC8","v":0},{"$f":"'Data diagrams (noprint)'!ESD8","v":0},{"$f":"'Data diagrams (noprint)'!ESE8","v":0},{"$f":"'Data diagrams (noprint)'!ESF8","v":0},{"$f":"'Data diagrams (noprint)'!ESG8","v":0},{"$f":"'Data diagrams (noprint)'!ESH8","v":0},{"$f":"'Data diagrams (noprint)'!ESI8","v":0},{"$f":"'Data diagrams (noprint)'!ESJ8","v":0},{"$f":"'Data diagrams (noprint)'!ESK8","v":0},{"$f":"'Data diagrams (noprint)'!ESL8","v":0},{"$f":"'Data diagrams (noprint)'!ESM8","v":0},{"$f":"'Data diagrams (noprint)'!ESN8","v":0},{"$f":"'Data diagrams (noprint)'!ESO8","v":0},{"$f":"'Data diagrams (noprint)'!ESP8","v":0},{"$f":"'Data diagrams (noprint)'!ESQ8","v":0},{"$f":"'Data diagrams (noprint)'!ESR8","v":0},{"$f":"'Data diagrams (noprint)'!ESS8","v":0},{"$f":"'Data diagrams (noprint)'!EST8","v":0},{"$f":"'Data diagrams (noprint)'!ESU8","v":0},{"$f":"'Data diagrams (noprint)'!ESV8","v":0},{"$f":"'Data diagrams (noprint)'!ESW8","v":0},{"$f":"'Data diagrams (noprint)'!ESX8","v":0},{"$f":"'Data diagrams (noprint)'!ESY8","v":0},{"$f":"'Data diagrams (noprint)'!ESZ8","v":0},{"$f":"'Data diagrams (noprint)'!ETA8","v":0},{"$f":"'Data diagrams (noprint)'!ETB8","v":0},{"$f":"'Data diagrams (noprint)'!ETC8","v":0},{"$f":"'Data diagrams (noprint)'!ETD8","v":0},{"$f":"'Data diagrams (noprint)'!ETE8","v":0},{"$f":"'Data diagrams (noprint)'!ETF8","v":0},{"$f":"'Data diagrams (noprint)'!ETG8","v":0},{"$f":"'Data diagrams (noprint)'!ETH8","v":0},{"$f":"'Data diagrams (noprint)'!ETI8","v":0},{"$f":"'Data diagrams (noprint)'!ETJ8","v":0},{"$f":"'Data diagrams (noprint)'!ETK8","v":0},{"$f":"'Data diagrams (noprint)'!ETL8","v":0},{"$f":"'Data diagrams (noprint)'!ETM8","v":0},{"$f":"'Data diagrams (noprint)'!ETN8","v":0},{"$f":"'Data diagrams (noprint)'!ETO8","v":0},{"$f":"'Data diagrams (noprint)'!ETP8","v":0},{"$f":"'Data diagrams (noprint)'!ETQ8","v":0},{"$f":"'Data diagrams (noprint)'!ETR8","v":0},{"$f":"'Data diagrams (noprint)'!ETS8","v":0},{"$f":"'Data diagrams (noprint)'!ETT8","v":0},{"$f":"'Data diagrams (noprint)'!ETU8","v":0},{"$f":"'Data diagrams (noprint)'!ETV8","v":0},{"$f":"'Data diagrams (noprint)'!ETW8","v":0},{"$f":"'Data diagrams (noprint)'!ETX8","v":0},{"$f":"'Data diagrams (noprint)'!ETY8","v":0},{"$f":"'Data diagrams (noprint)'!ETZ8","v":0},{"$f":"'Data diagrams (noprint)'!EUA8","v":0},{"$f":"'Data diagrams (noprint)'!EUB8","v":0},{"$f":"'Data diagrams (noprint)'!EUC8","v":0},{"$f":"'Data diagrams (noprint)'!EUD8","v":0},{"$f":"'Data diagrams (noprint)'!EUE8","v":0},{"$f":"'Data diagrams (noprint)'!EUF8","v":0},{"$f":"'Data diagrams (noprint)'!EUG8","v":0},{"$f":"'Data diagrams (noprint)'!EUH8","v":0},{"$f":"'Data diagrams (noprint)'!EUI8","v":0},{"$f":"'Data diagrams (noprint)'!EUJ8","v":0},{"$f":"'Data diagrams (noprint)'!EUK8","v":0},{"$f":"'Data diagrams (noprint)'!EUL8","v":0},{"$f":"'Data diagrams (noprint)'!EUM8","v":0},{"$f":"'Data diagrams (noprint)'!EUN8","v":0},{"$f":"'Data diagrams (noprint)'!EUO8","v":0},{"$f":"'Data diagrams (noprint)'!EUP8","v":0},{"$f":"'Data diagrams (noprint)'!EUQ8","v":0},{"$f":"'Data diagrams (noprint)'!EUR8","v":0},{"$f":"'Data diagrams (noprint)'!EUS8","v":0},{"$f":"'Data diagrams (noprint)'!EUT8","v":0},{"$f":"'Data diagrams (noprint)'!EUU8","v":0},{"$f":"'Data diagrams (noprint)'!EUV8","v":0},{"$f":"'Data diagrams (noprint)'!EUW8","v":0},{"$f":"'Data diagrams (noprint)'!EUX8","v":0},{"$f":"'Data diagrams (noprint)'!EUY8","v":0},{"$f":"'Data diagrams (noprint)'!EUZ8","v":0},{"$f":"'Data diagrams (noprint)'!EVA8","v":0},{"$f":"'Data diagrams (noprint)'!EVB8","v":0},{"$f":"'Data diagrams (noprint)'!EVC8","v":0},{"$f":"'Data diagrams (noprint)'!EVD8","v":0},{"$f":"'Data diagrams (noprint)'!EVE8","v":0},{"$f":"'Data diagrams (noprint)'!EVF8","v":0},{"$f":"'Data diagrams (noprint)'!EVG8","v":0},{"$f":"'Data diagrams (noprint)'!EVH8","v":0},{"$f":"'Data diagrams (noprint)'!EVI8","v":0},{"$f":"'Data diagrams (noprint)'!EVJ8","v":0},{"$f":"'Data diagrams (noprint)'!EVK8","v":0},{"$f":"'Data diagrams (noprint)'!EVL8","v":0},{"$f":"'Data diagrams (noprint)'!EVM8","v":0},{"$f":"'Data diagrams (noprint)'!EVN8","v":0},{"$f":"'Data diagrams (noprint)'!EVO8","v":0},{"$f":"'Data diagrams (noprint)'!EVP8","v":0},{"$f":"'Data diagrams (noprint)'!EVQ8","v":0},{"$f":"'Data diagrams (noprint)'!EVR8","v":0},{"$f":"'Data diagrams (noprint)'!EVS8","v":0},{"$f":"'Data diagrams (noprint)'!EVT8","v":0},{"$f":"'Data diagrams (noprint)'!EVU8","v":0},{"$f":"'Data diagrams (noprint)'!EVV8","v":0},{"$f":"'Data diagrams (noprint)'!EVW8","v":0},{"$f":"'Data diagrams (noprint)'!EVX8","v":0},{"$f":"'Data diagrams (noprint)'!EVY8","v":0},{"$f":"'Data diagrams (noprint)'!EVZ8","v":0},{"$f":"'Data diagrams (noprint)'!EWA8","v":0},{"$f":"'Data diagrams (noprint)'!EWB8","v":0},{"$f":"'Data diagrams (noprint)'!EWC8","v":0},{"$f":"'Data diagrams (noprint)'!EWD8","v":0},{"$f":"'Data diagrams (noprint)'!EWE8","v":0},{"$f":"'Data diagrams (noprint)'!EWF8","v":0},{"$f":"'Data diagrams (noprint)'!EWG8","v":0},{"$f":"'Data diagrams (noprint)'!EWH8","v":0},{"$f":"'Data diagrams (noprint)'!EWI8","v":0},{"$f":"'Data diagrams (noprint)'!EWJ8","v":0},{"$f":"'Data diagrams (noprint)'!EWK8","v":0},{"$f":"'Data diagrams (noprint)'!EWL8","v":0},{"$f":"'Data diagrams (noprint)'!EWM8","v":0},{"$f":"'Data diagrams (noprint)'!EWN8","v":0},{"$f":"'Data diagrams (noprint)'!EWO8","v":0},{"$f":"'Data diagrams (noprint)'!EWP8","v":0},{"$f":"'Data diagrams (noprint)'!EWQ8","v":0},{"$f":"'Data diagrams (noprint)'!EWR8","v":0},{"$f":"'Data diagrams (noprint)'!EWS8","v":0},{"$f":"'Data diagrams (noprint)'!EWT8","v":0},{"$f":"'Data diagrams (noprint)'!EWU8","v":0},{"$f":"'Data diagrams (noprint)'!EWV8","v":0},{"$f":"'Data diagrams (noprint)'!EWW8","v":0},{"$f":"'Data diagrams (noprint)'!EWX8","v":0},{"$f":"'Data diagrams (noprint)'!EWY8","v":0},{"$f":"'Data diagrams (noprint)'!EWZ8","v":0},{"$f":"'Data diagrams (noprint)'!EXA8","v":0},{"$f":"'Data diagrams (noprint)'!EXB8","v":0},{"$f":"'Data diagrams (noprint)'!EXC8","v":0},{"$f":"'Data diagrams (noprint)'!EXD8","v":0},{"$f":"'Data diagrams (noprint)'!EXE8","v":0},{"$f":"'Data diagrams (noprint)'!EXF8","v":0},{"$f":"'Data diagrams (noprint)'!EXG8","v":0},{"$f":"'Data diagrams (noprint)'!EXH8","v":0},{"$f":"'Data diagrams (noprint)'!EXI8","v":0},{"$f":"'Data diagrams (noprint)'!EXJ8","v":0},{"$f":"'Data diagrams (noprint)'!EXK8","v":0},{"$f":"'Data diagrams (noprint)'!EXL8","v":0},{"$f":"'Data diagrams (noprint)'!EXM8","v":0},{"$f":"'Data diagrams (noprint)'!EXN8","v":0},{"$f":"'Data diagrams (noprint)'!EXO8","v":0},{"$f":"'Data diagrams (noprint)'!EXP8","v":0},{"$f":"'Data diagrams (noprint)'!EXQ8","v":0},{"$f":"'Data diagrams (noprint)'!EXR8","v":0},{"$f":"'Data diagrams (noprint)'!EXS8","v":0},{"$f":"'Data diagrams (noprint)'!EXT8","v":0},{"$f":"'Data diagrams (noprint)'!EXU8","v":0},{"$f":"'Data diagrams (noprint)'!EXV8","v":0},{"$f":"'Data diagrams (noprint)'!EXW8","v":0},{"$f":"'Data diagrams (noprint)'!EXX8","v":0},{"$f":"'Data diagrams (noprint)'!EXY8","v":0},{"$f":"'Data diagrams (noprint)'!EXZ8","v":0},{"$f":"'Data diagrams (noprint)'!EYA8","v":0},{"$f":"'Data diagrams (noprint)'!EYB8","v":0},{"$f":"'Data diagrams (noprint)'!EYC8","v":0},{"$f":"'Data diagrams (noprint)'!EYD8","v":0},{"$f":"'Data diagrams (noprint)'!EYE8","v":0},{"$f":"'Data diagrams (noprint)'!EYF8","v":0},{"$f":"'Data diagrams (noprint)'!EYG8","v":0},{"$f":"'Data diagrams (noprint)'!EYH8","v":0},{"$f":"'Data diagrams (noprint)'!EYI8","v":0},{"$f":"'Data diagrams (noprint)'!EYJ8","v":0},{"$f":"'Data diagrams (noprint)'!EYK8","v":0},{"$f":"'Data diagrams (noprint)'!EYL8","v":0},{"$f":"'Data diagrams (noprint)'!EYM8","v":0},{"$f":"'Data diagrams (noprint)'!EYN8","v":0},{"$f":"'Data diagrams (noprint)'!EYO8","v":0},{"$f":"'Data diagrams (noprint)'!EYP8","v":0},{"$f":"'Data diagrams (noprint)'!EYQ8","v":0},{"$f":"'Data diagrams (noprint)'!EYR8","v":0},{"$f":"'Data diagrams (noprint)'!EYS8","v":0},{"$f":"'Data diagrams (noprint)'!EYT8","v":0},{"$f":"'Data diagrams (noprint)'!EYU8","v":0},{"$f":"'Data diagrams (noprint)'!EYV8","v":0},{"$f":"'Data diagrams (noprint)'!EYW8","v":0},{"$f":"'Data diagrams (noprint)'!EYX8","v":0},{"$f":"'Data diagrams (noprint)'!EYY8","v":0},{"$f":"'Data diagrams (noprint)'!EYZ8","v":0},{"$f":"'Data diagrams (noprint)'!EZA8","v":0},{"$f":"'Data diagrams (noprint)'!EZB8","v":0},{"$f":"'Data diagrams (noprint)'!EZC8","v":0},{"$f":"'Data diagrams (noprint)'!EZD8","v":0},{"$f":"'Data diagrams (noprint)'!EZE8","v":0},{"$f":"'Data diagrams (noprint)'!EZF8","v":0},{"$f":"'Data diagrams (noprint)'!EZG8","v":0},{"$f":"'Data diagrams (noprint)'!EZH8","v":0},{"$f":"'Data diagrams (noprint)'!EZI8","v":0},{"$f":"'Data diagrams (noprint)'!EZJ8","v":0},{"$f":"'Data diagrams (noprint)'!EZK8","v":0},{"$f":"'Data diagrams (noprint)'!EZL8","v":0},{"$f":"'Data diagrams (noprint)'!EZM8","v":0},{"$f":"'Data diagrams (noprint)'!EZN8","v":0},{"$f":"'Data diagrams (noprint)'!EZO8","v":0},{"$f":"'Data diagrams (noprint)'!EZP8","v":0},{"$f":"'Data diagrams (noprint)'!EZQ8","v":0},{"$f":"'Data diagrams (noprint)'!EZR8","v":0},{"$f":"'Data diagrams (noprint)'!EZS8","v":0},{"$f":"'Data diagrams (noprint)'!EZT8","v":0},{"$f":"'Data diagrams (noprint)'!EZU8","v":0},{"$f":"'Data diagrams (noprint)'!EZV8","v":0},{"$f":"'Data diagrams (noprint)'!EZW8","v":0},{"$f":"'Data diagrams (noprint)'!EZX8","v":0},{"$f":"'Data diagrams (noprint)'!EZY8","v":0},{"$f":"'Data diagrams (noprint)'!EZZ8","v":0},{"$f":"'Data diagrams (noprint)'!FAA8","v":0},{"$f":"'Data diagrams (noprint)'!FAB8","v":0},{"$f":"'Data diagrams (noprint)'!FAC8","v":0},{"$f":"'Data diagrams (noprint)'!FAD8","v":0},{"$f":"'Data diagrams (noprint)'!FAE8","v":0},{"$f":"'Data diagrams (noprint)'!FAF8","v":0},{"$f":"'Data diagrams (noprint)'!FAG8","v":0},{"$f":"'Data diagrams (noprint)'!FAH8","v":0},{"$f":"'Data diagrams (noprint)'!FAI8","v":0},{"$f":"'Data diagrams (noprint)'!FAJ8","v":0},{"$f":"'Data diagrams (noprint)'!FAK8","v":0},{"$f":"'Data diagrams (noprint)'!FAL8","v":0},{"$f":"'Data diagrams (noprint)'!FAM8","v":0},{"$f":"'Data diagrams (noprint)'!FAN8","v":0},{"$f":"'Data diagrams (noprint)'!FAO8","v":0},{"$f":"'Data diagrams (noprint)'!FAP8","v":0},{"$f":"'Data diagrams (noprint)'!FAQ8","v":0},{"$f":"'Data diagrams (noprint)'!FAR8","v":0},{"$f":"'Data diagrams (noprint)'!FAS8","v":0},{"$f":"'Data diagrams (noprint)'!FAT8","v":0},{"$f":"'Data diagrams (noprint)'!FAU8","v":0},{"$f":"'Data diagrams (noprint)'!FAV8","v":0},{"$f":"'Data diagrams (noprint)'!FAW8","v":0},{"$f":"'Data diagrams (noprint)'!FAX8","v":0},{"$f":"'Data diagrams (noprint)'!FAY8","v":0},{"$f":"'Data diagrams (noprint)'!FAZ8","v":0},{"$f":"'Data diagrams (noprint)'!FBA8","v":0},{"$f":"'Data diagrams (noprint)'!FBB8","v":0},{"$f":"'Data diagrams (noprint)'!FBC8","v":0},{"$f":"'Data diagrams (noprint)'!FBD8","v":0},{"$f":"'Data diagrams (noprint)'!FBE8","v":0},{"$f":"'Data diagrams (noprint)'!FBF8","v":0},{"$f":"'Data diagrams (noprint)'!FBG8","v":0},{"$f":"'Data diagrams (noprint)'!FBH8","v":0},{"$f":"'Data diagrams (noprint)'!FBI8","v":0},{"$f":"'Data diagrams (noprint)'!FBJ8","v":0},{"$f":"'Data diagrams (noprint)'!FBK8","v":0},{"$f":"'Data diagrams (noprint)'!FBL8","v":0},{"$f":"'Data diagrams (noprint)'!FBM8","v":0},{"$f":"'Data diagrams (noprint)'!FBN8","v":0},{"$f":"'Data diagrams (noprint)'!FBO8","v":0},{"$f":"'Data diagrams (noprint)'!FBP8","v":0},{"$f":"'Data diagrams (noprint)'!FBQ8","v":0},{"$f":"'Data diagrams (noprint)'!FBR8","v":0},{"$f":"'Data diagrams (noprint)'!FBS8","v":0},{"$f":"'Data diagrams (noprint)'!FBT8","v":0},{"$f":"'Data diagrams (noprint)'!FBU8","v":0},{"$f":"'Data diagrams (noprint)'!FBV8","v":0},{"$f":"'Data diagrams (noprint)'!FBW8","v":0},{"$f":"'Data diagrams (noprint)'!FBX8","v":0},{"$f":"'Data diagrams (noprint)'!FBY8","v":0},{"$f":"'Data diagrams (noprint)'!FBZ8","v":0},{"$f":"'Data diagrams (noprint)'!FCA8","v":0},{"$f":"'Data diagrams (noprint)'!FCB8","v":0},{"$f":"'Data diagrams (noprint)'!FCC8","v":0},{"$f":"'Data diagrams (noprint)'!FCD8","v":0},{"$f":"'Data diagrams (noprint)'!FCE8","v":0},{"$f":"'Data diagrams (noprint)'!FCF8","v":0},{"$f":"'Data diagrams (noprint)'!FCG8","v":0},{"$f":"'Data diagrams (noprint)'!FCH8","v":0},{"$f":"'Data diagrams (noprint)'!FCI8","v":0},{"$f":"'Data diagrams (noprint)'!FCJ8","v":0},{"$f":"'Data diagrams (noprint)'!FCK8","v":0},{"$f":"'Data diagrams (noprint)'!FCL8","v":0},{"$f":"'Data diagrams (noprint)'!FCM8","v":0},{"$f":"'Data diagrams (noprint)'!FCN8","v":0},{"$f":"'Data diagrams (noprint)'!FCO8","v":0},{"$f":"'Data diagrams (noprint)'!FCP8","v":0},{"$f":"'Data diagrams (noprint)'!FCQ8","v":0},{"$f":"'Data diagrams (noprint)'!FCR8","v":0},{"$f":"'Data diagrams (noprint)'!FCS8","v":0},{"$f":"'Data diagrams (noprint)'!FCT8","v":0},{"$f":"'Data diagrams (noprint)'!FCU8","v":0},{"$f":"'Data diagrams (noprint)'!FCV8","v":0},{"$f":"'Data diagrams (noprint)'!FCW8","v":0},{"$f":"'Data diagrams (noprint)'!FCX8","v":0},{"$f":"'Data diagrams (noprint)'!FCY8","v":0},{"$f":"'Data diagrams (noprint)'!FCZ8","v":0},{"$f":"'Data diagrams (noprint)'!FDA8","v":0},{"$f":"'Data diagrams (noprint)'!FDB8","v":0},{"$f":"'Data diagrams (noprint)'!FDC8","v":0},{"$f":"'Data diagrams (noprint)'!FDD8","v":0},{"$f":"'Data diagrams (noprint)'!FDE8","v":0},{"$f":"'Data diagrams (noprint)'!FDF8","v":0},{"$f":"'Data diagrams (noprint)'!FDG8","v":0},{"$f":"'Data diagrams (noprint)'!FDH8","v":0},{"$f":"'Data diagrams (noprint)'!FDI8","v":0},{"$f":"'Data diagrams (noprint)'!FDJ8","v":0},{"$f":"'Data diagrams (noprint)'!FDK8","v":0},{"$f":"'Data diagrams (noprint)'!FDL8","v":0},{"$f":"'Data diagrams (noprint)'!FDM8","v":0},{"$f":"'Data diagrams (noprint)'!FDN8","v":0},{"$f":"'Data diagrams (noprint)'!FDO8","v":0},{"$f":"'Data diagrams (noprint)'!FDP8","v":0},{"$f":"'Data diagrams (noprint)'!FDQ8","v":0},{"$f":"'Data diagrams (noprint)'!FDR8","v":0},{"$f":"'Data diagrams (noprint)'!FDS8","v":0},{"$f":"'Data diagrams (noprint)'!FDT8","v":0},{"$f":"'Data diagrams (noprint)'!FDU8","v":0},{"$f":"'Data diagrams (noprint)'!FDV8","v":0},{"$f":"'Data diagrams (noprint)'!FDW8","v":0},{"$f":"'Data diagrams (noprint)'!FDX8","v":0},{"$f":"'Data diagrams (noprint)'!FDY8","v":0},{"$f":"'Data diagrams (noprint)'!FDZ8","v":0},{"$f":"'Data diagrams (noprint)'!FEA8","v":0},{"$f":"'Data diagrams (noprint)'!FEB8","v":0},{"$f":"'Data diagrams (noprint)'!FEC8","v":0},{"$f":"'Data diagrams (noprint)'!FED8","v":0},{"$f":"'Data diagrams (noprint)'!FEE8","v":0},{"$f":"'Data diagrams (noprint)'!FEF8","v":0},{"$f":"'Data diagrams (noprint)'!FEG8","v":0},{"$f":"'Data diagrams (noprint)'!FEH8","v":0},{"$f":"'Data diagrams (noprint)'!FEI8","v":0},{"$f":"'Data diagrams (noprint)'!FEJ8","v":0},{"$f":"'Data diagrams (noprint)'!FEK8","v":0},{"$f":"'Data diagrams (noprint)'!FEL8","v":0},{"$f":"'Data diagrams (noprint)'!FEM8","v":0},{"$f":"'Data diagrams (noprint)'!FEN8","v":0},{"$f":"'Data diagrams (noprint)'!FEO8","v":0},{"$f":"'Data diagrams (noprint)'!FEP8","v":0},{"$f":"'Data diagrams (noprint)'!FEQ8","v":0},{"$f":"'Data diagrams (noprint)'!FER8","v":0},{"$f":"'Data diagrams (noprint)'!FES8","v":0},{"$f":"'Data diagrams (noprint)'!FET8","v":0},{"$f":"'Data diagrams (noprint)'!FEU8","v":0},{"$f":"'Data diagrams (noprint)'!FEV8","v":0},{"$f":"'Data diagrams (noprint)'!FEW8","v":0},{"$f":"'Data diagrams (noprint)'!FEX8","v":0},{"$f":"'Data diagrams (noprint)'!FEY8","v":0},{"$f":"'Data diagrams (noprint)'!FEZ8","v":0},{"$f":"'Data diagrams (noprint)'!FFA8","v":0},{"$f":"'Data diagrams (noprint)'!FFB8","v":0},{"$f":"'Data diagrams (noprint)'!FFC8","v":0},{"$f":"'Data diagrams (noprint)'!FFD8","v":0},{"$f":"'Data diagrams (noprint)'!FFE8","v":0},{"$f":"'Data diagrams (noprint)'!FFF8","v":0},{"$f":"'Data diagrams (noprint)'!FFG8","v":0},{"$f":"'Data diagrams (noprint)'!FFH8","v":0},{"$f":"'Data diagrams (noprint)'!FFI8","v":0},{"$f":"'Data diagrams (noprint)'!FFJ8","v":0},{"$f":"'Data diagrams (noprint)'!FFK8","v":0},{"$f":"'Data diagrams (noprint)'!FFL8","v":0},{"$f":"'Data diagrams (noprint)'!FFM8","v":0},{"$f":"'Data diagrams (noprint)'!FFN8","v":0},{"$f":"'Data diagrams (noprint)'!FFO8","v":0},{"$f":"'Data diagrams (noprint)'!FFP8","v":0},{"$f":"'Data diagrams (noprint)'!FFQ8","v":0},{"$f":"'Data diagrams (noprint)'!FFR8","v":0},{"$f":"'Data diagrams (noprint)'!FFS8","v":0},{"$f":"'Data diagrams (noprint)'!FFT8","v":0},{"$f":"'Data diagrams (noprint)'!FFU8","v":0},{"$f":"'Data diagrams (noprint)'!FFV8","v":0},{"$f":"'Data diagrams (noprint)'!FFW8","v":0},{"$f":"'Data diagrams (noprint)'!FFX8","v":0},{"$f":"'Data diagrams (noprint)'!FFY8","v":0},{"$f":"'Data diagrams (noprint)'!FFZ8","v":0},{"$f":"'Data diagrams (noprint)'!FGA8","v":0},{"$f":"'Data diagrams (noprint)'!FGB8","v":0},{"$f":"'Data diagrams (noprint)'!FGC8","v":0},{"$f":"'Data diagrams (noprint)'!FGD8","v":0},{"$f":"'Data diagrams (noprint)'!FGE8","v":0},{"$f":"'Data diagrams (noprint)'!FGF8","v":0},{"$f":"'Data diagrams (noprint)'!FGG8","v":0},{"$f":"'Data diagrams (noprint)'!FGH8","v":0},{"$f":"'Data diagrams (noprint)'!FGI8","v":0},{"$f":"'Data diagrams (noprint)'!FGJ8","v":0},{"$f":"'Data diagrams (noprint)'!FGK8","v":0},{"$f":"'Data diagrams (noprint)'!FGL8","v":0},{"$f":"'Data diagrams (noprint)'!FGM8","v":0},{"$f":"'Data diagrams (noprint)'!FGN8","v":0},{"$f":"'Data diagrams (noprint)'!FGO8","v":0},{"$f":"'Data diagrams (noprint)'!FGP8","v":0},{"$f":"'Data diagrams (noprint)'!FGQ8","v":0},{"$f":"'Data diagrams (noprint)'!FGR8","v":0},{"$f":"'Data diagrams (noprint)'!FGS8","v":0},{"$f":"'Data diagrams (noprint)'!FGT8","v":0},{"$f":"'Data diagrams (noprint)'!FGU8","v":0},{"$f":"'Data diagrams (noprint)'!FGV8","v":0},{"$f":"'Data diagrams (noprint)'!FGW8","v":0},{"$f":"'Data diagrams (noprint)'!FGX8","v":0},{"$f":"'Data diagrams (noprint)'!FGY8","v":0},{"$f":"'Data diagrams (noprint)'!FGZ8","v":0},{"$f":"'Data diagrams (noprint)'!FHA8","v":0},{"$f":"'Data diagrams (noprint)'!FHB8","v":0},{"$f":"'Data diagrams (noprint)'!FHC8","v":0},{"$f":"'Data diagrams (noprint)'!FHD8","v":0},{"$f":"'Data diagrams (noprint)'!FHE8","v":0},{"$f":"'Data diagrams (noprint)'!FHF8","v":0},{"$f":"'Data diagrams (noprint)'!FHG8","v":0},{"$f":"'Data diagrams (noprint)'!FHH8","v":0},{"$f":"'Data diagrams (noprint)'!FHI8","v":0},{"$f":"'Data diagrams (noprint)'!FHJ8","v":0},{"$f":"'Data diagrams (noprint)'!FHK8","v":0},{"$f":"'Data diagrams (noprint)'!FHL8","v":0},{"$f":"'Data diagrams (noprint)'!FHM8","v":0},{"$f":"'Data diagrams (noprint)'!FHN8","v":0},{"$f":"'Data diagrams (noprint)'!FHO8","v":0},{"$f":"'Data diagrams (noprint)'!FHP8","v":0},{"$f":"'Data diagrams (noprint)'!FHQ8","v":0},{"$f":"'Data diagrams (noprint)'!FHR8","v":0},{"$f":"'Data diagrams (noprint)'!FHS8","v":0},{"$f":"'Data diagrams (noprint)'!FHT8","v":0},{"$f":"'Data diagrams (noprint)'!FHU8","v":0},{"$f":"'Data diagrams (noprint)'!FHV8","v":0},{"$f":"'Data diagrams (noprint)'!FHW8","v":0},{"$f":"'Data diagrams (noprint)'!FHX8","v":0},{"$f":"'Data diagrams (noprint)'!FHY8","v":0},{"$f":"'Data diagrams (noprint)'!FHZ8","v":0},{"$f":"'Data diagrams (noprint)'!FIA8","v":0},{"$f":"'Data diagrams (noprint)'!FIB8","v":0},{"$f":"'Data diagrams (noprint)'!FIC8","v":0},{"$f":"'Data diagrams (noprint)'!FID8","v":0},{"$f":"'Data diagrams (noprint)'!FIE8","v":0},{"$f":"'Data diagrams (noprint)'!FIF8","v":0},{"$f":"'Data diagrams (noprint)'!FIG8","v":0},{"$f":"'Data diagrams (noprint)'!FIH8","v":0},{"$f":"'Data diagrams (noprint)'!FII8","v":0},{"$f":"'Data diagrams (noprint)'!FIJ8","v":0},{"$f":"'Data diagrams (noprint)'!FIK8","v":0},{"$f":"'Data diagrams (noprint)'!FIL8","v":0},{"$f":"'Data diagrams (noprint)'!FIM8","v":0},{"$f":"'Data diagrams (noprint)'!FIN8","v":0},{"$f":"'Data diagrams (noprint)'!FIO8","v":0},{"$f":"'Data diagrams (noprint)'!FIP8","v":0},{"$f":"'Data diagrams (noprint)'!FIQ8","v":0},{"$f":"'Data diagrams (noprint)'!FIR8","v":0},{"$f":"'Data diagrams (noprint)'!FIS8","v":0},{"$f":"'Data diagrams (noprint)'!FIT8","v":0},{"$f":"'Data diagrams (noprint)'!FIU8","v":0},{"$f":"'Data diagrams (noprint)'!FIV8","v":0},{"$f":"'Data diagrams (noprint)'!FIW8","v":0},{"$f":"'Data diagrams (noprint)'!FIX8","v":0},{"$f":"'Data diagrams (noprint)'!FIY8","v":0},{"$f":"'Data diagrams (noprint)'!FIZ8","v":0},{"$f":"'Data diagrams (noprint)'!FJA8","v":0},{"$f":"'Data diagrams (noprint)'!FJB8","v":0},{"$f":"'Data diagrams (noprint)'!FJC8","v":0},{"$f":"'Data diagrams (noprint)'!FJD8","v":0},{"$f":"'Data diagrams (noprint)'!FJE8","v":0},{"$f":"'Data diagrams (noprint)'!FJF8","v":0},{"$f":"'Data diagrams (noprint)'!FJG8","v":0},{"$f":"'Data diagrams (noprint)'!FJH8","v":0},{"$f":"'Data diagrams (noprint)'!FJI8","v":0},{"$f":"'Data diagrams (noprint)'!FJJ8","v":0},{"$f":"'Data diagrams (noprint)'!FJK8","v":0},{"$f":"'Data diagrams (noprint)'!FJL8","v":0},{"$f":"'Data diagrams (noprint)'!FJM8","v":0},{"$f":"'Data diagrams (noprint)'!FJN8","v":0},{"$f":"'Data diagrams (noprint)'!FJO8","v":0},{"$f":"'Data diagrams (noprint)'!FJP8","v":0},{"$f":"'Data diagrams (noprint)'!FJQ8","v":0},{"$f":"'Data diagrams (noprint)'!FJR8","v":0},{"$f":"'Data diagrams (noprint)'!FJS8","v":0},{"$f":"'Data diagrams (noprint)'!FJT8","v":0},{"$f":"'Data diagrams (noprint)'!FJU8","v":0},{"$f":"'Data diagrams (noprint)'!FJV8","v":0},{"$f":"'Data diagrams (noprint)'!FJW8","v":0},{"$f":"'Data diagrams (noprint)'!FJX8","v":0},{"$f":"'Data diagrams (noprint)'!FJY8","v":0},{"$f":"'Data diagrams (noprint)'!FJZ8","v":0},{"$f":"'Data diagrams (noprint)'!FKA8","v":0},{"$f":"'Data diagrams (noprint)'!FKB8","v":0},{"$f":"'Data diagrams (noprint)'!FKC8","v":0},{"$f":"'Data diagrams (noprint)'!FKD8","v":0},{"$f":"'Data diagrams (noprint)'!FKE8","v":0},{"$f":"'Data diagrams (noprint)'!FKF8","v":0},{"$f":"'Data diagrams (noprint)'!FKG8","v":0},{"$f":"'Data diagrams (noprint)'!FKH8","v":0},{"$f":"'Data diagrams (noprint)'!FKI8","v":0},{"$f":"'Data diagrams (noprint)'!FKJ8","v":0},{"$f":"'Data diagrams (noprint)'!FKK8","v":0},{"$f":"'Data diagrams (noprint)'!FKL8","v":0},{"$f":"'Data diagrams (noprint)'!FKM8","v":0},{"$f":"'Data diagrams (noprint)'!FKN8","v":0},{"$f":"'Data diagrams (noprint)'!FKO8","v":0},{"$f":"'Data diagrams (noprint)'!FKP8","v":0},{"$f":"'Data diagrams (noprint)'!FKQ8","v":0},{"$f":"'Data diagrams (noprint)'!FKR8","v":0},{"$f":"'Data diagrams (noprint)'!FKS8","v":0},{"$f":"'Data diagrams (noprint)'!FKT8","v":0},{"$f":"'Data diagrams (noprint)'!FKU8","v":0},{"$f":"'Data diagrams (noprint)'!FKV8","v":0},{"$f":"'Data diagrams (noprint)'!FKW8","v":0},{"$f":"'Data diagrams (noprint)'!FKX8","v":0},{"$f":"'Data diagrams (noprint)'!FKY8","v":0},{"$f":"'Data diagrams (noprint)'!FKZ8","v":0},{"$f":"'Data diagrams (noprint)'!FLA8","v":0},{"$f":"'Data diagrams (noprint)'!FLB8","v":0},{"$f":"'Data diagrams (noprint)'!FLC8","v":0},{"$f":"'Data diagrams (noprint)'!FLD8","v":0},{"$f":"'Data diagrams (noprint)'!FLE8","v":0},{"$f":"'Data diagrams (noprint)'!FLF8","v":0},{"$f":"'Data diagrams (noprint)'!FLG8","v":0},{"$f":"'Data diagrams (noprint)'!FLH8","v":0},{"$f":"'Data diagrams (noprint)'!FLI8","v":0},{"$f":"'Data diagrams (noprint)'!FLJ8","v":0},{"$f":"'Data diagrams (noprint)'!FLK8","v":0},{"$f":"'Data diagrams (noprint)'!FLL8","v":0},{"$f":"'Data diagrams (noprint)'!FLM8","v":0},{"$f":"'Data diagrams (noprint)'!FLN8","v":0},{"$f":"'Data diagrams (noprint)'!FLO8","v":0},{"$f":"'Data diagrams (noprint)'!FLP8","v":0},{"$f":"'Data diagrams (noprint)'!FLQ8","v":0},{"$f":"'Data diagrams (noprint)'!FLR8","v":0},{"$f":"'Data diagrams (noprint)'!FLS8","v":0},{"$f":"'Data diagrams (noprint)'!FLT8","v":0},{"$f":"'Data diagrams (noprint)'!FLU8","v":0},{"$f":"'Data diagrams (noprint)'!FLV8","v":0},{"$f":"'Data diagrams (noprint)'!FLW8","v":0},{"$f":"'Data diagrams (noprint)'!FLX8","v":0},{"$f":"'Data diagrams (noprint)'!FLY8","v":0},{"$f":"'Data diagrams (noprint)'!FLZ8","v":0},{"$f":"'Data diagrams (noprint)'!FMA8","v":0},{"$f":"'Data diagrams (noprint)'!FMB8","v":0},{"$f":"'Data diagrams (noprint)'!FMC8","v":0},{"$f":"'Data diagrams (noprint)'!FMD8","v":0},{"$f":"'Data diagrams (noprint)'!FME8","v":0},{"$f":"'Data diagrams (noprint)'!FMF8","v":0},{"$f":"'Data diagrams (noprint)'!FMG8","v":0},{"$f":"'Data diagrams (noprint)'!FMH8","v":0},{"$f":"'Data diagrams (noprint)'!FMI8","v":0},{"$f":"'Data diagrams (noprint)'!FMJ8","v":0},{"$f":"'Data diagrams (noprint)'!FMK8","v":0},{"$f":"'Data diagrams (noprint)'!FML8","v":0},{"$f":"'Data diagrams (noprint)'!FMM8","v":0},{"$f":"'Data diagrams (noprint)'!FMN8","v":0},{"$f":"'Data diagrams (noprint)'!FMO8","v":0},{"$f":"'Data diagrams (noprint)'!FMP8","v":0},{"$f":"'Data diagrams (noprint)'!FMQ8","v":0},{"$f":"'Data diagrams (noprint)'!FMR8","v":0},{"$f":"'Data diagrams (noprint)'!FMS8","v":0},{"$f":"'Data diagrams (noprint)'!FMT8","v":0},{"$f":"'Data diagrams (noprint)'!FMU8","v":0},{"$f":"'Data diagrams (noprint)'!FMV8","v":0},{"$f":"'Data diagrams (noprint)'!FMW8","v":0},{"$f":"'Data diagrams (noprint)'!FMX8","v":0},{"$f":"'Data diagrams (noprint)'!FMY8","v":0},{"$f":"'Data diagrams (noprint)'!FMZ8","v":0},{"$f":"'Data diagrams (noprint)'!FNA8","v":0},{"$f":"'Data diagrams (noprint)'!FNB8","v":0},{"$f":"'Data diagrams (noprint)'!FNC8","v":0},{"$f":"'Data diagrams (noprint)'!FND8","v":0},{"$f":"'Data diagrams (noprint)'!FNE8","v":0},{"$f":"'Data diagrams (noprint)'!FNF8","v":0},{"$f":"'Data diagrams (noprint)'!FNG8","v":0},{"$f":"'Data diagrams (noprint)'!FNH8","v":0},{"$f":"'Data diagrams (noprint)'!FNI8","v":0},{"$f":"'Data diagrams (noprint)'!FNJ8","v":0},{"$f":"'Data diagrams (noprint)'!FNK8","v":0},{"$f":"'Data diagrams (noprint)'!FNL8","v":0},{"$f":"'Data diagrams (noprint)'!FNM8","v":0},{"$f":"'Data diagrams (noprint)'!FNN8","v":0},{"$f":"'Data diagrams (noprint)'!FNO8","v":0},{"$f":"'Data diagrams (noprint)'!FNP8","v":0},{"$f":"'Data diagrams (noprint)'!FNQ8","v":0},{"$f":"'Data diagrams (noprint)'!FNR8","v":0},{"$f":"'Data diagrams (noprint)'!FNS8","v":0},{"$f":"'Data diagrams (noprint)'!FNT8","v":0},{"$f":"'Data diagrams (noprint)'!FNU8","v":0},{"$f":"'Data diagrams (noprint)'!FNV8","v":0},{"$f":"'Data diagrams (noprint)'!FNW8","v":0},{"$f":"'Data diagrams (noprint)'!FNX8","v":0},{"$f":"'Data diagrams (noprint)'!FNY8","v":0},{"$f":"'Data diagrams (noprint)'!FNZ8","v":0},{"$f":"'Data diagrams (noprint)'!FOA8","v":0},{"$f":"'Data diagrams (noprint)'!FOB8","v":0},{"$f":"'Data diagrams (noprint)'!FOC8","v":0},{"$f":"'Data diagrams (noprint)'!FOD8","v":0},{"$f":"'Data diagrams (noprint)'!FOE8","v":0},{"$f":"'Data diagrams (noprint)'!FOF8","v":0},{"$f":"'Data diagrams (noprint)'!FOG8","v":0},{"$f":"'Data diagrams (noprint)'!FOH8","v":0},{"$f":"'Data diagrams (noprint)'!FOI8","v":0},{"$f":"'Data diagrams (noprint)'!FOJ8","v":0},{"$f":"'Data diagrams (noprint)'!FOK8","v":0},{"$f":"'Data diagrams (noprint)'!FOL8","v":0},{"$f":"'Data diagrams (noprint)'!FOM8","v":0},{"$f":"'Data diagrams (noprint)'!FON8","v":0},{"$f":"'Data diagrams (noprint)'!FOO8","v":0},{"$f":"'Data diagrams (noprint)'!FOP8","v":0},{"$f":"'Data diagrams (noprint)'!FOQ8","v":0},{"$f":"'Data diagrams (noprint)'!FOR8","v":0},{"$f":"'Data diagrams (noprint)'!FOS8","v":0},{"$f":"'Data diagrams (noprint)'!FOT8","v":0},{"$f":"'Data diagrams (noprint)'!FOU8","v":0},{"$f":"'Data diagrams (noprint)'!FOV8","v":0},{"$f":"'Data diagrams (noprint)'!FOW8","v":0},{"$f":"'Data diagrams (noprint)'!FOX8","v":0},{"$f":"'Data diagrams (noprint)'!FOY8","v":0},{"$f":"'Data diagrams (noprint)'!FOZ8","v":0},{"$f":"'Data diagrams (noprint)'!FPA8","v":0},{"$f":"'Data diagrams (noprint)'!FPB8","v":0},{"$f":"'Data diagrams (noprint)'!FPC8","v":0},{"$f":"'Data diagrams (noprint)'!FPD8","v":0},{"$f":"'Data diagrams (noprint)'!FPE8","v":0},{"$f":"'Data diagrams (noprint)'!FPF8","v":0},{"$f":"'Data diagrams (noprint)'!FPG8","v":0},{"$f":"'Data diagrams (noprint)'!FPH8","v":0},{"$f":"'Data diagrams (noprint)'!FPI8","v":0},{"$f":"'Data diagrams (noprint)'!FPJ8","v":0},{"$f":"'Data diagrams (noprint)'!FPK8","v":0},{"$f":"'Data diagrams (noprint)'!FPL8","v":0},{"$f":"'Data diagrams (noprint)'!FPM8","v":0},{"$f":"'Data diagrams (noprint)'!FPN8","v":0},{"$f":"'Data diagrams (noprint)'!FPO8","v":0},{"$f":"'Data diagrams (noprint)'!FPP8","v":0},{"$f":"'Data diagrams (noprint)'!FPQ8","v":0},{"$f":"'Data diagrams (noprint)'!FPR8","v":0},{"$f":"'Data diagrams (noprint)'!FPS8","v":0},{"$f":"'Data diagrams (noprint)'!FPT8","v":0},{"$f":"'Data diagrams (noprint)'!FPU8","v":0},{"$f":"'Data diagrams (noprint)'!FPV8","v":0},{"$f":"'Data diagrams (noprint)'!FPW8","v":0},{"$f":"'Data diagrams (noprint)'!FPX8","v":0},{"$f":"'Data diagrams (noprint)'!FPY8","v":0},{"$f":"'Data diagrams (noprint)'!FPZ8","v":0},{"$f":"'Data diagrams (noprint)'!FQA8","v":0},{"$f":"'Data diagrams (noprint)'!FQB8","v":0},{"$f":"'Data diagrams (noprint)'!FQC8","v":0},{"$f":"'Data diagrams (noprint)'!FQD8","v":0},{"$f":"'Data diagrams (noprint)'!FQE8","v":0},{"$f":"'Data diagrams (noprint)'!FQF8","v":0},{"$f":"'Data diagrams (noprint)'!FQG8","v":0},{"$f":"'Data diagrams (noprint)'!FQH8","v":0},{"$f":"'Data diagrams (noprint)'!FQI8","v":0},{"$f":"'Data diagrams (noprint)'!FQJ8","v":0},{"$f":"'Data diagrams (noprint)'!FQK8","v":0},{"$f":"'Data diagrams (noprint)'!FQL8","v":0},{"$f":"'Data diagrams (noprint)'!FQM8","v":0},{"$f":"'Data diagrams (noprint)'!FQN8","v":0},{"$f":"'Data diagrams (noprint)'!FQO8","v":0},{"$f":"'Data diagrams (noprint)'!FQP8","v":0},{"$f":"'Data diagrams (noprint)'!FQQ8","v":0},{"$f":"'Data diagrams (noprint)'!FQR8","v":0},{"$f":"'Data diagrams (noprint)'!FQS8","v":0},{"$f":"'Data diagrams (noprint)'!FQT8","v":0},{"$f":"'Data diagrams (noprint)'!FQU8","v":0},{"$f":"'Data diagrams (noprint)'!FQV8","v":0},{"$f":"'Data diagrams (noprint)'!FQW8","v":0},{"$f":"'Data diagrams (noprint)'!FQX8","v":0},{"$f":"'Data diagrams (noprint)'!FQY8","v":0},{"$f":"'Data diagrams (noprint)'!FQZ8","v":0},{"$f":"'Data diagrams (noprint)'!FRA8","v":0},{"$f":"'Data diagrams (noprint)'!FRB8","v":0},{"$f":"'Data diagrams (noprint)'!FRC8","v":0},{"$f":"'Data diagrams (noprint)'!FRD8","v":0},{"$f":"'Data diagrams (noprint)'!FRE8","v":0},{"$f":"'Data diagrams (noprint)'!FRF8","v":0},{"$f":"'Data diagrams (noprint)'!FRG8","v":0},{"$f":"'Data diagrams (noprint)'!FRH8","v":0},{"$f":"'Data diagrams (noprint)'!FRI8","v":0},{"$f":"'Data diagrams (noprint)'!FRJ8","v":0},{"$f":"'Data diagrams (noprint)'!FRK8","v":0},{"$f":"'Data diagrams (noprint)'!FRL8","v":0},{"$f":"'Data diagrams (noprint)'!FRM8","v":0},{"$f":"'Data diagrams (noprint)'!FRN8","v":0},{"$f":"'Data diagrams (noprint)'!FRO8","v":0},{"$f":"'Data diagrams (noprint)'!FRP8","v":0},{"$f":"'Data diagrams (noprint)'!FRQ8","v":0},{"$f":"'Data diagrams (noprint)'!FRR8","v":0},{"$f":"'Data diagrams (noprint)'!FRS8","v":0},{"$f":"'Data diagrams (noprint)'!FRT8","v":0},{"$f":"'Data diagrams (noprint)'!FRU8","v":0},{"$f":"'Data diagrams (noprint)'!FRV8","v":0},{"$f":"'Data diagrams (noprint)'!FRW8","v":0},{"$f":"'Data diagrams (noprint)'!FRX8","v":0},{"$f":"'Data diagrams (noprint)'!FRY8","v":0},{"$f":"'Data diagrams (noprint)'!FRZ8","v":0},{"$f":"'Data diagrams (noprint)'!FSA8","v":0},{"$f":"'Data diagrams (noprint)'!FSB8","v":0},{"$f":"'Data diagrams (noprint)'!FSC8","v":0},{"$f":"'Data diagrams (noprint)'!FSD8","v":0},{"$f":"'Data diagrams (noprint)'!FSE8","v":0},{"$f":"'Data diagrams (noprint)'!FSF8","v":0},{"$f":"'Data diagrams (noprint)'!FSG8","v":0},{"$f":"'Data diagrams (noprint)'!FSH8","v":0},{"$f":"'Data diagrams (noprint)'!FSI8","v":0},{"$f":"'Data diagrams (noprint)'!FSJ8","v":0},{"$f":"'Data diagrams (noprint)'!FSK8","v":0},{"$f":"'Data diagrams (noprint)'!FSL8","v":0},{"$f":"'Data diagrams (noprint)'!FSM8","v":0},{"$f":"'Data diagrams (noprint)'!FSN8","v":0},{"$f":"'Data diagrams (noprint)'!FSO8","v":0},{"$f":"'Data diagrams (noprint)'!FSP8","v":0},{"$f":"'Data diagrams (noprint)'!FSQ8","v":0},{"$f":"'Data diagrams (noprint)'!FSR8","v":0},{"$f":"'Data diagrams (noprint)'!FSS8","v":0},{"$f":"'Data diagrams (noprint)'!FST8","v":0},{"$f":"'Data diagrams (noprint)'!FSU8","v":0},{"$f":"'Data diagrams (noprint)'!FSV8","v":0},{"$f":"'Data diagrams (noprint)'!FSW8","v":0},{"$f":"'Data diagrams (noprint)'!FSX8","v":0},{"$f":"'Data diagrams (noprint)'!FSY8","v":0},{"$f":"'Data diagrams (noprint)'!FSZ8","v":0},{"$f":"'Data diagrams (noprint)'!FTA8","v":0},{"$f":"'Data diagrams (noprint)'!FTB8","v":0},{"$f":"'Data diagrams (noprint)'!FTC8","v":0},{"$f":"'Data diagrams (noprint)'!FTD8","v":0},{"$f":"'Data diagrams (noprint)'!FTE8","v":0},{"$f":"'Data diagrams (noprint)'!FTF8","v":0},{"$f":"'Data diagrams (noprint)'!FTG8","v":0},{"$f":"'Data diagrams (noprint)'!FTH8","v":0},{"$f":"'Data diagrams (noprint)'!FTI8","v":0},{"$f":"'Data diagrams (noprint)'!FTJ8","v":0},{"$f":"'Data diagrams (noprint)'!FTK8","v":0},{"$f":"'Data diagrams (noprint)'!FTL8","v":0},{"$f":"'Data diagrams (noprint)'!FTM8","v":0},{"$f":"'Data diagrams (noprint)'!FTN8","v":0},{"$f":"'Data diagrams (noprint)'!FTO8","v":0},{"$f":"'Data diagrams (noprint)'!FTP8","v":0},{"$f":"'Data diagrams (noprint)'!FTQ8","v":0},{"$f":"'Data diagrams (noprint)'!FTR8","v":0},{"$f":"'Data diagrams (noprint)'!FTS8","v":0},{"$f":"'Data diagrams (noprint)'!FTT8","v":0},{"$f":"'Data diagrams (noprint)'!FTU8","v":0},{"$f":"'Data diagrams (noprint)'!FTV8","v":0},{"$f":"'Data diagrams (noprint)'!FTW8","v":0},{"$f":"'Data diagrams (noprint)'!FTX8","v":0},{"$f":"'Data diagrams (noprint)'!FTY8","v":0},{"$f":"'Data diagrams (noprint)'!FTZ8","v":0},{"$f":"'Data diagrams (noprint)'!FUA8","v":0},{"$f":"'Data diagrams (noprint)'!FUB8","v":0},{"$f":"'Data diagrams (noprint)'!FUC8","v":0},{"$f":"'Data diagrams (noprint)'!FUD8","v":0},{"$f":"'Data diagrams (noprint)'!FUE8","v":0},{"$f":"'Data diagrams (noprint)'!FUF8","v":0},{"$f":"'Data diagrams (noprint)'!FUG8","v":0},{"$f":"'Data diagrams (noprint)'!FUH8","v":0},{"$f":"'Data diagrams (noprint)'!FUI8","v":0},{"$f":"'Data diagrams (noprint)'!FUJ8","v":0},{"$f":"'Data diagrams (noprint)'!FUK8","v":0},{"$f":"'Data diagrams (noprint)'!FUL8","v":0},{"$f":"'Data diagrams (noprint)'!FUM8","v":0},{"$f":"'Data diagrams (noprint)'!FUN8","v":0},{"$f":"'Data diagrams (noprint)'!FUO8","v":0},{"$f":"'Data diagrams (noprint)'!FUP8","v":0},{"$f":"'Data diagrams (noprint)'!FUQ8","v":0},{"$f":"'Data diagrams (noprint)'!FUR8","v":0},{"$f":"'Data diagrams (noprint)'!FUS8","v":0},{"$f":"'Data diagrams (noprint)'!FUT8","v":0},{"$f":"'Data diagrams (noprint)'!FUU8","v":0},{"$f":"'Data diagrams (noprint)'!FUV8","v":0},{"$f":"'Data diagrams (noprint)'!FUW8","v":0},{"$f":"'Data diagrams (noprint)'!FUX8","v":0},{"$f":"'Data diagrams (noprint)'!FUY8","v":0},{"$f":"'Data diagrams (noprint)'!FUZ8","v":0},{"$f":"'Data diagrams (noprint)'!FVA8","v":0},{"$f":"'Data diagrams (noprint)'!FVB8","v":0},{"$f":"'Data diagrams (noprint)'!FVC8","v":0},{"$f":"'Data diagrams (noprint)'!FVD8","v":0},{"$f":"'Data diagrams (noprint)'!FVE8","v":0},{"$f":"'Data diagrams (noprint)'!FVF8","v":0},{"$f":"'Data diagrams (noprint)'!FVG8","v":0},{"$f":"'Data diagrams (noprint)'!FVH8","v":0},{"$f":"'Data diagrams (noprint)'!FVI8","v":0},{"$f":"'Data diagrams (noprint)'!FVJ8","v":0},{"$f":"'Data diagrams (noprint)'!FVK8","v":0},{"$f":"'Data diagrams (noprint)'!FVL8","v":0},{"$f":"'Data diagrams (noprint)'!FVM8","v":0},{"$f":"'Data diagrams (noprint)'!FVN8","v":0},{"$f":"'Data diagrams (noprint)'!FVO8","v":0},{"$f":"'Data diagrams (noprint)'!FVP8","v":0},{"$f":"'Data diagrams (noprint)'!FVQ8","v":0},{"$f":"'Data diagrams (noprint)'!FVR8","v":0},{"$f":"'Data diagrams (noprint)'!FVS8","v":0},{"$f":"'Data diagrams (noprint)'!FVT8","v":0},{"$f":"'Data diagrams (noprint)'!FVU8","v":0},{"$f":"'Data diagrams (noprint)'!FVV8","v":0},{"$f":"'Data diagrams (noprint)'!FVW8","v":0},{"$f":"'Data diagrams (noprint)'!FVX8","v":0},{"$f":"'Data diagrams (noprint)'!FVY8","v":0},{"$f":"'Data diagrams (noprint)'!FVZ8","v":0},{"$f":"'Data diagrams (noprint)'!FWA8","v":0},{"$f":"'Data diagrams (noprint)'!FWB8","v":0},{"$f":"'Data diagrams (noprint)'!FWC8","v":0},{"$f":"'Data diagrams (noprint)'!FWD8","v":0},{"$f":"'Data diagrams (noprint)'!FWE8","v":0},{"$f":"'Data diagrams (noprint)'!FWF8","v":0},{"$f":"'Data diagrams (noprint)'!FWG8","v":0},{"$f":"'Data diagrams (noprint)'!FWH8","v":0},{"$f":"'Data diagrams (noprint)'!FWI8","v":0},{"$f":"'Data diagrams (noprint)'!FWJ8","v":0},{"$f":"'Data diagrams (noprint)'!FWK8","v":0},{"$f":"'Data diagrams (noprint)'!FWL8","v":0},{"$f":"'Data diagrams (noprint)'!FWM8","v":0},{"$f":"'Data diagrams (noprint)'!FWN8","v":0},{"$f":"'Data diagrams (noprint)'!FWO8","v":0},{"$f":"'Data diagrams (noprint)'!FWP8","v":0},{"$f":"'Data diagrams (noprint)'!FWQ8","v":0},{"$f":"'Data diagrams (noprint)'!FWR8","v":0},{"$f":"'Data diagrams (noprint)'!FWS8","v":0},{"$f":"'Data diagrams (noprint)'!FWT8","v":0},{"$f":"'Data diagrams (noprint)'!FWU8","v":0},{"$f":"'Data diagrams (noprint)'!FWV8","v":0},{"$f":"'Data diagrams (noprint)'!FWW8","v":0},{"$f":"'Data diagrams (noprint)'!FWX8","v":0},{"$f":"'Data diagrams (noprint)'!FWY8","v":0},{"$f":"'Data diagrams (noprint)'!FWZ8","v":0},{"$f":"'Data diagrams (noprint)'!FXA8","v":0},{"$f":"'Data diagrams (noprint)'!FXB8","v":0},{"$f":"'Data diagrams (noprint)'!FXC8","v":0},{"$f":"'Data diagrams (noprint)'!FXD8","v":0},{"$f":"'Data diagrams (noprint)'!FXE8","v":0},{"$f":"'Data diagrams (noprint)'!FXF8","v":0},{"$f":"'Data diagrams (noprint)'!FXG8","v":0},{"$f":"'Data diagrams (noprint)'!FXH8","v":0},{"$f":"'Data diagrams (noprint)'!FXI8","v":0},{"$f":"'Data diagrams (noprint)'!FXJ8","v":0},{"$f":"'Data diagrams (noprint)'!FXK8","v":0},{"$f":"'Data diagrams (noprint)'!FXL8","v":0},{"$f":"'Data diagrams (noprint)'!FXM8","v":0},{"$f":"'Data diagrams (noprint)'!FXN8","v":0},{"$f":"'Data diagrams (noprint)'!FXO8","v":0},{"$f":"'Data diagrams (noprint)'!FXP8","v":0},{"$f":"'Data diagrams (noprint)'!FXQ8","v":0},{"$f":"'Data diagrams (noprint)'!FXR8","v":0},{"$f":"'Data diagrams (noprint)'!FXS8","v":0},{"$f":"'Data diagrams (noprint)'!FXT8","v":0},{"$f":"'Data diagrams (noprint)'!FXU8","v":0},{"$f":"'Data diagrams (noprint)'!FXV8","v":0},{"$f":"'Data diagrams (noprint)'!FXW8","v":0},{"$f":"'Data diagrams (noprint)'!FXX8","v":0},{"$f":"'Data diagrams (noprint)'!FXY8","v":0},{"$f":"'Data diagrams (noprint)'!FXZ8","v":0},{"$f":"'Data diagrams (noprint)'!FYA8","v":0},{"$f":"'Data diagrams (noprint)'!FYB8","v":0},{"$f":"'Data diagrams (noprint)'!FYC8","v":0},{"$f":"'Data diagrams (noprint)'!FYD8","v":0},{"$f":"'Data diagrams (noprint)'!FYE8","v":0},{"$f":"'Data diagrams (noprint)'!FYF8","v":0},{"$f":"'Data diagrams (noprint)'!FYG8","v":0},{"$f":"'Data diagrams (noprint)'!FYH8","v":0},{"$f":"'Data diagrams (noprint)'!FYI8","v":0},{"$f":"'Data diagrams (noprint)'!FYJ8","v":0},{"$f":"'Data diagrams (noprint)'!FYK8","v":0},{"$f":"'Data diagrams (noprint)'!FYL8","v":0},{"$f":"'Data diagrams (noprint)'!FYM8","v":0},{"$f":"'Data diagrams (noprint)'!FYN8","v":0},{"$f":"'Data diagrams (noprint)'!FYO8","v":0},{"$f":"'Data diagrams (noprint)'!FYP8","v":0},{"$f":"'Data diagrams (noprint)'!FYQ8","v":0},{"$f":"'Data diagrams (noprint)'!FYR8","v":0},{"$f":"'Data diagrams (noprint)'!FYS8","v":0},{"$f":"'Data diagrams (noprint)'!FYT8","v":0},{"$f":"'Data diagrams (noprint)'!FYU8","v":0},{"$f":"'Data diagrams (noprint)'!FYV8","v":0},{"$f":"'Data diagrams (noprint)'!FYW8","v":0},{"$f":"'Data diagrams (noprint)'!FYX8","v":0},{"$f":"'Data diagrams (noprint)'!FYY8","v":0},{"$f":"'Data diagrams (noprint)'!FYZ8","v":0},{"$f":"'Data diagrams (noprint)'!FZA8","v":0},{"$f":"'Data diagrams (noprint)'!FZB8","v":0},{"$f":"'Data diagrams (noprint)'!FZC8","v":0},{"$f":"'Data diagrams (noprint)'!FZD8","v":0},{"$f":"'Data diagrams (noprint)'!FZE8","v":0},{"$f":"'Data diagrams (noprint)'!FZF8","v":0},{"$f":"'Data diagrams (noprint)'!FZG8","v":0},{"$f":"'Data diagrams (noprint)'!FZH8","v":0},{"$f":"'Data diagrams (noprint)'!FZI8","v":0},{"$f":"'Data diagrams (noprint)'!FZJ8","v":0},{"$f":"'Data diagrams (noprint)'!FZK8","v":0},{"$f":"'Data diagrams (noprint)'!FZL8","v":0},{"$f":"'Data diagrams (noprint)'!FZM8","v":0},{"$f":"'Data diagrams (noprint)'!FZN8","v":0},{"$f":"'Data diagrams (noprint)'!FZO8","v":0},{"$f":"'Data diagrams (noprint)'!FZP8","v":0},{"$f":"'Data diagrams (noprint)'!FZQ8","v":0},{"$f":"'Data diagrams (noprint)'!FZR8","v":0},{"$f":"'Data diagrams (noprint)'!FZS8","v":0},{"$f":"'Data diagrams (noprint)'!FZT8","v":0},{"$f":"'Data diagrams (noprint)'!FZU8","v":0},{"$f":"'Data diagrams (noprint)'!FZV8","v":0},{"$f":"'Data diagrams (noprint)'!FZW8","v":0},{"$f":"'Data diagrams (noprint)'!FZX8","v":0},{"$f":"'Data diagrams (noprint)'!FZY8","v":0},{"$f":"'Data diagrams (noprint)'!FZZ8","v":0},{"$f":"'Data diagrams (noprint)'!GAA8","v":0},{"$f":"'Data diagrams (noprint)'!GAB8","v":0},{"$f":"'Data diagrams (noprint)'!GAC8","v":0},{"$f":"'Data diagrams (noprint)'!GAD8","v":0},{"$f":"'Data diagrams (noprint)'!GAE8","v":0},{"$f":"'Data diagrams (noprint)'!GAF8","v":0},{"$f":"'Data diagrams (noprint)'!GAG8","v":0},{"$f":"'Data diagrams (noprint)'!GAH8","v":0},{"$f":"'Data diagrams (noprint)'!GAI8","v":0},{"$f":"'Data diagrams (noprint)'!GAJ8","v":0},{"$f":"'Data diagrams (noprint)'!GAK8","v":0},{"$f":"'Data diagrams (noprint)'!GAL8","v":0},{"$f":"'Data diagrams (noprint)'!GAM8","v":0},{"$f":"'Data diagrams (noprint)'!GAN8","v":0},{"$f":"'Data diagrams (noprint)'!GAO8","v":0},{"$f":"'Data diagrams (noprint)'!GAP8","v":0},{"$f":"'Data diagrams (noprint)'!GAQ8","v":0},{"$f":"'Data diagrams (noprint)'!GAR8","v":0},{"$f":"'Data diagrams (noprint)'!GAS8","v":0},{"$f":"'Data diagrams (noprint)'!GAT8","v":0},{"$f":"'Data diagrams (noprint)'!GAU8","v":0},{"$f":"'Data diagrams (noprint)'!GAV8","v":0},{"$f":"'Data diagrams (noprint)'!GAW8","v":0},{"$f":"'Data diagrams (noprint)'!GAX8","v":0},{"$f":"'Data diagrams (noprint)'!GAY8","v":0},{"$f":"'Data diagrams (noprint)'!GAZ8","v":0},{"$f":"'Data diagrams (noprint)'!GBA8","v":0},{"$f":"'Data diagrams (noprint)'!GBB8","v":0},{"$f":"'Data diagrams (noprint)'!GBC8","v":0},{"$f":"'Data diagrams (noprint)'!GBD8","v":0},{"$f":"'Data diagrams (noprint)'!GBE8","v":0},{"$f":"'Data diagrams (noprint)'!GBF8","v":0},{"$f":"'Data diagrams (noprint)'!GBG8","v":0},{"$f":"'Data diagrams (noprint)'!GBH8","v":0},{"$f":"'Data diagrams (noprint)'!GBI8","v":0},{"$f":"'Data diagrams (noprint)'!GBJ8","v":0},{"$f":"'Data diagrams (noprint)'!GBK8","v":0},{"$f":"'Data diagrams (noprint)'!GBL8","v":0},{"$f":"'Data diagrams (noprint)'!GBM8","v":0},{"$f":"'Data diagrams (noprint)'!GBN8","v":0},{"$f":"'Data diagrams (noprint)'!GBO8","v":0},{"$f":"'Data diagrams (noprint)'!GBP8","v":0},{"$f":"'Data diagrams (noprint)'!GBQ8","v":0},{"$f":"'Data diagrams (noprint)'!GBR8","v":0},{"$f":"'Data diagrams (noprint)'!GBS8","v":0},{"$f":"'Data diagrams (noprint)'!GBT8","v":0},{"$f":"'Data diagrams (noprint)'!GBU8","v":0},{"$f":"'Data diagrams (noprint)'!GBV8","v":0},{"$f":"'Data diagrams (noprint)'!GBW8","v":0},{"$f":"'Data diagrams (noprint)'!GBX8","v":0},{"$f":"'Data diagrams (noprint)'!GBY8","v":0},{"$f":"'Data diagrams (noprint)'!GBZ8","v":0},{"$f":"'Data diagrams (noprint)'!GCA8","v":0},{"$f":"'Data diagrams (noprint)'!GCB8","v":0},{"$f":"'Data diagrams (noprint)'!GCC8","v":0},{"$f":"'Data diagrams (noprint)'!GCD8","v":0},{"$f":"'Data diagrams (noprint)'!GCE8","v":0},{"$f":"'Data diagrams (noprint)'!GCF8","v":0},{"$f":"'Data diagrams (noprint)'!GCG8","v":0},{"$f":"'Data diagrams (noprint)'!GCH8","v":0},{"$f":"'Data diagrams (noprint)'!GCI8","v":0},{"$f":"'Data diagrams (noprint)'!GCJ8","v":0},{"$f":"'Data diagrams (noprint)'!GCK8","v":0},{"$f":"'Data diagrams (noprint)'!GCL8","v":0},{"$f":"'Data diagrams (noprint)'!GCM8","v":0},{"$f":"'Data diagrams (noprint)'!GCN8","v":0},{"$f":"'Data diagrams (noprint)'!GCO8","v":0},{"$f":"'Data diagrams (noprint)'!GCP8","v":0},{"$f":"'Data diagrams (noprint)'!GCQ8","v":0},{"$f":"'Data diagrams (noprint)'!GCR8","v":0},{"$f":"'Data diagrams (noprint)'!GCS8","v":0},{"$f":"'Data diagrams (noprint)'!GCT8","v":0},{"$f":"'Data diagrams (noprint)'!GCU8","v":0},{"$f":"'Data diagrams (noprint)'!GCV8","v":0},{"$f":"'Data diagrams (noprint)'!GCW8","v":0},{"$f":"'Data diagrams (noprint)'!GCX8","v":0},{"$f":"'Data diagrams (noprint)'!GCY8","v":0},{"$f":"'Data diagrams (noprint)'!GCZ8","v":0},{"$f":"'Data diagrams (noprint)'!GDA8","v":0},{"$f":"'Data diagrams (noprint)'!GDB8","v":0},{"$f":"'Data diagrams (noprint)'!GDC8","v":0},{"$f":"'Data diagrams (noprint)'!GDD8","v":0},{"$f":"'Data diagrams (noprint)'!GDE8","v":0},{"$f":"'Data diagrams (noprint)'!GDF8","v":0},{"$f":"'Data diagrams (noprint)'!GDG8","v":0},{"$f":"'Data diagrams (noprint)'!GDH8","v":0},{"$f":"'Data diagrams (noprint)'!GDI8","v":0},{"$f":"'Data diagrams (noprint)'!GDJ8","v":0},{"$f":"'Data diagrams (noprint)'!GDK8","v":0},{"$f":"'Data diagrams (noprint)'!GDL8","v":0},{"$f":"'Data diagrams (noprint)'!GDM8","v":0},{"$f":"'Data diagrams (noprint)'!GDN8","v":0},{"$f":"'Data diagrams (noprint)'!GDO8","v":0},{"$f":"'Data diagrams (noprint)'!GDP8","v":0},{"$f":"'Data diagrams (noprint)'!GDQ8","v":0},{"$f":"'Data diagrams (noprint)'!GDR8","v":0},{"$f":"'Data diagrams (noprint)'!GDS8","v":0},{"$f":"'Data diagrams (noprint)'!GDT8","v":0},{"$f":"'Data diagrams (noprint)'!GDU8","v":0},{"$f":"'Data diagrams (noprint)'!GDV8","v":0},{"$f":"'Data diagrams (noprint)'!GDW8","v":0},{"$f":"'Data diagrams (noprint)'!GDX8","v":0},{"$f":"'Data diagrams (noprint)'!GDY8","v":0},{"$f":"'Data diagrams (noprint)'!GDZ8","v":0},{"$f":"'Data diagrams (noprint)'!GEA8","v":0},{"$f":"'Data diagrams (noprint)'!GEB8","v":0},{"$f":"'Data diagrams (noprint)'!GEC8","v":0},{"$f":"'Data diagrams (noprint)'!GED8","v":0},{"$f":"'Data diagrams (noprint)'!GEE8","v":0},{"$f":"'Data diagrams (noprint)'!GEF8","v":0},{"$f":"'Data diagrams (noprint)'!GEG8","v":0},{"$f":"'Data diagrams (noprint)'!GEH8","v":0},{"$f":"'Data diagrams (noprint)'!GEI8","v":0},{"$f":"'Data diagrams (noprint)'!GEJ8","v":0},{"$f":"'Data diagrams (noprint)'!GEK8","v":0},{"$f":"'Data diagrams (noprint)'!GEL8","v":0},{"$f":"'Data diagrams (noprint)'!GEM8","v":0},{"$f":"'Data diagrams (noprint)'!GEN8","v":0},{"$f":"'Data diagrams (noprint)'!GEO8","v":0},{"$f":"'Data diagrams (noprint)'!GEP8","v":0},{"$f":"'Data diagrams (noprint)'!GEQ8","v":0},{"$f":"'Data diagrams (noprint)'!GER8","v":0},{"$f":"'Data diagrams (noprint)'!GES8","v":0},{"$f":"'Data diagrams (noprint)'!GET8","v":0},{"$f":"'Data diagrams (noprint)'!GEU8","v":0},{"$f":"'Data diagrams (noprint)'!GEV8","v":0},{"$f":"'Data diagrams (noprint)'!GEW8","v":0},{"$f":"'Data diagrams (noprint)'!GEX8","v":0},{"$f":"'Data diagrams (noprint)'!GEY8","v":0},{"$f":"'Data diagrams (noprint)'!GEZ8","v":0},{"$f":"'Data diagrams (noprint)'!GFA8","v":0},{"$f":"'Data diagrams (noprint)'!GFB8","v":0},{"$f":"'Data diagrams (noprint)'!GFC8","v":0},{"$f":"'Data diagrams (noprint)'!GFD8","v":0},{"$f":"'Data diagrams (noprint)'!GFE8","v":0},{"$f":"'Data diagrams (noprint)'!GFF8","v":0},{"$f":"'Data diagrams (noprint)'!GFG8","v":0},{"$f":"'Data diagrams (noprint)'!GFH8","v":0},{"$f":"'Data diagrams (noprint)'!GFI8","v":0},{"$f":"'Data diagrams (noprint)'!GFJ8","v":0},{"$f":"'Data diagrams (noprint)'!GFK8","v":0},{"$f":"'Data diagrams (noprint)'!GFL8","v":0},{"$f":"'Data diagrams (noprint)'!GFM8","v":0},{"$f":"'Data diagrams (noprint)'!GFN8","v":0},{"$f":"'Data diagrams (noprint)'!GFO8","v":0},{"$f":"'Data diagrams (noprint)'!GFP8","v":0},{"$f":"'Data diagrams (noprint)'!GFQ8","v":0},{"$f":"'Data diagrams (noprint)'!GFR8","v":0},{"$f":"'Data diagrams (noprint)'!GFS8","v":0},{"$f":"'Data diagrams (noprint)'!GFT8","v":0},{"$f":"'Data diagrams (noprint)'!GFU8","v":0},{"$f":"'Data diagrams (noprint)'!GFV8","v":0},{"$f":"'Data diagrams (noprint)'!GFW8","v":0},{"$f":"'Data diagrams (noprint)'!GFX8","v":0},{"$f":"'Data diagrams (noprint)'!GFY8","v":0},{"$f":"'Data diagrams (noprint)'!GFZ8","v":0},{"$f":"'Data diagrams (noprint)'!GGA8","v":0},{"$f":"'Data diagrams (noprint)'!GGB8","v":0},{"$f":"'Data diagrams (noprint)'!GGC8","v":0},{"$f":"'Data diagrams (noprint)'!GGD8","v":0},{"$f":"'Data diagrams (noprint)'!GGE8","v":0},{"$f":"'Data diagrams (noprint)'!GGF8","v":0},{"$f":"'Data diagrams (noprint)'!GGG8","v":0},{"$f":"'Data diagrams (noprint)'!GGH8","v":0},{"$f":"'Data diagrams (noprint)'!GGI8","v":0},{"$f":"'Data diagrams (noprint)'!GGJ8","v":0},{"$f":"'Data diagrams (noprint)'!GGK8","v":0},{"$f":"'Data diagrams (noprint)'!GGL8","v":0},{"$f":"'Data diagrams (noprint)'!GGM8","v":0},{"$f":"'Data diagrams (noprint)'!GGN8","v":0},{"$f":"'Data diagrams (noprint)'!GGO8","v":0},{"$f":"'Data diagrams (noprint)'!GGP8","v":0},{"$f":"'Data diagrams (noprint)'!GGQ8","v":0},{"$f":"'Data diagrams (noprint)'!GGR8","v":0},{"$f":"'Data diagrams (noprint)'!GGS8","v":0},{"$f":"'Data diagrams (noprint)'!GGT8","v":0},{"$f":"'Data diagrams (noprint)'!GGU8","v":0},{"$f":"'Data diagrams (noprint)'!GGV8","v":0},{"$f":"'Data diagrams (noprint)'!GGW8","v":0},{"$f":"'Data diagrams (noprint)'!GGX8","v":0},{"$f":"'Data diagrams (noprint)'!GGY8","v":0},{"$f":"'Data diagrams (noprint)'!GGZ8","v":0},{"$f":"'Data diagrams (noprint)'!GHA8","v":0},{"$f":"'Data diagrams (noprint)'!GHB8","v":0},{"$f":"'Data diagrams (noprint)'!GHC8","v":0},{"$f":"'Data diagrams (noprint)'!GHD8","v":0},{"$f":"'Data diagrams (noprint)'!GHE8","v":0},{"$f":"'Data diagrams (noprint)'!GHF8","v":0},{"$f":"'Data diagrams (noprint)'!GHG8","v":0},{"$f":"'Data diagrams (noprint)'!GHH8","v":0},{"$f":"'Data diagrams (noprint)'!GHI8","v":0},{"$f":"'Data diagrams (noprint)'!GHJ8","v":0},{"$f":"'Data diagrams (noprint)'!GHK8","v":0},{"$f":"'Data diagrams (noprint)'!GHL8","v":0},{"$f":"'Data diagrams (noprint)'!GHM8","v":0},{"$f":"'Data diagrams (noprint)'!GHN8","v":0},{"$f":"'Data diagrams (noprint)'!GHO8","v":0},{"$f":"'Data diagrams (noprint)'!GHP8","v":0},{"$f":"'Data diagrams (noprint)'!GHQ8","v":0},{"$f":"'Data diagrams (noprint)'!GHR8","v":0},{"$f":"'Data diagrams (noprint)'!GHS8","v":0},{"$f":"'Data diagrams (noprint)'!GHT8","v":0},{"$f":"'Data diagrams (noprint)'!GHU8","v":0},{"$f":"'Data diagrams (noprint)'!GHV8","v":0},{"$f":"'Data diagrams (noprint)'!GHW8","v":0},{"$f":"'Data diagrams (noprint)'!GHX8","v":0},{"$f":"'Data diagrams (noprint)'!GHY8","v":0},{"$f":"'Data diagrams (noprint)'!GHZ8","v":0},{"$f":"'Data diagrams (noprint)'!GIA8","v":0},{"$f":"'Data diagrams (noprint)'!GIB8","v":0},{"$f":"'Data diagrams (noprint)'!GIC8","v":0},{"$f":"'Data diagrams (noprint)'!GID8","v":0},{"$f":"'Data diagrams (noprint)'!GIE8","v":0},{"$f":"'Data diagrams (noprint)'!GIF8","v":0},{"$f":"'Data diagrams (noprint)'!GIG8","v":0},{"$f":"'Data diagrams (noprint)'!GIH8","v":0},{"$f":"'Data diagrams (noprint)'!GII8","v":0},{"$f":"'Data diagrams (noprint)'!GIJ8","v":0},{"$f":"'Data diagrams (noprint)'!GIK8","v":0},{"$f":"'Data diagrams (noprint)'!GIL8","v":0},{"$f":"'Data diagrams (noprint)'!GIM8","v":0},{"$f":"'Data diagrams (noprint)'!GIN8","v":0},{"$f":"'Data diagrams (noprint)'!GIO8","v":0},{"$f":"'Data diagrams (noprint)'!GIP8","v":0},{"$f":"'Data diagrams (noprint)'!GIQ8","v":0},{"$f":"'Data diagrams (noprint)'!GIR8","v":0},{"$f":"'Data diagrams (noprint)'!GIS8","v":0},{"$f":"'Data diagrams (noprint)'!GIT8","v":0},{"$f":"'Data diagrams (noprint)'!GIU8","v":0},{"$f":"'Data diagrams (noprint)'!GIV8","v":0},{"$f":"'Data diagrams (noprint)'!GIW8","v":0},{"$f":"'Data diagrams (noprint)'!GIX8","v":0},{"$f":"'Data diagrams (noprint)'!GIY8","v":0},{"$f":"'Data diagrams (noprint)'!GIZ8","v":0},{"$f":"'Data diagrams (noprint)'!GJA8","v":0},{"$f":"'Data diagrams (noprint)'!GJB8","v":0},{"$f":"'Data diagrams (noprint)'!GJC8","v":0},{"$f":"'Data diagrams (noprint)'!GJD8","v":0},{"$f":"'Data diagrams (noprint)'!GJE8","v":0},{"$f":"'Data diagrams (noprint)'!GJF8","v":0},{"$f":"'Data diagrams (noprint)'!GJG8","v":0},{"$f":"'Data diagrams (noprint)'!GJH8","v":0},{"$f":"'Data diagrams (noprint)'!GJI8","v":0},{"$f":"'Data diagrams (noprint)'!GJJ8","v":0},{"$f":"'Data diagrams (noprint)'!GJK8","v":0},{"$f":"'Data diagrams (noprint)'!GJL8","v":0},{"$f":"'Data diagrams (noprint)'!GJM8","v":0},{"$f":"'Data diagrams (noprint)'!GJN8","v":0},{"$f":"'Data diagrams (noprint)'!GJO8","v":0},{"$f":"'Data diagrams (noprint)'!GJP8","v":0},{"$f":"'Data diagrams (noprint)'!GJQ8","v":0},{"$f":"'Data diagrams (noprint)'!GJR8","v":0},{"$f":"'Data diagrams (noprint)'!GJS8","v":0},{"$f":"'Data diagrams (noprint)'!GJT8","v":0},{"$f":"'Data diagrams (noprint)'!GJU8","v":0},{"$f":"'Data diagrams (noprint)'!GJV8","v":0},{"$f":"'Data diagrams (noprint)'!GJW8","v":0},{"$f":"'Data diagrams (noprint)'!GJX8","v":0},{"$f":"'Data diagrams (noprint)'!GJY8","v":0},{"$f":"'Data diagrams (noprint)'!GJZ8","v":0},{"$f":"'Data diagrams (noprint)'!GKA8","v":0},{"$f":"'Data diagrams (noprint)'!GKB8","v":0},{"$f":"'Data diagrams (noprint)'!GKC8","v":0},{"$f":"'Data diagrams (noprint)'!GKD8","v":0},{"$f":"'Data diagrams (noprint)'!GKE8","v":0},{"$f":"'Data diagrams (noprint)'!GKF8","v":0},{"$f":"'Data diagrams (noprint)'!GKG8","v":0},{"$f":"'Data diagrams (noprint)'!GKH8","v":0},{"$f":"'Data diagrams (noprint)'!GKI8","v":0},{"$f":"'Data diagrams (noprint)'!GKJ8","v":0},{"$f":"'Data diagrams (noprint)'!GKK8","v":0},{"$f":"'Data diagrams (noprint)'!GKL8","v":0},{"$f":"'Data diagrams (noprint)'!GKM8","v":0},{"$f":"'Data diagrams (noprint)'!GKN8","v":0},{"$f":"'Data diagrams (noprint)'!GKO8","v":0},{"$f":"'Data diagrams (noprint)'!GKP8","v":0},{"$f":"'Data diagrams (noprint)'!GKQ8","v":0},{"$f":"'Data diagrams (noprint)'!GKR8","v":0},{"$f":"'Data diagrams (noprint)'!GKS8","v":0},{"$f":"'Data diagrams (noprint)'!GKT8","v":0},{"$f":"'Data diagrams (noprint)'!GKU8","v":0},{"$f":"'Data diagrams (noprint)'!GKV8","v":0},{"$f":"'Data diagrams (noprint)'!GKW8","v":0},{"$f":"'Data diagrams (noprint)'!GKX8","v":0},{"$f":"'Data diagrams (noprint)'!GKY8","v":0},{"$f":"'Data diagrams (noprint)'!GKZ8","v":0},{"$f":"'Data diagrams (noprint)'!GLA8","v":0},{"$f":"'Data diagrams (noprint)'!GLB8","v":0},{"$f":"'Data diagrams (noprint)'!GLC8","v":0},{"$f":"'Data diagrams (noprint)'!GLD8","v":0},{"$f":"'Data diagrams (noprint)'!GLE8","v":0},{"$f":"'Data diagrams (noprint)'!GLF8","v":0},{"$f":"'Data diagrams (noprint)'!GLG8","v":0},{"$f":"'Data diagrams (noprint)'!GLH8","v":0},{"$f":"'Data diagrams (noprint)'!GLI8","v":0},{"$f":"'Data diagrams (noprint)'!GLJ8","v":0},{"$f":"'Data diagrams (noprint)'!GLK8","v":0},{"$f":"'Data diagrams (noprint)'!GLL8","v":0},{"$f":"'Data diagrams (noprint)'!GLM8","v":0},{"$f":"'Data diagrams (noprint)'!GLN8","v":0},{"$f":"'Data diagrams (noprint)'!GLO8","v":0},{"$f":"'Data diagrams (noprint)'!GLP8","v":0},{"$f":"'Data diagrams (noprint)'!GLQ8","v":0},{"$f":"'Data diagrams (noprint)'!GLR8","v":0},{"$f":"'Data diagrams (noprint)'!GLS8","v":0},{"$f":"'Data diagrams (noprint)'!GLT8","v":0},{"$f":"'Data diagrams (noprint)'!GLU8","v":0},{"$f":"'Data diagrams (noprint)'!GLV8","v":0},{"$f":"'Data diagrams (noprint)'!GLW8","v":0},{"$f":"'Data diagrams (noprint)'!GLX8","v":0},{"$f":"'Data diagrams (noprint)'!GLY8","v":0},{"$f":"'Data diagrams (noprint)'!GLZ8","v":0},{"$f":"'Data diagrams (noprint)'!GMA8","v":0},{"$f":"'Data diagrams (noprint)'!GMB8","v":0},{"$f":"'Data diagrams (noprint)'!GMC8","v":0},{"$f":"'Data diagrams (noprint)'!GMD8","v":0},{"$f":"'Data diagrams (noprint)'!GME8","v":0},{"$f":"'Data diagrams (noprint)'!GMF8","v":0},{"$f":"'Data diagrams (noprint)'!GMG8","v":0},{"$f":"'Data diagrams (noprint)'!GMH8","v":0},{"$f":"'Data diagrams (noprint)'!GMI8","v":0},{"$f":"'Data diagrams (noprint)'!GMJ8","v":0},{"$f":"'Data diagrams (noprint)'!GMK8","v":0},{"$f":"'Data diagrams (noprint)'!GML8","v":0},{"$f":"'Data diagrams (noprint)'!GMM8","v":0},{"$f":"'Data diagrams (noprint)'!GMN8","v":0},{"$f":"'Data diagrams (noprint)'!GMO8","v":0},{"$f":"'Data diagrams (noprint)'!GMP8","v":0},{"$f":"'Data diagrams (noprint)'!GMQ8","v":0},{"$f":"'Data diagrams (noprint)'!GMR8","v":0},{"$f":"'Data diagrams (noprint)'!GMS8","v":0},{"$f":"'Data diagrams (noprint)'!GMT8","v":0},{"$f":"'Data diagrams (noprint)'!GMU8","v":0},{"$f":"'Data diagrams (noprint)'!GMV8","v":0},{"$f":"'Data diagrams (noprint)'!GMW8","v":0},{"$f":"'Data diagrams (noprint)'!GMX8","v":0},{"$f":"'Data diagrams (noprint)'!GMY8","v":0},{"$f":"'Data diagrams (noprint)'!GMZ8","v":0},{"$f":"'Data diagrams (noprint)'!GNA8","v":0},{"$f":"'Data diagrams (noprint)'!GNB8","v":0},{"$f":"'Data diagrams (noprint)'!GNC8","v":0},{"$f":"'Data diagrams (noprint)'!GND8","v":0},{"$f":"'Data diagrams (noprint)'!GNE8","v":0},{"$f":"'Data diagrams (noprint)'!GNF8","v":0},{"$f":"'Data diagrams (noprint)'!GNG8","v":0},{"$f":"'Data diagrams (noprint)'!GNH8","v":0},{"$f":"'Data diagrams (noprint)'!GNI8","v":0},{"$f":"'Data diagrams (noprint)'!GNJ8","v":0},{"$f":"'Data diagrams (noprint)'!GNK8","v":0},{"$f":"'Data diagrams (noprint)'!GNL8","v":0},{"$f":"'Data diagrams (noprint)'!GNM8","v":0},{"$f":"'Data diagrams (noprint)'!GNN8","v":0},{"$f":"'Data diagrams (noprint)'!GNO8","v":0},{"$f":"'Data diagrams (noprint)'!GNP8","v":0},{"$f":"'Data diagrams (noprint)'!GNQ8","v":0},{"$f":"'Data diagrams (noprint)'!GNR8","v":0},{"$f":"'Data diagrams (noprint)'!GNS8","v":0},{"$f":"'Data diagrams (noprint)'!GNT8","v":0},{"$f":"'Data diagrams (noprint)'!GNU8","v":0},{"$f":"'Data diagrams (noprint)'!GNV8","v":0},{"$f":"'Data diagrams (noprint)'!GNW8","v":0},{"$f":"'Data diagrams (noprint)'!GNX8","v":0},{"$f":"'Data diagrams (noprint)'!GNY8","v":0},{"$f":"'Data diagrams (noprint)'!GNZ8","v":0},{"$f":"'Data diagrams (noprint)'!GOA8","v":0},{"$f":"'Data diagrams (noprint)'!GOB8","v":0},{"$f":"'Data diagrams (noprint)'!GOC8","v":0},{"$f":"'Data diagrams (noprint)'!GOD8","v":0},{"$f":"'Data diagrams (noprint)'!GOE8","v":0},{"$f":"'Data diagrams (noprint)'!GOF8","v":0},{"$f":"'Data diagrams (noprint)'!GOG8","v":0},{"$f":"'Data diagrams (noprint)'!GOH8","v":0},{"$f":"'Data diagrams (noprint)'!GOI8","v":0},{"$f":"'Data diagrams (noprint)'!GOJ8","v":0},{"$f":"'Data diagrams (noprint)'!GOK8","v":0},{"$f":"'Data diagrams (noprint)'!GOL8","v":0},{"$f":"'Data diagrams (noprint)'!GOM8","v":0},{"$f":"'Data diagrams (noprint)'!GON8","v":0},{"$f":"'Data diagrams (noprint)'!GOO8","v":0},{"$f":"'Data diagrams (noprint)'!GOP8","v":0},{"$f":"'Data diagrams (noprint)'!GOQ8","v":0},{"$f":"'Data diagrams (noprint)'!GOR8","v":0},{"$f":"'Data diagrams (noprint)'!GOS8","v":0},{"$f":"'Data diagrams (noprint)'!GOT8","v":0},{"$f":"'Data diagrams (noprint)'!GOU8","v":0},{"$f":"'Data diagrams (noprint)'!GOV8","v":0},{"$f":"'Data diagrams (noprint)'!GOW8","v":0},{"$f":"'Data diagrams (noprint)'!GOX8","v":0},{"$f":"'Data diagrams (noprint)'!GOY8","v":0},{"$f":"'Data diagrams (noprint)'!GOZ8","v":0},{"$f":"'Data diagrams (noprint)'!GPA8","v":0},{"$f":"'Data diagrams (noprint)'!GPB8","v":0},{"$f":"'Data diagrams (noprint)'!GPC8","v":0},{"$f":"'Data diagrams (noprint)'!GPD8","v":0},{"$f":"'Data diagrams (noprint)'!GPE8","v":0},{"$f":"'Data diagrams (noprint)'!GPF8","v":0},{"$f":"'Data diagrams (noprint)'!GPG8","v":0},{"$f":"'Data diagrams (noprint)'!GPH8","v":0},{"$f":"'Data diagrams (noprint)'!GPI8","v":0},{"$f":"'Data diagrams (noprint)'!GPJ8","v":0},{"$f":"'Data diagrams (noprint)'!GPK8","v":0},{"$f":"'Data diagrams (noprint)'!GPL8","v":0},{"$f":"'Data diagrams (noprint)'!GPM8","v":0},{"$f":"'Data diagrams (noprint)'!GPN8","v":0},{"$f":"'Data diagrams (noprint)'!GPO8","v":0},{"$f":"'Data diagrams (noprint)'!GPP8","v":0},{"$f":"'Data diagrams (noprint)'!GPQ8","v":0},{"$f":"'Data diagrams (noprint)'!GPR8","v":0},{"$f":"'Data diagrams (noprint)'!GPS8","v":0},{"$f":"'Data diagrams (noprint)'!GPT8","v":0},{"$f":"'Data diagrams (noprint)'!GPU8","v":0},{"$f":"'Data diagrams (noprint)'!GPV8","v":0},{"$f":"'Data diagrams (noprint)'!GPW8","v":0},{"$f":"'Data diagrams (noprint)'!GPX8","v":0},{"$f":"'Data diagrams (noprint)'!GPY8","v":0},{"$f":"'Data diagrams (noprint)'!GPZ8","v":0},{"$f":"'Data diagrams (noprint)'!GQA8","v":0},{"$f":"'Data diagrams (noprint)'!GQB8","v":0},{"$f":"'Data diagrams (noprint)'!GQC8","v":0},{"$f":"'Data diagrams (noprint)'!GQD8","v":0},{"$f":"'Data diagrams (noprint)'!GQE8","v":0},{"$f":"'Data diagrams (noprint)'!GQF8","v":0},{"$f":"'Data diagrams (noprint)'!GQG8","v":0},{"$f":"'Data diagrams (noprint)'!GQH8","v":0},{"$f":"'Data diagrams (noprint)'!GQI8","v":0},{"$f":"'Data diagrams (noprint)'!GQJ8","v":0},{"$f":"'Data diagrams (noprint)'!GQK8","v":0},{"$f":"'Data diagrams (noprint)'!GQL8","v":0},{"$f":"'Data diagrams (noprint)'!GQM8","v":0},{"$f":"'Data diagrams (noprint)'!GQN8","v":0},{"$f":"'Data diagrams (noprint)'!GQO8","v":0},{"$f":"'Data diagrams (noprint)'!GQP8","v":0},{"$f":"'Data diagrams (noprint)'!GQQ8","v":0},{"$f":"'Data diagrams (noprint)'!GQR8","v":0},{"$f":"'Data diagrams (noprint)'!GQS8","v":0},{"$f":"'Data diagrams (noprint)'!GQT8","v":0},{"$f":"'Data diagrams (noprint)'!GQU8","v":0},{"$f":"'Data diagrams (noprint)'!GQV8","v":0},{"$f":"'Data diagrams (noprint)'!GQW8","v":0},{"$f":"'Data diagrams (noprint)'!GQX8","v":0},{"$f":"'Data diagrams (noprint)'!GQY8","v":0},{"$f":"'Data diagrams (noprint)'!GQZ8","v":0},{"$f":"'Data diagrams (noprint)'!GRA8","v":0},{"$f":"'Data diagrams (noprint)'!GRB8","v":0},{"$f":"'Data diagrams (noprint)'!GRC8","v":0},{"$f":"'Data diagrams (noprint)'!GRD8","v":0},{"$f":"'Data diagrams (noprint)'!GRE8","v":0},{"$f":"'Data diagrams (noprint)'!GRF8","v":0},{"$f":"'Data diagrams (noprint)'!GRG8","v":0},{"$f":"'Data diagrams (noprint)'!GRH8","v":0},{"$f":"'Data diagrams (noprint)'!GRI8","v":0},{"$f":"'Data diagrams (noprint)'!GRJ8","v":0},{"$f":"'Data diagrams (noprint)'!GRK8","v":0},{"$f":"'Data diagrams (noprint)'!GRL8","v":0},{"$f":"'Data diagrams (noprint)'!GRM8","v":0},{"$f":"'Data diagrams (noprint)'!GRN8","v":0},{"$f":"'Data diagrams (noprint)'!GRO8","v":0},{"$f":"'Data diagrams (noprint)'!GRP8","v":0},{"$f":"'Data diagrams (noprint)'!GRQ8","v":0},{"$f":"'Data diagrams (noprint)'!GRR8","v":0},{"$f":"'Data diagrams (noprint)'!GRS8","v":0},{"$f":"'Data diagrams (noprint)'!GRT8","v":0},{"$f":"'Data diagrams (noprint)'!GRU8","v":0},{"$f":"'Data diagrams (noprint)'!GRV8","v":0},{"$f":"'Data diagrams (noprint)'!GRW8","v":0},{"$f":"'Data diagrams (noprint)'!GRX8","v":0},{"$f":"'Data diagrams (noprint)'!GRY8","v":0},{"$f":"'Data diagrams (noprint)'!GRZ8","v":0},{"$f":"'Data diagrams (noprint)'!GSA8","v":0},{"$f":"'Data diagrams (noprint)'!GSB8","v":0},{"$f":"'Data diagrams (noprint)'!GSC8","v":0},{"$f":"'Data diagrams (noprint)'!GSD8","v":0},{"$f":"'Data diagrams (noprint)'!GSE8","v":0},{"$f":"'Data diagrams (noprint)'!GSF8","v":0},{"$f":"'Data diagrams (noprint)'!GSG8","v":0},{"$f":"'Data diagrams (noprint)'!GSH8","v":0},{"$f":"'Data diagrams (noprint)'!GSI8","v":0},{"$f":"'Data diagrams (noprint)'!GSJ8","v":0},{"$f":"'Data diagrams (noprint)'!GSK8","v":0},{"$f":"'Data diagrams (noprint)'!GSL8","v":0},{"$f":"'Data diagrams (noprint)'!GSM8","v":0},{"$f":"'Data diagrams (noprint)'!GSN8","v":0},{"$f":"'Data diagrams (noprint)'!GSO8","v":0},{"$f":"'Data diagrams (noprint)'!GSP8","v":0},{"$f":"'Data diagrams (noprint)'!GSQ8","v":0},{"$f":"'Data diagrams (noprint)'!GSR8","v":0},{"$f":"'Data diagrams (noprint)'!GSS8","v":0},{"$f":"'Data diagrams (noprint)'!GST8","v":0},{"$f":"'Data diagrams (noprint)'!GSU8","v":0},{"$f":"'Data diagrams (noprint)'!GSV8","v":0},{"$f":"'Data diagrams (noprint)'!GSW8","v":0},{"$f":"'Data diagrams (noprint)'!GSX8","v":0},{"$f":"'Data diagrams (noprint)'!GSY8","v":0},{"$f":"'Data diagrams (noprint)'!GSZ8","v":0},{"$f":"'Data diagrams (noprint)'!GTA8","v":0},{"$f":"'Data diagrams (noprint)'!GTB8","v":0},{"$f":"'Data diagrams (noprint)'!GTC8","v":0},{"$f":"'Data diagrams (noprint)'!GTD8","v":0},{"$f":"'Data diagrams (noprint)'!GTE8","v":0},{"$f":"'Data diagrams (noprint)'!GTF8","v":0},{"$f":"'Data diagrams (noprint)'!GTG8","v":0},{"$f":"'Data diagrams (noprint)'!GTH8","v":0},{"$f":"'Data diagrams (noprint)'!GTI8","v":0},{"$f":"'Data diagrams (noprint)'!GTJ8","v":0},{"$f":"'Data diagrams (noprint)'!GTK8","v":0},{"$f":"'Data diagrams (noprint)'!GTL8","v":0},{"$f":"'Data diagrams (noprint)'!GTM8","v":0},{"$f":"'Data diagrams (noprint)'!GTN8","v":0},{"$f":"'Data diagrams (noprint)'!GTO8","v":0},{"$f":"'Data diagrams (noprint)'!GTP8","v":0},{"$f":"'Data diagrams (noprint)'!GTQ8","v":0},{"$f":"'Data diagrams (noprint)'!GTR8","v":0},{"$f":"'Data diagrams (noprint)'!GTS8","v":0},{"$f":"'Data diagrams (noprint)'!GTT8","v":0},{"$f":"'Data diagrams (noprint)'!GTU8","v":0},{"$f":"'Data diagrams (noprint)'!GTV8","v":0},{"$f":"'Data diagrams (noprint)'!GTW8","v":0},{"$f":"'Data diagrams (noprint)'!GTX8","v":0},{"$f":"'Data diagrams (noprint)'!GTY8","v":0},{"$f":"'Data diagrams (noprint)'!GTZ8","v":0},{"$f":"'Data diagrams (noprint)'!GUA8","v":0},{"$f":"'Data diagrams (noprint)'!GUB8","v":0},{"$f":"'Data diagrams (noprint)'!GUC8","v":0},{"$f":"'Data diagrams (noprint)'!GUD8","v":0},{"$f":"'Data diagrams (noprint)'!GUE8","v":0},{"$f":"'Data diagrams (noprint)'!GUF8","v":0},{"$f":"'Data diagrams (noprint)'!GUG8","v":0},{"$f":"'Data diagrams (noprint)'!GUH8","v":0},{"$f":"'Data diagrams (noprint)'!GUI8","v":0},{"$f":"'Data diagrams (noprint)'!GUJ8","v":0},{"$f":"'Data diagrams (noprint)'!GUK8","v":0},{"$f":"'Data diagrams (noprint)'!GUL8","v":0},{"$f":"'Data diagrams (noprint)'!GUM8","v":0},{"$f":"'Data diagrams (noprint)'!GUN8","v":0},{"$f":"'Data diagrams (noprint)'!GUO8","v":0},{"$f":"'Data diagrams (noprint)'!GUP8","v":0},{"$f":"'Data diagrams (noprint)'!GUQ8","v":0},{"$f":"'Data diagrams (noprint)'!GUR8","v":0},{"$f":"'Data diagrams (noprint)'!GUS8","v":0},{"$f":"'Data diagrams (noprint)'!GUT8","v":0},{"$f":"'Data diagrams (noprint)'!GUU8","v":0},{"$f":"'Data diagrams (noprint)'!GUV8","v":0},{"$f":"'Data diagrams (noprint)'!GUW8","v":0},{"$f":"'Data diagrams (noprint)'!GUX8","v":0},{"$f":"'Data diagrams (noprint)'!GUY8","v":0},{"$f":"'Data diagrams (noprint)'!GUZ8","v":0},{"$f":"'Data diagrams (noprint)'!GVA8","v":0},{"$f":"'Data diagrams (noprint)'!GVB8","v":0},{"$f":"'Data diagrams (noprint)'!GVC8","v":0},{"$f":"'Data diagrams (noprint)'!GVD8","v":0},{"$f":"'Data diagrams (noprint)'!GVE8","v":0},{"$f":"'Data diagrams (noprint)'!GVF8","v":0},{"$f":"'Data diagrams (noprint)'!GVG8","v":0},{"$f":"'Data diagrams (noprint)'!GVH8","v":0},{"$f":"'Data diagrams (noprint)'!GVI8","v":0},{"$f":"'Data diagrams (noprint)'!GVJ8","v":0},{"$f":"'Data diagrams (noprint)'!GVK8","v":0},{"$f":"'Data diagrams (noprint)'!GVL8","v":0},{"$f":"'Data diagrams (noprint)'!GVM8","v":0},{"$f":"'Data diagrams (noprint)'!GVN8","v":0},{"$f":"'Data diagrams (noprint)'!GVO8","v":0},{"$f":"'Data diagrams (noprint)'!GVP8","v":0},{"$f":"'Data diagrams (noprint)'!GVQ8","v":0},{"$f":"'Data diagrams (noprint)'!GVR8","v":0},{"$f":"'Data diagrams (noprint)'!GVS8","v":0},{"$f":"'Data diagrams (noprint)'!GVT8","v":0},{"$f":"'Data diagrams (noprint)'!GVU8","v":0},{"$f":"'Data diagrams (noprint)'!GVV8","v":0},{"$f":"'Data diagrams (noprint)'!GVW8","v":0},{"$f":"'Data diagrams (noprint)'!GVX8","v":0},{"$f":"'Data diagrams (noprint)'!GVY8","v":0},{"$f":"'Data diagrams (noprint)'!GVZ8","v":0},{"$f":"'Data diagrams (noprint)'!GWA8","v":0},{"$f":"'Data diagrams (noprint)'!GWB8","v":0},{"$f":"'Data diagrams (noprint)'!GWC8","v":0},{"$f":"'Data diagrams (noprint)'!GWD8","v":0},{"$f":"'Data diagrams (noprint)'!GWE8","v":0},{"$f":"'Data diagrams (noprint)'!GWF8","v":0},{"$f":"'Data diagrams (noprint)'!GWG8","v":0},{"$f":"'Data diagrams (noprint)'!GWH8","v":0},{"$f":"'Data diagrams (noprint)'!GWI8","v":0},{"$f":"'Data diagrams (noprint)'!GWJ8","v":0},{"$f":"'Data diagrams (noprint)'!GWK8","v":0},{"$f":"'Data diagrams (noprint)'!GWL8","v":0},{"$f":"'Data diagrams (noprint)'!GWM8","v":0},{"$f":"'Data diagrams (noprint)'!GWN8","v":0},{"$f":"'Data diagrams (noprint)'!GWO8","v":0},{"$f":"'Data diagrams (noprint)'!GWP8","v":0},{"$f":"'Data diagrams (noprint)'!GWQ8","v":0},{"$f":"'Data diagrams (noprint)'!GWR8","v":0},{"$f":"'Data diagrams (noprint)'!GWS8","v":0},{"$f":"'Data diagrams (noprint)'!GWT8","v":0},{"$f":"'Data diagrams (noprint)'!GWU8","v":0},{"$f":"'Data diagrams (noprint)'!GWV8","v":0},{"$f":"'Data diagrams (noprint)'!GWW8","v":0},{"$f":"'Data diagrams (noprint)'!GWX8","v":0},{"$f":"'Data diagrams (noprint)'!GWY8","v":0},{"$f":"'Data diagrams (noprint)'!GWZ8","v":0},{"$f":"'Data diagrams (noprint)'!GXA8","v":0},{"$f":"'Data diagrams (noprint)'!GXB8","v":0},{"$f":"'Data diagrams (noprint)'!GXC8","v":0},{"$f":"'Data diagrams (noprint)'!GXD8","v":0},{"$f":"'Data diagrams (noprint)'!GXE8","v":0},{"$f":"'Data diagrams (noprint)'!GXF8","v":0},{"$f":"'Data diagrams (noprint)'!GXG8","v":0},{"$f":"'Data diagrams (noprint)'!GXH8","v":0},{"$f":"'Data diagrams (noprint)'!GXI8","v":0},{"$f":"'Data diagrams (noprint)'!GXJ8","v":0},{"$f":"'Data diagrams (noprint)'!GXK8","v":0},{"$f":"'Data diagrams (noprint)'!GXL8","v":0},{"$f":"'Data diagrams (noprint)'!GXM8","v":0},{"$f":"'Data diagrams (noprint)'!GXN8","v":0},{"$f":"'Data diagrams (noprint)'!GXO8","v":0},{"$f":"'Data diagrams (noprint)'!GXP8","v":0},{"$f":"'Data diagrams (noprint)'!GXQ8","v":0},{"$f":"'Data diagrams (noprint)'!GXR8","v":0},{"$f":"'Data diagrams (noprint)'!GXS8","v":0},{"$f":"'Data diagrams (noprint)'!GXT8","v":0},{"$f":"'Data diagrams (noprint)'!GXU8","v":0},{"$f":"'Data diagrams (noprint)'!GXV8","v":0},{"$f":"'Data diagrams (noprint)'!GXW8","v":0},{"$f":"'Data diagrams (noprint)'!GXX8","v":0},{"$f":"'Data diagrams (noprint)'!GXY8","v":0},{"$f":"'Data diagrams (noprint)'!GXZ8","v":0},{"$f":"'Data diagrams (noprint)'!GYA8","v":0},{"$f":"'Data diagrams (noprint)'!GYB8","v":0},{"$f":"'Data diagrams (noprint)'!GYC8","v":0},{"$f":"'Data diagrams (noprint)'!GYD8","v":0},{"$f":"'Data diagrams (noprint)'!GYE8","v":0},{"$f":"'Data diagrams (noprint)'!GYF8","v":0},{"$f":"'Data diagrams (noprint)'!GYG8","v":0},{"$f":"'Data diagrams (noprint)'!GYH8","v":0},{"$f":"'Data diagrams (noprint)'!GYI8","v":0},{"$f":"'Data diagrams (noprint)'!GYJ8","v":0},{"$f":"'Data diagrams (noprint)'!GYK8","v":0},{"$f":"'Data diagrams (noprint)'!GYL8","v":0},{"$f":"'Data diagrams (noprint)'!GYM8","v":0},{"$f":"'Data diagrams (noprint)'!GYN8","v":0},{"$f":"'Data diagrams (noprint)'!GYO8","v":0},{"$f":"'Data diagrams (noprint)'!GYP8","v":0},{"$f":"'Data diagrams (noprint)'!GYQ8","v":0},{"$f":"'Data diagrams (noprint)'!GYR8","v":0},{"$f":"'Data diagrams (noprint)'!GYS8","v":0},{"$f":"'Data diagrams (noprint)'!GYT8","v":0},{"$f":"'Data diagrams (noprint)'!GYU8","v":0},{"$f":"'Data diagrams (noprint)'!GYV8","v":0},{"$f":"'Data diagrams (noprint)'!GYW8","v":0},{"$f":"'Data diagrams (noprint)'!GYX8","v":0},{"$f":"'Data diagrams (noprint)'!GYY8","v":0},{"$f":"'Data diagrams (noprint)'!GYZ8","v":0},{"$f":"'Data diagrams (noprint)'!GZA8","v":0},{"$f":"'Data diagrams (noprint)'!GZB8","v":0},{"$f":"'Data diagrams (noprint)'!GZC8","v":0},{"$f":"'Data diagrams (noprint)'!GZD8","v":0},{"$f":"'Data diagrams (noprint)'!GZE8","v":0},{"$f":"'Data diagrams (noprint)'!GZF8","v":0},{"$f":"'Data diagrams (noprint)'!GZG8","v":0},{"$f":"'Data diagrams (noprint)'!GZH8","v":0},{"$f":"'Data diagrams (noprint)'!GZI8","v":0},{"$f":"'Data diagrams (noprint)'!GZJ8","v":0},{"$f":"'Data diagrams (noprint)'!GZK8","v":0},{"$f":"'Data diagrams (noprint)'!GZL8","v":0},{"$f":"'Data diagrams (noprint)'!GZM8","v":0},{"$f":"'Data diagrams (noprint)'!GZN8","v":0},{"$f":"'Data diagrams (noprint)'!GZO8","v":0},{"$f":"'Data diagrams (noprint)'!GZP8","v":0},{"$f":"'Data diagrams (noprint)'!GZQ8","v":0},{"$f":"'Data diagrams (noprint)'!GZR8","v":0},{"$f":"'Data diagrams (noprint)'!GZS8","v":0},{"$f":"'Data diagrams (noprint)'!GZT8","v":0},{"$f":"'Data diagrams (noprint)'!GZU8","v":0},{"$f":"'Data diagrams (noprint)'!GZV8","v":0},{"$f":"'Data diagrams (noprint)'!GZW8","v":0},{"$f":"'Data diagrams (noprint)'!GZX8","v":0},{"$f":"'Data diagrams (noprint)'!GZY8","v":0},{"$f":"'Data diagrams (noprint)'!GZZ8","v":0},{"$f":"'Data diagrams (noprint)'!HAA8","v":0},{"$f":"'Data diagrams (noprint)'!HAB8","v":0},{"$f":"'Data diagrams (noprint)'!HAC8","v":0},{"$f":"'Data diagrams (noprint)'!HAD8","v":0},{"$f":"'Data diagrams (noprint)'!HAE8","v":0},{"$f":"'Data diagrams (noprint)'!HAF8","v":0},{"$f":"'Data diagrams (noprint)'!HAG8","v":0},{"$f":"'Data diagrams (noprint)'!HAH8","v":0},{"$f":"'Data diagrams (noprint)'!HAI8","v":0},{"$f":"'Data diagrams (noprint)'!HAJ8","v":0},{"$f":"'Data diagrams (noprint)'!HAK8","v":0},{"$f":"'Data diagrams (noprint)'!HAL8","v":0},{"$f":"'Data diagrams (noprint)'!HAM8","v":0},{"$f":"'Data diagrams (noprint)'!HAN8","v":0},{"$f":"'Data diagrams (noprint)'!HAO8","v":0},{"$f":"'Data diagrams (noprint)'!HAP8","v":0},{"$f":"'Data diagrams (noprint)'!HAQ8","v":0},{"$f":"'Data diagrams (noprint)'!HAR8","v":0},{"$f":"'Data diagrams (noprint)'!HAS8","v":0},{"$f":"'Data diagrams (noprint)'!HAT8","v":0},{"$f":"'Data diagrams (noprint)'!HAU8","v":0},{"$f":"'Data diagrams (noprint)'!HAV8","v":0},{"$f":"'Data diagrams (noprint)'!HAW8","v":0},{"$f":"'Data diagrams (noprint)'!HAX8","v":0},{"$f":"'Data diagrams (noprint)'!HAY8","v":0},{"$f":"'Data diagrams (noprint)'!HAZ8","v":0},{"$f":"'Data diagrams (noprint)'!HBA8","v":0},{"$f":"'Data diagrams (noprint)'!HBB8","v":0},{"$f":"'Data diagrams (noprint)'!HBC8","v":0},{"$f":"'Data diagrams (noprint)'!HBD8","v":0},{"$f":"'Data diagrams (noprint)'!HBE8","v":0},{"$f":"'Data diagrams (noprint)'!HBF8","v":0},{"$f":"'Data diagrams (noprint)'!HBG8","v":0},{"$f":"'Data diagrams (noprint)'!HBH8","v":0},{"$f":"'Data diagrams (noprint)'!HBI8","v":0},{"$f":"'Data diagrams (noprint)'!HBJ8","v":0},{"$f":"'Data diagrams (noprint)'!HBK8","v":0},{"$f":"'Data diagrams (noprint)'!HBL8","v":0},{"$f":"'Data diagrams (noprint)'!HBM8","v":0},{"$f":"'Data diagrams (noprint)'!HBN8","v":0},{"$f":"'Data diagrams (noprint)'!HBO8","v":0},{"$f":"'Data diagrams (noprint)'!HBP8","v":0},{"$f":"'Data diagrams (noprint)'!HBQ8","v":0},{"$f":"'Data diagrams (noprint)'!HBR8","v":0},{"$f":"'Data diagrams (noprint)'!HBS8","v":0},{"$f":"'Data diagrams (noprint)'!HBT8","v":0},{"$f":"'Data diagrams (noprint)'!HBU8","v":0},{"$f":"'Data diagrams (noprint)'!HBV8","v":0},{"$f":"'Data diagrams (noprint)'!HBW8","v":0},{"$f":"'Data diagrams (noprint)'!HBX8","v":0},{"$f":"'Data diagrams (noprint)'!HBY8","v":0},{"$f":"'Data diagrams (noprint)'!HBZ8","v":0},{"$f":"'Data diagrams (noprint)'!HCA8","v":0},{"$f":"'Data diagrams (noprint)'!HCB8","v":0},{"$f":"'Data diagrams (noprint)'!HCC8","v":0},{"$f":"'Data diagrams (noprint)'!HCD8","v":0},{"$f":"'Data diagrams (noprint)'!HCE8","v":0},{"$f":"'Data diagrams (noprint)'!HCF8","v":0},{"$f":"'Data diagrams (noprint)'!HCG8","v":0},{"$f":"'Data diagrams (noprint)'!HCH8","v":0},{"$f":"'Data diagrams (noprint)'!HCI8","v":0},{"$f":"'Data diagrams (noprint)'!HCJ8","v":0},{"$f":"'Data diagrams (noprint)'!HCK8","v":0},{"$f":"'Data diagrams (noprint)'!HCL8","v":0},{"$f":"'Data diagrams (noprint)'!HCM8","v":0},{"$f":"'Data diagrams (noprint)'!HCN8","v":0},{"$f":"'Data diagrams (noprint)'!HCO8","v":0},{"$f":"'Data diagrams (noprint)'!HCP8","v":0},{"$f":"'Data diagrams (noprint)'!HCQ8","v":0},{"$f":"'Data diagrams (noprint)'!HCR8","v":0},{"$f":"'Data diagrams (noprint)'!HCS8","v":0},{"$f":"'Data diagrams (noprint)'!HCT8","v":0},{"$f":"'Data diagrams (noprint)'!HCU8","v":0},{"$f":"'Data diagrams (noprint)'!HCV8","v":0},{"$f":"'Data diagrams (noprint)'!HCW8","v":0},{"$f":"'Data diagrams (noprint)'!HCX8","v":0},{"$f":"'Data diagrams (noprint)'!HCY8","v":0},{"$f":"'Data diagrams (noprint)'!HCZ8","v":0},{"$f":"'Data diagrams (noprint)'!HDA8","v":0},{"$f":"'Data diagrams (noprint)'!HDB8","v":0},{"$f":"'Data diagrams (noprint)'!HDC8","v":0},{"$f":"'Data diagrams (noprint)'!HDD8","v":0},{"$f":"'Data diagrams (noprint)'!HDE8","v":0},{"$f":"'Data diagrams (noprint)'!HDF8","v":0},{"$f":"'Data diagrams (noprint)'!HDG8","v":0},{"$f":"'Data diagrams (noprint)'!HDH8","v":0},{"$f":"'Data diagrams (noprint)'!HDI8","v":0},{"$f":"'Data diagrams (noprint)'!HDJ8","v":0},{"$f":"'Data diagrams (noprint)'!HDK8","v":0},{"$f":"'Data diagrams (noprint)'!HDL8","v":0},{"$f":"'Data diagrams (noprint)'!HDM8","v":0},{"$f":"'Data diagrams (noprint)'!HDN8","v":0},{"$f":"'Data diagrams (noprint)'!HDO8","v":0},{"$f":"'Data diagrams (noprint)'!HDP8","v":0},{"$f":"'Data diagrams (noprint)'!HDQ8","v":0},{"$f":"'Data diagrams (noprint)'!HDR8","v":0},{"$f":"'Data diagrams (noprint)'!HDS8","v":0},{"$f":"'Data diagrams (noprint)'!HDT8","v":0},{"$f":"'Data diagrams (noprint)'!HDU8","v":0},{"$f":"'Data diagrams (noprint)'!HDV8","v":0},{"$f":"'Data diagrams (noprint)'!HDW8","v":0},{"$f":"'Data diagrams (noprint)'!HDX8","v":0},{"$f":"'Data diagrams (noprint)'!HDY8","v":0},{"$f":"'Data diagrams (noprint)'!HDZ8","v":0},{"$f":"'Data diagrams (noprint)'!HEA8","v":0},{"$f":"'Data diagrams (noprint)'!HEB8","v":0},{"$f":"'Data diagrams (noprint)'!HEC8","v":0},{"$f":"'Data diagrams (noprint)'!HED8","v":0},{"$f":"'Data diagrams (noprint)'!HEE8","v":0},{"$f":"'Data diagrams (noprint)'!HEF8","v":0},{"$f":"'Data diagrams (noprint)'!HEG8","v":0},{"$f":"'Data diagrams (noprint)'!HEH8","v":0},{"$f":"'Data diagrams (noprint)'!HEI8","v":0},{"$f":"'Data diagrams (noprint)'!HEJ8","v":0},{"$f":"'Data diagrams (noprint)'!HEK8","v":0},{"$f":"'Data diagrams (noprint)'!HEL8","v":0},{"$f":"'Data diagrams (noprint)'!HEM8","v":0},{"$f":"'Data diagrams (noprint)'!HEN8","v":0},{"$f":"'Data diagrams (noprint)'!HEO8","v":0},{"$f":"'Data diagrams (noprint)'!HEP8","v":0},{"$f":"'Data diagrams (noprint)'!HEQ8","v":0},{"$f":"'Data diagrams (noprint)'!HER8","v":0},{"$f":"'Data diagrams (noprint)'!HES8","v":0},{"$f":"'Data diagrams (noprint)'!HET8","v":0},{"$f":"'Data diagrams (noprint)'!HEU8","v":0},{"$f":"'Data diagrams (noprint)'!HEV8","v":0},{"$f":"'Data diagrams (noprint)'!HEW8","v":0},{"$f":"'Data diagrams (noprint)'!HEX8","v":0},{"$f":"'Data diagrams (noprint)'!HEY8","v":0},{"$f":"'Data diagrams (noprint)'!HEZ8","v":0},{"$f":"'Data diagrams (noprint)'!HFA8","v":0},{"$f":"'Data diagrams (noprint)'!HFB8","v":0},{"$f":"'Data diagrams (noprint)'!HFC8","v":0},{"$f":"'Data diagrams (noprint)'!HFD8","v":0},{"$f":"'Data diagrams (noprint)'!HFE8","v":0},{"$f":"'Data diagrams (noprint)'!HFF8","v":0},{"$f":"'Data diagrams (noprint)'!HFG8","v":0},{"$f":"'Data diagrams (noprint)'!HFH8","v":0},{"$f":"'Data diagrams (noprint)'!HFI8","v":0},{"$f":"'Data diagrams (noprint)'!HFJ8","v":0},{"$f":"'Data diagrams (noprint)'!HFK8","v":0},{"$f":"'Data diagrams (noprint)'!HFL8","v":0},{"$f":"'Data diagrams (noprint)'!HFM8","v":0},{"$f":"'Data diagrams (noprint)'!HFN8","v":0},{"$f":"'Data diagrams (noprint)'!HFO8","v":0},{"$f":"'Data diagrams (noprint)'!HFP8","v":0},{"$f":"'Data diagrams (noprint)'!HFQ8","v":0},{"$f":"'Data diagrams (noprint)'!HFR8","v":0},{"$f":"'Data diagrams (noprint)'!HFS8","v":0},{"$f":"'Data diagrams (noprint)'!HFT8","v":0},{"$f":"'Data diagrams (noprint)'!HFU8","v":0},{"$f":"'Data diagrams (noprint)'!HFV8","v":0},{"$f":"'Data diagrams (noprint)'!HFW8","v":0},{"$f":"'Data diagrams (noprint)'!HFX8","v":0},{"$f":"'Data diagrams (noprint)'!HFY8","v":0},{"$f":"'Data diagrams (noprint)'!HFZ8","v":0},{"$f":"'Data diagrams (noprint)'!HGA8","v":0},{"$f":"'Data diagrams (noprint)'!HGB8","v":0},{"$f":"'Data diagrams (noprint)'!HGC8","v":0},{"$f":"'Data diagrams (noprint)'!HGD8","v":0},{"$f":"'Data diagrams (noprint)'!HGE8","v":0},{"$f":"'Data diagrams (noprint)'!HGF8","v":0},{"$f":"'Data diagrams (noprint)'!HGG8","v":0},{"$f":"'Data diagrams (noprint)'!HGH8","v":0},{"$f":"'Data diagrams (noprint)'!HGI8","v":0},{"$f":"'Data diagrams (noprint)'!HGJ8","v":0},{"$f":"'Data diagrams (noprint)'!HGK8","v":0},{"$f":"'Data diagrams (noprint)'!HGL8","v":0},{"$f":"'Data diagrams (noprint)'!HGM8","v":0},{"$f":"'Data diagrams (noprint)'!HGN8","v":0},{"$f":"'Data diagrams (noprint)'!HGO8","v":0},{"$f":"'Data diagrams (noprint)'!HGP8","v":0},{"$f":"'Data diagrams (noprint)'!HGQ8","v":0},{"$f":"'Data diagrams (noprint)'!HGR8","v":0},{"$f":"'Data diagrams (noprint)'!HGS8","v":0},{"$f":"'Data diagrams (noprint)'!HGT8","v":0},{"$f":"'Data diagrams (noprint)'!HGU8","v":0},{"$f":"'Data diagrams (noprint)'!HGV8","v":0},{"$f":"'Data diagrams (noprint)'!HGW8","v":0},{"$f":"'Data diagrams (noprint)'!HGX8","v":0},{"$f":"'Data diagrams (noprint)'!HGY8","v":0},{"$f":"'Data diagrams (noprint)'!HGZ8","v":0},{"$f":"'Data diagrams (noprint)'!HHA8","v":0},{"$f":"'Data diagrams (noprint)'!HHB8","v":0},{"$f":"'Data diagrams (noprint)'!HHC8","v":0},{"$f":"'Data diagrams (noprint)'!HHD8","v":0},{"$f":"'Data diagrams (noprint)'!HHE8","v":0},{"$f":"'Data diagrams (noprint)'!HHF8","v":0},{"$f":"'Data diagrams (noprint)'!HHG8","v":0},{"$f":"'Data diagrams (noprint)'!HHH8","v":0},{"$f":"'Data diagrams (noprint)'!HHI8","v":0},{"$f":"'Data diagrams (noprint)'!HHJ8","v":0},{"$f":"'Data diagrams (noprint)'!HHK8","v":0},{"$f":"'Data diagrams (noprint)'!HHL8","v":0},{"$f":"'Data diagrams (noprint)'!HHM8","v":0},{"$f":"'Data diagrams (noprint)'!HHN8","v":0},{"$f":"'Data diagrams (noprint)'!HHO8","v":0},{"$f":"'Data diagrams (noprint)'!HHP8","v":0},{"$f":"'Data diagrams (noprint)'!HHQ8","v":0},{"$f":"'Data diagrams (noprint)'!HHR8","v":0},{"$f":"'Data diagrams (noprint)'!HHS8","v":0},{"$f":"'Data diagrams (noprint)'!HHT8","v":0},{"$f":"'Data diagrams (noprint)'!HHU8","v":0},{"$f":"'Data diagrams (noprint)'!HHV8","v":0},{"$f":"'Data diagrams (noprint)'!HHW8","v":0},{"$f":"'Data diagrams (noprint)'!HHX8","v":0},{"$f":"'Data diagrams (noprint)'!HHY8","v":0},{"$f":"'Data diagrams (noprint)'!HHZ8","v":0},{"$f":"'Data diagrams (noprint)'!HIA8","v":0},{"$f":"'Data diagrams (noprint)'!HIB8","v":0},{"$f":"'Data diagrams (noprint)'!HIC8","v":0},{"$f":"'Data diagrams (noprint)'!HID8","v":0},{"$f":"'Data diagrams (noprint)'!HIE8","v":0},{"$f":"'Data diagrams (noprint)'!HIF8","v":0},{"$f":"'Data diagrams (noprint)'!HIG8","v":0},{"$f":"'Data diagrams (noprint)'!HIH8","v":0},{"$f":"'Data diagrams (noprint)'!HII8","v":0},{"$f":"'Data diagrams (noprint)'!HIJ8","v":0},{"$f":"'Data diagrams (noprint)'!HIK8","v":0},{"$f":"'Data diagrams (noprint)'!HIL8","v":0},{"$f":"'Data diagrams (noprint)'!HIM8","v":0},{"$f":"'Data diagrams (noprint)'!HIN8","v":0},{"$f":"'Data diagrams (noprint)'!HIO8","v":0},{"$f":"'Data diagrams (noprint)'!HIP8","v":0},{"$f":"'Data diagrams (noprint)'!HIQ8","v":0},{"$f":"'Data diagrams (noprint)'!HIR8","v":0},{"$f":"'Data diagrams (noprint)'!HIS8","v":0},{"$f":"'Data diagrams (noprint)'!HIT8","v":0},{"$f":"'Data diagrams (noprint)'!HIU8","v":0},{"$f":"'Data diagrams (noprint)'!HIV8","v":0},{"$f":"'Data diagrams (noprint)'!HIW8","v":0},{"$f":"'Data diagrams (noprint)'!HIX8","v":0},{"$f":"'Data diagrams (noprint)'!HIY8","v":0},{"$f":"'Data diagrams (noprint)'!HIZ8","v":0},{"$f":"'Data diagrams (noprint)'!HJA8","v":0},{"$f":"'Data diagrams (noprint)'!HJB8","v":0},{"$f":"'Data diagrams (noprint)'!HJC8","v":0},{"$f":"'Data diagrams (noprint)'!HJD8","v":0},{"$f":"'Data diagrams (noprint)'!HJE8","v":0},{"$f":"'Data diagrams (noprint)'!HJF8","v":0},{"$f":"'Data diagrams (noprint)'!HJG8","v":0},{"$f":"'Data diagrams (noprint)'!HJH8","v":0},{"$f":"'Data diagrams (noprint)'!HJI8","v":0},{"$f":"'Data diagrams (noprint)'!HJJ8","v":0},{"$f":"'Data diagrams (noprint)'!HJK8","v":0},{"$f":"'Data diagrams (noprint)'!HJL8","v":0},{"$f":"'Data diagrams (noprint)'!HJM8","v":0},{"$f":"'Data diagrams (noprint)'!HJN8","v":0},{"$f":"'Data diagrams (noprint)'!HJO8","v":0},{"$f":"'Data diagrams (noprint)'!HJP8","v":0},{"$f":"'Data diagrams (noprint)'!HJQ8","v":0},{"$f":"'Data diagrams (noprint)'!HJR8","v":0},{"$f":"'Data diagrams (noprint)'!HJS8","v":0},{"$f":"'Data diagrams (noprint)'!HJT8","v":0},{"$f":"'Data diagrams (noprint)'!HJU8","v":0},{"$f":"'Data diagrams (noprint)'!HJV8","v":0},{"$f":"'Data diagrams (noprint)'!HJW8","v":0},{"$f":"'Data diagrams (noprint)'!HJX8","v":0},{"$f":"'Data diagrams (noprint)'!HJY8","v":0},{"$f":"'Data diagrams (noprint)'!HJZ8","v":0},{"$f":"'Data diagrams (noprint)'!HKA8","v":0},{"$f":"'Data diagrams (noprint)'!HKB8","v":0},{"$f":"'Data diagrams (noprint)'!HKC8","v":0},{"$f":"'Data diagrams (noprint)'!HKD8","v":0},{"$f":"'Data diagrams (noprint)'!HKE8","v":0},{"$f":"'Data diagrams (noprint)'!HKF8","v":0},{"$f":"'Data diagrams (noprint)'!HKG8","v":0},{"$f":"'Data diagrams (noprint)'!HKH8","v":0},{"$f":"'Data diagrams (noprint)'!HKI8","v":0},{"$f":"'Data diagrams (noprint)'!HKJ8","v":0},{"$f":"'Data diagrams (noprint)'!HKK8","v":0},{"$f":"'Data diagrams (noprint)'!HKL8","v":0},{"$f":"'Data diagrams (noprint)'!HKM8","v":0},{"$f":"'Data diagrams (noprint)'!HKN8","v":0},{"$f":"'Data diagrams (noprint)'!HKO8","v":0},{"$f":"'Data diagrams (noprint)'!HKP8","v":0},{"$f":"'Data diagrams (noprint)'!HKQ8","v":0},{"$f":"'Data diagrams (noprint)'!HKR8","v":0},{"$f":"'Data diagrams (noprint)'!HKS8","v":0},{"$f":"'Data diagrams (noprint)'!HKT8","v":0},{"$f":"'Data diagrams (noprint)'!HKU8","v":0},{"$f":"'Data diagrams (noprint)'!HKV8","v":0},{"$f":"'Data diagrams (noprint)'!HKW8","v":0},{"$f":"'Data diagrams (noprint)'!HKX8","v":0},{"$f":"'Data diagrams (noprint)'!HKY8","v":0},{"$f":"'Data diagrams (noprint)'!HKZ8","v":0},{"$f":"'Data diagrams (noprint)'!HLA8","v":0},{"$f":"'Data diagrams (noprint)'!HLB8","v":0},{"$f":"'Data diagrams (noprint)'!HLC8","v":0},{"$f":"'Data diagrams (noprint)'!HLD8","v":0},{"$f":"'Data diagrams (noprint)'!HLE8","v":0},{"$f":"'Data diagrams (noprint)'!HLF8","v":0},{"$f":"'Data diagrams (noprint)'!HLG8","v":0},{"$f":"'Data diagrams (noprint)'!HLH8","v":0},{"$f":"'Data diagrams (noprint)'!HLI8","v":0},{"$f":"'Data diagrams (noprint)'!HLJ8","v":0},{"$f":"'Data diagrams (noprint)'!HLK8","v":0},{"$f":"'Data diagrams (noprint)'!HLL8","v":0},{"$f":"'Data diagrams (noprint)'!HLM8","v":0},{"$f":"'Data diagrams (noprint)'!HLN8","v":0},{"$f":"'Data diagrams (noprint)'!HLO8","v":0},{"$f":"'Data diagrams (noprint)'!HLP8","v":0},{"$f":"'Data diagrams (noprint)'!HLQ8","v":0},{"$f":"'Data diagrams (noprint)'!HLR8","v":0},{"$f":"'Data diagrams (noprint)'!HLS8","v":0},{"$f":"'Data diagrams (noprint)'!HLT8","v":0},{"$f":"'Data diagrams (noprint)'!HLU8","v":0},{"$f":"'Data diagrams (noprint)'!HLV8","v":0},{"$f":"'Data diagrams (noprint)'!HLW8","v":0},{"$f":"'Data diagrams (noprint)'!HLX8","v":0},{"$f":"'Data diagrams (noprint)'!HLY8","v":0},{"$f":"'Data diagrams (noprint)'!HLZ8","v":0},{"$f":"'Data diagrams (noprint)'!HMA8","v":0},{"$f":"'Data diagrams (noprint)'!HMB8","v":0},{"$f":"'Data diagrams (noprint)'!HMC8","v":0},{"$f":"'Data diagrams (noprint)'!HMD8","v":0},{"$f":"'Data diagrams (noprint)'!HME8","v":0},{"$f":"'Data diagrams (noprint)'!HMF8","v":0},{"$f":"'Data diagrams (noprint)'!HMG8","v":0},{"$f":"'Data diagrams (noprint)'!HMH8","v":0},{"$f":"'Data diagrams (noprint)'!HMI8","v":0},{"$f":"'Data diagrams (noprint)'!HMJ8","v":0},{"$f":"'Data diagrams (noprint)'!HMK8","v":0},{"$f":"'Data diagrams (noprint)'!HML8","v":0},{"$f":"'Data diagrams (noprint)'!HMM8","v":0},{"$f":"'Data diagrams (noprint)'!HMN8","v":0},{"$f":"'Data diagrams (noprint)'!HMO8","v":0},{"$f":"'Data diagrams (noprint)'!HMP8","v":0},{"$f":"'Data diagrams (noprint)'!HMQ8","v":0},{"$f":"'Data diagrams (noprint)'!HMR8","v":0},{"$f":"'Data diagrams (noprint)'!HMS8","v":0},{"$f":"'Data diagrams (noprint)'!HMT8","v":0},{"$f":"'Data diagrams (noprint)'!HMU8","v":0},{"$f":"'Data diagrams (noprint)'!HMV8","v":0},{"$f":"'Data diagrams (noprint)'!HMW8","v":0},{"$f":"'Data diagrams (noprint)'!HMX8","v":0},{"$f":"'Data diagrams (noprint)'!HMY8","v":0},{"$f":"'Data diagrams (noprint)'!HMZ8","v":0},{"$f":"'Data diagrams (noprint)'!HNA8","v":0},{"$f":"'Data diagrams (noprint)'!HNB8","v":0},{"$f":"'Data diagrams (noprint)'!HNC8","v":0},{"$f":"'Data diagrams (noprint)'!HND8","v":0},{"$f":"'Data diagrams (noprint)'!HNE8","v":0},{"$f":"'Data diagrams (noprint)'!HNF8","v":0},{"$f":"'Data diagrams (noprint)'!HNG8","v":0},{"$f":"'Data diagrams (noprint)'!HNH8","v":0},{"$f":"'Data diagrams (noprint)'!HNI8","v":0},{"$f":"'Data diagrams (noprint)'!HNJ8","v":0},{"$f":"'Data diagrams (noprint)'!HNK8","v":0},{"$f":"'Data diagrams (noprint)'!HNL8","v":0},{"$f":"'Data diagrams (noprint)'!HNM8","v":0},{"$f":"'Data diagrams (noprint)'!HNN8","v":0},{"$f":"'Data diagrams (noprint)'!HNO8","v":0},{"$f":"'Data diagrams (noprint)'!HNP8","v":0},{"$f":"'Data diagrams (noprint)'!HNQ8","v":0},{"$f":"'Data diagrams (noprint)'!HNR8","v":0},{"$f":"'Data diagrams (noprint)'!HNS8","v":0},{"$f":"'Data diagrams (noprint)'!HNT8","v":0},{"$f":"'Data diagrams (noprint)'!HNU8","v":0},{"$f":"'Data diagrams (noprint)'!HNV8","v":0},{"$f":"'Data diagrams (noprint)'!HNW8","v":0},{"$f":"'Data diagrams (noprint)'!HNX8","v":0},{"$f":"'Data diagrams (noprint)'!HNY8","v":0},{"$f":"'Data diagrams (noprint)'!HNZ8","v":0},{"$f":"'Data diagrams (noprint)'!HOA8","v":0},{"$f":"'Data diagrams (noprint)'!HOB8","v":0},{"$f":"'Data diagrams (noprint)'!HOC8","v":0},{"$f":"'Data diagrams (noprint)'!HOD8","v":0},{"$f":"'Data diagrams (noprint)'!HOE8","v":0},{"$f":"'Data diagrams (noprint)'!HOF8","v":0},{"$f":"'Data diagrams (noprint)'!HOG8","v":0},{"$f":"'Data diagrams (noprint)'!HOH8","v":0},{"$f":"'Data diagrams (noprint)'!HOI8","v":0},{"$f":"'Data diagrams (noprint)'!HOJ8","v":0},{"$f":"'Data diagrams (noprint)'!HOK8","v":0},{"$f":"'Data diagrams (noprint)'!HOL8","v":0},{"$f":"'Data diagrams (noprint)'!HOM8","v":0},{"$f":"'Data diagrams (noprint)'!HON8","v":0},{"$f":"'Data diagrams (noprint)'!HOO8","v":0},{"$f":"'Data diagrams (noprint)'!HOP8","v":0},{"$f":"'Data diagrams (noprint)'!HOQ8","v":0},{"$f":"'Data diagrams (noprint)'!HOR8","v":0},{"$f":"'Data diagrams (noprint)'!HOS8","v":0},{"$f":"'Data diagrams (noprint)'!HOT8","v":0},{"$f":"'Data diagrams (noprint)'!HOU8","v":0},{"$f":"'Data diagrams (noprint)'!HOV8","v":0},{"$f":"'Data diagrams (noprint)'!HOW8","v":0},{"$f":"'Data diagrams (noprint)'!HOX8","v":0},{"$f":"'Data diagrams (noprint)'!HOY8","v":0},{"$f":"'Data diagrams (noprint)'!HOZ8","v":0},{"$f":"'Data diagrams (noprint)'!HPA8","v":0},{"$f":"'Data diagrams (noprint)'!HPB8","v":0},{"$f":"'Data diagrams (noprint)'!HPC8","v":0},{"$f":"'Data diagrams (noprint)'!HPD8","v":0},{"$f":"'Data diagrams (noprint)'!HPE8","v":0},{"$f":"'Data diagrams (noprint)'!HPF8","v":0},{"$f":"'Data diagrams (noprint)'!HPG8","v":0},{"$f":"'Data diagrams (noprint)'!HPH8","v":0},{"$f":"'Data diagrams (noprint)'!HPI8","v":0},{"$f":"'Data diagrams (noprint)'!HPJ8","v":0},{"$f":"'Data diagrams (noprint)'!HPK8","v":0},{"$f":"'Data diagrams (noprint)'!HPL8","v":0},{"$f":"'Data diagrams (noprint)'!HPM8","v":0},{"$f":"'Data diagrams (noprint)'!HPN8","v":0},{"$f":"'Data diagrams (noprint)'!HPO8","v":0},{"$f":"'Data diagrams (noprint)'!HPP8","v":0},{"$f":"'Data diagrams (noprint)'!HPQ8","v":0},{"$f":"'Data diagrams (noprint)'!HPR8","v":0},{"$f":"'Data diagrams (noprint)'!HPS8","v":0},{"$f":"'Data diagrams (noprint)'!HPT8","v":0},{"$f":"'Data diagrams (noprint)'!HPU8","v":0},{"$f":"'Data diagrams (noprint)'!HPV8","v":0},{"$f":"'Data diagrams (noprint)'!HPW8","v":0},{"$f":"'Data diagrams (noprint)'!HPX8","v":0},{"$f":"'Data diagrams (noprint)'!HPY8","v":0},{"$f":"'Data diagrams (noprint)'!HPZ8","v":0},{"$f":"'Data diagrams (noprint)'!HQA8","v":0},{"$f":"'Data diagrams (noprint)'!HQB8","v":0},{"$f":"'Data diagrams (noprint)'!HQC8","v":0},{"$f":"'Data diagrams (noprint)'!HQD8","v":0},{"$f":"'Data diagrams (noprint)'!HQE8","v":0},{"$f":"'Data diagrams (noprint)'!HQF8","v":0},{"$f":"'Data diagrams (noprint)'!HQG8","v":0},{"$f":"'Data diagrams (noprint)'!HQH8","v":0},{"$f":"'Data diagrams (noprint)'!HQI8","v":0},{"$f":"'Data diagrams (noprint)'!HQJ8","v":0},{"$f":"'Data diagrams (noprint)'!HQK8","v":0},{"$f":"'Data diagrams (noprint)'!HQL8","v":0},{"$f":"'Data diagrams (noprint)'!HQM8","v":0},{"$f":"'Data diagrams (noprint)'!HQN8","v":0},{"$f":"'Data diagrams (noprint)'!HQO8","v":0},{"$f":"'Data diagrams (noprint)'!HQP8","v":0},{"$f":"'Data diagrams (noprint)'!HQQ8","v":0},{"$f":"'Data diagrams (noprint)'!HQR8","v":0},{"$f":"'Data diagrams (noprint)'!HQS8","v":0},{"$f":"'Data diagrams (noprint)'!HQT8","v":0},{"$f":"'Data diagrams (noprint)'!HQU8","v":0},{"$f":"'Data diagrams (noprint)'!HQV8","v":0},{"$f":"'Data diagrams (noprint)'!HQW8","v":0},{"$f":"'Data diagrams (noprint)'!HQX8","v":0},{"$f":"'Data diagrams (noprint)'!HQY8","v":0},{"$f":"'Data diagrams (noprint)'!HQZ8","v":0},{"$f":"'Data diagrams (noprint)'!HRA8","v":0},{"$f":"'Data diagrams (noprint)'!HRB8","v":0},{"$f":"'Data diagrams (noprint)'!HRC8","v":0},{"$f":"'Data diagrams (noprint)'!HRD8","v":0},{"$f":"'Data diagrams (noprint)'!HRE8","v":0},{"$f":"'Data diagrams (noprint)'!HRF8","v":0},{"$f":"'Data diagrams (noprint)'!HRG8","v":0},{"$f":"'Data diagrams (noprint)'!HRH8","v":0},{"$f":"'Data diagrams (noprint)'!HRI8","v":0},{"$f":"'Data diagrams (noprint)'!HRJ8","v":0},{"$f":"'Data diagrams (noprint)'!HRK8","v":0},{"$f":"'Data diagrams (noprint)'!HRL8","v":0},{"$f":"'Data diagrams (noprint)'!HRM8","v":0},{"$f":"'Data diagrams (noprint)'!HRN8","v":0},{"$f":"'Data diagrams (noprint)'!HRO8","v":0},{"$f":"'Data diagrams (noprint)'!HRP8","v":0},{"$f":"'Data diagrams (noprint)'!HRQ8","v":0},{"$f":"'Data diagrams (noprint)'!HRR8","v":0},{"$f":"'Data diagrams (noprint)'!HRS8","v":0},{"$f":"'Data diagrams (noprint)'!HRT8","v":0},{"$f":"'Data diagrams (noprint)'!HRU8","v":0},{"$f":"'Data diagrams (noprint)'!HRV8","v":0},{"$f":"'Data diagrams (noprint)'!HRW8","v":0},{"$f":"'Data diagrams (noprint)'!HRX8","v":0},{"$f":"'Data diagrams (noprint)'!HRY8","v":0},{"$f":"'Data diagrams (noprint)'!HRZ8","v":0},{"$f":"'Data diagrams (noprint)'!HSA8","v":0},{"$f":"'Data diagrams (noprint)'!HSB8","v":0},{"$f":"'Data diagrams (noprint)'!HSC8","v":0},{"$f":"'Data diagrams (noprint)'!HSD8","v":0},{"$f":"'Data diagrams (noprint)'!HSE8","v":0},{"$f":"'Data diagrams (noprint)'!HSF8","v":0},{"$f":"'Data diagrams (noprint)'!HSG8","v":0},{"$f":"'Data diagrams (noprint)'!HSH8","v":0},{"$f":"'Data diagrams (noprint)'!HSI8","v":0},{"$f":"'Data diagrams (noprint)'!HSJ8","v":0},{"$f":"'Data diagrams (noprint)'!HSK8","v":0},{"$f":"'Data diagrams (noprint)'!HSL8","v":0},{"$f":"'Data diagrams (noprint)'!HSM8","v":0},{"$f":"'Data diagrams (noprint)'!HSN8","v":0},{"$f":"'Data diagrams (noprint)'!HSO8","v":0},{"$f":"'Data diagrams (noprint)'!HSP8","v":0},{"$f":"'Data diagrams (noprint)'!HSQ8","v":0},{"$f":"'Data diagrams (noprint)'!HSR8","v":0},{"$f":"'Data diagrams (noprint)'!HSS8","v":0},{"$f":"'Data diagrams (noprint)'!HST8","v":0},{"$f":"'Data diagrams (noprint)'!HSU8","v":0},{"$f":"'Data diagrams (noprint)'!HSV8","v":0},{"$f":"'Data diagrams (noprint)'!HSW8","v":0},{"$f":"'Data diagrams (noprint)'!HSX8","v":0},{"$f":"'Data diagrams (noprint)'!HSY8","v":0},{"$f":"'Data diagrams (noprint)'!HSZ8","v":0},{"$f":"'Data diagrams (noprint)'!HTA8","v":0},{"$f":"'Data diagrams (noprint)'!HTB8","v":0},{"$f":"'Data diagrams (noprint)'!HTC8","v":0},{"$f":"'Data diagrams (noprint)'!HTD8","v":0},{"$f":"'Data diagrams (noprint)'!HTE8","v":0},{"$f":"'Data diagrams (noprint)'!HTF8","v":0},{"$f":"'Data diagrams (noprint)'!HTG8","v":0},{"$f":"'Data diagrams (noprint)'!HTH8","v":0},{"$f":"'Data diagrams (noprint)'!HTI8","v":0},{"$f":"'Data diagrams (noprint)'!HTJ8","v":0},{"$f":"'Data diagrams (noprint)'!HTK8","v":0},{"$f":"'Data diagrams (noprint)'!HTL8","v":0},{"$f":"'Data diagrams (noprint)'!HTM8","v":0},{"$f":"'Data diagrams (noprint)'!HTN8","v":0},{"$f":"'Data diagrams (noprint)'!HTO8","v":0},{"$f":"'Data diagrams (noprint)'!HTP8","v":0},{"$f":"'Data diagrams (noprint)'!HTQ8","v":0},{"$f":"'Data diagrams (noprint)'!HTR8","v":0},{"$f":"'Data diagrams (noprint)'!HTS8","v":0},{"$f":"'Data diagrams (noprint)'!HTT8","v":0},{"$f":"'Data diagrams (noprint)'!HTU8","v":0},{"$f":"'Data diagrams (noprint)'!HTV8","v":0},{"$f":"'Data diagrams (noprint)'!HTW8","v":0},{"$f":"'Data diagrams (noprint)'!HTX8","v":0},{"$f":"'Data diagrams (noprint)'!HTY8","v":0},{"$f":"'Data diagrams (noprint)'!HTZ8","v":0},{"$f":"'Data diagrams (noprint)'!HUA8","v":0},{"$f":"'Data diagrams (noprint)'!HUB8","v":0},{"$f":"'Data diagrams (noprint)'!HUC8","v":0},{"$f":"'Data diagrams (noprint)'!HUD8","v":0},{"$f":"'Data diagrams (noprint)'!HUE8","v":0},{"$f":"'Data diagrams (noprint)'!HUF8","v":0},{"$f":"'Data diagrams (noprint)'!HUG8","v":0},{"$f":"'Data diagrams (noprint)'!HUH8","v":0},{"$f":"'Data diagrams (noprint)'!HUI8","v":0},{"$f":"'Data diagrams (noprint)'!HUJ8","v":0},{"$f":"'Data diagrams (noprint)'!HUK8","v":0},{"$f":"'Data diagrams (noprint)'!HUL8","v":0},{"$f":"'Data diagrams (noprint)'!HUM8","v":0},{"$f":"'Data diagrams (noprint)'!HUN8","v":0},{"$f":"'Data diagrams (noprint)'!HUO8","v":0},{"$f":"'Data diagrams (noprint)'!HUP8","v":0},{"$f":"'Data diagrams (noprint)'!HUQ8","v":0},{"$f":"'Data diagrams (noprint)'!HUR8","v":0},{"$f":"'Data diagrams (noprint)'!HUS8","v":0},{"$f":"'Data diagrams (noprint)'!HUT8","v":0},{"$f":"'Data diagrams (noprint)'!HUU8","v":0},{"$f":"'Data diagrams (noprint)'!HUV8","v":0},{"$f":"'Data diagrams (noprint)'!HUW8","v":0},{"$f":"'Data diagrams (noprint)'!HUX8","v":0},{"$f":"'Data diagrams (noprint)'!HUY8","v":0},{"$f":"'Data diagrams (noprint)'!HUZ8","v":0},{"$f":"'Data diagrams (noprint)'!HVA8","v":0},{"$f":"'Data diagrams (noprint)'!HVB8","v":0},{"$f":"'Data diagrams (noprint)'!HVC8","v":0},{"$f":"'Data diagrams (noprint)'!HVD8","v":0},{"$f":"'Data diagrams (noprint)'!HVE8","v":0},{"$f":"'Data diagrams (noprint)'!HVF8","v":0},{"$f":"'Data diagrams (noprint)'!HVG8","v":0},{"$f":"'Data diagrams (noprint)'!HVH8","v":0},{"$f":"'Data diagrams (noprint)'!HVI8","v":0},{"$f":"'Data diagrams (noprint)'!HVJ8","v":0},{"$f":"'Data diagrams (noprint)'!HVK8","v":0},{"$f":"'Data diagrams (noprint)'!HVL8","v":0},{"$f":"'Data diagrams (noprint)'!HVM8","v":0},{"$f":"'Data diagrams (noprint)'!HVN8","v":0},{"$f":"'Data diagrams (noprint)'!HVO8","v":0},{"$f":"'Data diagrams (noprint)'!HVP8","v":0},{"$f":"'Data diagrams (noprint)'!HVQ8","v":0},{"$f":"'Data diagrams (noprint)'!HVR8","v":0},{"$f":"'Data diagrams (noprint)'!HVS8","v":0},{"$f":"'Data diagrams (noprint)'!HVT8","v":0},{"$f":"'Data diagrams (noprint)'!HVU8","v":0},{"$f":"'Data diagrams (noprint)'!HVV8","v":0},{"$f":"'Data diagrams (noprint)'!HVW8","v":0},{"$f":"'Data diagrams (noprint)'!HVX8","v":0},{"$f":"'Data diagrams (noprint)'!HVY8","v":0},{"$f":"'Data diagrams (noprint)'!HVZ8","v":0},{"$f":"'Data diagrams (noprint)'!HWA8","v":0},{"$f":"'Data diagrams (noprint)'!HWB8","v":0},{"$f":"'Data diagrams (noprint)'!HWC8","v":0},{"$f":"'Data diagrams (noprint)'!HWD8","v":0},{"$f":"'Data diagrams (noprint)'!HWE8","v":0},{"$f":"'Data diagrams (noprint)'!HWF8","v":0},{"$f":"'Data diagrams (noprint)'!HWG8","v":0},{"$f":"'Data diagrams (noprint)'!HWH8","v":0},{"$f":"'Data diagrams (noprint)'!HWI8","v":0},{"$f":"'Data diagrams (noprint)'!HWJ8","v":0},{"$f":"'Data diagrams (noprint)'!HWK8","v":0},{"$f":"'Data diagrams (noprint)'!HWL8","v":0},{"$f":"'Data diagrams (noprint)'!HWM8","v":0},{"$f":"'Data diagrams (noprint)'!HWN8","v":0},{"$f":"'Data diagrams (noprint)'!HWO8","v":0},{"$f":"'Data diagrams (noprint)'!HWP8","v":0},{"$f":"'Data diagrams (noprint)'!HWQ8","v":0},{"$f":"'Data diagrams (noprint)'!HWR8","v":0},{"$f":"'Data diagrams (noprint)'!HWS8","v":0},{"$f":"'Data diagrams (noprint)'!HWT8","v":0},{"$f":"'Data diagrams (noprint)'!HWU8","v":0},{"$f":"'Data diagrams (noprint)'!HWV8","v":0},{"$f":"'Data diagrams (noprint)'!HWW8","v":0},{"$f":"'Data diagrams (noprint)'!HWX8","v":0},{"$f":"'Data diagrams (noprint)'!HWY8","v":0},{"$f":"'Data diagrams (noprint)'!HWZ8","v":0},{"$f":"'Data diagrams (noprint)'!HXA8","v":0},{"$f":"'Data diagrams (noprint)'!HXB8","v":0},{"$f":"'Data diagrams (noprint)'!HXC8","v":0},{"$f":"'Data diagrams (noprint)'!HXD8","v":0},{"$f":"'Data diagrams (noprint)'!HXE8","v":0},{"$f":"'Data diagrams (noprint)'!HXF8","v":0},{"$f":"'Data diagrams (noprint)'!HXG8","v":0},{"$f":"'Data diagrams (noprint)'!HXH8","v":0},{"$f":"'Data diagrams (noprint)'!HXI8","v":0},{"$f":"'Data diagrams (noprint)'!HXJ8","v":0},{"$f":"'Data diagrams (noprint)'!HXK8","v":0},{"$f":"'Data diagrams (noprint)'!HXL8","v":0},{"$f":"'Data diagrams (noprint)'!HXM8","v":0},{"$f":"'Data diagrams (noprint)'!HXN8","v":0},{"$f":"'Data diagrams (noprint)'!HXO8","v":0},{"$f":"'Data diagrams (noprint)'!HXP8","v":0},{"$f":"'Data diagrams (noprint)'!HXQ8","v":0},{"$f":"'Data diagrams (noprint)'!HXR8","v":0},{"$f":"'Data diagrams (noprint)'!HXS8","v":0},{"$f":"'Data diagrams (noprint)'!HXT8","v":0},{"$f":"'Data diagrams (noprint)'!HXU8","v":0},{"$f":"'Data diagrams (noprint)'!HXV8","v":0},{"$f":"'Data diagrams (noprint)'!HXW8","v":0},{"$f":"'Data diagrams (noprint)'!HXX8","v":0},{"$f":"'Data diagrams (noprint)'!HXY8","v":0},{"$f":"'Data diagrams (noprint)'!HXZ8","v":0},{"$f":"'Data diagrams (noprint)'!HYA8","v":0},{"$f":"'Data diagrams (noprint)'!HYB8","v":0},{"$f":"'Data diagrams (noprint)'!HYC8","v":0},{"$f":"'Data diagrams (noprint)'!HYD8","v":0},{"$f":"'Data diagrams (noprint)'!HYE8","v":0},{"$f":"'Data diagrams (noprint)'!HYF8","v":0},{"$f":"'Data diagrams (noprint)'!HYG8","v":0},{"$f":"'Data diagrams (noprint)'!HYH8","v":0},{"$f":"'Data diagrams (noprint)'!HYI8","v":0},{"$f":"'Data diagrams (noprint)'!HYJ8","v":0},{"$f":"'Data diagrams (noprint)'!HYK8","v":0},{"$f":"'Data diagrams (noprint)'!HYL8","v":0},{"$f":"'Data diagrams (noprint)'!HYM8","v":0},{"$f":"'Data diagrams (noprint)'!HYN8","v":0},{"$f":"'Data diagrams (noprint)'!HYO8","v":0},{"$f":"'Data diagrams (noprint)'!HYP8","v":0},{"$f":"'Data diagrams (noprint)'!HYQ8","v":0},{"$f":"'Data diagrams (noprint)'!HYR8","v":0},{"$f":"'Data diagrams (noprint)'!HYS8","v":0},{"$f":"'Data diagrams (noprint)'!HYT8","v":0},{"$f":"'Data diagrams (noprint)'!HYU8","v":0},{"$f":"'Data diagrams (noprint)'!HYV8","v":0},{"$f":"'Data diagrams (noprint)'!HYW8","v":0},{"$f":"'Data diagrams (noprint)'!HYX8","v":0},{"$f":"'Data diagrams (noprint)'!HYY8","v":0},{"$f":"'Data diagrams (noprint)'!HYZ8","v":0},{"$f":"'Data diagrams (noprint)'!HZA8","v":0},{"$f":"'Data diagrams (noprint)'!HZB8","v":0},{"$f":"'Data diagrams (noprint)'!HZC8","v":0},{"$f":"'Data diagrams (noprint)'!HZD8","v":0},{"$f":"'Data diagrams (noprint)'!HZE8","v":0},{"$f":"'Data diagrams (noprint)'!HZF8","v":0},{"$f":"'Data diagrams (noprint)'!HZG8","v":0},{"$f":"'Data diagrams (noprint)'!HZH8","v":0},{"$f":"'Data diagrams (noprint)'!HZI8","v":0},{"$f":"'Data diagrams (noprint)'!HZJ8","v":0},{"$f":"'Data diagrams (noprint)'!HZK8","v":0},{"$f":"'Data diagrams (noprint)'!HZL8","v":0},{"$f":"'Data diagrams (noprint)'!HZM8","v":0},{"$f":"'Data diagrams (noprint)'!HZN8","v":0},{"$f":"'Data diagrams (noprint)'!HZO8","v":0},{"$f":"'Data diagrams (noprint)'!HZP8","v":0},{"$f":"'Data diagrams (noprint)'!HZQ8","v":0},{"$f":"'Data diagrams (noprint)'!HZR8","v":0},{"$f":"'Data diagrams (noprint)'!HZS8","v":0},{"$f":"'Data diagrams (noprint)'!HZT8","v":0},{"$f":"'Data diagrams (noprint)'!HZU8","v":0},{"$f":"'Data diagrams (noprint)'!HZV8","v":0},{"$f":"'Data diagrams (noprint)'!HZW8","v":0},{"$f":"'Data diagrams (noprint)'!HZX8","v":0},{"$f":"'Data diagrams (noprint)'!HZY8","v":0},{"$f":"'Data diagrams (noprint)'!HZZ8","v":0},{"$f":"'Data diagrams (noprint)'!IAA8","v":0},{"$f":"'Data diagrams (noprint)'!IAB8","v":0},{"$f":"'Data diagrams (noprint)'!IAC8","v":0},{"$f":"'Data diagrams (noprint)'!IAD8","v":0},{"$f":"'Data diagrams (noprint)'!IAE8","v":0},{"$f":"'Data diagrams (noprint)'!IAF8","v":0},{"$f":"'Data diagrams (noprint)'!IAG8","v":0},{"$f":"'Data diagrams (noprint)'!IAH8","v":0},{"$f":"'Data diagrams (noprint)'!IAI8","v":0},{"$f":"'Data diagrams (noprint)'!IAJ8","v":0},{"$f":"'Data diagrams (noprint)'!IAK8","v":0},{"$f":"'Data diagrams (noprint)'!IAL8","v":0},{"$f":"'Data diagrams (noprint)'!IAM8","v":0},{"$f":"'Data diagrams (noprint)'!IAN8","v":0},{"$f":"'Data diagrams (noprint)'!IAO8","v":0},{"$f":"'Data diagrams (noprint)'!IAP8","v":0},{"$f":"'Data diagrams (noprint)'!IAQ8","v":0},{"$f":"'Data diagrams (noprint)'!IAR8","v":0},{"$f":"'Data diagrams (noprint)'!IAS8","v":0},{"$f":"'Data diagrams (noprint)'!IAT8","v":0},{"$f":"'Data diagrams (noprint)'!IAU8","v":0},{"$f":"'Data diagrams (noprint)'!IAV8","v":0},{"$f":"'Data diagrams (noprint)'!IAW8","v":0},{"$f":"'Data diagrams (noprint)'!IAX8","v":0},{"$f":"'Data diagrams (noprint)'!IAY8","v":0},{"$f":"'Data diagrams (noprint)'!IAZ8","v":0},{"$f":"'Data diagrams (noprint)'!IBA8","v":0},{"$f":"'Data diagrams (noprint)'!IBB8","v":0},{"$f":"'Data diagrams (noprint)'!IBC8","v":0},{"$f":"'Data diagrams (noprint)'!IBD8","v":0},{"$f":"'Data diagrams (noprint)'!IBE8","v":0},{"$f":"'Data diagrams (noprint)'!IBF8","v":0},{"$f":"'Data diagrams (noprint)'!IBG8","v":0},{"$f":"'Data diagrams (noprint)'!IBH8","v":0},{"$f":"'Data diagrams (noprint)'!IBI8","v":0},{"$f":"'Data diagrams (noprint)'!IBJ8","v":0},{"$f":"'Data diagrams (noprint)'!IBK8","v":0},{"$f":"'Data diagrams (noprint)'!IBL8","v":0},{"$f":"'Data diagrams (noprint)'!IBM8","v":0},{"$f":"'Data diagrams (noprint)'!IBN8","v":0},{"$f":"'Data diagrams (noprint)'!IBO8","v":0},{"$f":"'Data diagrams (noprint)'!IBP8","v":0},{"$f":"'Data diagrams (noprint)'!IBQ8","v":0},{"$f":"'Data diagrams (noprint)'!IBR8","v":0},{"$f":"'Data diagrams (noprint)'!IBS8","v":0},{"$f":"'Data diagrams (noprint)'!IBT8","v":0},{"$f":"'Data diagrams (noprint)'!IBU8","v":0},{"$f":"'Data diagrams (noprint)'!IBV8","v":0},{"$f":"'Data diagrams (noprint)'!IBW8","v":0},{"$f":"'Data diagrams (noprint)'!IBX8","v":0},{"$f":"'Data diagrams (noprint)'!IBY8","v":0},{"$f":"'Data diagrams (noprint)'!IBZ8","v":0},{"$f":"'Data diagrams (noprint)'!ICA8","v":0},{"$f":"'Data diagrams (noprint)'!ICB8","v":0},{"$f":"'Data diagrams (noprint)'!ICC8","v":0},{"$f":"'Data diagrams (noprint)'!ICD8","v":0},{"$f":"'Data diagrams (noprint)'!ICE8","v":0},{"$f":"'Data diagrams (noprint)'!ICF8","v":0},{"$f":"'Data diagrams (noprint)'!ICG8","v":0},{"$f":"'Data diagrams (noprint)'!ICH8","v":0},{"$f":"'Data diagrams (noprint)'!ICI8","v":0},{"$f":"'Data diagrams (noprint)'!ICJ8","v":0},{"$f":"'Data diagrams (noprint)'!ICK8","v":0},{"$f":"'Data diagrams (noprint)'!ICL8","v":0},{"$f":"'Data diagrams (noprint)'!ICM8","v":0},{"$f":"'Data diagrams (noprint)'!ICN8","v":0},{"$f":"'Data diagrams (noprint)'!ICO8","v":0},{"$f":"'Data diagrams (noprint)'!ICP8","v":0},{"$f":"'Data diagrams (noprint)'!ICQ8","v":0},{"$f":"'Data diagrams (noprint)'!ICR8","v":0},{"$f":"'Data diagrams (noprint)'!ICS8","v":0},{"$f":"'Data diagrams (noprint)'!ICT8","v":0},{"$f":"'Data diagrams (noprint)'!ICU8","v":0},{"$f":"'Data diagrams (noprint)'!ICV8","v":0},{"$f":"'Data diagrams (noprint)'!ICW8","v":0},{"$f":"'Data diagrams (noprint)'!ICX8","v":0},{"$f":"'Data diagrams (noprint)'!ICY8","v":0},{"$f":"'Data diagrams (noprint)'!ICZ8","v":0},{"$f":"'Data diagrams (noprint)'!IDA8","v":0},{"$f":"'Data diagrams (noprint)'!IDB8","v":0},{"$f":"'Data diagrams (noprint)'!IDC8","v":0},{"$f":"'Data diagrams (noprint)'!IDD8","v":0},{"$f":"'Data diagrams (noprint)'!IDE8","v":0},{"$f":"'Data diagrams (noprint)'!IDF8","v":0},{"$f":"'Data diagrams (noprint)'!IDG8","v":0},{"$f":"'Data diagrams (noprint)'!IDH8","v":0},{"$f":"'Data diagrams (noprint)'!IDI8","v":0},{"$f":"'Data diagrams (noprint)'!IDJ8","v":0},{"$f":"'Data diagrams (noprint)'!IDK8","v":0},{"$f":"'Data diagrams (noprint)'!IDL8","v":0},{"$f":"'Data diagrams (noprint)'!IDM8","v":0},{"$f":"'Data diagrams (noprint)'!IDN8","v":0},{"$f":"'Data diagrams (noprint)'!IDO8","v":0},{"$f":"'Data diagrams (noprint)'!IDP8","v":0},{"$f":"'Data diagrams (noprint)'!IDQ8","v":0},{"$f":"'Data diagrams (noprint)'!IDR8","v":0},{"$f":"'Data diagrams (noprint)'!IDS8","v":0},{"$f":"'Data diagrams (noprint)'!IDT8","v":0},{"$f":"'Data diagrams (noprint)'!IDU8","v":0},{"$f":"'Data diagrams (noprint)'!IDV8","v":0},{"$f":"'Data diagrams (noprint)'!IDW8","v":0},{"$f":"'Data diagrams (noprint)'!IDX8","v":0},{"$f":"'Data diagrams (noprint)'!IDY8","v":0},{"$f":"'Data diagrams (noprint)'!IDZ8","v":0},{"$f":"'Data diagrams (noprint)'!IEA8","v":0},{"$f":"'Data diagrams (noprint)'!IEB8","v":0},{"$f":"'Data diagrams (noprint)'!IEC8","v":0},{"$f":"'Data diagrams (noprint)'!IED8","v":0},{"$f":"'Data diagrams (noprint)'!IEE8","v":0},{"$f":"'Data diagrams (noprint)'!IEF8","v":0},{"$f":"'Data diagrams (noprint)'!IEG8","v":0},{"$f":"'Data diagrams (noprint)'!IEH8","v":0},{"$f":"'Data diagrams (noprint)'!IEI8","v":0},{"$f":"'Data diagrams (noprint)'!IEJ8","v":0},{"$f":"'Data diagrams (noprint)'!IEK8","v":0},{"$f":"'Data diagrams (noprint)'!IEL8","v":0},{"$f":"'Data diagrams (noprint)'!IEM8","v":0},{"$f":"'Data diagrams (noprint)'!IEN8","v":0},{"$f":"'Data diagrams (noprint)'!IEO8","v":0},{"$f":"'Data diagrams (noprint)'!IEP8","v":0},{"$f":"'Data diagrams (noprint)'!IEQ8","v":0},{"$f":"'Data diagrams (noprint)'!IER8","v":0},{"$f":"'Data diagrams (noprint)'!IES8","v":0},{"$f":"'Data diagrams (noprint)'!IET8","v":0},{"$f":"'Data diagrams (noprint)'!IEU8","v":0},{"$f":"'Data diagrams (noprint)'!IEV8","v":0},{"$f":"'Data diagrams (noprint)'!IEW8","v":0},{"$f":"'Data diagrams (noprint)'!IEX8","v":0},{"$f":"'Data diagrams (noprint)'!IEY8","v":0},{"$f":"'Data diagrams (noprint)'!IEZ8","v":0},{"$f":"'Data diagrams (noprint)'!IFA8","v":0},{"$f":"'Data diagrams (noprint)'!IFB8","v":0},{"$f":"'Data diagrams (noprint)'!IFC8","v":0},{"$f":"'Data diagrams (noprint)'!IFD8","v":0},{"$f":"'Data diagrams (noprint)'!IFE8","v":0},{"$f":"'Data diagrams (noprint)'!IFF8","v":0},{"$f":"'Data diagrams (noprint)'!IFG8","v":0},{"$f":"'Data diagrams (noprint)'!IFH8","v":0},{"$f":"'Data diagrams (noprint)'!IFI8","v":0},{"$f":"'Data diagrams (noprint)'!IFJ8","v":0},{"$f":"'Data diagrams (noprint)'!IFK8","v":0},{"$f":"'Data diagrams (noprint)'!IFL8","v":0},{"$f":"'Data diagrams (noprint)'!IFM8","v":0},{"$f":"'Data diagrams (noprint)'!IFN8","v":0},{"$f":"'Data diagrams (noprint)'!IFO8","v":0},{"$f":"'Data diagrams (noprint)'!IFP8","v":0},{"$f":"'Data diagrams (noprint)'!IFQ8","v":0},{"$f":"'Data diagrams (noprint)'!IFR8","v":0},{"$f":"'Data diagrams (noprint)'!IFS8","v":0},{"$f":"'Data diagrams (noprint)'!IFT8","v":0},{"$f":"'Data diagrams (noprint)'!IFU8","v":0},{"$f":"'Data diagrams (noprint)'!IFV8","v":0},{"$f":"'Data diagrams (noprint)'!IFW8","v":0},{"$f":"'Data diagrams (noprint)'!IFX8","v":0},{"$f":"'Data diagrams (noprint)'!IFY8","v":0},{"$f":"'Data diagrams (noprint)'!IFZ8","v":0},{"$f":"'Data diagrams (noprint)'!IGA8","v":0},{"$f":"'Data diagrams (noprint)'!IGB8","v":0},{"$f":"'Data diagrams (noprint)'!IGC8","v":0},{"$f":"'Data diagrams (noprint)'!IGD8","v":0},{"$f":"'Data diagrams (noprint)'!IGE8","v":0},{"$f":"'Data diagrams (noprint)'!IGF8","v":0},{"$f":"'Data diagrams (noprint)'!IGG8","v":0},{"$f":"'Data diagrams (noprint)'!IGH8","v":0},{"$f":"'Data diagrams (noprint)'!IGI8","v":0},{"$f":"'Data diagrams (noprint)'!IGJ8","v":0},{"$f":"'Data diagrams (noprint)'!IGK8","v":0},{"$f":"'Data diagrams (noprint)'!IGL8","v":0},{"$f":"'Data diagrams (noprint)'!IGM8","v":0},{"$f":"'Data diagrams (noprint)'!IGN8","v":0},{"$f":"'Data diagrams (noprint)'!IGO8","v":0},{"$f":"'Data diagrams (noprint)'!IGP8","v":0},{"$f":"'Data diagrams (noprint)'!IGQ8","v":0},{"$f":"'Data diagrams (noprint)'!IGR8","v":0},{"$f":"'Data diagrams (noprint)'!IGS8","v":0},{"$f":"'Data diagrams (noprint)'!IGT8","v":0},{"$f":"'Data diagrams (noprint)'!IGU8","v":0},{"$f":"'Data diagrams (noprint)'!IGV8","v":0},{"$f":"'Data diagrams (noprint)'!IGW8","v":0},{"$f":"'Data diagrams (noprint)'!IGX8","v":0},{"$f":"'Data diagrams (noprint)'!IGY8","v":0},{"$f":"'Data diagrams (noprint)'!IGZ8","v":0},{"$f":"'Data diagrams (noprint)'!IHA8","v":0},{"$f":"'Data diagrams (noprint)'!IHB8","v":0},{"$f":"'Data diagrams (noprint)'!IHC8","v":0},{"$f":"'Data diagrams (noprint)'!IHD8","v":0},{"$f":"'Data diagrams (noprint)'!IHE8","v":0},{"$f":"'Data diagrams (noprint)'!IHF8","v":0},{"$f":"'Data diagrams (noprint)'!IHG8","v":0},{"$f":"'Data diagrams (noprint)'!IHH8","v":0},{"$f":"'Data diagrams (noprint)'!IHI8","v":0},{"$f":"'Data diagrams (noprint)'!IHJ8","v":0},{"$f":"'Data diagrams (noprint)'!IHK8","v":0},{"$f":"'Data diagrams (noprint)'!IHL8","v":0},{"$f":"'Data diagrams (noprint)'!IHM8","v":0},{"$f":"'Data diagrams (noprint)'!IHN8","v":0},{"$f":"'Data diagrams (noprint)'!IHO8","v":0},{"$f":"'Data diagrams (noprint)'!IHP8","v":0},{"$f":"'Data diagrams (noprint)'!IHQ8","v":0},{"$f":"'Data diagrams (noprint)'!IHR8","v":0},{"$f":"'Data diagrams (noprint)'!IHS8","v":0},{"$f":"'Data diagrams (noprint)'!IHT8","v":0},{"$f":"'Data diagrams (noprint)'!IHU8","v":0},{"$f":"'Data diagrams (noprint)'!IHV8","v":0},{"$f":"'Data diagrams (noprint)'!IHW8","v":0},{"$f":"'Data diagrams (noprint)'!IHX8","v":0},{"$f":"'Data diagrams (noprint)'!IHY8","v":0},{"$f":"'Data diagrams (noprint)'!IHZ8","v":0},{"$f":"'Data diagrams (noprint)'!IIA8","v":0},{"$f":"'Data diagrams (noprint)'!IIB8","v":0},{"$f":"'Data diagrams (noprint)'!IIC8","v":0},{"$f":"'Data diagrams (noprint)'!IID8","v":0},{"$f":"'Data diagrams (noprint)'!IIE8","v":0},{"$f":"'Data diagrams (noprint)'!IIF8","v":0},{"$f":"'Data diagrams (noprint)'!IIG8","v":0},{"$f":"'Data diagrams (noprint)'!IIH8","v":0},{"$f":"'Data diagrams (noprint)'!III8","v":0},{"$f":"'Data diagrams (noprint)'!IIJ8","v":0},{"$f":"'Data diagrams (noprint)'!IIK8","v":0},{"$f":"'Data diagrams (noprint)'!IIL8","v":0},{"$f":"'Data diagrams (noprint)'!IIM8","v":0},{"$f":"'Data diagrams (noprint)'!IIN8","v":0},{"$f":"'Data diagrams (noprint)'!IIO8","v":0},{"$f":"'Data diagrams (noprint)'!IIP8","v":0},{"$f":"'Data diagrams (noprint)'!IIQ8","v":0},{"$f":"'Data diagrams (noprint)'!IIR8","v":0},{"$f":"'Data diagrams (noprint)'!IIS8","v":0},{"$f":"'Data diagrams (noprint)'!IIT8","v":0},{"$f":"'Data diagrams (noprint)'!IIU8","v":0},{"$f":"'Data diagrams (noprint)'!IIV8","v":0},{"$f":"'Data diagrams (noprint)'!IIW8","v":0},{"$f":"'Data diagrams (noprint)'!IIX8","v":0},{"$f":"'Data diagrams (noprint)'!IIY8","v":0},{"$f":"'Data diagrams (noprint)'!IIZ8","v":0},{"$f":"'Data diagrams (noprint)'!IJA8","v":0},{"$f":"'Data diagrams (noprint)'!IJB8","v":0},{"$f":"'Data diagrams (noprint)'!IJC8","v":0},{"$f":"'Data diagrams (noprint)'!IJD8","v":0},{"$f":"'Data diagrams (noprint)'!IJE8","v":0},{"$f":"'Data diagrams (noprint)'!IJF8","v":0},{"$f":"'Data diagrams (noprint)'!IJG8","v":0},{"$f":"'Data diagrams (noprint)'!IJH8","v":0},{"$f":"'Data diagrams (noprint)'!IJI8","v":0},{"$f":"'Data diagrams (noprint)'!IJJ8","v":0},{"$f":"'Data diagrams (noprint)'!IJK8","v":0},{"$f":"'Data diagrams (noprint)'!IJL8","v":0},{"$f":"'Data diagrams (noprint)'!IJM8","v":0},{"$f":"'Data diagrams (noprint)'!IJN8","v":0},{"$f":"'Data diagrams (noprint)'!IJO8","v":0},{"$f":"'Data diagrams (noprint)'!IJP8","v":0},{"$f":"'Data diagrams (noprint)'!IJQ8","v":0},{"$f":"'Data diagrams (noprint)'!IJR8","v":0},{"$f":"'Data diagrams (noprint)'!IJS8","v":0},{"$f":"'Data diagrams (noprint)'!IJT8","v":0},{"$f":"'Data diagrams (noprint)'!IJU8","v":0},{"$f":"'Data diagrams (noprint)'!IJV8","v":0},{"$f":"'Data diagrams (noprint)'!IJW8","v":0},{"$f":"'Data diagrams (noprint)'!IJX8","v":0},{"$f":"'Data diagrams (noprint)'!IJY8","v":0},{"$f":"'Data diagrams (noprint)'!IJZ8","v":0},{"$f":"'Data diagrams (noprint)'!IKA8","v":0},{"$f":"'Data diagrams (noprint)'!IKB8","v":0},{"$f":"'Data diagrams (noprint)'!IKC8","v":0},{"$f":"'Data diagrams (noprint)'!IKD8","v":0},{"$f":"'Data diagrams (noprint)'!IKE8","v":0},{"$f":"'Data diagrams (noprint)'!IKF8","v":0},{"$f":"'Data diagrams (noprint)'!IKG8","v":0},{"$f":"'Data diagrams (noprint)'!IKH8","v":0},{"$f":"'Data diagrams (noprint)'!IKI8","v":0},{"$f":"'Data diagrams (noprint)'!IKJ8","v":0},{"$f":"'Data diagrams (noprint)'!IKK8","v":0},{"$f":"'Data diagrams (noprint)'!IKL8","v":0},{"$f":"'Data diagrams (noprint)'!IKM8","v":0},{"$f":"'Data diagrams (noprint)'!IKN8","v":0},{"$f":"'Data diagrams (noprint)'!IKO8","v":0},{"$f":"'Data diagrams (noprint)'!IKP8","v":0},{"$f":"'Data diagrams (noprint)'!IKQ8","v":0},{"$f":"'Data diagrams (noprint)'!IKR8","v":0},{"$f":"'Data diagrams (noprint)'!IKS8","v":0},{"$f":"'Data diagrams (noprint)'!IKT8","v":0},{"$f":"'Data diagrams (noprint)'!IKU8","v":0},{"$f":"'Data diagrams (noprint)'!IKV8","v":0},{"$f":"'Data diagrams (noprint)'!IKW8","v":0},{"$f":"'Data diagrams (noprint)'!IKX8","v":0},{"$f":"'Data diagrams (noprint)'!IKY8","v":0},{"$f":"'Data diagrams (noprint)'!IKZ8","v":0},{"$f":"'Data diagrams (noprint)'!ILA8","v":0},{"$f":"'Data diagrams (noprint)'!ILB8","v":0},{"$f":"'Data diagrams (noprint)'!ILC8","v":0},{"$f":"'Data diagrams (noprint)'!ILD8","v":0},{"$f":"'Data diagrams (noprint)'!ILE8","v":0},{"$f":"'Data diagrams (noprint)'!ILF8","v":0},{"$f":"'Data diagrams (noprint)'!ILG8","v":0},{"$f":"'Data diagrams (noprint)'!ILH8","v":0},{"$f":"'Data diagrams (noprint)'!ILI8","v":0},{"$f":"'Data diagrams (noprint)'!ILJ8","v":0},{"$f":"'Data diagrams (noprint)'!ILK8","v":0},{"$f":"'Data diagrams (noprint)'!ILL8","v":0},{"$f":"'Data diagrams (noprint)'!ILM8","v":0},{"$f":"'Data diagrams (noprint)'!ILN8","v":0},{"$f":"'Data diagrams (noprint)'!ILO8","v":0},{"$f":"'Data diagrams (noprint)'!ILP8","v":0},{"$f":"'Data diagrams (noprint)'!ILQ8","v":0},{"$f":"'Data diagrams (noprint)'!ILR8","v":0},{"$f":"'Data diagrams (noprint)'!ILS8","v":0},{"$f":"'Data diagrams (noprint)'!ILT8","v":0},{"$f":"'Data diagrams (noprint)'!ILU8","v":0},{"$f":"'Data diagrams (noprint)'!ILV8","v":0},{"$f":"'Data diagrams (noprint)'!ILW8","v":0},{"$f":"'Data diagrams (noprint)'!ILX8","v":0},{"$f":"'Data diagrams (noprint)'!ILY8","v":0},{"$f":"'Data diagrams (noprint)'!ILZ8","v":0},{"$f":"'Data diagrams (noprint)'!IMA8","v":0},{"$f":"'Data diagrams (noprint)'!IMB8","v":0},{"$f":"'Data diagrams (noprint)'!IMC8","v":0},{"$f":"'Data diagrams (noprint)'!IMD8","v":0},{"$f":"'Data diagrams (noprint)'!IME8","v":0},{"$f":"'Data diagrams (noprint)'!IMF8","v":0},{"$f":"'Data diagrams (noprint)'!IMG8","v":0},{"$f":"'Data diagrams (noprint)'!IMH8","v":0},{"$f":"'Data diagrams (noprint)'!IMI8","v":0},{"$f":"'Data diagrams (noprint)'!IMJ8","v":0},{"$f":"'Data diagrams (noprint)'!IMK8","v":0},{"$f":"'Data diagrams (noprint)'!IML8","v":0},{"$f":"'Data diagrams (noprint)'!IMM8","v":0},{"$f":"'Data diagrams (noprint)'!IMN8","v":0},{"$f":"'Data diagrams (noprint)'!IMO8","v":0},{"$f":"'Data diagrams (noprint)'!IMP8","v":0},{"$f":"'Data diagrams (noprint)'!IMQ8","v":0},{"$f":"'Data diagrams (noprint)'!IMR8","v":0},{"$f":"'Data diagrams (noprint)'!IMS8","v":0},{"$f":"'Data diagrams (noprint)'!IMT8","v":0},{"$f":"'Data diagrams (noprint)'!IMU8","v":0},{"$f":"'Data diagrams (noprint)'!IMV8","v":0},{"$f":"'Data diagrams (noprint)'!IMW8","v":0},{"$f":"'Data diagrams (noprint)'!IMX8","v":0},{"$f":"'Data diagrams (noprint)'!IMY8","v":0},{"$f":"'Data diagrams (noprint)'!IMZ8","v":0},{"$f":"'Data diagrams (noprint)'!INA8","v":0},{"$f":"'Data diagrams (noprint)'!INB8","v":0},{"$f":"'Data diagrams (noprint)'!INC8","v":0},{"$f":"'Data diagrams (noprint)'!IND8","v":0},{"$f":"'Data diagrams (noprint)'!INE8","v":0},{"$f":"'Data diagrams (noprint)'!INF8","v":0},{"$f":"'Data diagrams (noprint)'!ING8","v":0},{"$f":"'Data diagrams (noprint)'!INH8","v":0},{"$f":"'Data diagrams (noprint)'!INI8","v":0},{"$f":"'Data diagrams (noprint)'!INJ8","v":0},{"$f":"'Data diagrams (noprint)'!INK8","v":0},{"$f":"'Data diagrams (noprint)'!INL8","v":0},{"$f":"'Data diagrams (noprint)'!INM8","v":0},{"$f":"'Data diagrams (noprint)'!INN8","v":0},{"$f":"'Data diagrams (noprint)'!INO8","v":0},{"$f":"'Data diagrams (noprint)'!INP8","v":0},{"$f":"'Data diagrams (noprint)'!INQ8","v":0},{"$f":"'Data diagrams (noprint)'!INR8","v":0},{"$f":"'Data diagrams (noprint)'!INS8","v":0},{"$f":"'Data diagrams (noprint)'!INT8","v":0},{"$f":"'Data diagrams (noprint)'!INU8","v":0},{"$f":"'Data diagrams (noprint)'!INV8","v":0},{"$f":"'Data diagrams (noprint)'!INW8","v":0},{"$f":"'Data diagrams (noprint)'!INX8","v":0},{"$f":"'Data diagrams (noprint)'!INY8","v":0},{"$f":"'Data diagrams (noprint)'!INZ8","v":0},{"$f":"'Data diagrams (noprint)'!IOA8","v":0},{"$f":"'Data diagrams (noprint)'!IOB8","v":0},{"$f":"'Data diagrams (noprint)'!IOC8","v":0},{"$f":"'Data diagrams (noprint)'!IOD8","v":0},{"$f":"'Data diagrams (noprint)'!IOE8","v":0},{"$f":"'Data diagrams (noprint)'!IOF8","v":0},{"$f":"'Data diagrams (noprint)'!IOG8","v":0},{"$f":"'Data diagrams (noprint)'!IOH8","v":0},{"$f":"'Data diagrams (noprint)'!IOI8","v":0},{"$f":"'Data diagrams (noprint)'!IOJ8","v":0},{"$f":"'Data diagrams (noprint)'!IOK8","v":0},{"$f":"'Data diagrams (noprint)'!IOL8","v":0},{"$f":"'Data diagrams (noprint)'!IOM8","v":0},{"$f":"'Data diagrams (noprint)'!ION8","v":0},{"$f":"'Data diagrams (noprint)'!IOO8","v":0},{"$f":"'Data diagrams (noprint)'!IOP8","v":0},{"$f":"'Data diagrams (noprint)'!IOQ8","v":0},{"$f":"'Data diagrams (noprint)'!IOR8","v":0},{"$f":"'Data diagrams (noprint)'!IOS8","v":0},{"$f":"'Data diagrams (noprint)'!IOT8","v":0},{"$f":"'Data diagrams (noprint)'!IOU8","v":0},{"$f":"'Data diagrams (noprint)'!IOV8","v":0},{"$f":"'Data diagrams (noprint)'!IOW8","v":0},{"$f":"'Data diagrams (noprint)'!IOX8","v":0},{"$f":"'Data diagrams (noprint)'!IOY8","v":0},{"$f":"'Data diagrams (noprint)'!IOZ8","v":0},{"$f":"'Data diagrams (noprint)'!IPA8","v":0},{"$f":"'Data diagrams (noprint)'!IPB8","v":0},{"$f":"'Data diagrams (noprint)'!IPC8","v":0},{"$f":"'Data diagrams (noprint)'!IPD8","v":0},{"$f":"'Data diagrams (noprint)'!IPE8","v":0},{"$f":"'Data diagrams (noprint)'!IPF8","v":0},{"$f":"'Data diagrams (noprint)'!IPG8","v":0},{"$f":"'Data diagrams (noprint)'!IPH8","v":0},{"$f":"'Data diagrams (noprint)'!IPI8","v":0},{"$f":"'Data diagrams (noprint)'!IPJ8","v":0},{"$f":"'Data diagrams (noprint)'!IPK8","v":0},{"$f":"'Data diagrams (noprint)'!IPL8","v":0},{"$f":"'Data diagrams (noprint)'!IPM8","v":0},{"$f":"'Data diagrams (noprint)'!IPN8","v":0},{"$f":"'Data diagrams (noprint)'!IPO8","v":0},{"$f":"'Data diagrams (noprint)'!IPP8","v":0},{"$f":"'Data diagrams (noprint)'!IPQ8","v":0},{"$f":"'Data diagrams (noprint)'!IPR8","v":0},{"$f":"'Data diagrams (noprint)'!IPS8","v":0},{"$f":"'Data diagrams (noprint)'!IPT8","v":0},{"$f":"'Data diagrams (noprint)'!IPU8","v":0},{"$f":"'Data diagrams (noprint)'!IPV8","v":0},{"$f":"'Data diagrams (noprint)'!IPW8","v":0},{"$f":"'Data diagrams (noprint)'!IPX8","v":0},{"$f":"'Data diagrams (noprint)'!IPY8","v":0},{"$f":"'Data diagrams (noprint)'!IPZ8","v":0},{"$f":"'Data diagrams (noprint)'!IQA8","v":0},{"$f":"'Data diagrams (noprint)'!IQB8","v":0},{"$f":"'Data diagrams (noprint)'!IQC8","v":0},{"$f":"'Data diagrams (noprint)'!IQD8","v":0},{"$f":"'Data diagrams (noprint)'!IQE8","v":0},{"$f":"'Data diagrams (noprint)'!IQF8","v":0},{"$f":"'Data diagrams (noprint)'!IQG8","v":0},{"$f":"'Data diagrams (noprint)'!IQH8","v":0},{"$f":"'Data diagrams (noprint)'!IQI8","v":0},{"$f":"'Data diagrams (noprint)'!IQJ8","v":0},{"$f":"'Data diagrams (noprint)'!IQK8","v":0},{"$f":"'Data diagrams (noprint)'!IQL8","v":0},{"$f":"'Data diagrams (noprint)'!IQM8","v":0},{"$f":"'Data diagrams (noprint)'!IQN8","v":0},{"$f":"'Data diagrams (noprint)'!IQO8","v":0},{"$f":"'Data diagrams (noprint)'!IQP8","v":0},{"$f":"'Data diagrams (noprint)'!IQQ8","v":0},{"$f":"'Data diagrams (noprint)'!IQR8","v":0},{"$f":"'Data diagrams (noprint)'!IQS8","v":0},{"$f":"'Data diagrams (noprint)'!IQT8","v":0},{"$f":"'Data diagrams (noprint)'!IQU8","v":0},{"$f":"'Data diagrams (noprint)'!IQV8","v":0},{"$f":"'Data diagrams (noprint)'!IQW8","v":0},{"$f":"'Data diagrams (noprint)'!IQX8","v":0},{"$f":"'Data diagrams (noprint)'!IQY8","v":0},{"$f":"'Data diagrams (noprint)'!IQZ8","v":0},{"$f":"'Data diagrams (noprint)'!IRA8","v":0},{"$f":"'Data diagrams (noprint)'!IRB8","v":0},{"$f":"'Data diagrams (noprint)'!IRC8","v":0},{"$f":"'Data diagrams (noprint)'!IRD8","v":0},{"$f":"'Data diagrams (noprint)'!IRE8","v":0},{"$f":"'Data diagrams (noprint)'!IRF8","v":0},{"$f":"'Data diagrams (noprint)'!IRG8","v":0},{"$f":"'Data diagrams (noprint)'!IRH8","v":0},{"$f":"'Data diagrams (noprint)'!IRI8","v":0},{"$f":"'Data diagrams (noprint)'!IRJ8","v":0},{"$f":"'Data diagrams (noprint)'!IRK8","v":0},{"$f":"'Data diagrams (noprint)'!IRL8","v":0},{"$f":"'Data diagrams (noprint)'!IRM8","v":0},{"$f":"'Data diagrams (noprint)'!IRN8","v":0},{"$f":"'Data diagrams (noprint)'!IRO8","v":0},{"$f":"'Data diagrams (noprint)'!IRP8","v":0},{"$f":"'Data diagrams (noprint)'!IRQ8","v":0},{"$f":"'Data diagrams (noprint)'!IRR8","v":0},{"$f":"'Data diagrams (noprint)'!IRS8","v":0},{"$f":"'Data diagrams (noprint)'!IRT8","v":0},{"$f":"'Data diagrams (noprint)'!IRU8","v":0},{"$f":"'Data diagrams (noprint)'!IRV8","v":0},{"$f":"'Data diagrams (noprint)'!IRW8","v":0},{"$f":"'Data diagrams (noprint)'!IRX8","v":0},{"$f":"'Data diagrams (noprint)'!IRY8","v":0},{"$f":"'Data diagrams (noprint)'!IRZ8","v":0},{"$f":"'Data diagrams (noprint)'!ISA8","v":0},{"$f":"'Data diagrams (noprint)'!ISB8","v":0},{"$f":"'Data diagrams (noprint)'!ISC8","v":0},{"$f":"'Data diagrams (noprint)'!ISD8","v":0},{"$f":"'Data diagrams (noprint)'!ISE8","v":0},{"$f":"'Data diagrams (noprint)'!ISF8","v":0},{"$f":"'Data diagrams (noprint)'!ISG8","v":0},{"$f":"'Data diagrams (noprint)'!ISH8","v":0},{"$f":"'Data diagrams (noprint)'!ISI8","v":0},{"$f":"'Data diagrams (noprint)'!ISJ8","v":0},{"$f":"'Data diagrams (noprint)'!ISK8","v":0},{"$f":"'Data diagrams (noprint)'!ISL8","v":0},{"$f":"'Data diagrams (noprint)'!ISM8","v":0},{"$f":"'Data diagrams (noprint)'!ISN8","v":0},{"$f":"'Data diagrams (noprint)'!ISO8","v":0},{"$f":"'Data diagrams (noprint)'!ISP8","v":0},{"$f":"'Data diagrams (noprint)'!ISQ8","v":0},{"$f":"'Data diagrams (noprint)'!ISR8","v":0},{"$f":"'Data diagrams (noprint)'!ISS8","v":0},{"$f":"'Data diagrams (noprint)'!IST8","v":0},{"$f":"'Data diagrams (noprint)'!ISU8","v":0},{"$f":"'Data diagrams (noprint)'!ISV8","v":0},{"$f":"'Data diagrams (noprint)'!ISW8","v":0},{"$f":"'Data diagrams (noprint)'!ISX8","v":0},{"$f":"'Data diagrams (noprint)'!ISY8","v":0},{"$f":"'Data diagrams (noprint)'!ISZ8","v":0},{"$f":"'Data diagrams (noprint)'!ITA8","v":0},{"$f":"'Data diagrams (noprint)'!ITB8","v":0},{"$f":"'Data diagrams (noprint)'!ITC8","v":0},{"$f":"'Data diagrams (noprint)'!ITD8","v":0},{"$f":"'Data diagrams (noprint)'!ITE8","v":0},{"$f":"'Data diagrams (noprint)'!ITF8","v":0},{"$f":"'Data diagrams (noprint)'!ITG8","v":0},{"$f":"'Data diagrams (noprint)'!ITH8","v":0},{"$f":"'Data diagrams (noprint)'!ITI8","v":0},{"$f":"'Data diagrams (noprint)'!ITJ8","v":0},{"$f":"'Data diagrams (noprint)'!ITK8","v":0},{"$f":"'Data diagrams (noprint)'!ITL8","v":0},{"$f":"'Data diagrams (noprint)'!ITM8","v":0},{"$f":"'Data diagrams (noprint)'!ITN8","v":0},{"$f":"'Data diagrams (noprint)'!ITO8","v":0},{"$f":"'Data diagrams (noprint)'!ITP8","v":0},{"$f":"'Data diagrams (noprint)'!ITQ8","v":0},{"$f":"'Data diagrams (noprint)'!ITR8","v":0},{"$f":"'Data diagrams (noprint)'!ITS8","v":0},{"$f":"'Data diagrams (noprint)'!ITT8","v":0},{"$f":"'Data diagrams (noprint)'!ITU8","v":0},{"$f":"'Data diagrams (noprint)'!ITV8","v":0},{"$f":"'Data diagrams (noprint)'!ITW8","v":0},{"$f":"'Data diagrams (noprint)'!ITX8","v":0},{"$f":"'Data diagrams (noprint)'!ITY8","v":0},{"$f":"'Data diagrams (noprint)'!ITZ8","v":0},{"$f":"'Data diagrams (noprint)'!IUA8","v":0},{"$f":"'Data diagrams (noprint)'!IUB8","v":0},{"$f":"'Data diagrams (noprint)'!IUC8","v":0},{"$f":"'Data diagrams (noprint)'!IUD8","v":0},{"$f":"'Data diagrams (noprint)'!IUE8","v":0},{"$f":"'Data diagrams (noprint)'!IUF8","v":0},{"$f":"'Data diagrams (noprint)'!IUG8","v":0},{"$f":"'Data diagrams (noprint)'!IUH8","v":0},{"$f":"'Data diagrams (noprint)'!IUI8","v":0},{"$f":"'Data diagrams (noprint)'!IUJ8","v":0},{"$f":"'Data diagrams (noprint)'!IUK8","v":0},{"$f":"'Data diagrams (noprint)'!IUL8","v":0},{"$f":"'Data diagrams (noprint)'!IUM8","v":0},{"$f":"'Data diagrams (noprint)'!IUN8","v":0},{"$f":"'Data diagrams (noprint)'!IUO8","v":0},{"$f":"'Data diagrams (noprint)'!IUP8","v":0},{"$f":"'Data diagrams (noprint)'!IUQ8","v":0},{"$f":"'Data diagrams (noprint)'!IUR8","v":0},{"$f":"'Data diagrams (noprint)'!IUS8","v":0},{"$f":"'Data diagrams (noprint)'!IUT8","v":0},{"$f":"'Data diagrams (noprint)'!IUU8","v":0},{"$f":"'Data diagrams (noprint)'!IUV8","v":0},{"$f":"'Data diagrams (noprint)'!IUW8","v":0},{"$f":"'Data diagrams (noprint)'!IUX8","v":0},{"$f":"'Data diagrams (noprint)'!IUY8","v":0},{"$f":"'Data diagrams (noprint)'!IUZ8","v":0},{"$f":"'Data diagrams (noprint)'!IVA8","v":0},{"$f":"'Data diagrams (noprint)'!IVB8","v":0},{"$f":"'Data diagrams (noprint)'!IVC8","v":0},{"$f":"'Data diagrams (noprint)'!IVD8","v":0},{"$f":"'Data diagrams (noprint)'!IVE8","v":0},{"$f":"'Data diagrams (noprint)'!IVF8","v":0},{"$f":"'Data diagrams (noprint)'!IVG8","v":0},{"$f":"'Data diagrams (noprint)'!IVH8","v":0},{"$f":"'Data diagrams (noprint)'!IVI8","v":0},{"$f":"'Data diagrams (noprint)'!IVJ8","v":0},{"$f":"'Data diagrams (noprint)'!IVK8","v":0},{"$f":"'Data diagrams (noprint)'!IVL8","v":0},{"$f":"'Data diagrams (noprint)'!IVM8","v":0},{"$f":"'Data diagrams (noprint)'!IVN8","v":0},{"$f":"'Data diagrams (noprint)'!IVO8","v":0},{"$f":"'Data diagrams (noprint)'!IVP8","v":0},{"$f":"'Data diagrams (noprint)'!IVQ8","v":0},{"$f":"'Data diagrams (noprint)'!IVR8","v":0},{"$f":"'Data diagrams (noprint)'!IVS8","v":0},{"$f":"'Data diagrams (noprint)'!IVT8","v":0},{"$f":"'Data diagrams (noprint)'!IVU8","v":0},{"$f":"'Data diagrams (noprint)'!IVV8","v":0},{"$f":"'Data diagrams (noprint)'!IVW8","v":0},{"$f":"'Data diagrams (noprint)'!IVX8","v":0},{"$f":"'Data diagrams (noprint)'!IVY8","v":0},{"$f":"'Data diagrams (noprint)'!IVZ8","v":0},{"$f":"'Data diagrams (noprint)'!IWA8","v":0},{"$f":"'Data diagrams (noprint)'!IWB8","v":0},{"$f":"'Data diagrams (noprint)'!IWC8","v":0},{"$f":"'Data diagrams (noprint)'!IWD8","v":0},{"$f":"'Data diagrams (noprint)'!IWE8","v":0},{"$f":"'Data diagrams (noprint)'!IWF8","v":0},{"$f":"'Data diagrams (noprint)'!IWG8","v":0},{"$f":"'Data diagrams (noprint)'!IWH8","v":0},{"$f":"'Data diagrams (noprint)'!IWI8","v":0},{"$f":"'Data diagrams (noprint)'!IWJ8","v":0},{"$f":"'Data diagrams (noprint)'!IWK8","v":0},{"$f":"'Data diagrams (noprint)'!IWL8","v":0},{"$f":"'Data diagrams (noprint)'!IWM8","v":0},{"$f":"'Data diagrams (noprint)'!IWN8","v":0},{"$f":"'Data diagrams (noprint)'!IWO8","v":0},{"$f":"'Data diagrams (noprint)'!IWP8","v":0},{"$f":"'Data diagrams (noprint)'!IWQ8","v":0},{"$f":"'Data diagrams (noprint)'!IWR8","v":0},{"$f":"'Data diagrams (noprint)'!IWS8","v":0},{"$f":"'Data diagrams (noprint)'!IWT8","v":0},{"$f":"'Data diagrams (noprint)'!IWU8","v":0},{"$f":"'Data diagrams (noprint)'!IWV8","v":0},{"$f":"'Data diagrams (noprint)'!IWW8","v":0},{"$f":"'Data diagrams (noprint)'!IWX8","v":0},{"$f":"'Data diagrams (noprint)'!IWY8","v":0},{"$f":"'Data diagrams (noprint)'!IWZ8","v":0},{"$f":"'Data diagrams (noprint)'!IXA8","v":0},{"$f":"'Data diagrams (noprint)'!IXB8","v":0},{"$f":"'Data diagrams (noprint)'!IXC8","v":0},{"$f":"'Data diagrams (noprint)'!IXD8","v":0},{"$f":"'Data diagrams (noprint)'!IXE8","v":0},{"$f":"'Data diagrams (noprint)'!IXF8","v":0},{"$f":"'Data diagrams (noprint)'!IXG8","v":0},{"$f":"'Data diagrams (noprint)'!IXH8","v":0},{"$f":"'Data diagrams (noprint)'!IXI8","v":0},{"$f":"'Data diagrams (noprint)'!IXJ8","v":0},{"$f":"'Data diagrams (noprint)'!IXK8","v":0},{"$f":"'Data diagrams (noprint)'!IXL8","v":0},{"$f":"'Data diagrams (noprint)'!IXM8","v":0},{"$f":"'Data diagrams (noprint)'!IXN8","v":0},{"$f":"'Data diagrams (noprint)'!IXO8","v":0},{"$f":"'Data diagrams (noprint)'!IXP8","v":0},{"$f":"'Data diagrams (noprint)'!IXQ8","v":0},{"$f":"'Data diagrams (noprint)'!IXR8","v":0},{"$f":"'Data diagrams (noprint)'!IXS8","v":0},{"$f":"'Data diagrams (noprint)'!IXT8","v":0},{"$f":"'Data diagrams (noprint)'!IXU8","v":0},{"$f":"'Data diagrams (noprint)'!IXV8","v":0},{"$f":"'Data diagrams (noprint)'!IXW8","v":0},{"$f":"'Data diagrams (noprint)'!IXX8","v":0},{"$f":"'Data diagrams (noprint)'!IXY8","v":0},{"$f":"'Data diagrams (noprint)'!IXZ8","v":0},{"$f":"'Data diagrams (noprint)'!IYA8","v":0},{"$f":"'Data diagrams (noprint)'!IYB8","v":0},{"$f":"'Data diagrams (noprint)'!IYC8","v":0},{"$f":"'Data diagrams (noprint)'!IYD8","v":0},{"$f":"'Data diagrams (noprint)'!IYE8","v":0},{"$f":"'Data diagrams (noprint)'!IYF8","v":0},{"$f":"'Data diagrams (noprint)'!IYG8","v":0},{"$f":"'Data diagrams (noprint)'!IYH8","v":0},{"$f":"'Data diagrams (noprint)'!IYI8","v":0},{"$f":"'Data diagrams (noprint)'!IYJ8","v":0},{"$f":"'Data diagrams (noprint)'!IYK8","v":0},{"$f":"'Data diagrams (noprint)'!IYL8","v":0},{"$f":"'Data diagrams (noprint)'!IYM8","v":0},{"$f":"'Data diagrams (noprint)'!IYN8","v":0},{"$f":"'Data diagrams (noprint)'!IYO8","v":0},{"$f":"'Data diagrams (noprint)'!IYP8","v":0},{"$f":"'Data diagrams (noprint)'!IYQ8","v":0},{"$f":"'Data diagrams (noprint)'!IYR8","v":0},{"$f":"'Data diagrams (noprint)'!IYS8","v":0},{"$f":"'Data diagrams (noprint)'!IYT8","v":0},{"$f":"'Data diagrams (noprint)'!IYU8","v":0},{"$f":"'Data diagrams (noprint)'!IYV8","v":0},{"$f":"'Data diagrams (noprint)'!IYW8","v":0},{"$f":"'Data diagrams (noprint)'!IYX8","v":0},{"$f":"'Data diagrams (noprint)'!IYY8","v":0},{"$f":"'Data diagrams (noprint)'!IYZ8","v":0},{"$f":"'Data diagrams (noprint)'!IZA8","v":0},{"$f":"'Data diagrams (noprint)'!IZB8","v":0},{"$f":"'Data diagrams (noprint)'!IZC8","v":0},{"$f":"'Data diagrams (noprint)'!IZD8","v":0},{"$f":"'Data diagrams (noprint)'!IZE8","v":0},{"$f":"'Data diagrams (noprint)'!IZF8","v":0},{"$f":"'Data diagrams (noprint)'!IZG8","v":0},{"$f":"'Data diagrams (noprint)'!IZH8","v":0},{"$f":"'Data diagrams (noprint)'!IZI8","v":0},{"$f":"'Data diagrams (noprint)'!IZJ8","v":0},{"$f":"'Data diagrams (noprint)'!IZK8","v":0},{"$f":"'Data diagrams (noprint)'!IZL8","v":0},{"$f":"'Data diagrams (noprint)'!IZM8","v":0},{"$f":"'Data diagrams (noprint)'!IZN8","v":0},{"$f":"'Data diagrams (noprint)'!IZO8","v":0},{"$f":"'Data diagrams (noprint)'!IZP8","v":0},{"$f":"'Data diagrams (noprint)'!IZQ8","v":0},{"$f":"'Data diagrams (noprint)'!IZR8","v":0},{"$f":"'Data diagrams (noprint)'!IZS8","v":0},{"$f":"'Data diagrams (noprint)'!IZT8","v":0},{"$f":"'Data diagrams (noprint)'!IZU8","v":0},{"$f":"'Data diagrams (noprint)'!IZV8","v":0},{"$f":"'Data diagrams (noprint)'!IZW8","v":0},{"$f":"'Data diagrams (noprint)'!IZX8","v":0},{"$f":"'Data diagrams (noprint)'!IZY8","v":0},{"$f":"'Data diagrams (noprint)'!IZZ8","v":0},{"$f":"'Data diagrams (noprint)'!JAA8","v":0},{"$f":"'Data diagrams (noprint)'!JAB8","v":0},{"$f":"'Data diagrams (noprint)'!JAC8","v":0},{"$f":"'Data diagrams (noprint)'!JAD8","v":0},{"$f":"'Data diagrams (noprint)'!JAE8","v":0},{"$f":"'Data diagrams (noprint)'!JAF8","v":0},{"$f":"'Data diagrams (noprint)'!JAG8","v":0},{"$f":"'Data diagrams (noprint)'!JAH8","v":0},{"$f":"'Data diagrams (noprint)'!JAI8","v":0},{"$f":"'Data diagrams (noprint)'!JAJ8","v":0},{"$f":"'Data diagrams (noprint)'!JAK8","v":0},{"$f":"'Data diagrams (noprint)'!JAL8","v":0},{"$f":"'Data diagrams (noprint)'!JAM8","v":0},{"$f":"'Data diagrams (noprint)'!JAN8","v":0},{"$f":"'Data diagrams (noprint)'!JAO8","v":0},{"$f":"'Data diagrams (noprint)'!JAP8","v":0},{"$f":"'Data diagrams (noprint)'!JAQ8","v":0},{"$f":"'Data diagrams (noprint)'!JAR8","v":0},{"$f":"'Data diagrams (noprint)'!JAS8","v":0},{"$f":"'Data diagrams (noprint)'!JAT8","v":0},{"$f":"'Data diagrams (noprint)'!JAU8","v":0},{"$f":"'Data diagrams (noprint)'!JAV8","v":0},{"$f":"'Data diagrams (noprint)'!JAW8","v":0},{"$f":"'Data diagrams (noprint)'!JAX8","v":0},{"$f":"'Data diagrams (noprint)'!JAY8","v":0},{"$f":"'Data diagrams (noprint)'!JAZ8","v":0},{"$f":"'Data diagrams (noprint)'!JBA8","v":0},{"$f":"'Data diagrams (noprint)'!JBB8","v":0},{"$f":"'Data diagrams (noprint)'!JBC8","v":0},{"$f":"'Data diagrams (noprint)'!JBD8","v":0},{"$f":"'Data diagrams (noprint)'!JBE8","v":0},{"$f":"'Data diagrams (noprint)'!JBF8","v":0},{"$f":"'Data diagrams (noprint)'!JBG8","v":0},{"$f":"'Data diagrams (noprint)'!JBH8","v":0},{"$f":"'Data diagrams (noprint)'!JBI8","v":0},{"$f":"'Data diagrams (noprint)'!JBJ8","v":0},{"$f":"'Data diagrams (noprint)'!JBK8","v":0},{"$f":"'Data diagrams (noprint)'!JBL8","v":0},{"$f":"'Data diagrams (noprint)'!JBM8","v":0},{"$f":"'Data diagrams (noprint)'!JBN8","v":0},{"$f":"'Data diagrams (noprint)'!JBO8","v":0},{"$f":"'Data diagrams (noprint)'!JBP8","v":0},{"$f":"'Data diagrams (noprint)'!JBQ8","v":0},{"$f":"'Data diagrams (noprint)'!JBR8","v":0},{"$f":"'Data diagrams (noprint)'!JBS8","v":0},{"$f":"'Data diagrams (noprint)'!JBT8","v":0},{"$f":"'Data diagrams (noprint)'!JBU8","v":0},{"$f":"'Data diagrams (noprint)'!JBV8","v":0},{"$f":"'Data diagrams (noprint)'!JBW8","v":0},{"$f":"'Data diagrams (noprint)'!JBX8","v":0},{"$f":"'Data diagrams (noprint)'!JBY8","v":0},{"$f":"'Data diagrams (noprint)'!JBZ8","v":0},{"$f":"'Data diagrams (noprint)'!JCA8","v":0},{"$f":"'Data diagrams (noprint)'!JCB8","v":0},{"$f":"'Data diagrams (noprint)'!JCC8","v":0},{"$f":"'Data diagrams (noprint)'!JCD8","v":0},{"$f":"'Data diagrams (noprint)'!JCE8","v":0},{"$f":"'Data diagrams (noprint)'!JCF8","v":0},{"$f":"'Data diagrams (noprint)'!JCG8","v":0},{"$f":"'Data diagrams (noprint)'!JCH8","v":0},{"$f":"'Data diagrams (noprint)'!JCI8","v":0},{"$f":"'Data diagrams (noprint)'!JCJ8","v":0},{"$f":"'Data diagrams (noprint)'!JCK8","v":0},{"$f":"'Data diagrams (noprint)'!JCL8","v":0},{"$f":"'Data diagrams (noprint)'!JCM8","v":0},{"$f":"'Data diagrams (noprint)'!JCN8","v":0},{"$f":"'Data diagrams (noprint)'!JCO8","v":0},{"$f":"'Data diagrams (noprint)'!JCP8","v":0},{"$f":"'Data diagrams (noprint)'!JCQ8","v":0},{"$f":"'Data diagrams (noprint)'!JCR8","v":0},{"$f":"'Data diagrams (noprint)'!JCS8","v":0},{"$f":"'Data diagrams (noprint)'!JCT8","v":0},{"$f":"'Data diagrams (noprint)'!JCU8","v":0},{"$f":"'Data diagrams (noprint)'!JCV8","v":0},{"$f":"'Data diagrams (noprint)'!JCW8","v":0},{"$f":"'Data diagrams (noprint)'!JCX8","v":0},{"$f":"'Data diagrams (noprint)'!JCY8","v":0},{"$f":"'Data diagrams (noprint)'!JCZ8","v":0},{"$f":"'Data diagrams (noprint)'!JDA8","v":0},{"$f":"'Data diagrams (noprint)'!JDB8","v":0},{"$f":"'Data diagrams (noprint)'!JDC8","v":0},{"$f":"'Data diagrams (noprint)'!JDD8","v":0},{"$f":"'Data diagrams (noprint)'!JDE8","v":0},{"$f":"'Data diagrams (noprint)'!JDF8","v":0},{"$f":"'Data diagrams (noprint)'!JDG8","v":0},{"$f":"'Data diagrams (noprint)'!JDH8","v":0},{"$f":"'Data diagrams (noprint)'!JDI8","v":0},{"$f":"'Data diagrams (noprint)'!JDJ8","v":0},{"$f":"'Data diagrams (noprint)'!JDK8","v":0},{"$f":"'Data diagrams (noprint)'!JDL8","v":0},{"$f":"'Data diagrams (noprint)'!JDM8","v":0},{"$f":"'Data diagrams (noprint)'!JDN8","v":0},{"$f":"'Data diagrams (noprint)'!JDO8","v":0},{"$f":"'Data diagrams (noprint)'!JDP8","v":0},{"$f":"'Data diagrams (noprint)'!JDQ8","v":0},{"$f":"'Data diagrams (noprint)'!JDR8","v":0},{"$f":"'Data diagrams (noprint)'!JDS8","v":0},{"$f":"'Data diagrams (noprint)'!JDT8","v":0},{"$f":"'Data diagrams (noprint)'!JDU8","v":0},{"$f":"'Data diagrams (noprint)'!JDV8","v":0},{"$f":"'Data diagrams (noprint)'!JDW8","v":0},{"$f":"'Data diagrams (noprint)'!JDX8","v":0},{"$f":"'Data diagrams (noprint)'!JDY8","v":0},{"$f":"'Data diagrams (noprint)'!JDZ8","v":0},{"$f":"'Data diagrams (noprint)'!JEA8","v":0},{"$f":"'Data diagrams (noprint)'!JEB8","v":0},{"$f":"'Data diagrams (noprint)'!JEC8","v":0},{"$f":"'Data diagrams (noprint)'!JED8","v":0},{"$f":"'Data diagrams (noprint)'!JEE8","v":0},{"$f":"'Data diagrams (noprint)'!JEF8","v":0},{"$f":"'Data diagrams (noprint)'!JEG8","v":0},{"$f":"'Data diagrams (noprint)'!JEH8","v":0},{"$f":"'Data diagrams (noprint)'!JEI8","v":0},{"$f":"'Data diagrams (noprint)'!JEJ8","v":0},{"$f":"'Data diagrams (noprint)'!JEK8","v":0},{"$f":"'Data diagrams (noprint)'!JEL8","v":0},{"$f":"'Data diagrams (noprint)'!JEM8","v":0},{"$f":"'Data diagrams (noprint)'!JEN8","v":0},{"$f":"'Data diagrams (noprint)'!JEO8","v":0},{"$f":"'Data diagrams (noprint)'!JEP8","v":0},{"$f":"'Data diagrams (noprint)'!JEQ8","v":0},{"$f":"'Data diagrams (noprint)'!JER8","v":0},{"$f":"'Data diagrams (noprint)'!JES8","v":0},{"$f":"'Data diagrams (noprint)'!JET8","v":0},{"$f":"'Data diagrams (noprint)'!JEU8","v":0},{"$f":"'Data diagrams (noprint)'!JEV8","v":0},{"$f":"'Data diagrams (noprint)'!JEW8","v":0},{"$f":"'Data diagrams (noprint)'!JEX8","v":0},{"$f":"'Data diagrams (noprint)'!JEY8","v":0},{"$f":"'Data diagrams (noprint)'!JEZ8","v":0},{"$f":"'Data diagrams (noprint)'!JFA8","v":0},{"$f":"'Data diagrams (noprint)'!JFB8","v":0},{"$f":"'Data diagrams (noprint)'!JFC8","v":0},{"$f":"'Data diagrams (noprint)'!JFD8","v":0},{"$f":"'Data diagrams (noprint)'!JFE8","v":0},{"$f":"'Data diagrams (noprint)'!JFF8","v":0},{"$f":"'Data diagrams (noprint)'!JFG8","v":0},{"$f":"'Data diagrams (noprint)'!JFH8","v":0},{"$f":"'Data diagrams (noprint)'!JFI8","v":0},{"$f":"'Data diagrams (noprint)'!JFJ8","v":0},{"$f":"'Data diagrams (noprint)'!JFK8","v":0},{"$f":"'Data diagrams (noprint)'!JFL8","v":0},{"$f":"'Data diagrams (noprint)'!JFM8","v":0},{"$f":"'Data diagrams (noprint)'!JFN8","v":0},{"$f":"'Data diagrams (noprint)'!JFO8","v":0},{"$f":"'Data diagrams (noprint)'!JFP8","v":0},{"$f":"'Data diagrams (noprint)'!JFQ8","v":0},{"$f":"'Data diagrams (noprint)'!JFR8","v":0},{"$f":"'Data diagrams (noprint)'!JFS8","v":0},{"$f":"'Data diagrams (noprint)'!JFT8","v":0},{"$f":"'Data diagrams (noprint)'!JFU8","v":0},{"$f":"'Data diagrams (noprint)'!JFV8","v":0},{"$f":"'Data diagrams (noprint)'!JFW8","v":0},{"$f":"'Data diagrams (noprint)'!JFX8","v":0},{"$f":"'Data diagrams (noprint)'!JFY8","v":0},{"$f":"'Data diagrams (noprint)'!JFZ8","v":0},{"$f":"'Data diagrams (noprint)'!JGA8","v":0},{"$f":"'Data diagrams (noprint)'!JGB8","v":0},{"$f":"'Data diagrams (noprint)'!JGC8","v":0},{"$f":"'Data diagrams (noprint)'!JGD8","v":0},{"$f":"'Data diagrams (noprint)'!JGE8","v":0},{"$f":"'Data diagrams (noprint)'!JGF8","v":0},{"$f":"'Data diagrams (noprint)'!JGG8","v":0},{"$f":"'Data diagrams (noprint)'!JGH8","v":0},{"$f":"'Data diagrams (noprint)'!JGI8","v":0},{"$f":"'Data diagrams (noprint)'!JGJ8","v":0},{"$f":"'Data diagrams (noprint)'!JGK8","v":0},{"$f":"'Data diagrams (noprint)'!JGL8","v":0},{"$f":"'Data diagrams (noprint)'!JGM8","v":0},{"$f":"'Data diagrams (noprint)'!JGN8","v":0},{"$f":"'Data diagrams (noprint)'!JGO8","v":0},{"$f":"'Data diagrams (noprint)'!JGP8","v":0},{"$f":"'Data diagrams (noprint)'!JGQ8","v":0},{"$f":"'Data diagrams (noprint)'!JGR8","v":0},{"$f":"'Data diagrams (noprint)'!JGS8","v":0},{"$f":"'Data diagrams (noprint)'!JGT8","v":0},{"$f":"'Data diagrams (noprint)'!JGU8","v":0},{"$f":"'Data diagrams (noprint)'!JGV8","v":0},{"$f":"'Data diagrams (noprint)'!JGW8","v":0},{"$f":"'Data diagrams (noprint)'!JGX8","v":0},{"$f":"'Data diagrams (noprint)'!JGY8","v":0},{"$f":"'Data diagrams (noprint)'!JGZ8","v":0},{"$f":"'Data diagrams (noprint)'!JHA8","v":0},{"$f":"'Data diagrams (noprint)'!JHB8","v":0},{"$f":"'Data diagrams (noprint)'!JHC8","v":0},{"$f":"'Data diagrams (noprint)'!JHD8","v":0},{"$f":"'Data diagrams (noprint)'!JHE8","v":0},{"$f":"'Data diagrams (noprint)'!JHF8","v":0},{"$f":"'Data diagrams (noprint)'!JHG8","v":0},{"$f":"'Data diagrams (noprint)'!JHH8","v":0},{"$f":"'Data diagrams (noprint)'!JHI8","v":0},{"$f":"'Data diagrams (noprint)'!JHJ8","v":0},{"$f":"'Data diagrams (noprint)'!JHK8","v":0},{"$f":"'Data diagrams (noprint)'!JHL8","v":0},{"$f":"'Data diagrams (noprint)'!JHM8","v":0},{"$f":"'Data diagrams (noprint)'!JHN8","v":0},{"$f":"'Data diagrams (noprint)'!JHO8","v":0},{"$f":"'Data diagrams (noprint)'!JHP8","v":0},{"$f":"'Data diagrams (noprint)'!JHQ8","v":0},{"$f":"'Data diagrams (noprint)'!JHR8","v":0},{"$f":"'Data diagrams (noprint)'!JHS8","v":0},{"$f":"'Data diagrams (noprint)'!JHT8","v":0},{"$f":"'Data diagrams (noprint)'!JHU8","v":0},{"$f":"'Data diagrams (noprint)'!JHV8","v":0},{"$f":"'Data diagrams (noprint)'!JHW8","v":0},{"$f":"'Data diagrams (noprint)'!JHX8","v":0},{"$f":"'Data diagrams (noprint)'!JHY8","v":0},{"$f":"'Data diagrams (noprint)'!JHZ8","v":0},{"$f":"'Data diagrams (noprint)'!JIA8","v":0},{"$f":"'Data diagrams (noprint)'!JIB8","v":0},{"$f":"'Data diagrams (noprint)'!JIC8","v":0},{"$f":"'Data diagrams (noprint)'!JID8","v":0},{"$f":"'Data diagrams (noprint)'!JIE8","v":0},{"$f":"'Data diagrams (noprint)'!JIF8","v":0},{"$f":"'Data diagrams (noprint)'!JIG8","v":0},{"$f":"'Data diagrams (noprint)'!JIH8","v":0},{"$f":"'Data diagrams (noprint)'!JII8","v":0},{"$f":"'Data diagrams (noprint)'!JIJ8","v":0},{"$f":"'Data diagrams (noprint)'!JIK8","v":0},{"$f":"'Data diagrams (noprint)'!JIL8","v":0},{"$f":"'Data diagrams (noprint)'!JIM8","v":0},{"$f":"'Data diagrams (noprint)'!JIN8","v":0},{"$f":"'Data diagrams (noprint)'!JIO8","v":0},{"$f":"'Data diagrams (noprint)'!JIP8","v":0},{"$f":"'Data diagrams (noprint)'!JIQ8","v":0},{"$f":"'Data diagrams (noprint)'!JIR8","v":0},{"$f":"'Data diagrams (noprint)'!JIS8","v":0},{"$f":"'Data diagrams (noprint)'!JIT8","v":0},{"$f":"'Data diagrams (noprint)'!JIU8","v":0},{"$f":"'Data diagrams (noprint)'!JIV8","v":0},{"$f":"'Data diagrams (noprint)'!JIW8","v":0},{"$f":"'Data diagrams (noprint)'!JIX8","v":0},{"$f":"'Data diagrams (noprint)'!JIY8","v":0},{"$f":"'Data diagrams (noprint)'!JIZ8","v":0},{"$f":"'Data diagrams (noprint)'!JJA8","v":0},{"$f":"'Data diagrams (noprint)'!JJB8","v":0},{"$f":"'Data diagrams (noprint)'!JJC8","v":0},{"$f":"'Data diagrams (noprint)'!JJD8","v":0},{"$f":"'Data diagrams (noprint)'!JJE8","v":0},{"$f":"'Data diagrams (noprint)'!JJF8","v":0},{"$f":"'Data diagrams (noprint)'!JJG8","v":0},{"$f":"'Data diagrams (noprint)'!JJH8","v":0},{"$f":"'Data diagrams (noprint)'!JJI8","v":0},{"$f":"'Data diagrams (noprint)'!JJJ8","v":0},{"$f":"'Data diagrams (noprint)'!JJK8","v":0},{"$f":"'Data diagrams (noprint)'!JJL8","v":0},{"$f":"'Data diagrams (noprint)'!JJM8","v":0},{"$f":"'Data diagrams (noprint)'!JJN8","v":0},{"$f":"'Data diagrams (noprint)'!JJO8","v":0},{"$f":"'Data diagrams (noprint)'!JJP8","v":0},{"$f":"'Data diagrams (noprint)'!JJQ8","v":0},{"$f":"'Data diagrams (noprint)'!JJR8","v":0},{"$f":"'Data diagrams (noprint)'!JJS8","v":0},{"$f":"'Data diagrams (noprint)'!JJT8","v":0},{"$f":"'Data diagrams (noprint)'!JJU8","v":0},{"$f":"'Data diagrams (noprint)'!JJV8","v":0},{"$f":"'Data diagrams (noprint)'!JJW8","v":0},{"$f":"'Data diagrams (noprint)'!JJX8","v":0},{"$f":"'Data diagrams (noprint)'!JJY8","v":0},{"$f":"'Data diagrams (noprint)'!JJZ8","v":0},{"$f":"'Data diagrams (noprint)'!JKA8","v":0},{"$f":"'Data diagrams (noprint)'!JKB8","v":0},{"$f":"'Data diagrams (noprint)'!JKC8","v":0},{"$f":"'Data diagrams (noprint)'!JKD8","v":0},{"$f":"'Data diagrams (noprint)'!JKE8","v":0},{"$f":"'Data diagrams (noprint)'!JKF8","v":0},{"$f":"'Data diagrams (noprint)'!JKG8","v":0},{"$f":"'Data diagrams (noprint)'!JKH8","v":0},{"$f":"'Data diagrams (noprint)'!JKI8","v":0},{"$f":"'Data diagrams (noprint)'!JKJ8","v":0},{"$f":"'Data diagrams (noprint)'!JKK8","v":0},{"$f":"'Data diagrams (noprint)'!JKL8","v":0},{"$f":"'Data diagrams (noprint)'!JKM8","v":0},{"$f":"'Data diagrams (noprint)'!JKN8","v":0},{"$f":"'Data diagrams (noprint)'!JKO8","v":0},{"$f":"'Data diagrams (noprint)'!JKP8","v":0},{"$f":"'Data diagrams (noprint)'!JKQ8","v":0},{"$f":"'Data diagrams (noprint)'!JKR8","v":0},{"$f":"'Data diagrams (noprint)'!JKS8","v":0},{"$f":"'Data diagrams (noprint)'!JKT8","v":0},{"$f":"'Data diagrams (noprint)'!JKU8","v":0},{"$f":"'Data diagrams (noprint)'!JKV8","v":0},{"$f":"'Data diagrams (noprint)'!JKW8","v":0},{"$f":"'Data diagrams (noprint)'!JKX8","v":0},{"$f":"'Data diagrams (noprint)'!JKY8","v":0},{"$f":"'Data diagrams (noprint)'!JKZ8","v":0},{"$f":"'Data diagrams (noprint)'!JLA8","v":0},{"$f":"'Data diagrams (noprint)'!JLB8","v":0},{"$f":"'Data diagrams (noprint)'!JLC8","v":0},{"$f":"'Data diagrams (noprint)'!JLD8","v":0},{"$f":"'Data diagrams (noprint)'!JLE8","v":0},{"$f":"'Data diagrams (noprint)'!JLF8","v":0},{"$f":"'Data diagrams (noprint)'!JLG8","v":0},{"$f":"'Data diagrams (noprint)'!JLH8","v":0},{"$f":"'Data diagrams (noprint)'!JLI8","v":0},{"$f":"'Data diagrams (noprint)'!JLJ8","v":0},{"$f":"'Data diagrams (noprint)'!JLK8","v":0},{"$f":"'Data diagrams (noprint)'!JLL8","v":0},{"$f":"'Data diagrams (noprint)'!JLM8","v":0},{"$f":"'Data diagrams (noprint)'!JLN8","v":0},{"$f":"'Data diagrams (noprint)'!JLO8","v":0},{"$f":"'Data diagrams (noprint)'!JLP8","v":0},{"$f":"'Data diagrams (noprint)'!JLQ8","v":0},{"$f":"'Data diagrams (noprint)'!JLR8","v":0},{"$f":"'Data diagrams (noprint)'!JLS8","v":0},{"$f":"'Data diagrams (noprint)'!JLT8","v":0},{"$f":"'Data diagrams (noprint)'!JLU8","v":0},{"$f":"'Data diagrams (noprint)'!JLV8","v":0},{"$f":"'Data diagrams (noprint)'!JLW8","v":0},{"$f":"'Data diagrams (noprint)'!JLX8","v":0},{"$f":"'Data diagrams (noprint)'!JLY8","v":0},{"$f":"'Data diagrams (noprint)'!JLZ8","v":0},{"$f":"'Data diagrams (noprint)'!JMA8","v":0},{"$f":"'Data diagrams (noprint)'!JMB8","v":0},{"$f":"'Data diagrams (noprint)'!JMC8","v":0},{"$f":"'Data diagrams (noprint)'!JMD8","v":0},{"$f":"'Data diagrams (noprint)'!JME8","v":0},{"$f":"'Data diagrams (noprint)'!JMF8","v":0},{"$f":"'Data diagrams (noprint)'!JMG8","v":0},{"$f":"'Data diagrams (noprint)'!JMH8","v":0},{"$f":"'Data diagrams (noprint)'!JMI8","v":0},{"$f":"'Data diagrams (noprint)'!JMJ8","v":0},{"$f":"'Data diagrams (noprint)'!JMK8","v":0},{"$f":"'Data diagrams (noprint)'!JML8","v":0},{"$f":"'Data diagrams (noprint)'!JMM8","v":0},{"$f":"'Data diagrams (noprint)'!JMN8","v":0},{"$f":"'Data diagrams (noprint)'!JMO8","v":0},{"$f":"'Data diagrams (noprint)'!JMP8","v":0},{"$f":"'Data diagrams (noprint)'!JMQ8","v":0},{"$f":"'Data diagrams (noprint)'!JMR8","v":0},{"$f":"'Data diagrams (noprint)'!JMS8","v":0},{"$f":"'Data diagrams (noprint)'!JMT8","v":0},{"$f":"'Data diagrams (noprint)'!JMU8","v":0},{"$f":"'Data diagrams (noprint)'!JMV8","v":0},{"$f":"'Data diagrams (noprint)'!JMW8","v":0},{"$f":"'Data diagrams (noprint)'!JMX8","v":0},{"$f":"'Data diagrams (noprint)'!JMY8","v":0},{"$f":"'Data diagrams (noprint)'!JMZ8","v":0},{"$f":"'Data diagrams (noprint)'!JNA8","v":0},{"$f":"'Data diagrams (noprint)'!JNB8","v":0},{"$f":"'Data diagrams (noprint)'!JNC8","v":0},{"$f":"'Data diagrams (noprint)'!JND8","v":0},{"$f":"'Data diagrams (noprint)'!JNE8","v":0},{"$f":"'Data diagrams (noprint)'!JNF8","v":0},{"$f":"'Data diagrams (noprint)'!JNG8","v":0},{"$f":"'Data diagrams (noprint)'!JNH8","v":0},{"$f":"'Data diagrams (noprint)'!JNI8","v":0},{"$f":"'Data diagrams (noprint)'!JNJ8","v":0},{"$f":"'Data diagrams (noprint)'!JNK8","v":0},{"$f":"'Data diagrams (noprint)'!JNL8","v":0},{"$f":"'Data diagrams (noprint)'!JNM8","v":0},{"$f":"'Data diagrams (noprint)'!JNN8","v":0},{"$f":"'Data diagrams (noprint)'!JNO8","v":0},{"$f":"'Data diagrams (noprint)'!JNP8","v":0},{"$f":"'Data diagrams (noprint)'!JNQ8","v":0},{"$f":"'Data diagrams (noprint)'!JNR8","v":0},{"$f":"'Data diagrams (noprint)'!JNS8","v":0},{"$f":"'Data diagrams (noprint)'!JNT8","v":0},{"$f":"'Data diagrams (noprint)'!JNU8","v":0},{"$f":"'Data diagrams (noprint)'!JNV8","v":0},{"$f":"'Data diagrams (noprint)'!JNW8","v":0},{"$f":"'Data diagrams (noprint)'!JNX8","v":0},{"$f":"'Data diagrams (noprint)'!JNY8","v":0},{"$f":"'Data diagrams (noprint)'!JNZ8","v":0},{"$f":"'Data diagrams (noprint)'!JOA8","v":0},{"$f":"'Data diagrams (noprint)'!JOB8","v":0},{"$f":"'Data diagrams (noprint)'!JOC8","v":0},{"$f":"'Data diagrams (noprint)'!JOD8","v":0},{"$f":"'Data diagrams (noprint)'!JOE8","v":0},{"$f":"'Data diagrams (noprint)'!JOF8","v":0},{"$f":"'Data diagrams (noprint)'!JOG8","v":0},{"$f":"'Data diagrams (noprint)'!JOH8","v":0},{"$f":"'Data diagrams (noprint)'!JOI8","v":0},{"$f":"'Data diagrams (noprint)'!JOJ8","v":0},{"$f":"'Data diagrams (noprint)'!JOK8","v":0},{"$f":"'Data diagrams (noprint)'!JOL8","v":0},{"$f":"'Data diagrams (noprint)'!JOM8","v":0},{"$f":"'Data diagrams (noprint)'!JON8","v":0},{"$f":"'Data diagrams (noprint)'!JOO8","v":0},{"$f":"'Data diagrams (noprint)'!JOP8","v":0},{"$f":"'Data diagrams (noprint)'!JOQ8","v":0},{"$f":"'Data diagrams (noprint)'!JOR8","v":0},{"$f":"'Data diagrams (noprint)'!JOS8","v":0},{"$f":"'Data diagrams (noprint)'!JOT8","v":0},{"$f":"'Data diagrams (noprint)'!JOU8","v":0},{"$f":"'Data diagrams (noprint)'!JOV8","v":0},{"$f":"'Data diagrams (noprint)'!JOW8","v":0},{"$f":"'Data diagrams (noprint)'!JOX8","v":0},{"$f":"'Data diagrams (noprint)'!JOY8","v":0},{"$f":"'Data diagrams (noprint)'!JOZ8","v":0},{"$f":"'Data diagrams (noprint)'!JPA8","v":0},{"$f":"'Data diagrams (noprint)'!JPB8","v":0},{"$f":"'Data diagrams (noprint)'!JPC8","v":0},{"$f":"'Data diagrams (noprint)'!JPD8","v":0},{"$f":"'Data diagrams (noprint)'!JPE8","v":0},{"$f":"'Data diagrams (noprint)'!JPF8","v":0},{"$f":"'Data diagrams (noprint)'!JPG8","v":0},{"$f":"'Data diagrams (noprint)'!JPH8","v":0},{"$f":"'Data diagrams (noprint)'!JPI8","v":0},{"$f":"'Data diagrams (noprint)'!JPJ8","v":0},{"$f":"'Data diagrams (noprint)'!JPK8","v":0},{"$f":"'Data diagrams (noprint)'!JPL8","v":0},{"$f":"'Data diagrams (noprint)'!JPM8","v":0},{"$f":"'Data diagrams (noprint)'!JPN8","v":0},{"$f":"'Data diagrams (noprint)'!JPO8","v":0},{"$f":"'Data diagrams (noprint)'!JPP8","v":0},{"$f":"'Data diagrams (noprint)'!JPQ8","v":0},{"$f":"'Data diagrams (noprint)'!JPR8","v":0},{"$f":"'Data diagrams (noprint)'!JPS8","v":0},{"$f":"'Data diagrams (noprint)'!JPT8","v":0},{"$f":"'Data diagrams (noprint)'!JPU8","v":0},{"$f":"'Data diagrams (noprint)'!JPV8","v":0},{"$f":"'Data diagrams (noprint)'!JPW8","v":0},{"$f":"'Data diagrams (noprint)'!JPX8","v":0},{"$f":"'Data diagrams (noprint)'!JPY8","v":0},{"$f":"'Data diagrams (noprint)'!JPZ8","v":0},{"$f":"'Data diagrams (noprint)'!JQA8","v":0},{"$f":"'Data diagrams (noprint)'!JQB8","v":0},{"$f":"'Data diagrams (noprint)'!JQC8","v":0},{"$f":"'Data diagrams (noprint)'!JQD8","v":0},{"$f":"'Data diagrams (noprint)'!JQE8","v":0},{"$f":"'Data diagrams (noprint)'!JQF8","v":0},{"$f":"'Data diagrams (noprint)'!JQG8","v":0},{"$f":"'Data diagrams (noprint)'!JQH8","v":0},{"$f":"'Data diagrams (noprint)'!JQI8","v":0},{"$f":"'Data diagrams (noprint)'!JQJ8","v":0},{"$f":"'Data diagrams (noprint)'!JQK8","v":0},{"$f":"'Data diagrams (noprint)'!JQL8","v":0},{"$f":"'Data diagrams (noprint)'!JQM8","v":0},{"$f":"'Data diagrams (noprint)'!JQN8","v":0},{"$f":"'Data diagrams (noprint)'!JQO8","v":0},{"$f":"'Data diagrams (noprint)'!JQP8","v":0},{"$f":"'Data diagrams (noprint)'!JQQ8","v":0},{"$f":"'Data diagrams (noprint)'!JQR8","v":0},{"$f":"'Data diagrams (noprint)'!JQS8","v":0},{"$f":"'Data diagrams (noprint)'!JQT8","v":0},{"$f":"'Data diagrams (noprint)'!JQU8","v":0},{"$f":"'Data diagrams (noprint)'!JQV8","v":0},{"$f":"'Data diagrams (noprint)'!JQW8","v":0},{"$f":"'Data diagrams (noprint)'!JQX8","v":0},{"$f":"'Data diagrams (noprint)'!JQY8","v":0},{"$f":"'Data diagrams (noprint)'!JQZ8","v":0},{"$f":"'Data diagrams (noprint)'!JRA8","v":0},{"$f":"'Data diagrams (noprint)'!JRB8","v":0},{"$f":"'Data diagrams (noprint)'!JRC8","v":0},{"$f":"'Data diagrams (noprint)'!JRD8","v":0},{"$f":"'Data diagrams (noprint)'!JRE8","v":0},{"$f":"'Data diagrams (noprint)'!JRF8","v":0},{"$f":"'Data diagrams (noprint)'!JRG8","v":0},{"$f":"'Data diagrams (noprint)'!JRH8","v":0},{"$f":"'Data diagrams (noprint)'!JRI8","v":0},{"$f":"'Data diagrams (noprint)'!JRJ8","v":0},{"$f":"'Data diagrams (noprint)'!JRK8","v":0},{"$f":"'Data diagrams (noprint)'!JRL8","v":0},{"$f":"'Data diagrams (noprint)'!JRM8","v":0},{"$f":"'Data diagrams (noprint)'!JRN8","v":0},{"$f":"'Data diagrams (noprint)'!JRO8","v":0},{"$f":"'Data diagrams (noprint)'!JRP8","v":0},{"$f":"'Data diagrams (noprint)'!JRQ8","v":0},{"$f":"'Data diagrams (noprint)'!JRR8","v":0},{"$f":"'Data diagrams (noprint)'!JRS8","v":0},{"$f":"'Data diagrams (noprint)'!JRT8","v":0},{"$f":"'Data diagrams (noprint)'!JRU8","v":0},{"$f":"'Data diagrams (noprint)'!JRV8","v":0},{"$f":"'Data diagrams (noprint)'!JRW8","v":0},{"$f":"'Data diagrams (noprint)'!JRX8","v":0},{"$f":"'Data diagrams (noprint)'!JRY8","v":0},{"$f":"'Data diagrams (noprint)'!JRZ8","v":0},{"$f":"'Data diagrams (noprint)'!JSA8","v":0},{"$f":"'Data diagrams (noprint)'!JSB8","v":0},{"$f":"'Data diagrams (noprint)'!JSC8","v":0},{"$f":"'Data diagrams (noprint)'!JSD8","v":0},{"$f":"'Data diagrams (noprint)'!JSE8","v":0},{"$f":"'Data diagrams (noprint)'!JSF8","v":0},{"$f":"'Data diagrams (noprint)'!JSG8","v":0},{"$f":"'Data diagrams (noprint)'!JSH8","v":0},{"$f":"'Data diagrams (noprint)'!JSI8","v":0},{"$f":"'Data diagrams (noprint)'!JSJ8","v":0},{"$f":"'Data diagrams (noprint)'!JSK8","v":0},{"$f":"'Data diagrams (noprint)'!JSL8","v":0},{"$f":"'Data diagrams (noprint)'!JSM8","v":0},{"$f":"'Data diagrams (noprint)'!JSN8","v":0},{"$f":"'Data diagrams (noprint)'!JSO8","v":0},{"$f":"'Data diagrams (noprint)'!JSP8","v":0},{"$f":"'Data diagrams (noprint)'!JSQ8","v":0},{"$f":"'Data diagrams (noprint)'!JSR8","v":0},{"$f":"'Data diagrams (noprint)'!JSS8","v":0},{"$f":"'Data diagrams (noprint)'!JST8","v":0},{"$f":"'Data diagrams (noprint)'!JSU8","v":0},{"$f":"'Data diagrams (noprint)'!JSV8","v":0},{"$f":"'Data diagrams (noprint)'!JSW8","v":0},{"$f":"'Data diagrams (noprint)'!JSX8","v":0},{"$f":"'Data diagrams (noprint)'!JSY8","v":0},{"$f":"'Data diagrams (noprint)'!JSZ8","v":0},{"$f":"'Data diagrams (noprint)'!JTA8","v":0},{"$f":"'Data diagrams (noprint)'!JTB8","v":0},{"$f":"'Data diagrams (noprint)'!JTC8","v":0},{"$f":"'Data diagrams (noprint)'!JTD8","v":0},{"$f":"'Data diagrams (noprint)'!JTE8","v":0},{"$f":"'Data diagrams (noprint)'!JTF8","v":0},{"$f":"'Data diagrams (noprint)'!JTG8","v":0},{"$f":"'Data diagrams (noprint)'!JTH8","v":0},{"$f":"'Data diagrams (noprint)'!JTI8","v":0},{"$f":"'Data diagrams (noprint)'!JTJ8","v":0},{"$f":"'Data diagrams (noprint)'!JTK8","v":0},{"$f":"'Data diagrams (noprint)'!JTL8","v":0},{"$f":"'Data diagrams (noprint)'!JTM8","v":0},{"$f":"'Data diagrams (noprint)'!JTN8","v":0},{"$f":"'Data diagrams (noprint)'!JTO8","v":0},{"$f":"'Data diagrams (noprint)'!JTP8","v":0},{"$f":"'Data diagrams (noprint)'!JTQ8","v":0},{"$f":"'Data diagrams (noprint)'!JTR8","v":0},{"$f":"'Data diagrams (noprint)'!JTS8","v":0},{"$f":"'Data diagrams (noprint)'!JTT8","v":0},{"$f":"'Data diagrams (noprint)'!JTU8","v":0},{"$f":"'Data diagrams (noprint)'!JTV8","v":0},{"$f":"'Data diagrams (noprint)'!JTW8","v":0},{"$f":"'Data diagrams (noprint)'!JTX8","v":0},{"$f":"'Data diagrams (noprint)'!JTY8","v":0},{"$f":"'Data diagrams (noprint)'!JTZ8","v":0},{"$f":"'Data diagrams (noprint)'!JUA8","v":0},{"$f":"'Data diagrams (noprint)'!JUB8","v":0},{"$f":"'Data diagrams (noprint)'!JUC8","v":0},{"$f":"'Data diagrams (noprint)'!JUD8","v":0},{"$f":"'Data diagrams (noprint)'!JUE8","v":0},{"$f":"'Data diagrams (noprint)'!JUF8","v":0},{"$f":"'Data diagrams (noprint)'!JUG8","v":0},{"$f":"'Data diagrams (noprint)'!JUH8","v":0},{"$f":"'Data diagrams (noprint)'!JUI8","v":0},{"$f":"'Data diagrams (noprint)'!JUJ8","v":0},{"$f":"'Data diagrams (noprint)'!JUK8","v":0},{"$f":"'Data diagrams (noprint)'!JUL8","v":0},{"$f":"'Data diagrams (noprint)'!JUM8","v":0},{"$f":"'Data diagrams (noprint)'!JUN8","v":0},{"$f":"'Data diagrams (noprint)'!JUO8","v":0},{"$f":"'Data diagrams (noprint)'!JUP8","v":0},{"$f":"'Data diagrams (noprint)'!JUQ8","v":0},{"$f":"'Data diagrams (noprint)'!JUR8","v":0},{"$f":"'Data diagrams (noprint)'!JUS8","v":0},{"$f":"'Data diagrams (noprint)'!JUT8","v":0},{"$f":"'Data diagrams (noprint)'!JUU8","v":0},{"$f":"'Data diagrams (noprint)'!JUV8","v":0},{"$f":"'Data diagrams (noprint)'!JUW8","v":0},{"$f":"'Data diagrams (noprint)'!JUX8","v":0},{"$f":"'Data diagrams (noprint)'!JUY8","v":0},{"$f":"'Data diagrams (noprint)'!JUZ8","v":0},{"$f":"'Data diagrams (noprint)'!JVA8","v":0},{"$f":"'Data diagrams (noprint)'!JVB8","v":0},{"$f":"'Data diagrams (noprint)'!JVC8","v":0},{"$f":"'Data diagrams (noprint)'!JVD8","v":0},{"$f":"'Data diagrams (noprint)'!JVE8","v":0},{"$f":"'Data diagrams (noprint)'!JVF8","v":0},{"$f":"'Data diagrams (noprint)'!JVG8","v":0},{"$f":"'Data diagrams (noprint)'!JVH8","v":0},{"$f":"'Data diagrams (noprint)'!JVI8","v":0},{"$f":"'Data diagrams (noprint)'!JVJ8","v":0},{"$f":"'Data diagrams (noprint)'!JVK8","v":0},{"$f":"'Data diagrams (noprint)'!JVL8","v":0},{"$f":"'Data diagrams (noprint)'!JVM8","v":0},{"$f":"'Data diagrams (noprint)'!JVN8","v":0},{"$f":"'Data diagrams (noprint)'!JVO8","v":0},{"$f":"'Data diagrams (noprint)'!JVP8","v":0},{"$f":"'Data diagrams (noprint)'!JVQ8","v":0},{"$f":"'Data diagrams (noprint)'!JVR8","v":0},{"$f":"'Data diagrams (noprint)'!JVS8","v":0},{"$f":"'Data diagrams (noprint)'!JVT8","v":0},{"$f":"'Data diagrams (noprint)'!JVU8","v":0},{"$f":"'Data diagrams (noprint)'!JVV8","v":0},{"$f":"'Data diagrams (noprint)'!JVW8","v":0},{"$f":"'Data diagrams (noprint)'!JVX8","v":0},{"$f":"'Data diagrams (noprint)'!JVY8","v":0},{"$f":"'Data diagrams (noprint)'!JVZ8","v":0},{"$f":"'Data diagrams (noprint)'!JWA8","v":0},{"$f":"'Data diagrams (noprint)'!JWB8","v":0},{"$f":"'Data diagrams (noprint)'!JWC8","v":0},{"$f":"'Data diagrams (noprint)'!JWD8","v":0},{"$f":"'Data diagrams (noprint)'!JWE8","v":0},{"$f":"'Data diagrams (noprint)'!JWF8","v":0},{"$f":"'Data diagrams (noprint)'!JWG8","v":0},{"$f":"'Data diagrams (noprint)'!JWH8","v":0},{"$f":"'Data diagrams (noprint)'!JWI8","v":0},{"$f":"'Data diagrams (noprint)'!JWJ8","v":0},{"$f":"'Data diagrams (noprint)'!JWK8","v":0},{"$f":"'Data diagrams (noprint)'!JWL8","v":0},{"$f":"'Data diagrams (noprint)'!JWM8","v":0},{"$f":"'Data diagrams (noprint)'!JWN8","v":0},{"$f":"'Data diagrams (noprint)'!JWO8","v":0},{"$f":"'Data diagrams (noprint)'!JWP8","v":0},{"$f":"'Data diagrams (noprint)'!JWQ8","v":0},{"$f":"'Data diagrams (noprint)'!JWR8","v":0},{"$f":"'Data diagrams (noprint)'!JWS8","v":0},{"$f":"'Data diagrams (noprint)'!JWT8","v":0},{"$f":"'Data diagrams (noprint)'!JWU8","v":0},{"$f":"'Data diagrams (noprint)'!JWV8","v":0},{"$f":"'Data diagrams (noprint)'!JWW8","v":0},{"$f":"'Data diagrams (noprint)'!JWX8","v":0},{"$f":"'Data diagrams (noprint)'!JWY8","v":0},{"$f":"'Data diagrams (noprint)'!JWZ8","v":0},{"$f":"'Data diagrams (noprint)'!JXA8","v":0},{"$f":"'Data diagrams (noprint)'!JXB8","v":0},{"$f":"'Data diagrams (noprint)'!JXC8","v":0},{"$f":"'Data diagrams (noprint)'!JXD8","v":0},{"$f":"'Data diagrams (noprint)'!JXE8","v":0},{"$f":"'Data diagrams (noprint)'!JXF8","v":0},{"$f":"'Data diagrams (noprint)'!JXG8","v":0},{"$f":"'Data diagrams (noprint)'!JXH8","v":0},{"$f":"'Data diagrams (noprint)'!JXI8","v":0},{"$f":"'Data diagrams (noprint)'!JXJ8","v":0},{"$f":"'Data diagrams (noprint)'!JXK8","v":0},{"$f":"'Data diagrams (noprint)'!JXL8","v":0},{"$f":"'Data diagrams (noprint)'!JXM8","v":0},{"$f":"'Data diagrams (noprint)'!JXN8","v":0},{"$f":"'Data diagrams (noprint)'!JXO8","v":0},{"$f":"'Data diagrams (noprint)'!JXP8","v":0},{"$f":"'Data diagrams (noprint)'!JXQ8","v":0},{"$f":"'Data diagrams (noprint)'!JXR8","v":0},{"$f":"'Data diagrams (noprint)'!JXS8","v":0},{"$f":"'Data diagrams (noprint)'!JXT8","v":0},{"$f":"'Data diagrams (noprint)'!JXU8","v":0},{"$f":"'Data diagrams (noprint)'!JXV8","v":0},{"$f":"'Data diagrams (noprint)'!JXW8","v":0},{"$f":"'Data diagrams (noprint)'!JXX8","v":0},{"$f":"'Data diagrams (noprint)'!JXY8","v":0},{"$f":"'Data diagrams (noprint)'!JXZ8","v":0},{"$f":"'Data diagrams (noprint)'!JYA8","v":0},{"$f":"'Data diagrams (noprint)'!JYB8","v":0},{"$f":"'Data diagrams (noprint)'!JYC8","v":0},{"$f":"'Data diagrams (noprint)'!JYD8","v":0},{"$f":"'Data diagrams (noprint)'!JYE8","v":0},{"$f":"'Data diagrams (noprint)'!JYF8","v":0},{"$f":"'Data diagrams (noprint)'!JYG8","v":0},{"$f":"'Data diagrams (noprint)'!JYH8","v":0},{"$f":"'Data diagrams (noprint)'!JYI8","v":0},{"$f":"'Data diagrams (noprint)'!JYJ8","v":0},{"$f":"'Data diagrams (noprint)'!JYK8","v":0},{"$f":"'Data diagrams (noprint)'!JYL8","v":0},{"$f":"'Data diagrams (noprint)'!JYM8","v":0},{"$f":"'Data diagrams (noprint)'!JYN8","v":0},{"$f":"'Data diagrams (noprint)'!JYO8","v":0},{"$f":"'Data diagrams (noprint)'!JYP8","v":0},{"$f":"'Data diagrams (noprint)'!JYQ8","v":0},{"$f":"'Data diagrams (noprint)'!JYR8","v":0},{"$f":"'Data diagrams (noprint)'!JYS8","v":0},{"$f":"'Data diagrams (noprint)'!JYT8","v":0},{"$f":"'Data diagrams (noprint)'!JYU8","v":0},{"$f":"'Data diagrams (noprint)'!JYV8","v":0},{"$f":"'Data diagrams (noprint)'!JYW8","v":0},{"$f":"'Data diagrams (noprint)'!JYX8","v":0},{"$f":"'Data diagrams (noprint)'!JYY8","v":0},{"$f":"'Data diagrams (noprint)'!JYZ8","v":0},{"$f":"'Data diagrams (noprint)'!JZA8","v":0},{"$f":"'Data diagrams (noprint)'!JZB8","v":0},{"$f":"'Data diagrams (noprint)'!JZC8","v":0},{"$f":"'Data diagrams (noprint)'!JZD8","v":0},{"$f":"'Data diagrams (noprint)'!JZE8","v":0},{"$f":"'Data diagrams (noprint)'!JZF8","v":0},{"$f":"'Data diagrams (noprint)'!JZG8","v":0},{"$f":"'Data diagrams (noprint)'!JZH8","v":0},{"$f":"'Data diagrams (noprint)'!JZI8","v":0},{"$f":"'Data diagrams (noprint)'!JZJ8","v":0},{"$f":"'Data diagrams (noprint)'!JZK8","v":0},{"$f":"'Data diagrams (noprint)'!JZL8","v":0},{"$f":"'Data diagrams (noprint)'!JZM8","v":0},{"$f":"'Data diagrams (noprint)'!JZN8","v":0},{"$f":"'Data diagrams (noprint)'!JZO8","v":0},{"$f":"'Data diagrams (noprint)'!JZP8","v":0},{"$f":"'Data diagrams (noprint)'!JZQ8","v":0},{"$f":"'Data diagrams (noprint)'!JZR8","v":0},{"$f":"'Data diagrams (noprint)'!JZS8","v":0},{"$f":"'Data diagrams (noprint)'!JZT8","v":0},{"$f":"'Data diagrams (noprint)'!JZU8","v":0},{"$f":"'Data diagrams (noprint)'!JZV8","v":0},{"$f":"'Data diagrams (noprint)'!JZW8","v":0},{"$f":"'Data diagrams (noprint)'!JZX8","v":0},{"$f":"'Data diagrams (noprint)'!JZY8","v":0},{"$f":"'Data diagrams (noprint)'!JZZ8","v":0},{"$f":"'Data diagrams (noprint)'!KAA8","v":0},{"$f":"'Data diagrams (noprint)'!KAB8","v":0},{"$f":"'Data diagrams (noprint)'!KAC8","v":0},{"$f":"'Data diagrams (noprint)'!KAD8","v":0},{"$f":"'Data diagrams (noprint)'!KAE8","v":0},{"$f":"'Data diagrams (noprint)'!KAF8","v":0},{"$f":"'Data diagrams (noprint)'!KAG8","v":0},{"$f":"'Data diagrams (noprint)'!KAH8","v":0},{"$f":"'Data diagrams (noprint)'!KAI8","v":0},{"$f":"'Data diagrams (noprint)'!KAJ8","v":0},{"$f":"'Data diagrams (noprint)'!KAK8","v":0},{"$f":"'Data diagrams (noprint)'!KAL8","v":0},{"$f":"'Data diagrams (noprint)'!KAM8","v":0},{"$f":"'Data diagrams (noprint)'!KAN8","v":0},{"$f":"'Data diagrams (noprint)'!KAO8","v":0},{"$f":"'Data diagrams (noprint)'!KAP8","v":0},{"$f":"'Data diagrams (noprint)'!KAQ8","v":0},{"$f":"'Data diagrams (noprint)'!KAR8","v":0},{"$f":"'Data diagrams (noprint)'!KAS8","v":0},{"$f":"'Data diagrams (noprint)'!KAT8","v":0},{"$f":"'Data diagrams (noprint)'!KAU8","v":0},{"$f":"'Data diagrams (noprint)'!KAV8","v":0},{"$f":"'Data diagrams (noprint)'!KAW8","v":0},{"$f":"'Data diagrams (noprint)'!KAX8","v":0},{"$f":"'Data diagrams (noprint)'!KAY8","v":0},{"$f":"'Data diagrams (noprint)'!KAZ8","v":0},{"$f":"'Data diagrams (noprint)'!KBA8","v":0},{"$f":"'Data diagrams (noprint)'!KBB8","v":0},{"$f":"'Data diagrams (noprint)'!KBC8","v":0},{"$f":"'Data diagrams (noprint)'!KBD8","v":0},{"$f":"'Data diagrams (noprint)'!KBE8","v":0},{"$f":"'Data diagrams (noprint)'!KBF8","v":0},{"$f":"'Data diagrams (noprint)'!KBG8","v":0},{"$f":"'Data diagrams (noprint)'!KBH8","v":0},{"$f":"'Data diagrams (noprint)'!KBI8","v":0},{"$f":"'Data diagrams (noprint)'!KBJ8","v":0},{"$f":"'Data diagrams (noprint)'!KBK8","v":0},{"$f":"'Data diagrams (noprint)'!KBL8","v":0},{"$f":"'Data diagrams (noprint)'!KBM8","v":0},{"$f":"'Data diagrams (noprint)'!KBN8","v":0},{"$f":"'Data diagrams (noprint)'!KBO8","v":0},{"$f":"'Data diagrams (noprint)'!KBP8","v":0},{"$f":"'Data diagrams (noprint)'!KBQ8","v":0},{"$f":"'Data diagrams (noprint)'!KBR8","v":0},{"$f":"'Data diagrams (noprint)'!KBS8","v":0},{"$f":"'Data diagrams (noprint)'!KBT8","v":0},{"$f":"'Data diagrams (noprint)'!KBU8","v":0},{"$f":"'Data diagrams (noprint)'!KBV8","v":0},{"$f":"'Data diagrams (noprint)'!KBW8","v":0},{"$f":"'Data diagrams (noprint)'!KBX8","v":0},{"$f":"'Data diagrams (noprint)'!KBY8","v":0},{"$f":"'Data diagrams (noprint)'!KBZ8","v":0},{"$f":"'Data diagrams (noprint)'!KCA8","v":0},{"$f":"'Data diagrams (noprint)'!KCB8","v":0},{"$f":"'Data diagrams (noprint)'!KCC8","v":0},{"$f":"'Data diagrams (noprint)'!KCD8","v":0},{"$f":"'Data diagrams (noprint)'!KCE8","v":0},{"$f":"'Data diagrams (noprint)'!KCF8","v":0},{"$f":"'Data diagrams (noprint)'!KCG8","v":0},{"$f":"'Data diagrams (noprint)'!KCH8","v":0},{"$f":"'Data diagrams (noprint)'!KCI8","v":0},{"$f":"'Data diagrams (noprint)'!KCJ8","v":0},{"$f":"'Data diagrams (noprint)'!KCK8","v":0},{"$f":"'Data diagrams (noprint)'!KCL8","v":0},{"$f":"'Data diagrams (noprint)'!KCM8","v":0},{"$f":"'Data diagrams (noprint)'!KCN8","v":0},{"$f":"'Data diagrams (noprint)'!KCO8","v":0},{"$f":"'Data diagrams (noprint)'!KCP8","v":0},{"$f":"'Data diagrams (noprint)'!KCQ8","v":0},{"$f":"'Data diagrams (noprint)'!KCR8","v":0},{"$f":"'Data diagrams (noprint)'!KCS8","v":0},{"$f":"'Data diagrams (noprint)'!KCT8","v":0},{"$f":"'Data diagrams (noprint)'!KCU8","v":0},{"$f":"'Data diagrams (noprint)'!KCV8","v":0},{"$f":"'Data diagrams (noprint)'!KCW8","v":0},{"$f":"'Data diagrams (noprint)'!KCX8","v":0},{"$f":"'Data diagrams (noprint)'!KCY8","v":0},{"$f":"'Data diagrams (noprint)'!KCZ8","v":0},{"$f":"'Data diagrams (noprint)'!KDA8","v":0},{"$f":"'Data diagrams (noprint)'!KDB8","v":0},{"$f":"'Data diagrams (noprint)'!KDC8","v":0},{"$f":"'Data diagrams (noprint)'!KDD8","v":0},{"$f":"'Data diagrams (noprint)'!KDE8","v":0},{"$f":"'Data diagrams (noprint)'!KDF8","v":0},{"$f":"'Data diagrams (noprint)'!KDG8","v":0},{"$f":"'Data diagrams (noprint)'!KDH8","v":0},{"$f":"'Data diagrams (noprint)'!KDI8","v":0},{"$f":"'Data diagrams (noprint)'!KDJ8","v":0},{"$f":"'Data diagrams (noprint)'!KDK8","v":0},{"$f":"'Data diagrams (noprint)'!KDL8","v":0},{"$f":"'Data diagrams (noprint)'!KDM8","v":0},{"$f":"'Data diagrams (noprint)'!KDN8","v":0},{"$f":"'Data diagrams (noprint)'!KDO8","v":0},{"$f":"'Data diagrams (noprint)'!KDP8","v":0},{"$f":"'Data diagrams (noprint)'!KDQ8","v":0},{"$f":"'Data diagrams (noprint)'!KDR8","v":0},{"$f":"'Data diagrams (noprint)'!KDS8","v":0},{"$f":"'Data diagrams (noprint)'!KDT8","v":0},{"$f":"'Data diagrams (noprint)'!KDU8","v":0},{"$f":"'Data diagrams (noprint)'!KDV8","v":0},{"$f":"'Data diagrams (noprint)'!KDW8","v":0},{"$f":"'Data diagrams (noprint)'!KDX8","v":0},{"$f":"'Data diagrams (noprint)'!KDY8","v":0},{"$f":"'Data diagrams (noprint)'!KDZ8","v":0},{"$f":"'Data diagrams (noprint)'!KEA8","v":0},{"$f":"'Data diagrams (noprint)'!KEB8","v":0},{"$f":"'Data diagrams (noprint)'!KEC8","v":0},{"$f":"'Data diagrams (noprint)'!KED8","v":0},{"$f":"'Data diagrams (noprint)'!KEE8","v":0},{"$f":"'Data diagrams (noprint)'!KEF8","v":0},{"$f":"'Data diagrams (noprint)'!KEG8","v":0},{"$f":"'Data diagrams (noprint)'!KEH8","v":0},{"$f":"'Data diagrams (noprint)'!KEI8","v":0},{"$f":"'Data diagrams (noprint)'!KEJ8","v":0},{"$f":"'Data diagrams (noprint)'!KEK8","v":0},{"$f":"'Data diagrams (noprint)'!KEL8","v":0},{"$f":"'Data diagrams (noprint)'!KEM8","v":0},{"$f":"'Data diagrams (noprint)'!KEN8","v":0},{"$f":"'Data diagrams (noprint)'!KEO8","v":0},{"$f":"'Data diagrams (noprint)'!KEP8","v":0},{"$f":"'Data diagrams (noprint)'!KEQ8","v":0},{"$f":"'Data diagrams (noprint)'!KER8","v":0},{"$f":"'Data diagrams (noprint)'!KES8","v":0},{"$f":"'Data diagrams (noprint)'!KET8","v":0},{"$f":"'Data diagrams (noprint)'!KEU8","v":0},{"$f":"'Data diagrams (noprint)'!KEV8","v":0},{"$f":"'Data diagrams (noprint)'!KEW8","v":0},{"$f":"'Data diagrams (noprint)'!KEX8","v":0},{"$f":"'Data diagrams (noprint)'!KEY8","v":0},{"$f":"'Data diagrams (noprint)'!KEZ8","v":0},{"$f":"'Data diagrams (noprint)'!KFA8","v":0},{"$f":"'Data diagrams (noprint)'!KFB8","v":0},{"$f":"'Data diagrams (noprint)'!KFC8","v":0},{"$f":"'Data diagrams (noprint)'!KFD8","v":0},{"$f":"'Data diagrams (noprint)'!KFE8","v":0},{"$f":"'Data diagrams (noprint)'!KFF8","v":0},{"$f":"'Data diagrams (noprint)'!KFG8","v":0},{"$f":"'Data diagrams (noprint)'!KFH8","v":0},{"$f":"'Data diagrams (noprint)'!KFI8","v":0},{"$f":"'Data diagrams (noprint)'!KFJ8","v":0},{"$f":"'Data diagrams (noprint)'!KFK8","v":0},{"$f":"'Data diagrams (noprint)'!KFL8","v":0},{"$f":"'Data diagrams (noprint)'!KFM8","v":0},{"$f":"'Data diagrams (noprint)'!KFN8","v":0},{"$f":"'Data diagrams (noprint)'!KFO8","v":0},{"$f":"'Data diagrams (noprint)'!KFP8","v":0},{"$f":"'Data diagrams (noprint)'!KFQ8","v":0},{"$f":"'Data diagrams (noprint)'!KFR8","v":0},{"$f":"'Data diagrams (noprint)'!KFS8","v":0},{"$f":"'Data diagrams (noprint)'!KFT8","v":0},{"$f":"'Data diagrams (noprint)'!KFU8","v":0},{"$f":"'Data diagrams (noprint)'!KFV8","v":0},{"$f":"'Data diagrams (noprint)'!KFW8","v":0},{"$f":"'Data diagrams (noprint)'!KFX8","v":0},{"$f":"'Data diagrams (noprint)'!KFY8","v":0},{"$f":"'Data diagrams (noprint)'!KFZ8","v":0},{"$f":"'Data diagrams (noprint)'!KGA8","v":0},{"$f":"'Data diagrams (noprint)'!KGB8","v":0},{"$f":"'Data diagrams (noprint)'!KGC8","v":0},{"$f":"'Data diagrams (noprint)'!KGD8","v":0},{"$f":"'Data diagrams (noprint)'!KGE8","v":0},{"$f":"'Data diagrams (noprint)'!KGF8","v":0},{"$f":"'Data diagrams (noprint)'!KGG8","v":0},{"$f":"'Data diagrams (noprint)'!KGH8","v":0},{"$f":"'Data diagrams (noprint)'!KGI8","v":0},{"$f":"'Data diagrams (noprint)'!KGJ8","v":0},{"$f":"'Data diagrams (noprint)'!KGK8","v":0},{"$f":"'Data diagrams (noprint)'!KGL8","v":0},{"$f":"'Data diagrams (noprint)'!KGM8","v":0},{"$f":"'Data diagrams (noprint)'!KGN8","v":0},{"$f":"'Data diagrams (noprint)'!KGO8","v":0},{"$f":"'Data diagrams (noprint)'!KGP8","v":0},{"$f":"'Data diagrams (noprint)'!KGQ8","v":0},{"$f":"'Data diagrams (noprint)'!KGR8","v":0},{"$f":"'Data diagrams (noprint)'!KGS8","v":0},{"$f":"'Data diagrams (noprint)'!KGT8","v":0},{"$f":"'Data diagrams (noprint)'!KGU8","v":0},{"$f":"'Data diagrams (noprint)'!KGV8","v":0},{"$f":"'Data diagrams (noprint)'!KGW8","v":0},{"$f":"'Data diagrams (noprint)'!KGX8","v":0},{"$f":"'Data diagrams (noprint)'!KGY8","v":0},{"$f":"'Data diagrams (noprint)'!KGZ8","v":0},{"$f":"'Data diagrams (noprint)'!KHA8","v":0},{"$f":"'Data diagrams (noprint)'!KHB8","v":0},{"$f":"'Data diagrams (noprint)'!KHC8","v":0},{"$f":"'Data diagrams (noprint)'!KHD8","v":0},{"$f":"'Data diagrams (noprint)'!KHE8","v":0},{"$f":"'Data diagrams (noprint)'!KHF8","v":0},{"$f":"'Data diagrams (noprint)'!KHG8","v":0},{"$f":"'Data diagrams (noprint)'!KHH8","v":0},{"$f":"'Data diagrams (noprint)'!KHI8","v":0},{"$f":"'Data diagrams (noprint)'!KHJ8","v":0},{"$f":"'Data diagrams (noprint)'!KHK8","v":0},{"$f":"'Data diagrams (noprint)'!KHL8","v":0},{"$f":"'Data diagrams (noprint)'!KHM8","v":0},{"$f":"'Data diagrams (noprint)'!KHN8","v":0},{"$f":"'Data diagrams (noprint)'!KHO8","v":0},{"$f":"'Data diagrams (noprint)'!KHP8","v":0},{"$f":"'Data diagrams (noprint)'!KHQ8","v":0},{"$f":"'Data diagrams (noprint)'!KHR8","v":0},{"$f":"'Data diagrams (noprint)'!KHS8","v":0},{"$f":"'Data diagrams (noprint)'!KHT8","v":0},{"$f":"'Data diagrams (noprint)'!KHU8","v":0},{"$f":"'Data diagrams (noprint)'!KHV8","v":0},{"$f":"'Data diagrams (noprint)'!KHW8","v":0},{"$f":"'Data diagrams (noprint)'!KHX8","v":0},{"$f":"'Data diagrams (noprint)'!KHY8","v":0},{"$f":"'Data diagrams (noprint)'!KHZ8","v":0},{"$f":"'Data diagrams (noprint)'!KIA8","v":0},{"$f":"'Data diagrams (noprint)'!KIB8","v":0},{"$f":"'Data diagrams (noprint)'!KIC8","v":0},{"$f":"'Data diagrams (noprint)'!KID8","v":0},{"$f":"'Data diagrams (noprint)'!KIE8","v":0},{"$f":"'Data diagrams (noprint)'!KIF8","v":0},{"$f":"'Data diagrams (noprint)'!KIG8","v":0},{"$f":"'Data diagrams (noprint)'!KIH8","v":0},{"$f":"'Data diagrams (noprint)'!KII8","v":0},{"$f":"'Data diagrams (noprint)'!KIJ8","v":0},{"$f":"'Data diagrams (noprint)'!KIK8","v":0},{"$f":"'Data diagrams (noprint)'!KIL8","v":0},{"$f":"'Data diagrams (noprint)'!KIM8","v":0},{"$f":"'Data diagrams (noprint)'!KIN8","v":0},{"$f":"'Data diagrams (noprint)'!KIO8","v":0},{"$f":"'Data diagrams (noprint)'!KIP8","v":0},{"$f":"'Data diagrams (noprint)'!KIQ8","v":0},{"$f":"'Data diagrams (noprint)'!KIR8","v":0},{"$f":"'Data diagrams (noprint)'!KIS8","v":0},{"$f":"'Data diagrams (noprint)'!KIT8","v":0},{"$f":"'Data diagrams (noprint)'!KIU8","v":0},{"$f":"'Data diagrams (noprint)'!KIV8","v":0},{"$f":"'Data diagrams (noprint)'!KIW8","v":0},{"$f":"'Data diagrams (noprint)'!KIX8","v":0},{"$f":"'Data diagrams (noprint)'!KIY8","v":0},{"$f":"'Data diagrams (noprint)'!KIZ8","v":0},{"$f":"'Data diagrams (noprint)'!KJA8","v":0},{"$f":"'Data diagrams (noprint)'!KJB8","v":0},{"$f":"'Data diagrams (noprint)'!KJC8","v":0},{"$f":"'Data diagrams (noprint)'!KJD8","v":0},{"$f":"'Data diagrams (noprint)'!KJE8","v":0},{"$f":"'Data diagrams (noprint)'!KJF8","v":0},{"$f":"'Data diagrams (noprint)'!KJG8","v":0},{"$f":"'Data diagrams (noprint)'!KJH8","v":0},{"$f":"'Data diagrams (noprint)'!KJI8","v":0},{"$f":"'Data diagrams (noprint)'!KJJ8","v":0},{"$f":"'Data diagrams (noprint)'!KJK8","v":0},{"$f":"'Data diagrams (noprint)'!KJL8","v":0},{"$f":"'Data diagrams (noprint)'!KJM8","v":0},{"$f":"'Data diagrams (noprint)'!KJN8","v":0},{"$f":"'Data diagrams (noprint)'!KJO8","v":0},{"$f":"'Data diagrams (noprint)'!KJP8","v":0},{"$f":"'Data diagrams (noprint)'!KJQ8","v":0},{"$f":"'Data diagrams (noprint)'!KJR8","v":0},{"$f":"'Data diagrams (noprint)'!KJS8","v":0},{"$f":"'Data diagrams (noprint)'!KJT8","v":0},{"$f":"'Data diagrams (noprint)'!KJU8","v":0},{"$f":"'Data diagrams (noprint)'!KJV8","v":0},{"$f":"'Data diagrams (noprint)'!KJW8","v":0},{"$f":"'Data diagrams (noprint)'!KJX8","v":0},{"$f":"'Data diagrams (noprint)'!KJY8","v":0},{"$f":"'Data diagrams (noprint)'!KJZ8","v":0},{"$f":"'Data diagrams (noprint)'!KKA8","v":0},{"$f":"'Data diagrams (noprint)'!KKB8","v":0},{"$f":"'Data diagrams (noprint)'!KKC8","v":0},{"$f":"'Data diagrams (noprint)'!KKD8","v":0},{"$f":"'Data diagrams (noprint)'!KKE8","v":0},{"$f":"'Data diagrams (noprint)'!KKF8","v":0},{"$f":"'Data diagrams (noprint)'!KKG8","v":0},{"$f":"'Data diagrams (noprint)'!KKH8","v":0},{"$f":"'Data diagrams (noprint)'!KKI8","v":0},{"$f":"'Data diagrams (noprint)'!KKJ8","v":0},{"$f":"'Data diagrams (noprint)'!KKK8","v":0},{"$f":"'Data diagrams (noprint)'!KKL8","v":0},{"$f":"'Data diagrams (noprint)'!KKM8","v":0},{"$f":"'Data diagrams (noprint)'!KKN8","v":0},{"$f":"'Data diagrams (noprint)'!KKO8","v":0},{"$f":"'Data diagrams (noprint)'!KKP8","v":0},{"$f":"'Data diagrams (noprint)'!KKQ8","v":0},{"$f":"'Data diagrams (noprint)'!KKR8","v":0},{"$f":"'Data diagrams (noprint)'!KKS8","v":0},{"$f":"'Data diagrams (noprint)'!KKT8","v":0},{"$f":"'Data diagrams (noprint)'!KKU8","v":0},{"$f":"'Data diagrams (noprint)'!KKV8","v":0},{"$f":"'Data diagrams (noprint)'!KKW8","v":0},{"$f":"'Data diagrams (noprint)'!KKX8","v":0},{"$f":"'Data diagrams (noprint)'!KKY8","v":0},{"$f":"'Data diagrams (noprint)'!KKZ8","v":0},{"$f":"'Data diagrams (noprint)'!KLA8","v":0},{"$f":"'Data diagrams (noprint)'!KLB8","v":0},{"$f":"'Data diagrams (noprint)'!KLC8","v":0},{"$f":"'Data diagrams (noprint)'!KLD8","v":0},{"$f":"'Data diagrams (noprint)'!KLE8","v":0},{"$f":"'Data diagrams (noprint)'!KLF8","v":0},{"$f":"'Data diagrams (noprint)'!KLG8","v":0},{"$f":"'Data diagrams (noprint)'!KLH8","v":0},{"$f":"'Data diagrams (noprint)'!KLI8","v":0},{"$f":"'Data diagrams (noprint)'!KLJ8","v":0},{"$f":"'Data diagrams (noprint)'!KLK8","v":0},{"$f":"'Data diagrams (noprint)'!KLL8","v":0},{"$f":"'Data diagrams (noprint)'!KLM8","v":0},{"$f":"'Data diagrams (noprint)'!KLN8","v":0},{"$f":"'Data diagrams (noprint)'!KLO8","v":0},{"$f":"'Data diagrams (noprint)'!KLP8","v":0},{"$f":"'Data diagrams (noprint)'!KLQ8","v":0},{"$f":"'Data diagrams (noprint)'!KLR8","v":0},{"$f":"'Data diagrams (noprint)'!KLS8","v":0},{"$f":"'Data diagrams (noprint)'!KLT8","v":0},{"$f":"'Data diagrams (noprint)'!KLU8","v":0},{"$f":"'Data diagrams (noprint)'!KLV8","v":0},{"$f":"'Data diagrams (noprint)'!KLW8","v":0},{"$f":"'Data diagrams (noprint)'!KLX8","v":0},{"$f":"'Data diagrams (noprint)'!KLY8","v":0},{"$f":"'Data diagrams (noprint)'!KLZ8","v":0},{"$f":"'Data diagrams (noprint)'!KMA8","v":0},{"$f":"'Data diagrams (noprint)'!KMB8","v":0},{"$f":"'Data diagrams (noprint)'!KMC8","v":0},{"$f":"'Data diagrams (noprint)'!KMD8","v":0},{"$f":"'Data diagrams (noprint)'!KME8","v":0},{"$f":"'Data diagrams (noprint)'!KMF8","v":0},{"$f":"'Data diagrams (noprint)'!KMG8","v":0},{"$f":"'Data diagrams (noprint)'!KMH8","v":0},{"$f":"'Data diagrams (noprint)'!KMI8","v":0},{"$f":"'Data diagrams (noprint)'!KMJ8","v":0},{"$f":"'Data diagrams (noprint)'!KMK8","v":0},{"$f":"'Data diagrams (noprint)'!KML8","v":0},{"$f":"'Data diagrams (noprint)'!KMM8","v":0},{"$f":"'Data diagrams (noprint)'!KMN8","v":0},{"$f":"'Data diagrams (noprint)'!KMO8","v":0},{"$f":"'Data diagrams (noprint)'!KMP8","v":0},{"$f":"'Data diagrams (noprint)'!KMQ8","v":0},{"$f":"'Data diagrams (noprint)'!KMR8","v":0},{"$f":"'Data diagrams (noprint)'!KMS8","v":0},{"$f":"'Data diagrams (noprint)'!KMT8","v":0},{"$f":"'Data diagrams (noprint)'!KMU8","v":0},{"$f":"'Data diagrams (noprint)'!KMV8","v":0},{"$f":"'Data diagrams (noprint)'!KMW8","v":0},{"$f":"'Data diagrams (noprint)'!KMX8","v":0},{"$f":"'Data diagrams (noprint)'!KMY8","v":0},{"$f":"'Data diagrams (noprint)'!KMZ8","v":0},{"$f":"'Data diagrams (noprint)'!KNA8","v":0},{"$f":"'Data diagrams (noprint)'!KNB8","v":0},{"$f":"'Data diagrams (noprint)'!KNC8","v":0},{"$f":"'Data diagrams (noprint)'!KND8","v":0},{"$f":"'Data diagrams (noprint)'!KNE8","v":0},{"$f":"'Data diagrams (noprint)'!KNF8","v":0},{"$f":"'Data diagrams (noprint)'!KNG8","v":0},{"$f":"'Data diagrams (noprint)'!KNH8","v":0},{"$f":"'Data diagrams (noprint)'!KNI8","v":0},{"$f":"'Data diagrams (noprint)'!KNJ8","v":0},{"$f":"'Data diagrams (noprint)'!KNK8","v":0},{"$f":"'Data diagrams (noprint)'!KNL8","v":0},{"$f":"'Data diagrams (noprint)'!KNM8","v":0},{"$f":"'Data diagrams (noprint)'!KNN8","v":0},{"$f":"'Data diagrams (noprint)'!KNO8","v":0},{"$f":"'Data diagrams (noprint)'!KNP8","v":0},{"$f":"'Data diagrams (noprint)'!KNQ8","v":0},{"$f":"'Data diagrams (noprint)'!KNR8","v":0},{"$f":"'Data diagrams (noprint)'!KNS8","v":0},{"$f":"'Data diagrams (noprint)'!KNT8","v":0},{"$f":"'Data diagrams (noprint)'!KNU8","v":0},{"$f":"'Data diagrams (noprint)'!KNV8","v":0},{"$f":"'Data diagrams (noprint)'!KNW8","v":0},{"$f":"'Data diagrams (noprint)'!KNX8","v":0},{"$f":"'Data diagrams (noprint)'!KNY8","v":0},{"$f":"'Data diagrams (noprint)'!KNZ8","v":0},{"$f":"'Data diagrams (noprint)'!KOA8","v":0},{"$f":"'Data diagrams (noprint)'!KOB8","v":0},{"$f":"'Data diagrams (noprint)'!KOC8","v":0},{"$f":"'Data diagrams (noprint)'!KOD8","v":0},{"$f":"'Data diagrams (noprint)'!KOE8","v":0},{"$f":"'Data diagrams (noprint)'!KOF8","v":0},{"$f":"'Data diagrams (noprint)'!KOG8","v":0},{"$f":"'Data diagrams (noprint)'!KOH8","v":0},{"$f":"'Data diagrams (noprint)'!KOI8","v":0},{"$f":"'Data diagrams (noprint)'!KOJ8","v":0},{"$f":"'Data diagrams (noprint)'!KOK8","v":0},{"$f":"'Data diagrams (noprint)'!KOL8","v":0},{"$f":"'Data diagrams (noprint)'!KOM8","v":0},{"$f":"'Data diagrams (noprint)'!KON8","v":0},{"$f":"'Data diagrams (noprint)'!KOO8","v":0},{"$f":"'Data diagrams (noprint)'!KOP8","v":0},{"$f":"'Data diagrams (noprint)'!KOQ8","v":0},{"$f":"'Data diagrams (noprint)'!KOR8","v":0},{"$f":"'Data diagrams (noprint)'!KOS8","v":0},{"$f":"'Data diagrams (noprint)'!KOT8","v":0},{"$f":"'Data diagrams (noprint)'!KOU8","v":0},{"$f":"'Data diagrams (noprint)'!KOV8","v":0},{"$f":"'Data diagrams (noprint)'!KOW8","v":0},{"$f":"'Data diagrams (noprint)'!KOX8","v":0},{"$f":"'Data diagrams (noprint)'!KOY8","v":0},{"$f":"'Data diagrams (noprint)'!KOZ8","v":0},{"$f":"'Data diagrams (noprint)'!KPA8","v":0},{"$f":"'Data diagrams (noprint)'!KPB8","v":0},{"$f":"'Data diagrams (noprint)'!KPC8","v":0},{"$f":"'Data diagrams (noprint)'!KPD8","v":0},{"$f":"'Data diagrams (noprint)'!KPE8","v":0},{"$f":"'Data diagrams (noprint)'!KPF8","v":0},{"$f":"'Data diagrams (noprint)'!KPG8","v":0},{"$f":"'Data diagrams (noprint)'!KPH8","v":0},{"$f":"'Data diagrams (noprint)'!KPI8","v":0},{"$f":"'Data diagrams (noprint)'!KPJ8","v":0},{"$f":"'Data diagrams (noprint)'!KPK8","v":0},{"$f":"'Data diagrams (noprint)'!KPL8","v":0},{"$f":"'Data diagrams (noprint)'!KPM8","v":0},{"$f":"'Data diagrams (noprint)'!KPN8","v":0},{"$f":"'Data diagrams (noprint)'!KPO8","v":0},{"$f":"'Data diagrams (noprint)'!KPP8","v":0},{"$f":"'Data diagrams (noprint)'!KPQ8","v":0},{"$f":"'Data diagrams (noprint)'!KPR8","v":0},{"$f":"'Data diagrams (noprint)'!KPS8","v":0},{"$f":"'Data diagrams (noprint)'!KPT8","v":0},{"$f":"'Data diagrams (noprint)'!KPU8","v":0},{"$f":"'Data diagrams (noprint)'!KPV8","v":0},{"$f":"'Data diagrams (noprint)'!KPW8","v":0},{"$f":"'Data diagrams (noprint)'!KPX8","v":0},{"$f":"'Data diagrams (noprint)'!KPY8","v":0},{"$f":"'Data diagrams (noprint)'!KPZ8","v":0},{"$f":"'Data diagrams (noprint)'!KQA8","v":0},{"$f":"'Data diagrams (noprint)'!KQB8","v":0},{"$f":"'Data diagrams (noprint)'!KQC8","v":0},{"$f":"'Data diagrams (noprint)'!KQD8","v":0},{"$f":"'Data diagrams (noprint)'!KQE8","v":0},{"$f":"'Data diagrams (noprint)'!KQF8","v":0},{"$f":"'Data diagrams (noprint)'!KQG8","v":0},{"$f":"'Data diagrams (noprint)'!KQH8","v":0},{"$f":"'Data diagrams (noprint)'!KQI8","v":0},{"$f":"'Data diagrams (noprint)'!KQJ8","v":0},{"$f":"'Data diagrams (noprint)'!KQK8","v":0},{"$f":"'Data diagrams (noprint)'!KQL8","v":0},{"$f":"'Data diagrams (noprint)'!KQM8","v":0},{"$f":"'Data diagrams (noprint)'!KQN8","v":0},{"$f":"'Data diagrams (noprint)'!KQO8","v":0},{"$f":"'Data diagrams (noprint)'!KQP8","v":0},{"$f":"'Data diagrams (noprint)'!KQQ8","v":0},{"$f":"'Data diagrams (noprint)'!KQR8","v":0},{"$f":"'Data diagrams (noprint)'!KQS8","v":0},{"$f":"'Data diagrams (noprint)'!KQT8","v":0},{"$f":"'Data diagrams (noprint)'!KQU8","v":0},{"$f":"'Data diagrams (noprint)'!KQV8","v":0},{"$f":"'Data diagrams (noprint)'!KQW8","v":0},{"$f":"'Data diagrams (noprint)'!KQX8","v":0},{"$f":"'Data diagrams (noprint)'!KQY8","v":0},{"$f":"'Data diagrams (noprint)'!KQZ8","v":0},{"$f":"'Data diagrams (noprint)'!KRA8","v":0},{"$f":"'Data diagrams (noprint)'!KRB8","v":0},{"$f":"'Data diagrams (noprint)'!KRC8","v":0},{"$f":"'Data diagrams (noprint)'!KRD8","v":0},{"$f":"'Data diagrams (noprint)'!KRE8","v":0},{"$f":"'Data diagrams (noprint)'!KRF8","v":0},{"$f":"'Data diagrams (noprint)'!KRG8","v":0},{"$f":"'Data diagrams (noprint)'!KRH8","v":0},{"$f":"'Data diagrams (noprint)'!KRI8","v":0},{"$f":"'Data diagrams (noprint)'!KRJ8","v":0},{"$f":"'Data diagrams (noprint)'!KRK8","v":0},{"$f":"'Data diagrams (noprint)'!KRL8","v":0},{"$f":"'Data diagrams (noprint)'!KRM8","v":0},{"$f":"'Data diagrams (noprint)'!KRN8","v":0},{"$f":"'Data diagrams (noprint)'!KRO8","v":0},{"$f":"'Data diagrams (noprint)'!KRP8","v":0},{"$f":"'Data diagrams (noprint)'!KRQ8","v":0},{"$f":"'Data diagrams (noprint)'!KRR8","v":0},{"$f":"'Data diagrams (noprint)'!KRS8","v":0},{"$f":"'Data diagrams (noprint)'!KRT8","v":0},{"$f":"'Data diagrams (noprint)'!KRU8","v":0},{"$f":"'Data diagrams (noprint)'!KRV8","v":0},{"$f":"'Data diagrams (noprint)'!KRW8","v":0},{"$f":"'Data diagrams (noprint)'!KRX8","v":0},{"$f":"'Data diagrams (noprint)'!KRY8","v":0},{"$f":"'Data diagrams (noprint)'!KRZ8","v":0},{"$f":"'Data diagrams (noprint)'!KSA8","v":0},{"$f":"'Data diagrams (noprint)'!KSB8","v":0},{"$f":"'Data diagrams (noprint)'!KSC8","v":0},{"$f":"'Data diagrams (noprint)'!KSD8","v":0},{"$f":"'Data diagrams (noprint)'!KSE8","v":0},{"$f":"'Data diagrams (noprint)'!KSF8","v":0},{"$f":"'Data diagrams (noprint)'!KSG8","v":0},{"$f":"'Data diagrams (noprint)'!KSH8","v":0},{"$f":"'Data diagrams (noprint)'!KSI8","v":0},{"$f":"'Data diagrams (noprint)'!KSJ8","v":0},{"$f":"'Data diagrams (noprint)'!KSK8","v":0},{"$f":"'Data diagrams (noprint)'!KSL8","v":0},{"$f":"'Data diagrams (noprint)'!KSM8","v":0},{"$f":"'Data diagrams (noprint)'!KSN8","v":0},{"$f":"'Data diagrams (noprint)'!KSO8","v":0},{"$f":"'Data diagrams (noprint)'!KSP8","v":0},{"$f":"'Data diagrams (noprint)'!KSQ8","v":0},{"$f":"'Data diagrams (noprint)'!KSR8","v":0},{"$f":"'Data diagrams (noprint)'!KSS8","v":0},{"$f":"'Data diagrams (noprint)'!KST8","v":0},{"$f":"'Data diagrams (noprint)'!KSU8","v":0},{"$f":"'Data diagrams (noprint)'!KSV8","v":0},{"$f":"'Data diagrams (noprint)'!KSW8","v":0},{"$f":"'Data diagrams (noprint)'!KSX8","v":0},{"$f":"'Data diagrams (noprint)'!KSY8","v":0},{"$f":"'Data diagrams (noprint)'!KSZ8","v":0},{"$f":"'Data diagrams (noprint)'!KTA8","v":0},{"$f":"'Data diagrams (noprint)'!KTB8","v":0},{"$f":"'Data diagrams (noprint)'!KTC8","v":0},{"$f":"'Data diagrams (noprint)'!KTD8","v":0},{"$f":"'Data diagrams (noprint)'!KTE8","v":0},{"$f":"'Data diagrams (noprint)'!KTF8","v":0},{"$f":"'Data diagrams (noprint)'!KTG8","v":0},{"$f":"'Data diagrams (noprint)'!KTH8","v":0},{"$f":"'Data diagrams (noprint)'!KTI8","v":0},{"$f":"'Data diagrams (noprint)'!KTJ8","v":0},{"$f":"'Data diagrams (noprint)'!KTK8","v":0},{"$f":"'Data diagrams (noprint)'!KTL8","v":0},{"$f":"'Data diagrams (noprint)'!KTM8","v":0},{"$f":"'Data diagrams (noprint)'!KTN8","v":0},{"$f":"'Data diagrams (noprint)'!KTO8","v":0},{"$f":"'Data diagrams (noprint)'!KTP8","v":0},{"$f":"'Data diagrams (noprint)'!KTQ8","v":0},{"$f":"'Data diagrams (noprint)'!KTR8","v":0},{"$f":"'Data diagrams (noprint)'!KTS8","v":0},{"$f":"'Data diagrams (noprint)'!KTT8","v":0},{"$f":"'Data diagrams (noprint)'!KTU8","v":0},{"$f":"'Data diagrams (noprint)'!KTV8","v":0},{"$f":"'Data diagrams (noprint)'!KTW8","v":0},{"$f":"'Data diagrams (noprint)'!KTX8","v":0},{"$f":"'Data diagrams (noprint)'!KTY8","v":0},{"$f":"'Data diagrams (noprint)'!KTZ8","v":0},{"$f":"'Data diagrams (noprint)'!KUA8","v":0},{"$f":"'Data diagrams (noprint)'!KUB8","v":0},{"$f":"'Data diagrams (noprint)'!KUC8","v":0},{"$f":"'Data diagrams (noprint)'!KUD8","v":0},{"$f":"'Data diagrams (noprint)'!KUE8","v":0},{"$f":"'Data diagrams (noprint)'!KUF8","v":0},{"$f":"'Data diagrams (noprint)'!KUG8","v":0},{"$f":"'Data diagrams (noprint)'!KUH8","v":0},{"$f":"'Data diagrams (noprint)'!KUI8","v":0},{"$f":"'Data diagrams (noprint)'!KUJ8","v":0},{"$f":"'Data diagrams (noprint)'!KUK8","v":0},{"$f":"'Data diagrams (noprint)'!KUL8","v":0},{"$f":"'Data diagrams (noprint)'!KUM8","v":0},{"$f":"'Data diagrams (noprint)'!KUN8","v":0},{"$f":"'Data diagrams (noprint)'!KUO8","v":0},{"$f":"'Data diagrams (noprint)'!KUP8","v":0},{"$f":"'Data diagrams (noprint)'!KUQ8","v":0},{"$f":"'Data diagrams (noprint)'!KUR8","v":0},{"$f":"'Data diagrams (noprint)'!KUS8","v":0},{"$f":"'Data diagrams (noprint)'!KUT8","v":0},{"$f":"'Data diagrams (noprint)'!KUU8","v":0},{"$f":"'Data diagrams (noprint)'!KUV8","v":0},{"$f":"'Data diagrams (noprint)'!KUW8","v":0},{"$f":"'Data diagrams (noprint)'!KUX8","v":0},{"$f":"'Data diagrams (noprint)'!KUY8","v":0},{"$f":"'Data diagrams (noprint)'!KUZ8","v":0},{"$f":"'Data diagrams (noprint)'!KVA8","v":0},{"$f":"'Data diagrams (noprint)'!KVB8","v":0},{"$f":"'Data diagrams (noprint)'!KVC8","v":0},{"$f":"'Data diagrams (noprint)'!KVD8","v":0},{"$f":"'Data diagrams (noprint)'!KVE8","v":0},{"$f":"'Data diagrams (noprint)'!KVF8","v":0},{"$f":"'Data diagrams (noprint)'!KVG8","v":0},{"$f":"'Data diagrams (noprint)'!KVH8","v":0},{"$f":"'Data diagrams (noprint)'!KVI8","v":0},{"$f":"'Data diagrams (noprint)'!KVJ8","v":0},{"$f":"'Data diagrams (noprint)'!KVK8","v":0},{"$f":"'Data diagrams (noprint)'!KVL8","v":0},{"$f":"'Data diagrams (noprint)'!KVM8","v":0},{"$f":"'Data diagrams (noprint)'!KVN8","v":0},{"$f":"'Data diagrams (noprint)'!KVO8","v":0},{"$f":"'Data diagrams (noprint)'!KVP8","v":0},{"$f":"'Data diagrams (noprint)'!KVQ8","v":0},{"$f":"'Data diagrams (noprint)'!KVR8","v":0},{"$f":"'Data diagrams (noprint)'!KVS8","v":0},{"$f":"'Data diagrams (noprint)'!KVT8","v":0},{"$f":"'Data diagrams (noprint)'!KVU8","v":0},{"$f":"'Data diagrams (noprint)'!KVV8","v":0},{"$f":"'Data diagrams (noprint)'!KVW8","v":0},{"$f":"'Data diagrams (noprint)'!KVX8","v":0},{"$f":"'Data diagrams (noprint)'!KVY8","v":0},{"$f":"'Data diagrams (noprint)'!KVZ8","v":0},{"$f":"'Data diagrams (noprint)'!KWA8","v":0},{"$f":"'Data diagrams (noprint)'!KWB8","v":0},{"$f":"'Data diagrams (noprint)'!KWC8","v":0},{"$f":"'Data diagrams (noprint)'!KWD8","v":0},{"$f":"'Data diagrams (noprint)'!KWE8","v":0},{"$f":"'Data diagrams (noprint)'!KWF8","v":0},{"$f":"'Data diagrams (noprint)'!KWG8","v":0},{"$f":"'Data diagrams (noprint)'!KWH8","v":0},{"$f":"'Data diagrams (noprint)'!KWI8","v":0},{"$f":"'Data diagrams (noprint)'!KWJ8","v":0},{"$f":"'Data diagrams (noprint)'!KWK8","v":0},{"$f":"'Data diagrams (noprint)'!KWL8","v":0},{"$f":"'Data diagrams (noprint)'!KWM8","v":0},{"$f":"'Data diagrams (noprint)'!KWN8","v":0},{"$f":"'Data diagrams (noprint)'!KWO8","v":0},{"$f":"'Data diagrams (noprint)'!KWP8","v":0},{"$f":"'Data diagrams (noprint)'!KWQ8","v":0},{"$f":"'Data diagrams (noprint)'!KWR8","v":0},{"$f":"'Data diagrams (noprint)'!KWS8","v":0},{"$f":"'Data diagrams (noprint)'!KWT8","v":0},{"$f":"'Data diagrams (noprint)'!KWU8","v":0},{"$f":"'Data diagrams (noprint)'!KWV8","v":0},{"$f":"'Data diagrams (noprint)'!KWW8","v":0},{"$f":"'Data diagrams (noprint)'!KWX8","v":0},{"$f":"'Data diagrams (noprint)'!KWY8","v":0},{"$f":"'Data diagrams (noprint)'!KWZ8","v":0},{"$f":"'Data diagrams (noprint)'!KXA8","v":0},{"$f":"'Data diagrams (noprint)'!KXB8","v":0},{"$f":"'Data diagrams (noprint)'!KXC8","v":0},{"$f":"'Data diagrams (noprint)'!KXD8","v":0},{"$f":"'Data diagrams (noprint)'!KXE8","v":0},{"$f":"'Data diagrams (noprint)'!KXF8","v":0},{"$f":"'Data diagrams (noprint)'!KXG8","v":0},{"$f":"'Data diagrams (noprint)'!KXH8","v":0},{"$f":"'Data diagrams (noprint)'!KXI8","v":0},{"$f":"'Data diagrams (noprint)'!KXJ8","v":0},{"$f":"'Data diagrams (noprint)'!KXK8","v":0},{"$f":"'Data diagrams (noprint)'!KXL8","v":0},{"$f":"'Data diagrams (noprint)'!KXM8","v":0},{"$f":"'Data diagrams (noprint)'!KXN8","v":0},{"$f":"'Data diagrams (noprint)'!KXO8","v":0},{"$f":"'Data diagrams (noprint)'!KXP8","v":0},{"$f":"'Data diagrams (noprint)'!KXQ8","v":0},{"$f":"'Data diagrams (noprint)'!KXR8","v":0},{"$f":"'Data diagrams (noprint)'!KXS8","v":0},{"$f":"'Data diagrams (noprint)'!KXT8","v":0},{"$f":"'Data diagrams (noprint)'!KXU8","v":0},{"$f":"'Data diagrams (noprint)'!KXV8","v":0},{"$f":"'Data diagrams (noprint)'!KXW8","v":0},{"$f":"'Data diagrams (noprint)'!KXX8","v":0},{"$f":"'Data diagrams (noprint)'!KXY8","v":0},{"$f":"'Data diagrams (noprint)'!KXZ8","v":0},{"$f":"'Data diagrams (noprint)'!KYA8","v":0},{"$f":"'Data diagrams (noprint)'!KYB8","v":0},{"$f":"'Data diagrams (noprint)'!KYC8","v":0},{"$f":"'Data diagrams (noprint)'!KYD8","v":0},{"$f":"'Data diagrams (noprint)'!KYE8","v":0},{"$f":"'Data diagrams (noprint)'!KYF8","v":0},{"$f":"'Data diagrams (noprint)'!KYG8","v":0},{"$f":"'Data diagrams (noprint)'!KYH8","v":0},{"$f":"'Data diagrams (noprint)'!KYI8","v":0},{"$f":"'Data diagrams (noprint)'!KYJ8","v":0},{"$f":"'Data diagrams (noprint)'!KYK8","v":0},{"$f":"'Data diagrams (noprint)'!KYL8","v":0},{"$f":"'Data diagrams (noprint)'!KYM8","v":0},{"$f":"'Data diagrams (noprint)'!KYN8","v":0},{"$f":"'Data diagrams (noprint)'!KYO8","v":0},{"$f":"'Data diagrams (noprint)'!KYP8","v":0},{"$f":"'Data diagrams (noprint)'!KYQ8","v":0},{"$f":"'Data diagrams (noprint)'!KYR8","v":0},{"$f":"'Data diagrams (noprint)'!KYS8","v":0},{"$f":"'Data diagrams (noprint)'!KYT8","v":0},{"$f":"'Data diagrams (noprint)'!KYU8","v":0},{"$f":"'Data diagrams (noprint)'!KYV8","v":0},{"$f":"'Data diagrams (noprint)'!KYW8","v":0},{"$f":"'Data diagrams (noprint)'!KYX8","v":0},{"$f":"'Data diagrams (noprint)'!KYY8","v":0},{"$f":"'Data diagrams (noprint)'!KYZ8","v":0},{"$f":"'Data diagrams (noprint)'!KZA8","v":0},{"$f":"'Data diagrams (noprint)'!KZB8","v":0},{"$f":"'Data diagrams (noprint)'!KZC8","v":0},{"$f":"'Data diagrams (noprint)'!KZD8","v":0},{"$f":"'Data diagrams (noprint)'!KZE8","v":0},{"$f":"'Data diagrams (noprint)'!KZF8","v":0},{"$f":"'Data diagrams (noprint)'!KZG8","v":0},{"$f":"'Data diagrams (noprint)'!KZH8","v":0},{"$f":"'Data diagrams (noprint)'!KZI8","v":0},{"$f":"'Data diagrams (noprint)'!KZJ8","v":0},{"$f":"'Data diagrams (noprint)'!KZK8","v":0},{"$f":"'Data diagrams (noprint)'!KZL8","v":0},{"$f":"'Data diagrams (noprint)'!KZM8","v":0},{"$f":"'Data diagrams (noprint)'!KZN8","v":0},{"$f":"'Data diagrams (noprint)'!KZO8","v":0},{"$f":"'Data diagrams (noprint)'!KZP8","v":0},{"$f":"'Data diagrams (noprint)'!KZQ8","v":0},{"$f":"'Data diagrams (noprint)'!KZR8","v":0},{"$f":"'Data diagrams (noprint)'!KZS8","v":0},{"$f":"'Data diagrams (noprint)'!KZT8","v":0},{"$f":"'Data diagrams (noprint)'!KZU8","v":0},{"$f":"'Data diagrams (noprint)'!KZV8","v":0},{"$f":"'Data diagrams (noprint)'!KZW8","v":0},{"$f":"'Data diagrams (noprint)'!KZX8","v":0},{"$f":"'Data diagrams (noprint)'!KZY8","v":0},{"$f":"'Data diagrams (noprint)'!KZZ8","v":0},{"$f":"'Data diagrams (noprint)'!LAA8","v":0},{"$f":"'Data diagrams (noprint)'!LAB8","v":0},{"$f":"'Data diagrams (noprint)'!LAC8","v":0},{"$f":"'Data diagrams (noprint)'!LAD8","v":0},{"$f":"'Data diagrams (noprint)'!LAE8","v":0},{"$f":"'Data diagrams (noprint)'!LAF8","v":0},{"$f":"'Data diagrams (noprint)'!LAG8","v":0},{"$f":"'Data diagrams (noprint)'!LAH8","v":0},{"$f":"'Data diagrams (noprint)'!LAI8","v":0},{"$f":"'Data diagrams (noprint)'!LAJ8","v":0},{"$f":"'Data diagrams (noprint)'!LAK8","v":0},{"$f":"'Data diagrams (noprint)'!LAL8","v":0},{"$f":"'Data diagrams (noprint)'!LAM8","v":0},{"$f":"'Data diagrams (noprint)'!LAN8","v":0},{"$f":"'Data diagrams (noprint)'!LAO8","v":0},{"$f":"'Data diagrams (noprint)'!LAP8","v":0},{"$f":"'Data diagrams (noprint)'!LAQ8","v":0},{"$f":"'Data diagrams (noprint)'!LAR8","v":0},{"$f":"'Data diagrams (noprint)'!LAS8","v":0},{"$f":"'Data diagrams (noprint)'!LAT8","v":0},{"$f":"'Data diagrams (noprint)'!LAU8","v":0},{"$f":"'Data diagrams (noprint)'!LAV8","v":0},{"$f":"'Data diagrams (noprint)'!LAW8","v":0},{"$f":"'Data diagrams (noprint)'!LAX8","v":0},{"$f":"'Data diagrams (noprint)'!LAY8","v":0},{"$f":"'Data diagrams (noprint)'!LAZ8","v":0},{"$f":"'Data diagrams (noprint)'!LBA8","v":0},{"$f":"'Data diagrams (noprint)'!LBB8","v":0},{"$f":"'Data diagrams (noprint)'!LBC8","v":0},{"$f":"'Data diagrams (noprint)'!LBD8","v":0},{"$f":"'Data diagrams (noprint)'!LBE8","v":0},{"$f":"'Data diagrams (noprint)'!LBF8","v":0},{"$f":"'Data diagrams (noprint)'!LBG8","v":0},{"$f":"'Data diagrams (noprint)'!LBH8","v":0},{"$f":"'Data diagrams (noprint)'!LBI8","v":0},{"$f":"'Data diagrams (noprint)'!LBJ8","v":0},{"$f":"'Data diagrams (noprint)'!LBK8","v":0},{"$f":"'Data diagrams (noprint)'!LBL8","v":0},{"$f":"'Data diagrams (noprint)'!LBM8","v":0},{"$f":"'Data diagrams (noprint)'!LBN8","v":0},{"$f":"'Data diagrams (noprint)'!LBO8","v":0},{"$f":"'Data diagrams (noprint)'!LBP8","v":0},{"$f":"'Data diagrams (noprint)'!LBQ8","v":0},{"$f":"'Data diagrams (noprint)'!LBR8","v":0},{"$f":"'Data diagrams (noprint)'!LBS8","v":0},{"$f":"'Data diagrams (noprint)'!LBT8","v":0},{"$f":"'Data diagrams (noprint)'!LBU8","v":0},{"$f":"'Data diagrams (noprint)'!LBV8","v":0},{"$f":"'Data diagrams (noprint)'!LBW8","v":0},{"$f":"'Data diagrams (noprint)'!LBX8","v":0},{"$f":"'Data diagrams (noprint)'!LBY8","v":0},{"$f":"'Data diagrams (noprint)'!LBZ8","v":0},{"$f":"'Data diagrams (noprint)'!LCA8","v":0},{"$f":"'Data diagrams (noprint)'!LCB8","v":0},{"$f":"'Data diagrams (noprint)'!LCC8","v":0},{"$f":"'Data diagrams (noprint)'!LCD8","v":0},{"$f":"'Data diagrams (noprint)'!LCE8","v":0},{"$f":"'Data diagrams (noprint)'!LCF8","v":0},{"$f":"'Data diagrams (noprint)'!LCG8","v":0},{"$f":"'Data diagrams (noprint)'!LCH8","v":0},{"$f":"'Data diagrams (noprint)'!LCI8","v":0},{"$f":"'Data diagrams (noprint)'!LCJ8","v":0},{"$f":"'Data diagrams (noprint)'!LCK8","v":0},{"$f":"'Data diagrams (noprint)'!LCL8","v":0},{"$f":"'Data diagrams (noprint)'!LCM8","v":0},{"$f":"'Data diagrams (noprint)'!LCN8","v":0},{"$f":"'Data diagrams (noprint)'!LCO8","v":0},{"$f":"'Data diagrams (noprint)'!LCP8","v":0},{"$f":"'Data diagrams (noprint)'!LCQ8","v":0},{"$f":"'Data diagrams (noprint)'!LCR8","v":0},{"$f":"'Data diagrams (noprint)'!LCS8","v":0},{"$f":"'Data diagrams (noprint)'!LCT8","v":0},{"$f":"'Data diagrams (noprint)'!LCU8","v":0},{"$f":"'Data diagrams (noprint)'!LCV8","v":0},{"$f":"'Data diagrams (noprint)'!LCW8","v":0},{"$f":"'Data diagrams (noprint)'!LCX8","v":0},{"$f":"'Data diagrams (noprint)'!LCY8","v":0},{"$f":"'Data diagrams (noprint)'!LCZ8","v":0},{"$f":"'Data diagrams (noprint)'!LDA8","v":0},{"$f":"'Data diagrams (noprint)'!LDB8","v":0},{"$f":"'Data diagrams (noprint)'!LDC8","v":0},{"$f":"'Data diagrams (noprint)'!LDD8","v":0},{"$f":"'Data diagrams (noprint)'!LDE8","v":0},{"$f":"'Data diagrams (noprint)'!LDF8","v":0},{"$f":"'Data diagrams (noprint)'!LDG8","v":0},{"$f":"'Data diagrams (noprint)'!LDH8","v":0},{"$f":"'Data diagrams (noprint)'!LDI8","v":0},{"$f":"'Data diagrams (noprint)'!LDJ8","v":0},{"$f":"'Data diagrams (noprint)'!LDK8","v":0},{"$f":"'Data diagrams (noprint)'!LDL8","v":0},{"$f":"'Data diagrams (noprint)'!LDM8","v":0},{"$f":"'Data diagrams (noprint)'!LDN8","v":0},{"$f":"'Data diagrams (noprint)'!LDO8","v":0},{"$f":"'Data diagrams (noprint)'!LDP8","v":0},{"$f":"'Data diagrams (noprint)'!LDQ8","v":0},{"$f":"'Data diagrams (noprint)'!LDR8","v":0},{"$f":"'Data diagrams (noprint)'!LDS8","v":0},{"$f":"'Data diagrams (noprint)'!LDT8","v":0},{"$f":"'Data diagrams (noprint)'!LDU8","v":0},{"$f":"'Data diagrams (noprint)'!LDV8","v":0},{"$f":"'Data diagrams (noprint)'!LDW8","v":0},{"$f":"'Data diagrams (noprint)'!LDX8","v":0},{"$f":"'Data diagrams (noprint)'!LDY8","v":0},{"$f":"'Data diagrams (noprint)'!LDZ8","v":0},{"$f":"'Data diagrams (noprint)'!LEA8","v":0},{"$f":"'Data diagrams (noprint)'!LEB8","v":0},{"$f":"'Data diagrams (noprint)'!LEC8","v":0},{"$f":"'Data diagrams (noprint)'!LED8","v":0},{"$f":"'Data diagrams (noprint)'!LEE8","v":0},{"$f":"'Data diagrams (noprint)'!LEF8","v":0},{"$f":"'Data diagrams (noprint)'!LEG8","v":0},{"$f":"'Data diagrams (noprint)'!LEH8","v":0},{"$f":"'Data diagrams (noprint)'!LEI8","v":0},{"$f":"'Data diagrams (noprint)'!LEJ8","v":0},{"$f":"'Data diagrams (noprint)'!LEK8","v":0},{"$f":"'Data diagrams (noprint)'!LEL8","v":0},{"$f":"'Data diagrams (noprint)'!LEM8","v":0},{"$f":"'Data diagrams (noprint)'!LEN8","v":0},{"$f":"'Data diagrams (noprint)'!LEO8","v":0},{"$f":"'Data diagrams (noprint)'!LEP8","v":0},{"$f":"'Data diagrams (noprint)'!LEQ8","v":0},{"$f":"'Data diagrams (noprint)'!LER8","v":0},{"$f":"'Data diagrams (noprint)'!LES8","v":0},{"$f":"'Data diagrams (noprint)'!LET8","v":0},{"$f":"'Data diagrams (noprint)'!LEU8","v":0},{"$f":"'Data diagrams (noprint)'!LEV8","v":0},{"$f":"'Data diagrams (noprint)'!LEW8","v":0},{"$f":"'Data diagrams (noprint)'!LEX8","v":0},{"$f":"'Data diagrams (noprint)'!LEY8","v":0},{"$f":"'Data diagrams (noprint)'!LEZ8","v":0},{"$f":"'Data diagrams (noprint)'!LFA8","v":0},{"$f":"'Data diagrams (noprint)'!LFB8","v":0},{"$f":"'Data diagrams (noprint)'!LFC8","v":0},{"$f":"'Data diagrams (noprint)'!LFD8","v":0},{"$f":"'Data diagrams (noprint)'!LFE8","v":0},{"$f":"'Data diagrams (noprint)'!LFF8","v":0},{"$f":"'Data diagrams (noprint)'!LFG8","v":0},{"$f":"'Data diagrams (noprint)'!LFH8","v":0},{"$f":"'Data diagrams (noprint)'!LFI8","v":0},{"$f":"'Data diagrams (noprint)'!LFJ8","v":0},{"$f":"'Data diagrams (noprint)'!LFK8","v":0},{"$f":"'Data diagrams (noprint)'!LFL8","v":0},{"$f":"'Data diagrams (noprint)'!LFM8","v":0},{"$f":"'Data diagrams (noprint)'!LFN8","v":0},{"$f":"'Data diagrams (noprint)'!LFO8","v":0},{"$f":"'Data diagrams (noprint)'!LFP8","v":0},{"$f":"'Data diagrams (noprint)'!LFQ8","v":0},{"$f":"'Data diagrams (noprint)'!LFR8","v":0},{"$f":"'Data diagrams (noprint)'!LFS8","v":0},{"$f":"'Data diagrams (noprint)'!LFT8","v":0},{"$f":"'Data diagrams (noprint)'!LFU8","v":0},{"$f":"'Data diagrams (noprint)'!LFV8","v":0},{"$f":"'Data diagrams (noprint)'!LFW8","v":0},{"$f":"'Data diagrams (noprint)'!LFX8","v":0},{"$f":"'Data diagrams (noprint)'!LFY8","v":0},{"$f":"'Data diagrams (noprint)'!LFZ8","v":0},{"$f":"'Data diagrams (noprint)'!LGA8","v":0},{"$f":"'Data diagrams (noprint)'!LGB8","v":0},{"$f":"'Data diagrams (noprint)'!LGC8","v":0},{"$f":"'Data diagrams (noprint)'!LGD8","v":0},{"$f":"'Data diagrams (noprint)'!LGE8","v":0},{"$f":"'Data diagrams (noprint)'!LGF8","v":0},{"$f":"'Data diagrams (noprint)'!LGG8","v":0},{"$f":"'Data diagrams (noprint)'!LGH8","v":0},{"$f":"'Data diagrams (noprint)'!LGI8","v":0},{"$f":"'Data diagrams (noprint)'!LGJ8","v":0},{"$f":"'Data diagrams (noprint)'!LGK8","v":0},{"$f":"'Data diagrams (noprint)'!LGL8","v":0},{"$f":"'Data diagrams (noprint)'!LGM8","v":0},{"$f":"'Data diagrams (noprint)'!LGN8","v":0},{"$f":"'Data diagrams (noprint)'!LGO8","v":0},{"$f":"'Data diagrams (noprint)'!LGP8","v":0},{"$f":"'Data diagrams (noprint)'!LGQ8","v":0},{"$f":"'Data diagrams (noprint)'!LGR8","v":0},{"$f":"'Data diagrams (noprint)'!LGS8","v":0},{"$f":"'Data diagrams (noprint)'!LGT8","v":0},{"$f":"'Data diagrams (noprint)'!LGU8","v":0},{"$f":"'Data diagrams (noprint)'!LGV8","v":0},{"$f":"'Data diagrams (noprint)'!LGW8","v":0},{"$f":"'Data diagrams (noprint)'!LGX8","v":0},{"$f":"'Data diagrams (noprint)'!LGY8","v":0},{"$f":"'Data diagrams (noprint)'!LGZ8","v":0},{"$f":"'Data diagrams (noprint)'!LHA8","v":0},{"$f":"'Data diagrams (noprint)'!LHB8","v":0},{"$f":"'Data diagrams (noprint)'!LHC8","v":0},{"$f":"'Data diagrams (noprint)'!LHD8","v":0},{"$f":"'Data diagrams (noprint)'!LHE8","v":0},{"$f":"'Data diagrams (noprint)'!LHF8","v":0},{"$f":"'Data diagrams (noprint)'!LHG8","v":0},{"$f":"'Data diagrams (noprint)'!LHH8","v":0},{"$f":"'Data diagrams (noprint)'!LHI8","v":0},{"$f":"'Data diagrams (noprint)'!LHJ8","v":0},{"$f":"'Data diagrams (noprint)'!LHK8","v":0},{"$f":"'Data diagrams (noprint)'!LHL8","v":0},{"$f":"'Data diagrams (noprint)'!LHM8","v":0},{"$f":"'Data diagrams (noprint)'!LHN8","v":0},{"$f":"'Data diagrams (noprint)'!LHO8","v":0},{"$f":"'Data diagrams (noprint)'!LHP8","v":0},{"$f":"'Data diagrams (noprint)'!LHQ8","v":0},{"$f":"'Data diagrams (noprint)'!LHR8","v":0},{"$f":"'Data diagrams (noprint)'!LHS8","v":0},{"$f":"'Data diagrams (noprint)'!LHT8","v":0},{"$f":"'Data diagrams (noprint)'!LHU8","v":0},{"$f":"'Data diagrams (noprint)'!LHV8","v":0},{"$f":"'Data diagrams (noprint)'!LHW8","v":0},{"$f":"'Data diagrams (noprint)'!LHX8","v":0},{"$f":"'Data diagrams (noprint)'!LHY8","v":0},{"$f":"'Data diagrams (noprint)'!LHZ8","v":0},{"$f":"'Data diagrams (noprint)'!LIA8","v":0},{"$f":"'Data diagrams (noprint)'!LIB8","v":0},{"$f":"'Data diagrams (noprint)'!LIC8","v":0},{"$f":"'Data diagrams (noprint)'!LID8","v":0},{"$f":"'Data diagrams (noprint)'!LIE8","v":0},{"$f":"'Data diagrams (noprint)'!LIF8","v":0},{"$f":"'Data diagrams (noprint)'!LIG8","v":0},{"$f":"'Data diagrams (noprint)'!LIH8","v":0},{"$f":"'Data diagrams (noprint)'!LII8","v":0},{"$f":"'Data diagrams (noprint)'!LIJ8","v":0},{"$f":"'Data diagrams (noprint)'!LIK8","v":0},{"$f":"'Data diagrams (noprint)'!LIL8","v":0},{"$f":"'Data diagrams (noprint)'!LIM8","v":0},{"$f":"'Data diagrams (noprint)'!LIN8","v":0},{"$f":"'Data diagrams (noprint)'!LIO8","v":0},{"$f":"'Data diagrams (noprint)'!LIP8","v":0},{"$f":"'Data diagrams (noprint)'!LIQ8","v":0},{"$f":"'Data diagrams (noprint)'!LIR8","v":0},{"$f":"'Data diagrams (noprint)'!LIS8","v":0},{"$f":"'Data diagrams (noprint)'!LIT8","v":0},{"$f":"'Data diagrams (noprint)'!LIU8","v":0},{"$f":"'Data diagrams (noprint)'!LIV8","v":0},{"$f":"'Data diagrams (noprint)'!LIW8","v":0},{"$f":"'Data diagrams (noprint)'!LIX8","v":0},{"$f":"'Data diagrams (noprint)'!LIY8","v":0},{"$f":"'Data diagrams (noprint)'!LIZ8","v":0},{"$f":"'Data diagrams (noprint)'!LJA8","v":0},{"$f":"'Data diagrams (noprint)'!LJB8","v":0},{"$f":"'Data diagrams (noprint)'!LJC8","v":0},{"$f":"'Data diagrams (noprint)'!LJD8","v":0},{"$f":"'Data diagrams (noprint)'!LJE8","v":0},{"$f":"'Data diagrams (noprint)'!LJF8","v":0},{"$f":"'Data diagrams (noprint)'!LJG8","v":0},{"$f":"'Data diagrams (noprint)'!LJH8","v":0},{"$f":"'Data diagrams (noprint)'!LJI8","v":0},{"$f":"'Data diagrams (noprint)'!LJJ8","v":0},{"$f":"'Data diagrams (noprint)'!LJK8","v":0},{"$f":"'Data diagrams (noprint)'!LJL8","v":0},{"$f":"'Data diagrams (noprint)'!LJM8","v":0},{"$f":"'Data diagrams (noprint)'!LJN8","v":0},{"$f":"'Data diagrams (noprint)'!LJO8","v":0},{"$f":"'Data diagrams (noprint)'!LJP8","v":0},{"$f":"'Data diagrams (noprint)'!LJQ8","v":0},{"$f":"'Data diagrams (noprint)'!LJR8","v":0},{"$f":"'Data diagrams (noprint)'!LJS8","v":0},{"$f":"'Data diagrams (noprint)'!LJT8","v":0},{"$f":"'Data diagrams (noprint)'!LJU8","v":0},{"$f":"'Data diagrams (noprint)'!LJV8","v":0},{"$f":"'Data diagrams (noprint)'!LJW8","v":0},{"$f":"'Data diagrams (noprint)'!LJX8","v":0},{"$f":"'Data diagrams (noprint)'!LJY8","v":0},{"$f":"'Data diagrams (noprint)'!LJZ8","v":0},{"$f":"'Data diagrams (noprint)'!LKA8","v":0},{"$f":"'Data diagrams (noprint)'!LKB8","v":0},{"$f":"'Data diagrams (noprint)'!LKC8","v":0},{"$f":"'Data diagrams (noprint)'!LKD8","v":0},{"$f":"'Data diagrams (noprint)'!LKE8","v":0},{"$f":"'Data diagrams (noprint)'!LKF8","v":0},{"$f":"'Data diagrams (noprint)'!LKG8","v":0},{"$f":"'Data diagrams (noprint)'!LKH8","v":0},{"$f":"'Data diagrams (noprint)'!LKI8","v":0},{"$f":"'Data diagrams (noprint)'!LKJ8","v":0},{"$f":"'Data diagrams (noprint)'!LKK8","v":0},{"$f":"'Data diagrams (noprint)'!LKL8","v":0},{"$f":"'Data diagrams (noprint)'!LKM8","v":0},{"$f":"'Data diagrams (noprint)'!LKN8","v":0},{"$f":"'Data diagrams (noprint)'!LKO8","v":0},{"$f":"'Data diagrams (noprint)'!LKP8","v":0},{"$f":"'Data diagrams (noprint)'!LKQ8","v":0},{"$f":"'Data diagrams (noprint)'!LKR8","v":0},{"$f":"'Data diagrams (noprint)'!LKS8","v":0},{"$f":"'Data diagrams (noprint)'!LKT8","v":0},{"$f":"'Data diagrams (noprint)'!LKU8","v":0},{"$f":"'Data diagrams (noprint)'!LKV8","v":0},{"$f":"'Data diagrams (noprint)'!LKW8","v":0},{"$f":"'Data diagrams (noprint)'!LKX8","v":0},{"$f":"'Data diagrams (noprint)'!LKY8","v":0},{"$f":"'Data diagrams (noprint)'!LKZ8","v":0},{"$f":"'Data diagrams (noprint)'!LLA8","v":0},{"$f":"'Data diagrams (noprint)'!LLB8","v":0},{"$f":"'Data diagrams (noprint)'!LLC8","v":0},{"$f":"'Data diagrams (noprint)'!LLD8","v":0},{"$f":"'Data diagrams (noprint)'!LLE8","v":0},{"$f":"'Data diagrams (noprint)'!LLF8","v":0},{"$f":"'Data diagrams (noprint)'!LLG8","v":0},{"$f":"'Data diagrams (noprint)'!LLH8","v":0},{"$f":"'Data diagrams (noprint)'!LLI8","v":0},{"$f":"'Data diagrams (noprint)'!LLJ8","v":0},{"$f":"'Data diagrams (noprint)'!LLK8","v":0},{"$f":"'Data diagrams (noprint)'!LLL8","v":0},{"$f":"'Data diagrams (noprint)'!LLM8","v":0},{"$f":"'Data diagrams (noprint)'!LLN8","v":0},{"$f":"'Data diagrams (noprint)'!LLO8","v":0},{"$f":"'Data diagrams (noprint)'!LLP8","v":0},{"$f":"'Data diagrams (noprint)'!LLQ8","v":0},{"$f":"'Data diagrams (noprint)'!LLR8","v":0},{"$f":"'Data diagrams (noprint)'!LLS8","v":0},{"$f":"'Data diagrams (noprint)'!LLT8","v":0},{"$f":"'Data diagrams (noprint)'!LLU8","v":0},{"$f":"'Data diagrams (noprint)'!LLV8","v":0},{"$f":"'Data diagrams (noprint)'!LLW8","v":0},{"$f":"'Data diagrams (noprint)'!LLX8","v":0},{"$f":"'Data diagrams (noprint)'!LLY8","v":0},{"$f":"'Data diagrams (noprint)'!LLZ8","v":0},{"$f":"'Data diagrams (noprint)'!LMA8","v":0},{"$f":"'Data diagrams (noprint)'!LMB8","v":0},{"$f":"'Data diagrams (noprint)'!LMC8","v":0},{"$f":"'Data diagrams (noprint)'!LMD8","v":0},{"$f":"'Data diagrams (noprint)'!LME8","v":0},{"$f":"'Data diagrams (noprint)'!LMF8","v":0},{"$f":"'Data diagrams (noprint)'!LMG8","v":0},{"$f":"'Data diagrams (noprint)'!LMH8","v":0},{"$f":"'Data diagrams (noprint)'!LMI8","v":0},{"$f":"'Data diagrams (noprint)'!LMJ8","v":0},{"$f":"'Data diagrams (noprint)'!LMK8","v":0},{"$f":"'Data diagrams (noprint)'!LML8","v":0},{"$f":"'Data diagrams (noprint)'!LMM8","v":0},{"$f":"'Data diagrams (noprint)'!LMN8","v":0},{"$f":"'Data diagrams (noprint)'!LMO8","v":0},{"$f":"'Data diagrams (noprint)'!LMP8","v":0},{"$f":"'Data diagrams (noprint)'!LMQ8","v":0},{"$f":"'Data diagrams (noprint)'!LMR8","v":0},{"$f":"'Data diagrams (noprint)'!LMS8","v":0},{"$f":"'Data diagrams (noprint)'!LMT8","v":0},{"$f":"'Data diagrams (noprint)'!LMU8","v":0},{"$f":"'Data diagrams (noprint)'!LMV8","v":0},{"$f":"'Data diagrams (noprint)'!LMW8","v":0},{"$f":"'Data diagrams (noprint)'!LMX8","v":0},{"$f":"'Data diagrams (noprint)'!LMY8","v":0},{"$f":"'Data diagrams (noprint)'!LMZ8","v":0},{"$f":"'Data diagrams (noprint)'!LNA8","v":0},{"$f":"'Data diagrams (noprint)'!LNB8","v":0},{"$f":"'Data diagrams (noprint)'!LNC8","v":0},{"$f":"'Data diagrams (noprint)'!LND8","v":0},{"$f":"'Data diagrams (noprint)'!LNE8","v":0},{"$f":"'Data diagrams (noprint)'!LNF8","v":0},{"$f":"'Data diagrams (noprint)'!LNG8","v":0},{"$f":"'Data diagrams (noprint)'!LNH8","v":0},{"$f":"'Data diagrams (noprint)'!LNI8","v":0},{"$f":"'Data diagrams (noprint)'!LNJ8","v":0},{"$f":"'Data diagrams (noprint)'!LNK8","v":0},{"$f":"'Data diagrams (noprint)'!LNL8","v":0},{"$f":"'Data diagrams (noprint)'!LNM8","v":0},{"$f":"'Data diagrams (noprint)'!LNN8","v":0},{"$f":"'Data diagrams (noprint)'!LNO8","v":0},{"$f":"'Data diagrams (noprint)'!LNP8","v":0},{"$f":"'Data diagrams (noprint)'!LNQ8","v":0},{"$f":"'Data diagrams (noprint)'!LNR8","v":0},{"$f":"'Data diagrams (noprint)'!LNS8","v":0},{"$f":"'Data diagrams (noprint)'!LNT8","v":0},{"$f":"'Data diagrams (noprint)'!LNU8","v":0},{"$f":"'Data diagrams (noprint)'!LNV8","v":0},{"$f":"'Data diagrams (noprint)'!LNW8","v":0},{"$f":"'Data diagrams (noprint)'!LNX8","v":0},{"$f":"'Data diagrams (noprint)'!LNY8","v":0},{"$f":"'Data diagrams (noprint)'!LNZ8","v":0},{"$f":"'Data diagrams (noprint)'!LOA8","v":0},{"$f":"'Data diagrams (noprint)'!LOB8","v":0},{"$f":"'Data diagrams (noprint)'!LOC8","v":0},{"$f":"'Data diagrams (noprint)'!LOD8","v":0},{"$f":"'Data diagrams (noprint)'!LOE8","v":0},{"$f":"'Data diagrams (noprint)'!LOF8","v":0},{"$f":"'Data diagrams (noprint)'!LOG8","v":0},{"$f":"'Data diagrams (noprint)'!LOH8","v":0},{"$f":"'Data diagrams (noprint)'!LOI8","v":0},{"$f":"'Data diagrams (noprint)'!LOJ8","v":0},{"$f":"'Data diagrams (noprint)'!LOK8","v":0},{"$f":"'Data diagrams (noprint)'!LOL8","v":0},{"$f":"'Data diagrams (noprint)'!LOM8","v":0},{"$f":"'Data diagrams (noprint)'!LON8","v":0},{"$f":"'Data diagrams (noprint)'!LOO8","v":0},{"$f":"'Data diagrams (noprint)'!LOP8","v":0},{"$f":"'Data diagrams (noprint)'!LOQ8","v":0},{"$f":"'Data diagrams (noprint)'!LOR8","v":0},{"$f":"'Data diagrams (noprint)'!LOS8","v":0},{"$f":"'Data diagrams (noprint)'!LOT8","v":0},{"$f":"'Data diagrams (noprint)'!LOU8","v":0},{"$f":"'Data diagrams (noprint)'!LOV8","v":0},{"$f":"'Data diagrams (noprint)'!LOW8","v":0},{"$f":"'Data diagrams (noprint)'!LOX8","v":0},{"$f":"'Data diagrams (noprint)'!LOY8","v":0},{"$f":"'Data diagrams (noprint)'!LOZ8","v":0},{"$f":"'Data diagrams (noprint)'!LPA8","v":0},{"$f":"'Data diagrams (noprint)'!LPB8","v":0},{"$f":"'Data diagrams (noprint)'!LPC8","v":0},{"$f":"'Data diagrams (noprint)'!LPD8","v":0},{"$f":"'Data diagrams (noprint)'!LPE8","v":0},{"$f":"'Data diagrams (noprint)'!LPF8","v":0},{"$f":"'Data diagrams (noprint)'!LPG8","v":0},{"$f":"'Data diagrams (noprint)'!LPH8","v":0},{"$f":"'Data diagrams (noprint)'!LPI8","v":0},{"$f":"'Data diagrams (noprint)'!LPJ8","v":0},{"$f":"'Data diagrams (noprint)'!LPK8","v":0},{"$f":"'Data diagrams (noprint)'!LPL8","v":0},{"$f":"'Data diagrams (noprint)'!LPM8","v":0},{"$f":"'Data diagrams (noprint)'!LPN8","v":0},{"$f":"'Data diagrams (noprint)'!LPO8","v":0},{"$f":"'Data diagrams (noprint)'!LPP8","v":0},{"$f":"'Data diagrams (noprint)'!LPQ8","v":0},{"$f":"'Data diagrams (noprint)'!LPR8","v":0},{"$f":"'Data diagrams (noprint)'!LPS8","v":0},{"$f":"'Data diagrams (noprint)'!LPT8","v":0},{"$f":"'Data diagrams (noprint)'!LPU8","v":0},{"$f":"'Data diagrams (noprint)'!LPV8","v":0},{"$f":"'Data diagrams (noprint)'!LPW8","v":0},{"$f":"'Data diagrams (noprint)'!LPX8","v":0},{"$f":"'Data diagrams (noprint)'!LPY8","v":0},{"$f":"'Data diagrams (noprint)'!LPZ8","v":0},{"$f":"'Data diagrams (noprint)'!LQA8","v":0},{"$f":"'Data diagrams (noprint)'!LQB8","v":0},{"$f":"'Data diagrams (noprint)'!LQC8","v":0},{"$f":"'Data diagrams (noprint)'!LQD8","v":0},{"$f":"'Data diagrams (noprint)'!LQE8","v":0},{"$f":"'Data diagrams (noprint)'!LQF8","v":0},{"$f":"'Data diagrams (noprint)'!LQG8","v":0},{"$f":"'Data diagrams (noprint)'!LQH8","v":0},{"$f":"'Data diagrams (noprint)'!LQI8","v":0},{"$f":"'Data diagrams (noprint)'!LQJ8","v":0},{"$f":"'Data diagrams (noprint)'!LQK8","v":0},{"$f":"'Data diagrams (noprint)'!LQL8","v":0},{"$f":"'Data diagrams (noprint)'!LQM8","v":0},{"$f":"'Data diagrams (noprint)'!LQN8","v":0},{"$f":"'Data diagrams (noprint)'!LQO8","v":0},{"$f":"'Data diagrams (noprint)'!LQP8","v":0},{"$f":"'Data diagrams (noprint)'!LQQ8","v":0},{"$f":"'Data diagrams (noprint)'!LQR8","v":0},{"$f":"'Data diagrams (noprint)'!LQS8","v":0},{"$f":"'Data diagrams (noprint)'!LQT8","v":0},{"$f":"'Data diagrams (noprint)'!LQU8","v":0},{"$f":"'Data diagrams (noprint)'!LQV8","v":0},{"$f":"'Data diagrams (noprint)'!LQW8","v":0},{"$f":"'Data diagrams (noprint)'!LQX8","v":0},{"$f":"'Data diagrams (noprint)'!LQY8","v":0},{"$f":"'Data diagrams (noprint)'!LQZ8","v":0},{"$f":"'Data diagrams (noprint)'!LRA8","v":0},{"$f":"'Data diagrams (noprint)'!LRB8","v":0},{"$f":"'Data diagrams (noprint)'!LRC8","v":0},{"$f":"'Data diagrams (noprint)'!LRD8","v":0},{"$f":"'Data diagrams (noprint)'!LRE8","v":0},{"$f":"'Data diagrams (noprint)'!LRF8","v":0},{"$f":"'Data diagrams (noprint)'!LRG8","v":0},{"$f":"'Data diagrams (noprint)'!LRH8","v":0},{"$f":"'Data diagrams (noprint)'!LRI8","v":0},{"$f":"'Data diagrams (noprint)'!LRJ8","v":0},{"$f":"'Data diagrams (noprint)'!LRK8","v":0},{"$f":"'Data diagrams (noprint)'!LRL8","v":0},{"$f":"'Data diagrams (noprint)'!LRM8","v":0},{"$f":"'Data diagrams (noprint)'!LRN8","v":0},{"$f":"'Data diagrams (noprint)'!LRO8","v":0},{"$f":"'Data diagrams (noprint)'!LRP8","v":0},{"$f":"'Data diagrams (noprint)'!LRQ8","v":0},{"$f":"'Data diagrams (noprint)'!LRR8","v":0},{"$f":"'Data diagrams (noprint)'!LRS8","v":0},{"$f":"'Data diagrams (noprint)'!LRT8","v":0},{"$f":"'Data diagrams (noprint)'!LRU8","v":0},{"$f":"'Data diagrams (noprint)'!LRV8","v":0},{"$f":"'Data diagrams (noprint)'!LRW8","v":0},{"$f":"'Data diagrams (noprint)'!LRX8","v":0},{"$f":"'Data diagrams (noprint)'!LRY8","v":0},{"$f":"'Data diagrams (noprint)'!LRZ8","v":0},{"$f":"'Data diagrams (noprint)'!LSA8","v":0},{"$f":"'Data diagrams (noprint)'!LSB8","v":0},{"$f":"'Data diagrams (noprint)'!LSC8","v":0},{"$f":"'Data diagrams (noprint)'!LSD8","v":0},{"$f":"'Data diagrams (noprint)'!LSE8","v":0},{"$f":"'Data diagrams (noprint)'!LSF8","v":0},{"$f":"'Data diagrams (noprint)'!LSG8","v":0},{"$f":"'Data diagrams (noprint)'!LSH8","v":0},{"$f":"'Data diagrams (noprint)'!LSI8","v":0},{"$f":"'Data diagrams (noprint)'!LSJ8","v":0},{"$f":"'Data diagrams (noprint)'!LSK8","v":0},{"$f":"'Data diagrams (noprint)'!LSL8","v":0},{"$f":"'Data diagrams (noprint)'!LSM8","v":0},{"$f":"'Data diagrams (noprint)'!LSN8","v":0},{"$f":"'Data diagrams (noprint)'!LSO8","v":0},{"$f":"'Data diagrams (noprint)'!LSP8","v":0},{"$f":"'Data diagrams (noprint)'!LSQ8","v":0},{"$f":"'Data diagrams (noprint)'!LSR8","v":0},{"$f":"'Data diagrams (noprint)'!LSS8","v":0},{"$f":"'Data diagrams (noprint)'!LST8","v":0},{"$f":"'Data diagrams (noprint)'!LSU8","v":0},{"$f":"'Data diagrams (noprint)'!LSV8","v":0},{"$f":"'Data diagrams (noprint)'!LSW8","v":0},{"$f":"'Data diagrams (noprint)'!LSX8","v":0},{"$f":"'Data diagrams (noprint)'!LSY8","v":0},{"$f":"'Data diagrams (noprint)'!LSZ8","v":0},{"$f":"'Data diagrams (noprint)'!LTA8","v":0},{"$f":"'Data diagrams (noprint)'!LTB8","v":0},{"$f":"'Data diagrams (noprint)'!LTC8","v":0},{"$f":"'Data diagrams (noprint)'!LTD8","v":0},{"$f":"'Data diagrams (noprint)'!LTE8","v":0},{"$f":"'Data diagrams (noprint)'!LTF8","v":0},{"$f":"'Data diagrams (noprint)'!LTG8","v":0},{"$f":"'Data diagrams (noprint)'!LTH8","v":0},{"$f":"'Data diagrams (noprint)'!LTI8","v":0},{"$f":"'Data diagrams (noprint)'!LTJ8","v":0},{"$f":"'Data diagrams (noprint)'!LTK8","v":0},{"$f":"'Data diagrams (noprint)'!LTL8","v":0},{"$f":"'Data diagrams (noprint)'!LTM8","v":0},{"$f":"'Data diagrams (noprint)'!LTN8","v":0},{"$f":"'Data diagrams (noprint)'!LTO8","v":0},{"$f":"'Data diagrams (noprint)'!LTP8","v":0},{"$f":"'Data diagrams (noprint)'!LTQ8","v":0},{"$f":"'Data diagrams (noprint)'!LTR8","v":0},{"$f":"'Data diagrams (noprint)'!LTS8","v":0},{"$f":"'Data diagrams (noprint)'!LTT8","v":0},{"$f":"'Data diagrams (noprint)'!LTU8","v":0},{"$f":"'Data diagrams (noprint)'!LTV8","v":0},{"$f":"'Data diagrams (noprint)'!LTW8","v":0},{"$f":"'Data diagrams (noprint)'!LTX8","v":0},{"$f":"'Data diagrams (noprint)'!LTY8","v":0},{"$f":"'Data diagrams (noprint)'!LTZ8","v":0},{"$f":"'Data diagrams (noprint)'!LUA8","v":0},{"$f":"'Data diagrams (noprint)'!LUB8","v":0},{"$f":"'Data diagrams (noprint)'!LUC8","v":0},{"$f":"'Data diagrams (noprint)'!LUD8","v":0},{"$f":"'Data diagrams (noprint)'!LUE8","v":0},{"$f":"'Data diagrams (noprint)'!LUF8","v":0},{"$f":"'Data diagrams (noprint)'!LUG8","v":0},{"$f":"'Data diagrams (noprint)'!LUH8","v":0},{"$f":"'Data diagrams (noprint)'!LUI8","v":0},{"$f":"'Data diagrams (noprint)'!LUJ8","v":0},{"$f":"'Data diagrams (noprint)'!LUK8","v":0},{"$f":"'Data diagrams (noprint)'!LUL8","v":0},{"$f":"'Data diagrams (noprint)'!LUM8","v":0},{"$f":"'Data diagrams (noprint)'!LUN8","v":0},{"$f":"'Data diagrams (noprint)'!LUO8","v":0},{"$f":"'Data diagrams (noprint)'!LUP8","v":0},{"$f":"'Data diagrams (noprint)'!LUQ8","v":0},{"$f":"'Data diagrams (noprint)'!LUR8","v":0},{"$f":"'Data diagrams (noprint)'!LUS8","v":0},{"$f":"'Data diagrams (noprint)'!LUT8","v":0},{"$f":"'Data diagrams (noprint)'!LUU8","v":0},{"$f":"'Data diagrams (noprint)'!LUV8","v":0},{"$f":"'Data diagrams (noprint)'!LUW8","v":0},{"$f":"'Data diagrams (noprint)'!LUX8","v":0},{"$f":"'Data diagrams (noprint)'!LUY8","v":0},{"$f":"'Data diagrams (noprint)'!LUZ8","v":0},{"$f":"'Data diagrams (noprint)'!LVA8","v":0},{"$f":"'Data diagrams (noprint)'!LVB8","v":0},{"$f":"'Data diagrams (noprint)'!LVC8","v":0},{"$f":"'Data diagrams (noprint)'!LVD8","v":0},{"$f":"'Data diagrams (noprint)'!LVE8","v":0},{"$f":"'Data diagrams (noprint)'!LVF8","v":0},{"$f":"'Data diagrams (noprint)'!LVG8","v":0},{"$f":"'Data diagrams (noprint)'!LVH8","v":0},{"$f":"'Data diagrams (noprint)'!LVI8","v":0},{"$f":"'Data diagrams (noprint)'!LVJ8","v":0},{"$f":"'Data diagrams (noprint)'!LVK8","v":0},{"$f":"'Data diagrams (noprint)'!LVL8","v":0},{"$f":"'Data diagrams (noprint)'!LVM8","v":0},{"$f":"'Data diagrams (noprint)'!LVN8","v":0},{"$f":"'Data diagrams (noprint)'!LVO8","v":0},{"$f":"'Data diagrams (noprint)'!LVP8","v":0},{"$f":"'Data diagrams (noprint)'!LVQ8","v":0},{"$f":"'Data diagrams (noprint)'!LVR8","v":0},{"$f":"'Data diagrams (noprint)'!LVS8","v":0},{"$f":"'Data diagrams (noprint)'!LVT8","v":0},{"$f":"'Data diagrams (noprint)'!LVU8","v":0},{"$f":"'Data diagrams (noprint)'!LVV8","v":0},{"$f":"'Data diagrams (noprint)'!LVW8","v":0},{"$f":"'Data diagrams (noprint)'!LVX8","v":0},{"$f":"'Data diagrams (noprint)'!LVY8","v":0},{"$f":"'Data diagrams (noprint)'!LVZ8","v":0},{"$f":"'Data diagrams (noprint)'!LWA8","v":0},{"$f":"'Data diagrams (noprint)'!LWB8","v":0},{"$f":"'Data diagrams (noprint)'!LWC8","v":0},{"$f":"'Data diagrams (noprint)'!LWD8","v":0},{"$f":"'Data diagrams (noprint)'!LWE8","v":0},{"$f":"'Data diagrams (noprint)'!LWF8","v":0},{"$f":"'Data diagrams (noprint)'!LWG8","v":0},{"$f":"'Data diagrams (noprint)'!LWH8","v":0},{"$f":"'Data diagrams (noprint)'!LWI8","v":0},{"$f":"'Data diagrams (noprint)'!LWJ8","v":0},{"$f":"'Data diagrams (noprint)'!LWK8","v":0},{"$f":"'Data diagrams (noprint)'!LWL8","v":0},{"$f":"'Data diagrams (noprint)'!LWM8","v":0},{"$f":"'Data diagrams (noprint)'!LWN8","v":0},{"$f":"'Data diagrams (noprint)'!LWO8","v":0},{"$f":"'Data diagrams (noprint)'!LWP8","v":0},{"$f":"'Data diagrams (noprint)'!LWQ8","v":0},{"$f":"'Data diagrams (noprint)'!LWR8","v":0},{"$f":"'Data diagrams (noprint)'!LWS8","v":0},{"$f":"'Data diagrams (noprint)'!LWT8","v":0},{"$f":"'Data diagrams (noprint)'!LWU8","v":0},{"$f":"'Data diagrams (noprint)'!LWV8","v":0},{"$f":"'Data diagrams (noprint)'!LWW8","v":0},{"$f":"'Data diagrams (noprint)'!LWX8","v":0},{"$f":"'Data diagrams (noprint)'!LWY8","v":0},{"$f":"'Data diagrams (noprint)'!LWZ8","v":0},{"$f":"'Data diagrams (noprint)'!LXA8","v":0},{"$f":"'Data diagrams (noprint)'!LXB8","v":0},{"$f":"'Data diagrams (noprint)'!LXC8","v":0},{"$f":"'Data diagrams (noprint)'!LXD8","v":0},{"$f":"'Data diagrams (noprint)'!LXE8","v":0},{"$f":"'Data diagrams (noprint)'!LXF8","v":0},{"$f":"'Data diagrams (noprint)'!LXG8","v":0},{"$f":"'Data diagrams (noprint)'!LXH8","v":0},{"$f":"'Data diagrams (noprint)'!LXI8","v":0},{"$f":"'Data diagrams (noprint)'!LXJ8","v":0},{"$f":"'Data diagrams (noprint)'!LXK8","v":0},{"$f":"'Data diagrams (noprint)'!LXL8","v":0},{"$f":"'Data diagrams (noprint)'!LXM8","v":0},{"$f":"'Data diagrams (noprint)'!LXN8","v":0},{"$f":"'Data diagrams (noprint)'!LXO8","v":0},{"$f":"'Data diagrams (noprint)'!LXP8","v":0},{"$f":"'Data diagrams (noprint)'!LXQ8","v":0},{"$f":"'Data diagrams (noprint)'!LXR8","v":0},{"$f":"'Data diagrams (noprint)'!LXS8","v":0},{"$f":"'Data diagrams (noprint)'!LXT8","v":0},{"$f":"'Data diagrams (noprint)'!LXU8","v":0},{"$f":"'Data diagrams (noprint)'!LXV8","v":0},{"$f":"'Data diagrams (noprint)'!LXW8","v":0},{"$f":"'Data diagrams (noprint)'!LXX8","v":0},{"$f":"'Data diagrams (noprint)'!LXY8","v":0},{"$f":"'Data diagrams (noprint)'!LXZ8","v":0},{"$f":"'Data diagrams (noprint)'!LYA8","v":0},{"$f":"'Data diagrams (noprint)'!LYB8","v":0},{"$f":"'Data diagrams (noprint)'!LYC8","v":0},{"$f":"'Data diagrams (noprint)'!LYD8","v":0},{"$f":"'Data diagrams (noprint)'!LYE8","v":0},{"$f":"'Data diagrams (noprint)'!LYF8","v":0},{"$f":"'Data diagrams (noprint)'!LYG8","v":0},{"$f":"'Data diagrams (noprint)'!LYH8","v":0},{"$f":"'Data diagrams (noprint)'!LYI8","v":0},{"$f":"'Data diagrams (noprint)'!LYJ8","v":0},{"$f":"'Data diagrams (noprint)'!LYK8","v":0},{"$f":"'Data diagrams (noprint)'!LYL8","v":0},{"$f":"'Data diagrams (noprint)'!LYM8","v":0},{"$f":"'Data diagrams (noprint)'!LYN8","v":0},{"$f":"'Data diagrams (noprint)'!LYO8","v":0},{"$f":"'Data diagrams (noprint)'!LYP8","v":0},{"$f":"'Data diagrams (noprint)'!LYQ8","v":0},{"$f":"'Data diagrams (noprint)'!LYR8","v":0},{"$f":"'Data diagrams (noprint)'!LYS8","v":0},{"$f":"'Data diagrams (noprint)'!LYT8","v":0},{"$f":"'Data diagrams (noprint)'!LYU8","v":0},{"$f":"'Data diagrams (noprint)'!LYV8","v":0},{"$f":"'Data diagrams (noprint)'!LYW8","v":0},{"$f":"'Data diagrams (noprint)'!LYX8","v":0},{"$f":"'Data diagrams (noprint)'!LYY8","v":0},{"$f":"'Data diagrams (noprint)'!LYZ8","v":0},{"$f":"'Data diagrams (noprint)'!LZA8","v":0},{"$f":"'Data diagrams (noprint)'!LZB8","v":0},{"$f":"'Data diagrams (noprint)'!LZC8","v":0},{"$f":"'Data diagrams (noprint)'!LZD8","v":0},{"$f":"'Data diagrams (noprint)'!LZE8","v":0},{"$f":"'Data diagrams (noprint)'!LZF8","v":0},{"$f":"'Data diagrams (noprint)'!LZG8","v":0},{"$f":"'Data diagrams (noprint)'!LZH8","v":0},{"$f":"'Data diagrams (noprint)'!LZI8","v":0},{"$f":"'Data diagrams (noprint)'!LZJ8","v":0},{"$f":"'Data diagrams (noprint)'!LZK8","v":0},{"$f":"'Data diagrams (noprint)'!LZL8","v":0},{"$f":"'Data diagrams (noprint)'!LZM8","v":0},{"$f":"'Data diagrams (noprint)'!LZN8","v":0},{"$f":"'Data diagrams (noprint)'!LZO8","v":0},{"$f":"'Data diagrams (noprint)'!LZP8","v":0},{"$f":"'Data diagrams (noprint)'!LZQ8","v":0},{"$f":"'Data diagrams (noprint)'!LZR8","v":0},{"$f":"'Data diagrams (noprint)'!LZS8","v":0},{"$f":"'Data diagrams (noprint)'!LZT8","v":0},{"$f":"'Data diagrams (noprint)'!LZU8","v":0},{"$f":"'Data diagrams (noprint)'!LZV8","v":0},{"$f":"'Data diagrams (noprint)'!LZW8","v":0},{"$f":"'Data diagrams (noprint)'!LZX8","v":0},{"$f":"'Data diagrams (noprint)'!LZY8","v":0},{"$f":"'Data diagrams (noprint)'!LZZ8","v":0},{"$f":"'Data diagrams (noprint)'!MAA8","v":0},{"$f":"'Data diagrams (noprint)'!MAB8","v":0},{"$f":"'Data diagrams (noprint)'!MAC8","v":0},{"$f":"'Data diagrams (noprint)'!MAD8","v":0},{"$f":"'Data diagrams (noprint)'!MAE8","v":0},{"$f":"'Data diagrams (noprint)'!MAF8","v":0},{"$f":"'Data diagrams (noprint)'!MAG8","v":0},{"$f":"'Data diagrams (noprint)'!MAH8","v":0},{"$f":"'Data diagrams (noprint)'!MAI8","v":0},{"$f":"'Data diagrams (noprint)'!MAJ8","v":0},{"$f":"'Data diagrams (noprint)'!MAK8","v":0},{"$f":"'Data diagrams (noprint)'!MAL8","v":0},{"$f":"'Data diagrams (noprint)'!MAM8","v":0},{"$f":"'Data diagrams (noprint)'!MAN8","v":0},{"$f":"'Data diagrams (noprint)'!MAO8","v":0},{"$f":"'Data diagrams (noprint)'!MAP8","v":0},{"$f":"'Data diagrams (noprint)'!MAQ8","v":0},{"$f":"'Data diagrams (noprint)'!MAR8","v":0},{"$f":"'Data diagrams (noprint)'!MAS8","v":0},{"$f":"'Data diagrams (noprint)'!MAT8","v":0},{"$f":"'Data diagrams (noprint)'!MAU8","v":0},{"$f":"'Data diagrams (noprint)'!MAV8","v":0},{"$f":"'Data diagrams (noprint)'!MAW8","v":0},{"$f":"'Data diagrams (noprint)'!MAX8","v":0},{"$f":"'Data diagrams (noprint)'!MAY8","v":0},{"$f":"'Data diagrams (noprint)'!MAZ8","v":0},{"$f":"'Data diagrams (noprint)'!MBA8","v":0},{"$f":"'Data diagrams (noprint)'!MBB8","v":0},{"$f":"'Data diagrams (noprint)'!MBC8","v":0},{"$f":"'Data diagrams (noprint)'!MBD8","v":0},{"$f":"'Data diagrams (noprint)'!MBE8","v":0},{"$f":"'Data diagrams (noprint)'!MBF8","v":0},{"$f":"'Data diagrams (noprint)'!MBG8","v":0},{"$f":"'Data diagrams (noprint)'!MBH8","v":0},{"$f":"'Data diagrams (noprint)'!MBI8","v":0},{"$f":"'Data diagrams (noprint)'!MBJ8","v":0},{"$f":"'Data diagrams (noprint)'!MBK8","v":0},{"$f":"'Data diagrams (noprint)'!MBL8","v":0},{"$f":"'Data diagrams (noprint)'!MBM8","v":0},{"$f":"'Data diagrams (noprint)'!MBN8","v":0},{"$f":"'Data diagrams (noprint)'!MBO8","v":0},{"$f":"'Data diagrams (noprint)'!MBP8","v":0},{"$f":"'Data diagrams (noprint)'!MBQ8","v":0},{"$f":"'Data diagrams (noprint)'!MBR8","v":0},{"$f":"'Data diagrams (noprint)'!MBS8","v":0},{"$f":"'Data diagrams (noprint)'!MBT8","v":0},{"$f":"'Data diagrams (noprint)'!MBU8","v":0},{"$f":"'Data diagrams (noprint)'!MBV8","v":0},{"$f":"'Data diagrams (noprint)'!MBW8","v":0},{"$f":"'Data diagrams (noprint)'!MBX8","v":0},{"$f":"'Data diagrams (noprint)'!MBY8","v":0},{"$f":"'Data diagrams (noprint)'!MBZ8","v":0},{"$f":"'Data diagrams (noprint)'!MCA8","v":0},{"$f":"'Data diagrams (noprint)'!MCB8","v":0},{"$f":"'Data diagrams (noprint)'!MCC8","v":0},{"$f":"'Data diagrams (noprint)'!MCD8","v":0},{"$f":"'Data diagrams (noprint)'!MCE8","v":0},{"$f":"'Data diagrams (noprint)'!MCF8","v":0},{"$f":"'Data diagrams (noprint)'!MCG8","v":0},{"$f":"'Data diagrams (noprint)'!MCH8","v":0},{"$f":"'Data diagrams (noprint)'!MCI8","v":0},{"$f":"'Data diagrams (noprint)'!MCJ8","v":0},{"$f":"'Data diagrams (noprint)'!MCK8","v":0},{"$f":"'Data diagrams (noprint)'!MCL8","v":0},{"$f":"'Data diagrams (noprint)'!MCM8","v":0},{"$f":"'Data diagrams (noprint)'!MCN8","v":0},{"$f":"'Data diagrams (noprint)'!MCO8","v":0},{"$f":"'Data diagrams (noprint)'!MCP8","v":0},{"$f":"'Data diagrams (noprint)'!MCQ8","v":0},{"$f":"'Data diagrams (noprint)'!MCR8","v":0},{"$f":"'Data diagrams (noprint)'!MCS8","v":0},{"$f":"'Data diagrams (noprint)'!MCT8","v":0},{"$f":"'Data diagrams (noprint)'!MCU8","v":0},{"$f":"'Data diagrams (noprint)'!MCV8","v":0},{"$f":"'Data diagrams (noprint)'!MCW8","v":0},{"$f":"'Data diagrams (noprint)'!MCX8","v":0},{"$f":"'Data diagrams (noprint)'!MCY8","v":0},{"$f":"'Data diagrams (noprint)'!MCZ8","v":0},{"$f":"'Data diagrams (noprint)'!MDA8","v":0},{"$f":"'Data diagrams (noprint)'!MDB8","v":0},{"$f":"'Data diagrams (noprint)'!MDC8","v":0},{"$f":"'Data diagrams (noprint)'!MDD8","v":0},{"$f":"'Data diagrams (noprint)'!MDE8","v":0},{"$f":"'Data diagrams (noprint)'!MDF8","v":0},{"$f":"'Data diagrams (noprint)'!MDG8","v":0},{"$f":"'Data diagrams (noprint)'!MDH8","v":0},{"$f":"'Data diagrams (noprint)'!MDI8","v":0},{"$f":"'Data diagrams (noprint)'!MDJ8","v":0},{"$f":"'Data diagrams (noprint)'!MDK8","v":0},{"$f":"'Data diagrams (noprint)'!MDL8","v":0},{"$f":"'Data diagrams (noprint)'!MDM8","v":0},{"$f":"'Data diagrams (noprint)'!MDN8","v":0},{"$f":"'Data diagrams (noprint)'!MDO8","v":0},{"$f":"'Data diagrams (noprint)'!MDP8","v":0},{"$f":"'Data diagrams (noprint)'!MDQ8","v":0},{"$f":"'Data diagrams (noprint)'!MDR8","v":0},{"$f":"'Data diagrams (noprint)'!MDS8","v":0},{"$f":"'Data diagrams (noprint)'!MDT8","v":0},{"$f":"'Data diagrams (noprint)'!MDU8","v":0},{"$f":"'Data diagrams (noprint)'!MDV8","v":0},{"$f":"'Data diagrams (noprint)'!MDW8","v":0},{"$f":"'Data diagrams (noprint)'!MDX8","v":0},{"$f":"'Data diagrams (noprint)'!MDY8","v":0},{"$f":"'Data diagrams (noprint)'!MDZ8","v":0},{"$f":"'Data diagrams (noprint)'!MEA8","v":0},{"$f":"'Data diagrams (noprint)'!MEB8","v":0},{"$f":"'Data diagrams (noprint)'!MEC8","v":0},{"$f":"'Data diagrams (noprint)'!MED8","v":0},{"$f":"'Data diagrams (noprint)'!MEE8","v":0},{"$f":"'Data diagrams (noprint)'!MEF8","v":0},{"$f":"'Data diagrams (noprint)'!MEG8","v":0},{"$f":"'Data diagrams (noprint)'!MEH8","v":0},{"$f":"'Data diagrams (noprint)'!MEI8","v":0},{"$f":"'Data diagrams (noprint)'!MEJ8","v":0},{"$f":"'Data diagrams (noprint)'!MEK8","v":0},{"$f":"'Data diagrams (noprint)'!MEL8","v":0},{"$f":"'Data diagrams (noprint)'!MEM8","v":0},{"$f":"'Data diagrams (noprint)'!MEN8","v":0},{"$f":"'Data diagrams (noprint)'!MEO8","v":0},{"$f":"'Data diagrams (noprint)'!MEP8","v":0},{"$f":"'Data diagrams (noprint)'!MEQ8","v":0},{"$f":"'Data diagrams (noprint)'!MER8","v":0},{"$f":"'Data diagrams (noprint)'!MES8","v":0},{"$f":"'Data diagrams (noprint)'!MET8","v":0},{"$f":"'Data diagrams (noprint)'!MEU8","v":0},{"$f":"'Data diagrams (noprint)'!MEV8","v":0},{"$f":"'Data diagrams (noprint)'!MEW8","v":0},{"$f":"'Data diagrams (noprint)'!MEX8","v":0},{"$f":"'Data diagrams (noprint)'!MEY8","v":0},{"$f":"'Data diagrams (noprint)'!MEZ8","v":0},{"$f":"'Data diagrams (noprint)'!MFA8","v":0},{"$f":"'Data diagrams (noprint)'!MFB8","v":0},{"$f":"'Data diagrams (noprint)'!MFC8","v":0},{"$f":"'Data diagrams (noprint)'!MFD8","v":0},{"$f":"'Data diagrams (noprint)'!MFE8","v":0},{"$f":"'Data diagrams (noprint)'!MFF8","v":0},{"$f":"'Data diagrams (noprint)'!MFG8","v":0},{"$f":"'Data diagrams (noprint)'!MFH8","v":0},{"$f":"'Data diagrams (noprint)'!MFI8","v":0},{"$f":"'Data diagrams (noprint)'!MFJ8","v":0},{"$f":"'Data diagrams (noprint)'!MFK8","v":0},{"$f":"'Data diagrams (noprint)'!MFL8","v":0},{"$f":"'Data diagrams (noprint)'!MFM8","v":0},{"$f":"'Data diagrams (noprint)'!MFN8","v":0},{"$f":"'Data diagrams (noprint)'!MFO8","v":0},{"$f":"'Data diagrams (noprint)'!MFP8","v":0},{"$f":"'Data diagrams (noprint)'!MFQ8","v":0},{"$f":"'Data diagrams (noprint)'!MFR8","v":0},{"$f":"'Data diagrams (noprint)'!MFS8","v":0},{"$f":"'Data diagrams (noprint)'!MFT8","v":0},{"$f":"'Data diagrams (noprint)'!MFU8","v":0},{"$f":"'Data diagrams (noprint)'!MFV8","v":0},{"$f":"'Data diagrams (noprint)'!MFW8","v":0},{"$f":"'Data diagrams (noprint)'!MFX8","v":0},{"$f":"'Data diagrams (noprint)'!MFY8","v":0},{"$f":"'Data diagrams (noprint)'!MFZ8","v":0},{"$f":"'Data diagrams (noprint)'!MGA8","v":0},{"$f":"'Data diagrams (noprint)'!MGB8","v":0},{"$f":"'Data diagrams (noprint)'!MGC8","v":0},{"$f":"'Data diagrams (noprint)'!MGD8","v":0},{"$f":"'Data diagrams (noprint)'!MGE8","v":0},{"$f":"'Data diagrams (noprint)'!MGF8","v":0},{"$f":"'Data diagrams (noprint)'!MGG8","v":0},{"$f":"'Data diagrams (noprint)'!MGH8","v":0},{"$f":"'Data diagrams (noprint)'!MGI8","v":0},{"$f":"'Data diagrams (noprint)'!MGJ8","v":0},{"$f":"'Data diagrams (noprint)'!MGK8","v":0},{"$f":"'Data diagrams (noprint)'!MGL8","v":0},{"$f":"'Data diagrams (noprint)'!MGM8","v":0},{"$f":"'Data diagrams (noprint)'!MGN8","v":0},{"$f":"'Data diagrams (noprint)'!MGO8","v":0},{"$f":"'Data diagrams (noprint)'!MGP8","v":0},{"$f":"'Data diagrams (noprint)'!MGQ8","v":0},{"$f":"'Data diagrams (noprint)'!MGR8","v":0},{"$f":"'Data diagrams (noprint)'!MGS8","v":0},{"$f":"'Data diagrams (noprint)'!MGT8","v":0},{"$f":"'Data diagrams (noprint)'!MGU8","v":0},{"$f":"'Data diagrams (noprint)'!MGV8","v":0},{"$f":"'Data diagrams (noprint)'!MGW8","v":0},{"$f":"'Data diagrams (noprint)'!MGX8","v":0},{"$f":"'Data diagrams (noprint)'!MGY8","v":0},{"$f":"'Data diagrams (noprint)'!MGZ8","v":0},{"$f":"'Data diagrams (noprint)'!MHA8","v":0},{"$f":"'Data diagrams (noprint)'!MHB8","v":0},{"$f":"'Data diagrams (noprint)'!MHC8","v":0},{"$f":"'Data diagrams (noprint)'!MHD8","v":0},{"$f":"'Data diagrams (noprint)'!MHE8","v":0},{"$f":"'Data diagrams (noprint)'!MHF8","v":0},{"$f":"'Data diagrams (noprint)'!MHG8","v":0},{"$f":"'Data diagrams (noprint)'!MHH8","v":0},{"$f":"'Data diagrams (noprint)'!MHI8","v":0},{"$f":"'Data diagrams (noprint)'!MHJ8","v":0},{"$f":"'Data diagrams (noprint)'!MHK8","v":0},{"$f":"'Data diagrams (noprint)'!MHL8","v":0},{"$f":"'Data diagrams (noprint)'!MHM8","v":0},{"$f":"'Data diagrams (noprint)'!MHN8","v":0},{"$f":"'Data diagrams (noprint)'!MHO8","v":0},{"$f":"'Data diagrams (noprint)'!MHP8","v":0},{"$f":"'Data diagrams (noprint)'!MHQ8","v":0},{"$f":"'Data diagrams (noprint)'!MHR8","v":0},{"$f":"'Data diagrams (noprint)'!MHS8","v":0},{"$f":"'Data diagrams (noprint)'!MHT8","v":0},{"$f":"'Data diagrams (noprint)'!MHU8","v":0},{"$f":"'Data diagrams (noprint)'!MHV8","v":0},{"$f":"'Data diagrams (noprint)'!MHW8","v":0},{"$f":"'Data diagrams (noprint)'!MHX8","v":0},{"$f":"'Data diagrams (noprint)'!MHY8","v":0},{"$f":"'Data diagrams (noprint)'!MHZ8","v":0},{"$f":"'Data diagrams (noprint)'!MIA8","v":0},{"$f":"'Data diagrams (noprint)'!MIB8","v":0},{"$f":"'Data diagrams (noprint)'!MIC8","v":0},{"$f":"'Data diagrams (noprint)'!MID8","v":0},{"$f":"'Data diagrams (noprint)'!MIE8","v":0},{"$f":"'Data diagrams (noprint)'!MIF8","v":0},{"$f":"'Data diagrams (noprint)'!MIG8","v":0},{"$f":"'Data diagrams (noprint)'!MIH8","v":0},{"$f":"'Data diagrams (noprint)'!MII8","v":0},{"$f":"'Data diagrams (noprint)'!MIJ8","v":0},{"$f":"'Data diagrams (noprint)'!MIK8","v":0},{"$f":"'Data diagrams (noprint)'!MIL8","v":0},{"$f":"'Data diagrams (noprint)'!MIM8","v":0},{"$f":"'Data diagrams (noprint)'!MIN8","v":0},{"$f":"'Data diagrams (noprint)'!MIO8","v":0},{"$f":"'Data diagrams (noprint)'!MIP8","v":0},{"$f":"'Data diagrams (noprint)'!MIQ8","v":0},{"$f":"'Data diagrams (noprint)'!MIR8","v":0},{"$f":"'Data diagrams (noprint)'!MIS8","v":0},{"$f":"'Data diagrams (noprint)'!MIT8","v":0},{"$f":"'Data diagrams (noprint)'!MIU8","v":0},{"$f":"'Data diagrams (noprint)'!MIV8","v":0},{"$f":"'Data diagrams (noprint)'!MIW8","v":0},{"$f":"'Data diagrams (noprint)'!MIX8","v":0},{"$f":"'Data diagrams (noprint)'!MIY8","v":0},{"$f":"'Data diagrams (noprint)'!MIZ8","v":0},{"$f":"'Data diagrams (noprint)'!MJA8","v":0},{"$f":"'Data diagrams (noprint)'!MJB8","v":0},{"$f":"'Data diagrams (noprint)'!MJC8","v":0},{"$f":"'Data diagrams (noprint)'!MJD8","v":0},{"$f":"'Data diagrams (noprint)'!MJE8","v":0},{"$f":"'Data diagrams (noprint)'!MJF8","v":0},{"$f":"'Data diagrams (noprint)'!MJG8","v":0},{"$f":"'Data diagrams (noprint)'!MJH8","v":0},{"$f":"'Data diagrams (noprint)'!MJI8","v":0},{"$f":"'Data diagrams (noprint)'!MJJ8","v":0},{"$f":"'Data diagrams (noprint)'!MJK8","v":0},{"$f":"'Data diagrams (noprint)'!MJL8","v":0},{"$f":"'Data diagrams (noprint)'!MJM8","v":0},{"$f":"'Data diagrams (noprint)'!MJN8","v":0},{"$f":"'Data diagrams (noprint)'!MJO8","v":0},{"$f":"'Data diagrams (noprint)'!MJP8","v":0},{"$f":"'Data diagrams (noprint)'!MJQ8","v":0},{"$f":"'Data diagrams (noprint)'!MJR8","v":0},{"$f":"'Data diagrams (noprint)'!MJS8","v":0},{"$f":"'Data diagrams (noprint)'!MJT8","v":0},{"$f":"'Data diagrams (noprint)'!MJU8","v":0},{"$f":"'Data diagrams (noprint)'!MJV8","v":0},{"$f":"'Data diagrams (noprint)'!MJW8","v":0},{"$f":"'Data diagrams (noprint)'!MJX8","v":0},{"$f":"'Data diagrams (noprint)'!MJY8","v":0},{"$f":"'Data diagrams (noprint)'!MJZ8","v":0},{"$f":"'Data diagrams (noprint)'!MKA8","v":0},{"$f":"'Data diagrams (noprint)'!MKB8","v":0},{"$f":"'Data diagrams (noprint)'!MKC8","v":0},{"$f":"'Data diagrams (noprint)'!MKD8","v":0},{"$f":"'Data diagrams (noprint)'!MKE8","v":0},{"$f":"'Data diagrams (noprint)'!MKF8","v":0},{"$f":"'Data diagrams (noprint)'!MKG8","v":0},{"$f":"'Data diagrams (noprint)'!MKH8","v":0},{"$f":"'Data diagrams (noprint)'!MKI8","v":0},{"$f":"'Data diagrams (noprint)'!MKJ8","v":0},{"$f":"'Data diagrams (noprint)'!MKK8","v":0},{"$f":"'Data diagrams (noprint)'!MKL8","v":0},{"$f":"'Data diagrams (noprint)'!MKM8","v":0},{"$f":"'Data diagrams (noprint)'!MKN8","v":0},{"$f":"'Data diagrams (noprint)'!MKO8","v":0},{"$f":"'Data diagrams (noprint)'!MKP8","v":0},{"$f":"'Data diagrams (noprint)'!MKQ8","v":0},{"$f":"'Data diagrams (noprint)'!MKR8","v":0},{"$f":"'Data diagrams (noprint)'!MKS8","v":0},{"$f":"'Data diagrams (noprint)'!MKT8","v":0},{"$f":"'Data diagrams (noprint)'!MKU8","v":0},{"$f":"'Data diagrams (noprint)'!MKV8","v":0},{"$f":"'Data diagrams (noprint)'!MKW8","v":0},{"$f":"'Data diagrams (noprint)'!MKX8","v":0},{"$f":"'Data diagrams (noprint)'!MKY8","v":0},{"$f":"'Data diagrams (noprint)'!MKZ8","v":0},{"$f":"'Data diagrams (noprint)'!MLA8","v":0},{"$f":"'Data diagrams (noprint)'!MLB8","v":0},{"$f":"'Data diagrams (noprint)'!MLC8","v":0},{"$f":"'Data diagrams (noprint)'!MLD8","v":0},{"$f":"'Data diagrams (noprint)'!MLE8","v":0},{"$f":"'Data diagrams (noprint)'!MLF8","v":0},{"$f":"'Data diagrams (noprint)'!MLG8","v":0},{"$f":"'Data diagrams (noprint)'!MLH8","v":0},{"$f":"'Data diagrams (noprint)'!MLI8","v":0},{"$f":"'Data diagrams (noprint)'!MLJ8","v":0},{"$f":"'Data diagrams (noprint)'!MLK8","v":0},{"$f":"'Data diagrams (noprint)'!MLL8","v":0},{"$f":"'Data diagrams (noprint)'!MLM8","v":0},{"$f":"'Data diagrams (noprint)'!MLN8","v":0},{"$f":"'Data diagrams (noprint)'!MLO8","v":0},{"$f":"'Data diagrams (noprint)'!MLP8","v":0},{"$f":"'Data diagrams (noprint)'!MLQ8","v":0},{"$f":"'Data diagrams (noprint)'!MLR8","v":0},{"$f":"'Data diagrams (noprint)'!MLS8","v":0},{"$f":"'Data diagrams (noprint)'!MLT8","v":0},{"$f":"'Data diagrams (noprint)'!MLU8","v":0},{"$f":"'Data diagrams (noprint)'!MLV8","v":0},{"$f":"'Data diagrams (noprint)'!MLW8","v":0},{"$f":"'Data diagrams (noprint)'!MLX8","v":0},{"$f":"'Data diagrams (noprint)'!MLY8","v":0},{"$f":"'Data diagrams (noprint)'!MLZ8","v":0},{"$f":"'Data diagrams (noprint)'!MMA8","v":0},{"$f":"'Data diagrams (noprint)'!MMB8","v":0},{"$f":"'Data diagrams (noprint)'!MMC8","v":0},{"$f":"'Data diagrams (noprint)'!MMD8","v":0},{"$f":"'Data diagrams (noprint)'!MME8","v":0},{"$f":"'Data diagrams (noprint)'!MMF8","v":0},{"$f":"'Data diagrams (noprint)'!MMG8","v":0},{"$f":"'Data diagrams (noprint)'!MMH8","v":0},{"$f":"'Data diagrams (noprint)'!MMI8","v":0},{"$f":"'Data diagrams (noprint)'!MMJ8","v":0},{"$f":"'Data diagrams (noprint)'!MMK8","v":0},{"$f":"'Data diagrams (noprint)'!MML8","v":0},{"$f":"'Data diagrams (noprint)'!MMM8","v":0},{"$f":"'Data diagrams (noprint)'!MMN8","v":0},{"$f":"'Data diagrams (noprint)'!MMO8","v":0},{"$f":"'Data diagrams (noprint)'!MMP8","v":0},{"$f":"'Data diagrams (noprint)'!MMQ8","v":0},{"$f":"'Data diagrams (noprint)'!MMR8","v":0},{"$f":"'Data diagrams (noprint)'!MMS8","v":0},{"$f":"'Data diagrams (noprint)'!MMT8","v":0},{"$f":"'Data diagrams (noprint)'!MMU8","v":0},{"$f":"'Data diagrams (noprint)'!MMV8","v":0},{"$f":"'Data diagrams (noprint)'!MMW8","v":0},{"$f":"'Data diagrams (noprint)'!MMX8","v":0},{"$f":"'Data diagrams (noprint)'!MMY8","v":0},{"$f":"'Data diagrams (noprint)'!MMZ8","v":0},{"$f":"'Data diagrams (noprint)'!MNA8","v":0},{"$f":"'Data diagrams (noprint)'!MNB8","v":0},{"$f":"'Data diagrams (noprint)'!MNC8","v":0},{"$f":"'Data diagrams (noprint)'!MND8","v":0},{"$f":"'Data diagrams (noprint)'!MNE8","v":0},{"$f":"'Data diagrams (noprint)'!MNF8","v":0},{"$f":"'Data diagrams (noprint)'!MNG8","v":0},{"$f":"'Data diagrams (noprint)'!MNH8","v":0},{"$f":"'Data diagrams (noprint)'!MNI8","v":0},{"$f":"'Data diagrams (noprint)'!MNJ8","v":0},{"$f":"'Data diagrams (noprint)'!MNK8","v":0},{"$f":"'Data diagrams (noprint)'!MNL8","v":0},{"$f":"'Data diagrams (noprint)'!MNM8","v":0},{"$f":"'Data diagrams (noprint)'!MNN8","v":0},{"$f":"'Data diagrams (noprint)'!MNO8","v":0},{"$f":"'Data diagrams (noprint)'!MNP8","v":0},{"$f":"'Data diagrams (noprint)'!MNQ8","v":0},{"$f":"'Data diagrams (noprint)'!MNR8","v":0},{"$f":"'Data diagrams (noprint)'!MNS8","v":0},{"$f":"'Data diagrams (noprint)'!MNT8","v":0},{"$f":"'Data diagrams (noprint)'!MNU8","v":0},{"$f":"'Data diagrams (noprint)'!MNV8","v":0},{"$f":"'Data diagrams (noprint)'!MNW8","v":0},{"$f":"'Data diagrams (noprint)'!MNX8","v":0},{"$f":"'Data diagrams (noprint)'!MNY8","v":0},{"$f":"'Data diagrams (noprint)'!MNZ8","v":0},{"$f":"'Data diagrams (noprint)'!MOA8","v":0},{"$f":"'Data diagrams (noprint)'!MOB8","v":0},{"$f":"'Data diagrams (noprint)'!MOC8","v":0},{"$f":"'Data diagrams (noprint)'!MOD8","v":0},{"$f":"'Data diagrams (noprint)'!MOE8","v":0},{"$f":"'Data diagrams (noprint)'!MOF8","v":0},{"$f":"'Data diagrams (noprint)'!MOG8","v":0},{"$f":"'Data diagrams (noprint)'!MOH8","v":0},{"$f":"'Data diagrams (noprint)'!MOI8","v":0},{"$f":"'Data diagrams (noprint)'!MOJ8","v":0},{"$f":"'Data diagrams (noprint)'!MOK8","v":0},{"$f":"'Data diagrams (noprint)'!MOL8","v":0},{"$f":"'Data diagrams (noprint)'!MOM8","v":0},{"$f":"'Data diagrams (noprint)'!MON8","v":0},{"$f":"'Data diagrams (noprint)'!MOO8","v":0},{"$f":"'Data diagrams (noprint)'!MOP8","v":0},{"$f":"'Data diagrams (noprint)'!MOQ8","v":0},{"$f":"'Data diagrams (noprint)'!MOR8","v":0},{"$f":"'Data diagrams (noprint)'!MOS8","v":0},{"$f":"'Data diagrams (noprint)'!MOT8","v":0},{"$f":"'Data diagrams (noprint)'!MOU8","v":0},{"$f":"'Data diagrams (noprint)'!MOV8","v":0},{"$f":"'Data diagrams (noprint)'!MOW8","v":0},{"$f":"'Data diagrams (noprint)'!MOX8","v":0},{"$f":"'Data diagrams (noprint)'!MOY8","v":0},{"$f":"'Data diagrams (noprint)'!MOZ8","v":0},{"$f":"'Data diagrams (noprint)'!MPA8","v":0},{"$f":"'Data diagrams (noprint)'!MPB8","v":0},{"$f":"'Data diagrams (noprint)'!MPC8","v":0},{"$f":"'Data diagrams (noprint)'!MPD8","v":0},{"$f":"'Data diagrams (noprint)'!MPE8","v":0},{"$f":"'Data diagrams (noprint)'!MPF8","v":0},{"$f":"'Data diagrams (noprint)'!MPG8","v":0},{"$f":"'Data diagrams (noprint)'!MPH8","v":0},{"$f":"'Data diagrams (noprint)'!MPI8","v":0},{"$f":"'Data diagrams (noprint)'!MPJ8","v":0},{"$f":"'Data diagrams (noprint)'!MPK8","v":0},{"$f":"'Data diagrams (noprint)'!MPL8","v":0},{"$f":"'Data diagrams (noprint)'!MPM8","v":0},{"$f":"'Data diagrams (noprint)'!MPN8","v":0},{"$f":"'Data diagrams (noprint)'!MPO8","v":0},{"$f":"'Data diagrams (noprint)'!MPP8","v":0},{"$f":"'Data diagrams (noprint)'!MPQ8","v":0},{"$f":"'Data diagrams (noprint)'!MPR8","v":0},{"$f":"'Data diagrams (noprint)'!MPS8","v":0},{"$f":"'Data diagrams (noprint)'!MPT8","v":0},{"$f":"'Data diagrams (noprint)'!MPU8","v":0},{"$f":"'Data diagrams (noprint)'!MPV8","v":0},{"$f":"'Data diagrams (noprint)'!MPW8","v":0},{"$f":"'Data diagrams (noprint)'!MPX8","v":0},{"$f":"'Data diagrams (noprint)'!MPY8","v":0},{"$f":"'Data diagrams (noprint)'!MPZ8","v":0},{"$f":"'Data diagrams (noprint)'!MQA8","v":0},{"$f":"'Data diagrams (noprint)'!MQB8","v":0},{"$f":"'Data diagrams (noprint)'!MQC8","v":0},{"$f":"'Data diagrams (noprint)'!MQD8","v":0},{"$f":"'Data diagrams (noprint)'!MQE8","v":0},{"$f":"'Data diagrams (noprint)'!MQF8","v":0},{"$f":"'Data diagrams (noprint)'!MQG8","v":0},{"$f":"'Data diagrams (noprint)'!MQH8","v":0},{"$f":"'Data diagrams (noprint)'!MQI8","v":0},{"$f":"'Data diagrams (noprint)'!MQJ8","v":0},{"$f":"'Data diagrams (noprint)'!MQK8","v":0},{"$f":"'Data diagrams (noprint)'!MQL8","v":0},{"$f":"'Data diagrams (noprint)'!MQM8","v":0},{"$f":"'Data diagrams (noprint)'!MQN8","v":0},{"$f":"'Data diagrams (noprint)'!MQO8","v":0},{"$f":"'Data diagrams (noprint)'!MQP8","v":0},{"$f":"'Data diagrams (noprint)'!MQQ8","v":0},{"$f":"'Data diagrams (noprint)'!MQR8","v":0},{"$f":"'Data diagrams (noprint)'!MQS8","v":0},{"$f":"'Data diagrams (noprint)'!MQT8","v":0},{"$f":"'Data diagrams (noprint)'!MQU8","v":0},{"$f":"'Data diagrams (noprint)'!MQV8","v":0},{"$f":"'Data diagrams (noprint)'!MQW8","v":0},{"$f":"'Data diagrams (noprint)'!MQX8","v":0},{"$f":"'Data diagrams (noprint)'!MQY8","v":0},{"$f":"'Data diagrams (noprint)'!MQZ8","v":0},{"$f":"'Data diagrams (noprint)'!MRA8","v":0},{"$f":"'Data diagrams (noprint)'!MRB8","v":0},{"$f":"'Data diagrams (noprint)'!MRC8","v":0},{"$f":"'Data diagrams (noprint)'!MRD8","v":0},{"$f":"'Data diagrams (noprint)'!MRE8","v":0},{"$f":"'Data diagrams (noprint)'!MRF8","v":0},{"$f":"'Data diagrams (noprint)'!MRG8","v":0},{"$f":"'Data diagrams (noprint)'!MRH8","v":0},{"$f":"'Data diagrams (noprint)'!MRI8","v":0},{"$f":"'Data diagrams (noprint)'!MRJ8","v":0},{"$f":"'Data diagrams (noprint)'!MRK8","v":0},{"$f":"'Data diagrams (noprint)'!MRL8","v":0},{"$f":"'Data diagrams (noprint)'!MRM8","v":0},{"$f":"'Data diagrams (noprint)'!MRN8","v":0},{"$f":"'Data diagrams (noprint)'!MRO8","v":0},{"$f":"'Data diagrams (noprint)'!MRP8","v":0},{"$f":"'Data diagrams (noprint)'!MRQ8","v":0},{"$f":"'Data diagrams (noprint)'!MRR8","v":0},{"$f":"'Data diagrams (noprint)'!MRS8","v":0},{"$f":"'Data diagrams (noprint)'!MRT8","v":0},{"$f":"'Data diagrams (noprint)'!MRU8","v":0},{"$f":"'Data diagrams (noprint)'!MRV8","v":0},{"$f":"'Data diagrams (noprint)'!MRW8","v":0},{"$f":"'Data diagrams (noprint)'!MRX8","v":0},{"$f":"'Data diagrams (noprint)'!MRY8","v":0},{"$f":"'Data diagrams (noprint)'!MRZ8","v":0},{"$f":"'Data diagrams (noprint)'!MSA8","v":0},{"$f":"'Data diagrams (noprint)'!MSB8","v":0},{"$f":"'Data diagrams (noprint)'!MSC8","v":0},{"$f":"'Data diagrams (noprint)'!MSD8","v":0},{"$f":"'Data diagrams (noprint)'!MSE8","v":0},{"$f":"'Data diagrams (noprint)'!MSF8","v":0},{"$f":"'Data diagrams (noprint)'!MSG8","v":0},{"$f":"'Data diagrams (noprint)'!MSH8","v":0},{"$f":"'Data diagrams (noprint)'!MSI8","v":0},{"$f":"'Data diagrams (noprint)'!MSJ8","v":0},{"$f":"'Data diagrams (noprint)'!MSK8","v":0},{"$f":"'Data diagrams (noprint)'!MSL8","v":0},{"$f":"'Data diagrams (noprint)'!MSM8","v":0},{"$f":"'Data diagrams (noprint)'!MSN8","v":0},{"$f":"'Data diagrams (noprint)'!MSO8","v":0},{"$f":"'Data diagrams (noprint)'!MSP8","v":0},{"$f":"'Data diagrams (noprint)'!MSQ8","v":0},{"$f":"'Data diagrams (noprint)'!MSR8","v":0},{"$f":"'Data diagrams (noprint)'!MSS8","v":0},{"$f":"'Data diagrams (noprint)'!MST8","v":0},{"$f":"'Data diagrams (noprint)'!MSU8","v":0},{"$f":"'Data diagrams (noprint)'!MSV8","v":0},{"$f":"'Data diagrams (noprint)'!MSW8","v":0},{"$f":"'Data diagrams (noprint)'!MSX8","v":0},{"$f":"'Data diagrams (noprint)'!MSY8","v":0},{"$f":"'Data diagrams (noprint)'!MSZ8","v":0},{"$f":"'Data diagrams (noprint)'!MTA8","v":0},{"$f":"'Data diagrams (noprint)'!MTB8","v":0},{"$f":"'Data diagrams (noprint)'!MTC8","v":0},{"$f":"'Data diagrams (noprint)'!MTD8","v":0},{"$f":"'Data diagrams (noprint)'!MTE8","v":0},{"$f":"'Data diagrams (noprint)'!MTF8","v":0},{"$f":"'Data diagrams (noprint)'!MTG8","v":0},{"$f":"'Data diagrams (noprint)'!MTH8","v":0},{"$f":"'Data diagrams (noprint)'!MTI8","v":0},{"$f":"'Data diagrams (noprint)'!MTJ8","v":0},{"$f":"'Data diagrams (noprint)'!MTK8","v":0},{"$f":"'Data diagrams (noprint)'!MTL8","v":0},{"$f":"'Data diagrams (noprint)'!MTM8","v":0},{"$f":"'Data diagrams (noprint)'!MTN8","v":0},{"$f":"'Data diagrams (noprint)'!MTO8","v":0},{"$f":"'Data diagrams (noprint)'!MTP8","v":0},{"$f":"'Data diagrams (noprint)'!MTQ8","v":0},{"$f":"'Data diagrams (noprint)'!MTR8","v":0},{"$f":"'Data diagrams (noprint)'!MTS8","v":0},{"$f":"'Data diagrams (noprint)'!MTT8","v":0},{"$f":"'Data diagrams (noprint)'!MTU8","v":0},{"$f":"'Data diagrams (noprint)'!MTV8","v":0},{"$f":"'Data diagrams (noprint)'!MTW8","v":0},{"$f":"'Data diagrams (noprint)'!MTX8","v":0},{"$f":"'Data diagrams (noprint)'!MTY8","v":0},{"$f":"'Data diagrams (noprint)'!MTZ8","v":0},{"$f":"'Data diagrams (noprint)'!MUA8","v":0},{"$f":"'Data diagrams (noprint)'!MUB8","v":0},{"$f":"'Data diagrams (noprint)'!MUC8","v":0},{"$f":"'Data diagrams (noprint)'!MUD8","v":0},{"$f":"'Data diagrams (noprint)'!MUE8","v":0},{"$f":"'Data diagrams (noprint)'!MUF8","v":0},{"$f":"'Data diagrams (noprint)'!MUG8","v":0},{"$f":"'Data diagrams (noprint)'!MUH8","v":0},{"$f":"'Data diagrams (noprint)'!MUI8","v":0},{"$f":"'Data diagrams (noprint)'!MUJ8","v":0},{"$f":"'Data diagrams (noprint)'!MUK8","v":0},{"$f":"'Data diagrams (noprint)'!MUL8","v":0},{"$f":"'Data diagrams (noprint)'!MUM8","v":0},{"$f":"'Data diagrams (noprint)'!MUN8","v":0},{"$f":"'Data diagrams (noprint)'!MUO8","v":0},{"$f":"'Data diagrams (noprint)'!MUP8","v":0},{"$f":"'Data diagrams (noprint)'!MUQ8","v":0},{"$f":"'Data diagrams (noprint)'!MUR8","v":0},{"$f":"'Data diagrams (noprint)'!MUS8","v":0},{"$f":"'Data diagrams (noprint)'!MUT8","v":0},{"$f":"'Data diagrams (noprint)'!MUU8","v":0},{"$f":"'Data diagrams (noprint)'!MUV8","v":0},{"$f":"'Data diagrams (noprint)'!MUW8","v":0},{"$f":"'Data diagrams (noprint)'!MUX8","v":0},{"$f":"'Data diagrams (noprint)'!MUY8","v":0},{"$f":"'Data diagrams (noprint)'!MUZ8","v":0},{"$f":"'Data diagrams (noprint)'!MVA8","v":0},{"$f":"'Data diagrams (noprint)'!MVB8","v":0},{"$f":"'Data diagrams (noprint)'!MVC8","v":0},{"$f":"'Data diagrams (noprint)'!MVD8","v":0},{"$f":"'Data diagrams (noprint)'!MVE8","v":0},{"$f":"'Data diagrams (noprint)'!MVF8","v":0},{"$f":"'Data diagrams (noprint)'!MVG8","v":0},{"$f":"'Data diagrams (noprint)'!MVH8","v":0},{"$f":"'Data diagrams (noprint)'!MVI8","v":0},{"$f":"'Data diagrams (noprint)'!MVJ8","v":0},{"$f":"'Data diagrams (noprint)'!MVK8","v":0},{"$f":"'Data diagrams (noprint)'!MVL8","v":0},{"$f":"'Data diagrams (noprint)'!MVM8","v":0},{"$f":"'Data diagrams (noprint)'!MVN8","v":0},{"$f":"'Data diagrams (noprint)'!MVO8","v":0},{"$f":"'Data diagrams (noprint)'!MVP8","v":0},{"$f":"'Data diagrams (noprint)'!MVQ8","v":0},{"$f":"'Data diagrams (noprint)'!MVR8","v":0},{"$f":"'Data diagrams (noprint)'!MVS8","v":0},{"$f":"'Data diagrams (noprint)'!MVT8","v":0},{"$f":"'Data diagrams (noprint)'!MVU8","v":0},{"$f":"'Data diagrams (noprint)'!MVV8","v":0},{"$f":"'Data diagrams (noprint)'!MVW8","v":0},{"$f":"'Data diagrams (noprint)'!MVX8","v":0},{"$f":"'Data diagrams (noprint)'!MVY8","v":0},{"$f":"'Data diagrams (noprint)'!MVZ8","v":0},{"$f":"'Data diagrams (noprint)'!MWA8","v":0},{"$f":"'Data diagrams (noprint)'!MWB8","v":0},{"$f":"'Data diagrams (noprint)'!MWC8","v":0},{"$f":"'Data diagrams (noprint)'!MWD8","v":0},{"$f":"'Data diagrams (noprint)'!MWE8","v":0},{"$f":"'Data diagrams (noprint)'!MWF8","v":0},{"$f":"'Data diagrams (noprint)'!MWG8","v":0},{"$f":"'Data diagrams (noprint)'!MWH8","v":0},{"$f":"'Data diagrams (noprint)'!MWI8","v":0},{"$f":"'Data diagrams (noprint)'!MWJ8","v":0},{"$f":"'Data diagrams (noprint)'!MWK8","v":0},{"$f":"'Data diagrams (noprint)'!MWL8","v":0},{"$f":"'Data diagrams (noprint)'!MWM8","v":0},{"$f":"'Data diagrams (noprint)'!MWN8","v":0},{"$f":"'Data diagrams (noprint)'!MWO8","v":0},{"$f":"'Data diagrams (noprint)'!MWP8","v":0},{"$f":"'Data diagrams (noprint)'!MWQ8","v":0},{"$f":"'Data diagrams (noprint)'!MWR8","v":0},{"$f":"'Data diagrams (noprint)'!MWS8","v":0},{"$f":"'Data diagrams (noprint)'!MWT8","v":0},{"$f":"'Data diagrams (noprint)'!MWU8","v":0},{"$f":"'Data diagrams (noprint)'!MWV8","v":0},{"$f":"'Data diagrams (noprint)'!MWW8","v":0},{"$f":"'Data diagrams (noprint)'!MWX8","v":0},{"$f":"'Data diagrams (noprint)'!MWY8","v":0},{"$f":"'Data diagrams (noprint)'!MWZ8","v":0},{"$f":"'Data diagrams (noprint)'!MXA8","v":0},{"$f":"'Data diagrams (noprint)'!MXB8","v":0},{"$f":"'Data diagrams (noprint)'!MXC8","v":0},{"$f":"'Data diagrams (noprint)'!MXD8","v":0},{"$f":"'Data diagrams (noprint)'!MXE8","v":0},{"$f":"'Data diagrams (noprint)'!MXF8","v":0},{"$f":"'Data diagrams (noprint)'!MXG8","v":0},{"$f":"'Data diagrams (noprint)'!MXH8","v":0},{"$f":"'Data diagrams (noprint)'!MXI8","v":0},{"$f":"'Data diagrams (noprint)'!MXJ8","v":0},{"$f":"'Data diagrams (noprint)'!MXK8","v":0},{"$f":"'Data diagrams (noprint)'!MXL8","v":0},{"$f":"'Data diagrams (noprint)'!MXM8","v":0},{"$f":"'Data diagrams (noprint)'!MXN8","v":0},{"$f":"'Data diagrams (noprint)'!MXO8","v":0},{"$f":"'Data diagrams (noprint)'!MXP8","v":0},{"$f":"'Data diagrams (noprint)'!MXQ8","v":0},{"$f":"'Data diagrams (noprint)'!MXR8","v":0},{"$f":"'Data diagrams (noprint)'!MXS8","v":0},{"$f":"'Data diagrams (noprint)'!MXT8","v":0},{"$f":"'Data diagrams (noprint)'!MXU8","v":0},{"$f":"'Data diagrams (noprint)'!MXV8","v":0},{"$f":"'Data diagrams (noprint)'!MXW8","v":0},{"$f":"'Data diagrams (noprint)'!MXX8","v":0},{"$f":"'Data diagrams (noprint)'!MXY8","v":0},{"$f":"'Data diagrams (noprint)'!MXZ8","v":0},{"$f":"'Data diagrams (noprint)'!MYA8","v":0},{"$f":"'Data diagrams (noprint)'!MYB8","v":0},{"$f":"'Data diagrams (noprint)'!MYC8","v":0},{"$f":"'Data diagrams (noprint)'!MYD8","v":0},{"$f":"'Data diagrams (noprint)'!MYE8","v":0},{"$f":"'Data diagrams (noprint)'!MYF8","v":0},{"$f":"'Data diagrams (noprint)'!MYG8","v":0},{"$f":"'Data diagrams (noprint)'!MYH8","v":0},{"$f":"'Data diagrams (noprint)'!MYI8","v":0},{"$f":"'Data diagrams (noprint)'!MYJ8","v":0},{"$f":"'Data diagrams (noprint)'!MYK8","v":0},{"$f":"'Data diagrams (noprint)'!MYL8","v":0},{"$f":"'Data diagrams (noprint)'!MYM8","v":0},{"$f":"'Data diagrams (noprint)'!MYN8","v":0},{"$f":"'Data diagrams (noprint)'!MYO8","v":0},{"$f":"'Data diagrams (noprint)'!MYP8","v":0},{"$f":"'Data diagrams (noprint)'!MYQ8","v":0},{"$f":"'Data diagrams (noprint)'!MYR8","v":0},{"$f":"'Data diagrams (noprint)'!MYS8","v":0},{"$f":"'Data diagrams (noprint)'!MYT8","v":0},{"$f":"'Data diagrams (noprint)'!MYU8","v":0},{"$f":"'Data diagrams (noprint)'!MYV8","v":0},{"$f":"'Data diagrams (noprint)'!MYW8","v":0},{"$f":"'Data diagrams (noprint)'!MYX8","v":0},{"$f":"'Data diagrams (noprint)'!MYY8","v":0},{"$f":"'Data diagrams (noprint)'!MYZ8","v":0},{"$f":"'Data diagrams (noprint)'!MZA8","v":0},{"$f":"'Data diagrams (noprint)'!MZB8","v":0},{"$f":"'Data diagrams (noprint)'!MZC8","v":0},{"$f":"'Data diagrams (noprint)'!MZD8","v":0},{"$f":"'Data diagrams (noprint)'!MZE8","v":0},{"$f":"'Data diagrams (noprint)'!MZF8","v":0},{"$f":"'Data diagrams (noprint)'!MZG8","v":0},{"$f":"'Data diagrams (noprint)'!MZH8","v":0},{"$f":"'Data diagrams (noprint)'!MZI8","v":0},{"$f":"'Data diagrams (noprint)'!MZJ8","v":0},{"$f":"'Data diagrams (noprint)'!MZK8","v":0},{"$f":"'Data diagrams (noprint)'!MZL8","v":0},{"$f":"'Data diagrams (noprint)'!MZM8","v":0},{"$f":"'Data diagrams (noprint)'!MZN8","v":0},{"$f":"'Data diagrams (noprint)'!MZO8","v":0},{"$f":"'Data diagrams (noprint)'!MZP8","v":0},{"$f":"'Data diagrams (noprint)'!MZQ8","v":0},{"$f":"'Data diagrams (noprint)'!MZR8","v":0},{"$f":"'Data diagrams (noprint)'!MZS8","v":0},{"$f":"'Data diagrams (noprint)'!MZT8","v":0},{"$f":"'Data diagrams (noprint)'!MZU8","v":0},{"$f":"'Data diagrams (noprint)'!MZV8","v":0},{"$f":"'Data diagrams (noprint)'!MZW8","v":0},{"$f":"'Data diagrams (noprint)'!MZX8","v":0},{"$f":"'Data diagrams (noprint)'!MZY8","v":0},{"$f":"'Data diagrams (noprint)'!MZZ8","v":0},{"$f":"'Data diagrams (noprint)'!NAA8","v":0},{"$f":"'Data diagrams (noprint)'!NAB8","v":0},{"$f":"'Data diagrams (noprint)'!NAC8","v":0},{"$f":"'Data diagrams (noprint)'!NAD8","v":0},{"$f":"'Data diagrams (noprint)'!NAE8","v":0},{"$f":"'Data diagrams (noprint)'!NAF8","v":0},{"$f":"'Data diagrams (noprint)'!NAG8","v":0},{"$f":"'Data diagrams (noprint)'!NAH8","v":0},{"$f":"'Data diagrams (noprint)'!NAI8","v":0},{"$f":"'Data diagrams (noprint)'!NAJ8","v":0},{"$f":"'Data diagrams (noprint)'!NAK8","v":0},{"$f":"'Data diagrams (noprint)'!NAL8","v":0},{"$f":"'Data diagrams (noprint)'!NAM8","v":0},{"$f":"'Data diagrams (noprint)'!NAN8","v":0},{"$f":"'Data diagrams (noprint)'!NAO8","v":0},{"$f":"'Data diagrams (noprint)'!NAP8","v":0},{"$f":"'Data diagrams (noprint)'!NAQ8","v":0},{"$f":"'Data diagrams (noprint)'!NAR8","v":0},{"$f":"'Data diagrams (noprint)'!NAS8","v":0},{"$f":"'Data diagrams (noprint)'!NAT8","v":0},{"$f":"'Data diagrams (noprint)'!NAU8","v":0},{"$f":"'Data diagrams (noprint)'!NAV8","v":0},{"$f":"'Data diagrams (noprint)'!NAW8","v":0},{"$f":"'Data diagrams (noprint)'!NAX8","v":0},{"$f":"'Data diagrams (noprint)'!NAY8","v":0},{"$f":"'Data diagrams (noprint)'!NAZ8","v":0},{"$f":"'Data diagrams (noprint)'!NBA8","v":0},{"$f":"'Data diagrams (noprint)'!NBB8","v":0},{"$f":"'Data diagrams (noprint)'!NBC8","v":0},{"$f":"'Data diagrams (noprint)'!NBD8","v":0},{"$f":"'Data diagrams (noprint)'!NBE8","v":0},{"$f":"'Data diagrams (noprint)'!NBF8","v":0},{"$f":"'Data diagrams (noprint)'!NBG8","v":0},{"$f":"'Data diagrams (noprint)'!NBH8","v":0},{"$f":"'Data diagrams (noprint)'!NBI8","v":0},{"$f":"'Data diagrams (noprint)'!NBJ8","v":0},{"$f":"'Data diagrams (noprint)'!NBK8","v":0},{"$f":"'Data diagrams (noprint)'!NBL8","v":0},{"$f":"'Data diagrams (noprint)'!NBM8","v":0},{"$f":"'Data diagrams (noprint)'!NBN8","v":0},{"$f":"'Data diagrams (noprint)'!NBO8","v":0},{"$f":"'Data diagrams (noprint)'!NBP8","v":0},{"$f":"'Data diagrams (noprint)'!NBQ8","v":0},{"$f":"'Data diagrams (noprint)'!NBR8","v":0},{"$f":"'Data diagrams (noprint)'!NBS8","v":0},{"$f":"'Data diagrams (noprint)'!NBT8","v":0},{"$f":"'Data diagrams (noprint)'!NBU8","v":0},{"$f":"'Data diagrams (noprint)'!NBV8","v":0},{"$f":"'Data diagrams (noprint)'!NBW8","v":0},{"$f":"'Data diagrams (noprint)'!NBX8","v":0},{"$f":"'Data diagrams (noprint)'!NBY8","v":0},{"$f":"'Data diagrams (noprint)'!NBZ8","v":0},{"$f":"'Data diagrams (noprint)'!NCA8","v":0},{"$f":"'Data diagrams (noprint)'!NCB8","v":0},{"$f":"'Data diagrams (noprint)'!NCC8","v":0},{"$f":"'Data diagrams (noprint)'!NCD8","v":0},{"$f":"'Data diagrams (noprint)'!NCE8","v":0},{"$f":"'Data diagrams (noprint)'!NCF8","v":0},{"$f":"'Data diagrams (noprint)'!NCG8","v":0},{"$f":"'Data diagrams (noprint)'!NCH8","v":0},{"$f":"'Data diagrams (noprint)'!NCI8","v":0},{"$f":"'Data diagrams (noprint)'!NCJ8","v":0},{"$f":"'Data diagrams (noprint)'!NCK8","v":0},{"$f":"'Data diagrams (noprint)'!NCL8","v":0},{"$f":"'Data diagrams (noprint)'!NCM8","v":0},{"$f":"'Data diagrams (noprint)'!NCN8","v":0},{"$f":"'Data diagrams (noprint)'!NCO8","v":0},{"$f":"'Data diagrams (noprint)'!NCP8","v":0},{"$f":"'Data diagrams (noprint)'!NCQ8","v":0},{"$f":"'Data diagrams (noprint)'!NCR8","v":0},{"$f":"'Data diagrams (noprint)'!NCS8","v":0},{"$f":"'Data diagrams (noprint)'!NCT8","v":0},{"$f":"'Data diagrams (noprint)'!NCU8","v":0},{"$f":"'Data diagrams (noprint)'!NCV8","v":0},{"$f":"'Data diagrams (noprint)'!NCW8","v":0},{"$f":"'Data diagrams (noprint)'!NCX8","v":0},{"$f":"'Data diagrams (noprint)'!NCY8","v":0},{"$f":"'Data diagrams (noprint)'!NCZ8","v":0},{"$f":"'Data diagrams (noprint)'!NDA8","v":0},{"$f":"'Data diagrams (noprint)'!NDB8","v":0},{"$f":"'Data diagrams (noprint)'!NDC8","v":0},{"$f":"'Data diagrams (noprint)'!NDD8","v":0},{"$f":"'Data diagrams (noprint)'!NDE8","v":0},{"$f":"'Data diagrams (noprint)'!NDF8","v":0},{"$f":"'Data diagrams (noprint)'!NDG8","v":0},{"$f":"'Data diagrams (noprint)'!NDH8","v":0},{"$f":"'Data diagrams (noprint)'!NDI8","v":0},{"$f":"'Data diagrams (noprint)'!NDJ8","v":0},{"$f":"'Data diagrams (noprint)'!NDK8","v":0},{"$f":"'Data diagrams (noprint)'!NDL8","v":0},{"$f":"'Data diagrams (noprint)'!NDM8","v":0},{"$f":"'Data diagrams (noprint)'!NDN8","v":0},{"$f":"'Data diagrams (noprint)'!NDO8","v":0},{"$f":"'Data diagrams (noprint)'!NDP8","v":0},{"$f":"'Data diagrams (noprint)'!NDQ8","v":0},{"$f":"'Data diagrams (noprint)'!NDR8","v":0},{"$f":"'Data diagrams (noprint)'!NDS8","v":0},{"$f":"'Data diagrams (noprint)'!NDT8","v":0},{"$f":"'Data diagrams (noprint)'!NDU8","v":0},{"$f":"'Data diagrams (noprint)'!NDV8","v":0},{"$f":"'Data diagrams (noprint)'!NDW8","v":0},{"$f":"'Data diagrams (noprint)'!NDX8","v":0},{"$f":"'Data diagrams (noprint)'!NDY8","v":0},{"$f":"'Data diagrams (noprint)'!NDZ8","v":0},{"$f":"'Data diagrams (noprint)'!NEA8","v":0},{"$f":"'Data diagrams (noprint)'!NEB8","v":0},{"$f":"'Data diagrams (noprint)'!NEC8","v":0},{"$f":"'Data diagrams (noprint)'!NED8","v":0},{"$f":"'Data diagrams (noprint)'!NEE8","v":0},{"$f":"'Data diagrams (noprint)'!NEF8","v":0},{"$f":"'Data diagrams (noprint)'!NEG8","v":0},{"$f":"'Data diagrams (noprint)'!NEH8","v":0},{"$f":"'Data diagrams (noprint)'!NEI8","v":0},{"$f":"'Data diagrams (noprint)'!NEJ8","v":0},{"$f":"'Data diagrams (noprint)'!NEK8","v":0},{"$f":"'Data diagrams (noprint)'!NEL8","v":0},{"$f":"'Data diagrams (noprint)'!NEM8","v":0},{"$f":"'Data diagrams (noprint)'!NEN8","v":0},{"$f":"'Data diagrams (noprint)'!NEO8","v":0},{"$f":"'Data diagrams (noprint)'!NEP8","v":0},{"$f":"'Data diagrams (noprint)'!NEQ8","v":0},{"$f":"'Data diagrams (noprint)'!NER8","v":0},{"$f":"'Data diagrams (noprint)'!NES8","v":0},{"$f":"'Data diagrams (noprint)'!NET8","v":0},{"$f":"'Data diagrams (noprint)'!NEU8","v":0},{"$f":"'Data diagrams (noprint)'!NEV8","v":0},{"$f":"'Data diagrams (noprint)'!NEW8","v":0},{"$f":"'Data diagrams (noprint)'!NEX8","v":0},{"$f":"'Data diagrams (noprint)'!NEY8","v":0},{"$f":"'Data diagrams (noprint)'!NEZ8","v":0},{"$f":"'Data diagrams (noprint)'!NFA8","v":0},{"$f":"'Data diagrams (noprint)'!NFB8","v":0},{"$f":"'Data diagrams (noprint)'!NFC8","v":0},{"$f":"'Data diagrams (noprint)'!NFD8","v":0},{"$f":"'Data diagrams (noprint)'!NFE8","v":0},{"$f":"'Data diagrams (noprint)'!NFF8","v":0},{"$f":"'Data diagrams (noprint)'!NFG8","v":0},{"$f":"'Data diagrams (noprint)'!NFH8","v":0},{"$f":"'Data diagrams (noprint)'!NFI8","v":0},{"$f":"'Data diagrams (noprint)'!NFJ8","v":0},{"$f":"'Data diagrams (noprint)'!NFK8","v":0},{"$f":"'Data diagrams (noprint)'!NFL8","v":0},{"$f":"'Data diagrams (noprint)'!NFM8","v":0},{"$f":"'Data diagrams (noprint)'!NFN8","v":0},{"$f":"'Data diagrams (noprint)'!NFO8","v":0},{"$f":"'Data diagrams (noprint)'!NFP8","v":0},{"$f":"'Data diagrams (noprint)'!NFQ8","v":0},{"$f":"'Data diagrams (noprint)'!NFR8","v":0},{"$f":"'Data diagrams (noprint)'!NFS8","v":0},{"$f":"'Data diagrams (noprint)'!NFT8","v":0},{"$f":"'Data diagrams (noprint)'!NFU8","v":0},{"$f":"'Data diagrams (noprint)'!NFV8","v":0},{"$f":"'Data diagrams (noprint)'!NFW8","v":0},{"$f":"'Data diagrams (noprint)'!NFX8","v":0},{"$f":"'Data diagrams (noprint)'!NFY8","v":0},{"$f":"'Data diagrams (noprint)'!NFZ8","v":0},{"$f":"'Data diagrams (noprint)'!NGA8","v":0},{"$f":"'Data diagrams (noprint)'!NGB8","v":0},{"$f":"'Data diagrams (noprint)'!NGC8","v":0},{"$f":"'Data diagrams (noprint)'!NGD8","v":0},{"$f":"'Data diagrams (noprint)'!NGE8","v":0},{"$f":"'Data diagrams (noprint)'!NGF8","v":0},{"$f":"'Data diagrams (noprint)'!NGG8","v":0},{"$f":"'Data diagrams (noprint)'!NGH8","v":0},{"$f":"'Data diagrams (noprint)'!NGI8","v":0},{"$f":"'Data diagrams (noprint)'!NGJ8","v":0},{"$f":"'Data diagrams (noprint)'!NGK8","v":0},{"$f":"'Data diagrams (noprint)'!NGL8","v":0},{"$f":"'Data diagrams (noprint)'!NGM8","v":0},{"$f":"'Data diagrams (noprint)'!NGN8","v":0},{"$f":"'Data diagrams (noprint)'!NGO8","v":0},{"$f":"'Data diagrams (noprint)'!NGP8","v":0},{"$f":"'Data diagrams (noprint)'!NGQ8","v":0},{"$f":"'Data diagrams (noprint)'!NGR8","v":0},{"$f":"'Data diagrams (noprint)'!NGS8","v":0},{"$f":"'Data diagrams (noprint)'!NGT8","v":0},{"$f":"'Data diagrams (noprint)'!NGU8","v":0},{"$f":"'Data diagrams (noprint)'!NGV8","v":0},{"$f":"'Data diagrams (noprint)'!NGW8","v":0},{"$f":"'Data diagrams (noprint)'!NGX8","v":0},{"$f":"'Data diagrams (noprint)'!NGY8","v":0},{"$f":"'Data diagrams (noprint)'!NGZ8","v":0},{"$f":"'Data diagrams (noprint)'!NHA8","v":0},{"$f":"'Data diagrams (noprint)'!NHB8","v":0},{"$f":"'Data diagrams (noprint)'!NHC8","v":0},{"$f":"'Data diagrams (noprint)'!NHD8","v":0},{"$f":"'Data diagrams (noprint)'!NHE8","v":0},{"$f":"'Data diagrams (noprint)'!NHF8","v":0},{"$f":"'Data diagrams (noprint)'!NHG8","v":0},{"$f":"'Data diagrams (noprint)'!NHH8","v":0},{"$f":"'Data diagrams (noprint)'!NHI8","v":0},{"$f":"'Data diagrams (noprint)'!NHJ8","v":0},{"$f":"'Data diagrams (noprint)'!NHK8","v":0},{"$f":"'Data diagrams (noprint)'!NHL8","v":0},{"$f":"'Data diagrams (noprint)'!NHM8","v":0},{"$f":"'Data diagrams (noprint)'!NHN8","v":0},{"$f":"'Data diagrams (noprint)'!NHO8","v":0},{"$f":"'Data diagrams (noprint)'!NHP8","v":0},{"$f":"'Data diagrams (noprint)'!NHQ8","v":0},{"$f":"'Data diagrams (noprint)'!NHR8","v":0},{"$f":"'Data diagrams (noprint)'!NHS8","v":0},{"$f":"'Data diagrams (noprint)'!NHT8","v":0},{"$f":"'Data diagrams (noprint)'!NHU8","v":0},{"$f":"'Data diagrams (noprint)'!NHV8","v":0},{"$f":"'Data diagrams (noprint)'!NHW8","v":0},{"$f":"'Data diagrams (noprint)'!NHX8","v":0},{"$f":"'Data diagrams (noprint)'!NHY8","v":0},{"$f":"'Data diagrams (noprint)'!NHZ8","v":0},{"$f":"'Data diagrams (noprint)'!NIA8","v":0},{"$f":"'Data diagrams (noprint)'!NIB8","v":0},{"$f":"'Data diagrams (noprint)'!NIC8","v":0},{"$f":"'Data diagrams (noprint)'!NID8","v":0},{"$f":"'Data diagrams (noprint)'!NIE8","v":0},{"$f":"'Data diagrams (noprint)'!NIF8","v":0},{"$f":"'Data diagrams (noprint)'!NIG8","v":0},{"$f":"'Data diagrams (noprint)'!NIH8","v":0},{"$f":"'Data diagrams (noprint)'!NII8","v":0},{"$f":"'Data diagrams (noprint)'!NIJ8","v":0},{"$f":"'Data diagrams (noprint)'!NIK8","v":0},{"$f":"'Data diagrams (noprint)'!NIL8","v":0},{"$f":"'Data diagrams (noprint)'!NIM8","v":0},{"$f":"'Data diagrams (noprint)'!NIN8","v":0},{"$f":"'Data diagrams (noprint)'!NIO8","v":0},{"$f":"'Data diagrams (noprint)'!NIP8","v":0},{"$f":"'Data diagrams (noprint)'!NIQ8","v":0},{"$f":"'Data diagrams (noprint)'!NIR8","v":0},{"$f":"'Data diagrams (noprint)'!NIS8","v":0},{"$f":"'Data diagrams (noprint)'!NIT8","v":0},{"$f":"'Data diagrams (noprint)'!NIU8","v":0},{"$f":"'Data diagrams (noprint)'!NIV8","v":0},{"$f":"'Data diagrams (noprint)'!NIW8","v":0},{"$f":"'Data diagrams (noprint)'!NIX8","v":0},{"$f":"'Data diagrams (noprint)'!NIY8","v":0},{"$f":"'Data diagrams (noprint)'!NIZ8","v":0},{"$f":"'Data diagrams (noprint)'!NJA8","v":0},{"$f":"'Data diagrams (noprint)'!NJB8","v":0},{"$f":"'Data diagrams (noprint)'!NJC8","v":0},{"$f":"'Data diagrams (noprint)'!NJD8","v":0},{"$f":"'Data diagrams (noprint)'!NJE8","v":0},{"$f":"'Data diagrams (noprint)'!NJF8","v":0},{"$f":"'Data diagrams (noprint)'!NJG8","v":0},{"$f":"'Data diagrams (noprint)'!NJH8","v":0},{"$f":"'Data diagrams (noprint)'!NJI8","v":0},{"$f":"'Data diagrams (noprint)'!NJJ8","v":0},{"$f":"'Data diagrams (noprint)'!NJK8","v":0},{"$f":"'Data diagrams (noprint)'!NJL8","v":0},{"$f":"'Data diagrams (noprint)'!NJM8","v":0},{"$f":"'Data diagrams (noprint)'!NJN8","v":0},{"$f":"'Data diagrams (noprint)'!NJO8","v":0},{"$f":"'Data diagrams (noprint)'!NJP8","v":0},{"$f":"'Data diagrams (noprint)'!NJQ8","v":0},{"$f":"'Data diagrams (noprint)'!NJR8","v":0},{"$f":"'Data diagrams (noprint)'!NJS8","v":0},{"$f":"'Data diagrams (noprint)'!NJT8","v":0},{"$f":"'Data diagrams (noprint)'!NJU8","v":0},{"$f":"'Data diagrams (noprint)'!NJV8","v":0},{"$f":"'Data diagrams (noprint)'!NJW8","v":0},{"$f":"'Data diagrams (noprint)'!NJX8","v":0},{"$f":"'Data diagrams (noprint)'!NJY8","v":0},{"$f":"'Data diagrams (noprint)'!NJZ8","v":0},{"$f":"'Data diagrams (noprint)'!NKA8","v":0},{"$f":"'Data diagrams (noprint)'!NKB8","v":0},{"$f":"'Data diagrams (noprint)'!NKC8","v":0},{"$f":"'Data diagrams (noprint)'!NKD8","v":0},{"$f":"'Data diagrams (noprint)'!NKE8","v":0},{"$f":"'Data diagrams (noprint)'!NKF8","v":0},{"$f":"'Data diagrams (noprint)'!NKG8","v":0},{"$f":"'Data diagrams (noprint)'!NKH8","v":0},{"$f":"'Data diagrams (noprint)'!NKI8","v":0},{"$f":"'Data diagrams (noprint)'!NKJ8","v":0},{"$f":"'Data diagrams (noprint)'!NKK8","v":0},{"$f":"'Data diagrams (noprint)'!NKL8","v":0},{"$f":"'Data diagrams (noprint)'!NKM8","v":0},{"$f":"'Data diagrams (noprint)'!NKN8","v":0},{"$f":"'Data diagrams (noprint)'!NKO8","v":0},{"$f":"'Data diagrams (noprint)'!NKP8","v":0},{"$f":"'Data diagrams (noprint)'!NKQ8","v":0},{"$f":"'Data diagrams (noprint)'!NKR8","v":0},{"$f":"'Data diagrams (noprint)'!NKS8","v":0},{"$f":"'Data diagrams (noprint)'!NKT8","v":0},{"$f":"'Data diagrams (noprint)'!NKU8","v":0},{"$f":"'Data diagrams (noprint)'!NKV8","v":0},{"$f":"'Data diagrams (noprint)'!NKW8","v":0},{"$f":"'Data diagrams (noprint)'!NKX8","v":0},{"$f":"'Data diagrams (noprint)'!NKY8","v":0},{"$f":"'Data diagrams (noprint)'!NKZ8","v":0},{"$f":"'Data diagrams (noprint)'!NLA8","v":0},{"$f":"'Data diagrams (noprint)'!NLB8","v":0},{"$f":"'Data diagrams (noprint)'!NLC8","v":0},{"$f":"'Data diagrams (noprint)'!NLD8","v":0},{"$f":"'Data diagrams (noprint)'!NLE8","v":0},{"$f":"'Data diagrams (noprint)'!NLF8","v":0},{"$f":"'Data diagrams (noprint)'!NLG8","v":0},{"$f":"'Data diagrams (noprint)'!NLH8","v":0},{"$f":"'Data diagrams (noprint)'!NLI8","v":0},{"$f":"'Data diagrams (noprint)'!NLJ8","v":0},{"$f":"'Data diagrams (noprint)'!NLK8","v":0},{"$f":"'Data diagrams (noprint)'!NLL8","v":0},{"$f":"'Data diagrams (noprint)'!NLM8","v":0},{"$f":"'Data diagrams (noprint)'!NLN8","v":0},{"$f":"'Data diagrams (noprint)'!NLO8","v":0},{"$f":"'Data diagrams (noprint)'!NLP8","v":0},{"$f":"'Data diagrams (noprint)'!NLQ8","v":0},{"$f":"'Data diagrams (noprint)'!NLR8","v":0},{"$f":"'Data diagrams (noprint)'!NLS8","v":0},{"$f":"'Data diagrams (noprint)'!NLT8","v":0},{"$f":"'Data diagrams (noprint)'!NLU8","v":0},{"$f":"'Data diagrams (noprint)'!NLV8","v":0},{"$f":"'Data diagrams (noprint)'!NLW8","v":0},{"$f":"'Data diagrams (noprint)'!NLX8","v":0},{"$f":"'Data diagrams (noprint)'!NLY8","v":0},{"$f":"'Data diagrams (noprint)'!NLZ8","v":0},{"$f":"'Data diagrams (noprint)'!NMA8","v":0},{"$f":"'Data diagrams (noprint)'!NMB8","v":0},{"$f":"'Data diagrams (noprint)'!NMC8","v":0},{"$f":"'Data diagrams (noprint)'!NMD8","v":0},{"$f":"'Data diagrams (noprint)'!NME8","v":0},{"$f":"'Data diagrams (noprint)'!NMF8","v":0},{"$f":"'Data diagrams (noprint)'!NMG8","v":0},{"$f":"'Data diagrams (noprint)'!NMH8","v":0},{"$f":"'Data diagrams (noprint)'!NMI8","v":0},{"$f":"'Data diagrams (noprint)'!NMJ8","v":0},{"$f":"'Data diagrams (noprint)'!NMK8","v":0},{"$f":"'Data diagrams (noprint)'!NML8","v":0},{"$f":"'Data diagrams (noprint)'!NMM8","v":0},{"$f":"'Data diagrams (noprint)'!NMN8","v":0},{"$f":"'Data diagrams (noprint)'!NMO8","v":0},{"$f":"'Data diagrams (noprint)'!NMP8","v":0},{"$f":"'Data diagrams (noprint)'!NMQ8","v":0},{"$f":"'Data diagrams (noprint)'!NMR8","v":0},{"$f":"'Data diagrams (noprint)'!NMS8","v":0},{"$f":"'Data diagrams (noprint)'!NMT8","v":0},{"$f":"'Data diagrams (noprint)'!NMU8","v":0},{"$f":"'Data diagrams (noprint)'!NMV8","v":0},{"$f":"'Data diagrams (noprint)'!NMW8","v":0},{"$f":"'Data diagrams (noprint)'!NMX8","v":0},{"$f":"'Data diagrams (noprint)'!NMY8","v":0},{"$f":"'Data diagrams (noprint)'!NMZ8","v":0},{"$f":"'Data diagrams (noprint)'!NNA8","v":0},{"$f":"'Data diagrams (noprint)'!NNB8","v":0},{"$f":"'Data diagrams (noprint)'!NNC8","v":0},{"$f":"'Data diagrams (noprint)'!NND8","v":0},{"$f":"'Data diagrams (noprint)'!NNE8","v":0},{"$f":"'Data diagrams (noprint)'!NNF8","v":0},{"$f":"'Data diagrams (noprint)'!NNG8","v":0},{"$f":"'Data diagrams (noprint)'!NNH8","v":0},{"$f":"'Data diagrams (noprint)'!NNI8","v":0},{"$f":"'Data diagrams (noprint)'!NNJ8","v":0},{"$f":"'Data diagrams (noprint)'!NNK8","v":0},{"$f":"'Data diagrams (noprint)'!NNL8","v":0},{"$f":"'Data diagrams (noprint)'!NNM8","v":0},{"$f":"'Data diagrams (noprint)'!NNN8","v":0},{"$f":"'Data diagrams (noprint)'!NNO8","v":0},{"$f":"'Data diagrams (noprint)'!NNP8","v":0},{"$f":"'Data diagrams (noprint)'!NNQ8","v":0},{"$f":"'Data diagrams (noprint)'!NNR8","v":0},{"$f":"'Data diagrams (noprint)'!NNS8","v":0},{"$f":"'Data diagrams (noprint)'!NNT8","v":0},{"$f":"'Data diagrams (noprint)'!NNU8","v":0},{"$f":"'Data diagrams (noprint)'!NNV8","v":0},{"$f":"'Data diagrams (noprint)'!NNW8","v":0},{"$f":"'Data diagrams (noprint)'!NNX8","v":0},{"$f":"'Data diagrams (noprint)'!NNY8","v":0},{"$f":"'Data diagrams (noprint)'!NNZ8","v":0},{"$f":"'Data diagrams (noprint)'!NOA8","v":0},{"$f":"'Data diagrams (noprint)'!NOB8","v":0},{"$f":"'Data diagrams (noprint)'!NOC8","v":0},{"$f":"'Data diagrams (noprint)'!NOD8","v":0},{"$f":"'Data diagrams (noprint)'!NOE8","v":0},{"$f":"'Data diagrams (noprint)'!NOF8","v":0},{"$f":"'Data diagrams (noprint)'!NOG8","v":0},{"$f":"'Data diagrams (noprint)'!NOH8","v":0},{"$f":"'Data diagrams (noprint)'!NOI8","v":0},{"$f":"'Data diagrams (noprint)'!NOJ8","v":0},{"$f":"'Data diagrams (noprint)'!NOK8","v":0},{"$f":"'Data diagrams (noprint)'!NOL8","v":0},{"$f":"'Data diagrams (noprint)'!NOM8","v":0},{"$f":"'Data diagrams (noprint)'!NON8","v":0},{"$f":"'Data diagrams (noprint)'!NOO8","v":0},{"$f":"'Data diagrams (noprint)'!NOP8","v":0},{"$f":"'Data diagrams (noprint)'!NOQ8","v":0},{"$f":"'Data diagrams (noprint)'!NOR8","v":0},{"$f":"'Data diagrams (noprint)'!NOS8","v":0},{"$f":"'Data diagrams (noprint)'!NOT8","v":0},{"$f":"'Data diagrams (noprint)'!NOU8","v":0},{"$f":"'Data diagrams (noprint)'!NOV8","v":0},{"$f":"'Data diagrams (noprint)'!NOW8","v":0},{"$f":"'Data diagrams (noprint)'!NOX8","v":0},{"$f":"'Data diagrams (noprint)'!NOY8","v":0},{"$f":"'Data diagrams (noprint)'!NOZ8","v":0},{"$f":"'Data diagrams (noprint)'!NPA8","v":0},{"$f":"'Data diagrams (noprint)'!NPB8","v":0},{"$f":"'Data diagrams (noprint)'!NPC8","v":0},{"$f":"'Data diagrams (noprint)'!NPD8","v":0},{"$f":"'Data diagrams (noprint)'!NPE8","v":0},{"$f":"'Data diagrams (noprint)'!NPF8","v":0},{"$f":"'Data diagrams (noprint)'!NPG8","v":0},{"$f":"'Data diagrams (noprint)'!NPH8","v":0},{"$f":"'Data diagrams (noprint)'!NPI8","v":0},{"$f":"'Data diagrams (noprint)'!NPJ8","v":0},{"$f":"'Data diagrams (noprint)'!NPK8","v":0},{"$f":"'Data diagrams (noprint)'!NPL8","v":0},{"$f":"'Data diagrams (noprint)'!NPM8","v":0},{"$f":"'Data diagrams (noprint)'!NPN8","v":0},{"$f":"'Data diagrams (noprint)'!NPO8","v":0},{"$f":"'Data diagrams (noprint)'!NPP8","v":0},{"$f":"'Data diagrams (noprint)'!NPQ8","v":0},{"$f":"'Data diagrams (noprint)'!NPR8","v":0},{"$f":"'Data diagrams (noprint)'!NPS8","v":0},{"$f":"'Data diagrams (noprint)'!NPT8","v":0},{"$f":"'Data diagrams (noprint)'!NPU8","v":0},{"$f":"'Data diagrams (noprint)'!NPV8","v":0},{"$f":"'Data diagrams (noprint)'!NPW8","v":0},{"$f":"'Data diagrams (noprint)'!NPX8","v":0},{"$f":"'Data diagrams (noprint)'!NPY8","v":0},{"$f":"'Data diagrams (noprint)'!NPZ8","v":0},{"$f":"'Data diagrams (noprint)'!NQA8","v":0},{"$f":"'Data diagrams (noprint)'!NQB8","v":0},{"$f":"'Data diagrams (noprint)'!NQC8","v":0},{"$f":"'Data diagrams (noprint)'!NQD8","v":0},{"$f":"'Data diagrams (noprint)'!NQE8","v":0},{"$f":"'Data diagrams (noprint)'!NQF8","v":0},{"$f":"'Data diagrams (noprint)'!NQG8","v":0},{"$f":"'Data diagrams (noprint)'!NQH8","v":0},{"$f":"'Data diagrams (noprint)'!NQI8","v":0},{"$f":"'Data diagrams (noprint)'!NQJ8","v":0},{"$f":"'Data diagrams (noprint)'!NQK8","v":0},{"$f":"'Data diagrams (noprint)'!NQL8","v":0},{"$f":"'Data diagrams (noprint)'!NQM8","v":0},{"$f":"'Data diagrams (noprint)'!NQN8","v":0},{"$f":"'Data diagrams (noprint)'!NQO8","v":0},{"$f":"'Data diagrams (noprint)'!NQP8","v":0},{"$f":"'Data diagrams (noprint)'!NQQ8","v":0},{"$f":"'Data diagrams (noprint)'!NQR8","v":0},{"$f":"'Data diagrams (noprint)'!NQS8","v":0},{"$f":"'Data diagrams (noprint)'!NQT8","v":0},{"$f":"'Data diagrams (noprint)'!NQU8","v":0},{"$f":"'Data diagrams (noprint)'!NQV8","v":0},{"$f":"'Data diagrams (noprint)'!NQW8","v":0},{"$f":"'Data diagrams (noprint)'!NQX8","v":0},{"$f":"'Data diagrams (noprint)'!NQY8","v":0},{"$f":"'Data diagrams (noprint)'!NQZ8","v":0},{"$f":"'Data diagrams (noprint)'!NRA8","v":0},{"$f":"'Data diagrams (noprint)'!NRB8","v":0},{"$f":"'Data diagrams (noprint)'!NRC8","v":0},{"$f":"'Data diagrams (noprint)'!NRD8","v":0},{"$f":"'Data diagrams (noprint)'!NRE8","v":0},{"$f":"'Data diagrams (noprint)'!NRF8","v":0},{"$f":"'Data diagrams (noprint)'!NRG8","v":0},{"$f":"'Data diagrams (noprint)'!NRH8","v":0},{"$f":"'Data diagrams (noprint)'!NRI8","v":0},{"$f":"'Data diagrams (noprint)'!NRJ8","v":0},{"$f":"'Data diagrams (noprint)'!NRK8","v":0},{"$f":"'Data diagrams (noprint)'!NRL8","v":0},{"$f":"'Data diagrams (noprint)'!NRM8","v":0},{"$f":"'Data diagrams (noprint)'!NRN8","v":0},{"$f":"'Data diagrams (noprint)'!NRO8","v":0},{"$f":"'Data diagrams (noprint)'!NRP8","v":0},{"$f":"'Data diagrams (noprint)'!NRQ8","v":0},{"$f":"'Data diagrams (noprint)'!NRR8","v":0},{"$f":"'Data diagrams (noprint)'!NRS8","v":0},{"$f":"'Data diagrams (noprint)'!NRT8","v":0},{"$f":"'Data diagrams (noprint)'!NRU8","v":0},{"$f":"'Data diagrams (noprint)'!NRV8","v":0},{"$f":"'Data diagrams (noprint)'!NRW8","v":0},{"$f":"'Data diagrams (noprint)'!NRX8","v":0},{"$f":"'Data diagrams (noprint)'!NRY8","v":0},{"$f":"'Data diagrams (noprint)'!NRZ8","v":0},{"$f":"'Data diagrams (noprint)'!NSA8","v":0},{"$f":"'Data diagrams (noprint)'!NSB8","v":0},{"$f":"'Data diagrams (noprint)'!NSC8","v":0},{"$f":"'Data diagrams (noprint)'!NSD8","v":0},{"$f":"'Data diagrams (noprint)'!NSE8","v":0},{"$f":"'Data diagrams (noprint)'!NSF8","v":0},{"$f":"'Data diagrams (noprint)'!NSG8","v":0},{"$f":"'Data diagrams (noprint)'!NSH8","v":0},{"$f":"'Data diagrams (noprint)'!NSI8","v":0},{"$f":"'Data diagrams (noprint)'!NSJ8","v":0},{"$f":"'Data diagrams (noprint)'!NSK8","v":0},{"$f":"'Data diagrams (noprint)'!NSL8","v":0},{"$f":"'Data diagrams (noprint)'!NSM8","v":0},{"$f":"'Data diagrams (noprint)'!NSN8","v":0},{"$f":"'Data diagrams (noprint)'!NSO8","v":0},{"$f":"'Data diagrams (noprint)'!NSP8","v":0},{"$f":"'Data diagrams (noprint)'!NSQ8","v":0},{"$f":"'Data diagrams (noprint)'!NSR8","v":0},{"$f":"'Data diagrams (noprint)'!NSS8","v":0},{"$f":"'Data diagrams (noprint)'!NST8","v":0},{"$f":"'Data diagrams (noprint)'!NSU8","v":0},{"$f":"'Data diagrams (noprint)'!NSV8","v":0},{"$f":"'Data diagrams (noprint)'!NSW8","v":0},{"$f":"'Data diagrams (noprint)'!NSX8","v":0},{"$f":"'Data diagrams (noprint)'!NSY8","v":0},{"$f":"'Data diagrams (noprint)'!NSZ8","v":0},{"$f":"'Data diagrams (noprint)'!NTA8","v":0},{"$f":"'Data diagrams (noprint)'!NTB8","v":0},{"$f":"'Data diagrams (noprint)'!NTC8","v":0},{"$f":"'Data diagrams (noprint)'!NTD8","v":0},{"$f":"'Data diagrams (noprint)'!NTE8","v":0},{"$f":"'Data diagrams (noprint)'!NTF8","v":0},{"$f":"'Data diagrams (noprint)'!NTG8","v":0},{"$f":"'Data diagrams (noprint)'!NTH8","v":0},{"$f":"'Data diagrams (noprint)'!NTI8","v":0},{"$f":"'Data diagrams (noprint)'!NTJ8","v":0},{"$f":"'Data diagrams (noprint)'!NTK8","v":0},{"$f":"'Data diagrams (noprint)'!NTL8","v":0},{"$f":"'Data diagrams (noprint)'!NTM8","v":0},{"$f":"'Data diagrams (noprint)'!NTN8","v":0},{"$f":"'Data diagrams (noprint)'!NTO8","v":0},{"$f":"'Data diagrams (noprint)'!NTP8","v":0},{"$f":"'Data diagrams (noprint)'!NTQ8","v":0},{"$f":"'Data diagrams (noprint)'!NTR8","v":0},{"$f":"'Data diagrams (noprint)'!NTS8","v":0},{"$f":"'Data diagrams (noprint)'!NTT8","v":0},{"$f":"'Data diagrams (noprint)'!NTU8","v":0},{"$f":"'Data diagrams (noprint)'!NTV8","v":0},{"$f":"'Data diagrams (noprint)'!NTW8","v":0},{"$f":"'Data diagrams (noprint)'!NTX8","v":0},{"$f":"'Data diagrams (noprint)'!NTY8","v":0},{"$f":"'Data diagrams (noprint)'!NTZ8","v":0},{"$f":"'Data diagrams (noprint)'!NUA8","v":0},{"$f":"'Data diagrams (noprint)'!NUB8","v":0},{"$f":"'Data diagrams (noprint)'!NUC8","v":0},{"$f":"'Data diagrams (noprint)'!NUD8","v":0},{"$f":"'Data diagrams (noprint)'!NUE8","v":0},{"$f":"'Data diagrams (noprint)'!NUF8","v":0},{"$f":"'Data diagrams (noprint)'!NUG8","v":0},{"$f":"'Data diagrams (noprint)'!NUH8","v":0},{"$f":"'Data diagrams (noprint)'!NUI8","v":0},{"$f":"'Data diagrams (noprint)'!NUJ8","v":0},{"$f":"'Data diagrams (noprint)'!NUK8","v":0},{"$f":"'Data diagrams (noprint)'!NUL8","v":0},{"$f":"'Data diagrams (noprint)'!NUM8","v":0},{"$f":"'Data diagrams (noprint)'!NUN8","v":0},{"$f":"'Data diagrams (noprint)'!NUO8","v":0},{"$f":"'Data diagrams (noprint)'!NUP8","v":0},{"$f":"'Data diagrams (noprint)'!NUQ8","v":0},{"$f":"'Data diagrams (noprint)'!NUR8","v":0},{"$f":"'Data diagrams (noprint)'!NUS8","v":0},{"$f":"'Data diagrams (noprint)'!NUT8","v":0},{"$f":"'Data diagrams (noprint)'!NUU8","v":0},{"$f":"'Data diagrams (noprint)'!NUV8","v":0},{"$f":"'Data diagrams (noprint)'!NUW8","v":0},{"$f":"'Data diagrams (noprint)'!NUX8","v":0},{"$f":"'Data diagrams (noprint)'!NUY8","v":0},{"$f":"'Data diagrams (noprint)'!NUZ8","v":0},{"$f":"'Data diagrams (noprint)'!NVA8","v":0},{"$f":"'Data diagrams (noprint)'!NVB8","v":0},{"$f":"'Data diagrams (noprint)'!NVC8","v":0},{"$f":"'Data diagrams (noprint)'!NVD8","v":0},{"$f":"'Data diagrams (noprint)'!NVE8","v":0},{"$f":"'Data diagrams (noprint)'!NVF8","v":0},{"$f":"'Data diagrams (noprint)'!NVG8","v":0},{"$f":"'Data diagrams (noprint)'!NVH8","v":0},{"$f":"'Data diagrams (noprint)'!NVI8","v":0},{"$f":"'Data diagrams (noprint)'!NVJ8","v":0},{"$f":"'Data diagrams (noprint)'!NVK8","v":0},{"$f":"'Data diagrams (noprint)'!NVL8","v":0},{"$f":"'Data diagrams (noprint)'!NVM8","v":0},{"$f":"'Data diagrams (noprint)'!NVN8","v":0},{"$f":"'Data diagrams (noprint)'!NVO8","v":0},{"$f":"'Data diagrams (noprint)'!NVP8","v":0},{"$f":"'Data diagrams (noprint)'!NVQ8","v":0},{"$f":"'Data diagrams (noprint)'!NVR8","v":0},{"$f":"'Data diagrams (noprint)'!NVS8","v":0},{"$f":"'Data diagrams (noprint)'!NVT8","v":0},{"$f":"'Data diagrams (noprint)'!NVU8","v":0},{"$f":"'Data diagrams (noprint)'!NVV8","v":0},{"$f":"'Data diagrams (noprint)'!NVW8","v":0},{"$f":"'Data diagrams (noprint)'!NVX8","v":0},{"$f":"'Data diagrams (noprint)'!NVY8","v":0},{"$f":"'Data diagrams (noprint)'!NVZ8","v":0},{"$f":"'Data diagrams (noprint)'!NWA8","v":0},{"$f":"'Data diagrams (noprint)'!NWB8","v":0},{"$f":"'Data diagrams (noprint)'!NWC8","v":0},{"$f":"'Data diagrams (noprint)'!NWD8","v":0},{"$f":"'Data diagrams (noprint)'!NWE8","v":0},{"$f":"'Data diagrams (noprint)'!NWF8","v":0},{"$f":"'Data diagrams (noprint)'!NWG8","v":0},{"$f":"'Data diagrams (noprint)'!NWH8","v":0},{"$f":"'Data diagrams (noprint)'!NWI8","v":0},{"$f":"'Data diagrams (noprint)'!NWJ8","v":0},{"$f":"'Data diagrams (noprint)'!NWK8","v":0},{"$f":"'Data diagrams (noprint)'!NWL8","v":0},{"$f":"'Data diagrams (noprint)'!NWM8","v":0},{"$f":"'Data diagrams (noprint)'!NWN8","v":0},{"$f":"'Data diagrams (noprint)'!NWO8","v":0},{"$f":"'Data diagrams (noprint)'!NWP8","v":0},{"$f":"'Data diagrams (noprint)'!NWQ8","v":0},{"$f":"'Data diagrams (noprint)'!NWR8","v":0},{"$f":"'Data diagrams (noprint)'!NWS8","v":0},{"$f":"'Data diagrams (noprint)'!NWT8","v":0},{"$f":"'Data diagrams (noprint)'!NWU8","v":0},{"$f":"'Data diagrams (noprint)'!NWV8","v":0},{"$f":"'Data diagrams (noprint)'!NWW8","v":0},{"$f":"'Data diagrams (noprint)'!NWX8","v":0},{"$f":"'Data diagrams (noprint)'!NWY8","v":0},{"$f":"'Data diagrams (noprint)'!NWZ8","v":0},{"$f":"'Data diagrams (noprint)'!NXA8","v":0},{"$f":"'Data diagrams (noprint)'!NXB8","v":0},{"$f":"'Data diagrams (noprint)'!NXC8","v":0},{"$f":"'Data diagrams (noprint)'!NXD8","v":0},{"$f":"'Data diagrams (noprint)'!NXE8","v":0},{"$f":"'Data diagrams (noprint)'!NXF8","v":0},{"$f":"'Data diagrams (noprint)'!NXG8","v":0},{"$f":"'Data diagrams (noprint)'!NXH8","v":0},{"$f":"'Data diagrams (noprint)'!NXI8","v":0},{"$f":"'Data diagrams (noprint)'!NXJ8","v":0},{"$f":"'Data diagrams (noprint)'!NXK8","v":0},{"$f":"'Data diagrams (noprint)'!NXL8","v":0},{"$f":"'Data diagrams (noprint)'!NXM8","v":0},{"$f":"'Data diagrams (noprint)'!NXN8","v":0},{"$f":"'Data diagrams (noprint)'!NXO8","v":0},{"$f":"'Data diagrams (noprint)'!NXP8","v":0},{"$f":"'Data diagrams (noprint)'!NXQ8","v":0},{"$f":"'Data diagrams (noprint)'!NXR8","v":0},{"$f":"'Data diagrams (noprint)'!NXS8","v":0},{"$f":"'Data diagrams (noprint)'!NXT8","v":0},{"$f":"'Data diagrams (noprint)'!NXU8","v":0},{"$f":"'Data diagrams (noprint)'!NXV8","v":0},{"$f":"'Data diagrams (noprint)'!NXW8","v":0},{"$f":"'Data diagrams (noprint)'!NXX8","v":0},{"$f":"'Data diagrams (noprint)'!NXY8","v":0},{"$f":"'Data diagrams (noprint)'!NXZ8","v":0},{"$f":"'Data diagrams (noprint)'!NYA8","v":0},{"$f":"'Data diagrams (noprint)'!NYB8","v":0},{"$f":"'Data diagrams (noprint)'!NYC8","v":0},{"$f":"'Data diagrams (noprint)'!NYD8","v":0},{"$f":"'Data diagrams (noprint)'!NYE8","v":0},{"$f":"'Data diagrams (noprint)'!NYF8","v":0},{"$f":"'Data diagrams (noprint)'!NYG8","v":0},{"$f":"'Data diagrams (noprint)'!NYH8","v":0},{"$f":"'Data diagrams (noprint)'!NYI8","v":0},{"$f":"'Data diagrams (noprint)'!NYJ8","v":0},{"$f":"'Data diagrams (noprint)'!NYK8","v":0},{"$f":"'Data diagrams (noprint)'!NYL8","v":0},{"$f":"'Data diagrams (noprint)'!NYM8","v":0},{"$f":"'Data diagrams (noprint)'!NYN8","v":0},{"$f":"'Data diagrams (noprint)'!NYO8","v":0},{"$f":"'Data diagrams (noprint)'!NYP8","v":0},{"$f":"'Data diagrams (noprint)'!NYQ8","v":0},{"$f":"'Data diagrams (noprint)'!NYR8","v":0},{"$f":"'Data diagrams (noprint)'!NYS8","v":0},{"$f":"'Data diagrams (noprint)'!NYT8","v":0},{"$f":"'Data diagrams (noprint)'!NYU8","v":0},{"$f":"'Data diagrams (noprint)'!NYV8","v":0},{"$f":"'Data diagrams (noprint)'!NYW8","v":0},{"$f":"'Data diagrams (noprint)'!NYX8","v":0},{"$f":"'Data diagrams (noprint)'!NYY8","v":0},{"$f":"'Data diagrams (noprint)'!NYZ8","v":0},{"$f":"'Data diagrams (noprint)'!NZA8","v":0},{"$f":"'Data diagrams (noprint)'!NZB8","v":0},{"$f":"'Data diagrams (noprint)'!NZC8","v":0},{"$f":"'Data diagrams (noprint)'!NZD8","v":0},{"$f":"'Data diagrams (noprint)'!NZE8","v":0},{"$f":"'Data diagrams (noprint)'!NZF8","v":0},{"$f":"'Data diagrams (noprint)'!NZG8","v":0},{"$f":"'Data diagrams (noprint)'!NZH8","v":0},{"$f":"'Data diagrams (noprint)'!NZI8","v":0},{"$f":"'Data diagrams (noprint)'!NZJ8","v":0},{"$f":"'Data diagrams (noprint)'!NZK8","v":0},{"$f":"'Data diagrams (noprint)'!NZL8","v":0},{"$f":"'Data diagrams (noprint)'!NZM8","v":0},{"$f":"'Data diagrams (noprint)'!NZN8","v":0},{"$f":"'Data diagrams (noprint)'!NZO8","v":0},{"$f":"'Data diagrams (noprint)'!NZP8","v":0},{"$f":"'Data diagrams (noprint)'!NZQ8","v":0},{"$f":"'Data diagrams (noprint)'!NZR8","v":0},{"$f":"'Data diagrams (noprint)'!NZS8","v":0},{"$f":"'Data diagrams (noprint)'!NZT8","v":0},{"$f":"'Data diagrams (noprint)'!NZU8","v":0},{"$f":"'Data diagrams (noprint)'!NZV8","v":0},{"$f":"'Data diagrams (noprint)'!NZW8","v":0},{"$f":"'Data diagrams (noprint)'!NZX8","v":0},{"$f":"'Data diagrams (noprint)'!NZY8","v":0},{"$f":"'Data diagrams (noprint)'!NZZ8","v":0},{"$f":"'Data diagrams (noprint)'!OAA8","v":0},{"$f":"'Data diagrams (noprint)'!OAB8","v":0},{"$f":"'Data diagrams (noprint)'!OAC8","v":0},{"$f":"'Data diagrams (noprint)'!OAD8","v":0},{"$f":"'Data diagrams (noprint)'!OAE8","v":0},{"$f":"'Data diagrams (noprint)'!OAF8","v":0},{"$f":"'Data diagrams (noprint)'!OAG8","v":0},{"$f":"'Data diagrams (noprint)'!OAH8","v":0},{"$f":"'Data diagrams (noprint)'!OAI8","v":0},{"$f":"'Data diagrams (noprint)'!OAJ8","v":0},{"$f":"'Data diagrams (noprint)'!OAK8","v":0},{"$f":"'Data diagrams (noprint)'!OAL8","v":0},{"$f":"'Data diagrams (noprint)'!OAM8","v":0},{"$f":"'Data diagrams (noprint)'!OAN8","v":0},{"$f":"'Data diagrams (noprint)'!OAO8","v":0},{"$f":"'Data diagrams (noprint)'!OAP8","v":0},{"$f":"'Data diagrams (noprint)'!OAQ8","v":0},{"$f":"'Data diagrams (noprint)'!OAR8","v":0},{"$f":"'Data diagrams (noprint)'!OAS8","v":0},{"$f":"'Data diagrams (noprint)'!OAT8","v":0},{"$f":"'Data diagrams (noprint)'!OAU8","v":0},{"$f":"'Data diagrams (noprint)'!OAV8","v":0},{"$f":"'Data diagrams (noprint)'!OAW8","v":0},{"$f":"'Data diagrams (noprint)'!OAX8","v":0},{"$f":"'Data diagrams (noprint)'!OAY8","v":0},{"$f":"'Data diagrams (noprint)'!OAZ8","v":0},{"$f":"'Data diagrams (noprint)'!OBA8","v":0},{"$f":"'Data diagrams (noprint)'!OBB8","v":0},{"$f":"'Data diagrams (noprint)'!OBC8","v":0},{"$f":"'Data diagrams (noprint)'!OBD8","v":0},{"$f":"'Data diagrams (noprint)'!OBE8","v":0},{"$f":"'Data diagrams (noprint)'!OBF8","v":0},{"$f":"'Data diagrams (noprint)'!OBG8","v":0},{"$f":"'Data diagrams (noprint)'!OBH8","v":0},{"$f":"'Data diagrams (noprint)'!OBI8","v":0},{"$f":"'Data diagrams (noprint)'!OBJ8","v":0},{"$f":"'Data diagrams (noprint)'!OBK8","v":0},{"$f":"'Data diagrams (noprint)'!OBL8","v":0},{"$f":"'Data diagrams (noprint)'!OBM8","v":0},{"$f":"'Data diagrams (noprint)'!OBN8","v":0},{"$f":"'Data diagrams (noprint)'!OBO8","v":0},{"$f":"'Data diagrams (noprint)'!OBP8","v":0},{"$f":"'Data diagrams (noprint)'!OBQ8","v":0},{"$f":"'Data diagrams (noprint)'!OBR8","v":0},{"$f":"'Data diagrams (noprint)'!OBS8","v":0},{"$f":"'Data diagrams (noprint)'!OBT8","v":0},{"$f":"'Data diagrams (noprint)'!OBU8","v":0},{"$f":"'Data diagrams (noprint)'!OBV8","v":0},{"$f":"'Data diagrams (noprint)'!OBW8","v":0},{"$f":"'Data diagrams (noprint)'!OBX8","v":0},{"$f":"'Data diagrams (noprint)'!OBY8","v":0},{"$f":"'Data diagrams (noprint)'!OBZ8","v":0},{"$f":"'Data diagrams (noprint)'!OCA8","v":0},{"$f":"'Data diagrams (noprint)'!OCB8","v":0},{"$f":"'Data diagrams (noprint)'!OCC8","v":0},{"$f":"'Data diagrams (noprint)'!OCD8","v":0},{"$f":"'Data diagrams (noprint)'!OCE8","v":0},{"$f":"'Data diagrams (noprint)'!OCF8","v":0},{"$f":"'Data diagrams (noprint)'!OCG8","v":0},{"$f":"'Data diagrams (noprint)'!OCH8","v":0},{"$f":"'Data diagrams (noprint)'!OCI8","v":0},{"$f":"'Data diagrams (noprint)'!OCJ8","v":0},{"$f":"'Data diagrams (noprint)'!OCK8","v":0},{"$f":"'Data diagrams (noprint)'!OCL8","v":0},{"$f":"'Data diagrams (noprint)'!OCM8","v":0},{"$f":"'Data diagrams (noprint)'!OCN8","v":0},{"$f":"'Data diagrams (noprint)'!OCO8","v":0},{"$f":"'Data diagrams (noprint)'!OCP8","v":0},{"$f":"'Data diagrams (noprint)'!OCQ8","v":0},{"$f":"'Data diagrams (noprint)'!OCR8","v":0},{"$f":"'Data diagrams (noprint)'!OCS8","v":0},{"$f":"'Data diagrams (noprint)'!OCT8","v":0},{"$f":"'Data diagrams (noprint)'!OCU8","v":0},{"$f":"'Data diagrams (noprint)'!OCV8","v":0},{"$f":"'Data diagrams (noprint)'!OCW8","v":0},{"$f":"'Data diagrams (noprint)'!OCX8","v":0},{"$f":"'Data diagrams (noprint)'!OCY8","v":0},{"$f":"'Data diagrams (noprint)'!OCZ8","v":0},{"$f":"'Data diagrams (noprint)'!ODA8","v":0},{"$f":"'Data diagrams (noprint)'!ODB8","v":0},{"$f":"'Data diagrams (noprint)'!ODC8","v":0},{"$f":"'Data diagrams (noprint)'!ODD8","v":0},{"$f":"'Data diagrams (noprint)'!ODE8","v":0},{"$f":"'Data diagrams (noprint)'!ODF8","v":0},{"$f":"'Data diagrams (noprint)'!ODG8","v":0},{"$f":"'Data diagrams (noprint)'!ODH8","v":0},{"$f":"'Data diagrams (noprint)'!ODI8","v":0},{"$f":"'Data diagrams (noprint)'!ODJ8","v":0},{"$f":"'Data diagrams (noprint)'!ODK8","v":0},{"$f":"'Data diagrams (noprint)'!ODL8","v":0},{"$f":"'Data diagrams (noprint)'!ODM8","v":0},{"$f":"'Data diagrams (noprint)'!ODN8","v":0},{"$f":"'Data diagrams (noprint)'!ODO8","v":0},{"$f":"'Data diagrams (noprint)'!ODP8","v":0},{"$f":"'Data diagrams (noprint)'!ODQ8","v":0},{"$f":"'Data diagrams (noprint)'!ODR8","v":0},{"$f":"'Data diagrams (noprint)'!ODS8","v":0},{"$f":"'Data diagrams (noprint)'!ODT8","v":0},{"$f":"'Data diagrams (noprint)'!ODU8","v":0},{"$f":"'Data diagrams (noprint)'!ODV8","v":0},{"$f":"'Data diagrams (noprint)'!ODW8","v":0},{"$f":"'Data diagrams (noprint)'!ODX8","v":0},{"$f":"'Data diagrams (noprint)'!ODY8","v":0},{"$f":"'Data diagrams (noprint)'!ODZ8","v":0},{"$f":"'Data diagrams (noprint)'!OEA8","v":0},{"$f":"'Data diagrams (noprint)'!OEB8","v":0},{"$f":"'Data diagrams (noprint)'!OEC8","v":0},{"$f":"'Data diagrams (noprint)'!OED8","v":0},{"$f":"'Data diagrams (noprint)'!OEE8","v":0},{"$f":"'Data diagrams (noprint)'!OEF8","v":0},{"$f":"'Data diagrams (noprint)'!OEG8","v":0},{"$f":"'Data diagrams (noprint)'!OEH8","v":0},{"$f":"'Data diagrams (noprint)'!OEI8","v":0},{"$f":"'Data diagrams (noprint)'!OEJ8","v":0},{"$f":"'Data diagrams (noprint)'!OEK8","v":0},{"$f":"'Data diagrams (noprint)'!OEL8","v":0},{"$f":"'Data diagrams (noprint)'!OEM8","v":0},{"$f":"'Data diagrams (noprint)'!OEN8","v":0},{"$f":"'Data diagrams (noprint)'!OEO8","v":0},{"$f":"'Data diagrams (noprint)'!OEP8","v":0},{"$f":"'Data diagrams (noprint)'!OEQ8","v":0},{"$f":"'Data diagrams (noprint)'!OER8","v":0},{"$f":"'Data diagrams (noprint)'!OES8","v":0},{"$f":"'Data diagrams (noprint)'!OET8","v":0},{"$f":"'Data diagrams (noprint)'!OEU8","v":0},{"$f":"'Data diagrams (noprint)'!OEV8","v":0},{"$f":"'Data diagrams (noprint)'!OEW8","v":0},{"$f":"'Data diagrams (noprint)'!OEX8","v":0},{"$f":"'Data diagrams (noprint)'!OEY8","v":0},{"$f":"'Data diagrams (noprint)'!OEZ8","v":0},{"$f":"'Data diagrams (noprint)'!OFA8","v":0},{"$f":"'Data diagrams (noprint)'!OFB8","v":0},{"$f":"'Data diagrams (noprint)'!OFC8","v":0},{"$f":"'Data diagrams (noprint)'!OFD8","v":0},{"$f":"'Data diagrams (noprint)'!OFE8","v":0},{"$f":"'Data diagrams (noprint)'!OFF8","v":0},{"$f":"'Data diagrams (noprint)'!OFG8","v":0},{"$f":"'Data diagrams (noprint)'!OFH8","v":0},{"$f":"'Data diagrams (noprint)'!OFI8","v":0},{"$f":"'Data diagrams (noprint)'!OFJ8","v":0},{"$f":"'Data diagrams (noprint)'!OFK8","v":0},{"$f":"'Data diagrams (noprint)'!OFL8","v":0},{"$f":"'Data diagrams (noprint)'!OFM8","v":0},{"$f":"'Data diagrams (noprint)'!OFN8","v":0},{"$f":"'Data diagrams (noprint)'!OFO8","v":0},{"$f":"'Data diagrams (noprint)'!OFP8","v":0},{"$f":"'Data diagrams (noprint)'!OFQ8","v":0},{"$f":"'Data diagrams (noprint)'!OFR8","v":0},{"$f":"'Data diagrams (noprint)'!OFS8","v":0},{"$f":"'Data diagrams (noprint)'!OFT8","v":0},{"$f":"'Data diagrams (noprint)'!OFU8","v":0},{"$f":"'Data diagrams (noprint)'!OFV8","v":0},{"$f":"'Data diagrams (noprint)'!OFW8","v":0},{"$f":"'Data diagrams (noprint)'!OFX8","v":0},{"$f":"'Data diagrams (noprint)'!OFY8","v":0},{"$f":"'Data diagrams (noprint)'!OFZ8","v":0},{"$f":"'Data diagrams (noprint)'!OGA8","v":0},{"$f":"'Data diagrams (noprint)'!OGB8","v":0},{"$f":"'Data diagrams (noprint)'!OGC8","v":0},{"$f":"'Data diagrams (noprint)'!OGD8","v":0},{"$f":"'Data diagrams (noprint)'!OGE8","v":0},{"$f":"'Data diagrams (noprint)'!OGF8","v":0},{"$f":"'Data diagrams (noprint)'!OGG8","v":0},{"$f":"'Data diagrams (noprint)'!OGH8","v":0},{"$f":"'Data diagrams (noprint)'!OGI8","v":0},{"$f":"'Data diagrams (noprint)'!OGJ8","v":0},{"$f":"'Data diagrams (noprint)'!OGK8","v":0},{"$f":"'Data diagrams (noprint)'!OGL8","v":0},{"$f":"'Data diagrams (noprint)'!OGM8","v":0},{"$f":"'Data diagrams (noprint)'!OGN8","v":0},{"$f":"'Data diagrams (noprint)'!OGO8","v":0},{"$f":"'Data diagrams (noprint)'!OGP8","v":0},{"$f":"'Data diagrams (noprint)'!OGQ8","v":0},{"$f":"'Data diagrams (noprint)'!OGR8","v":0},{"$f":"'Data diagrams (noprint)'!OGS8","v":0},{"$f":"'Data diagrams (noprint)'!OGT8","v":0},{"$f":"'Data diagrams (noprint)'!OGU8","v":0},{"$f":"'Data diagrams (noprint)'!OGV8","v":0},{"$f":"'Data diagrams (noprint)'!OGW8","v":0},{"$f":"'Data diagrams (noprint)'!OGX8","v":0},{"$f":"'Data diagrams (noprint)'!OGY8","v":0},{"$f":"'Data diagrams (noprint)'!OGZ8","v":0},{"$f":"'Data diagrams (noprint)'!OHA8","v":0},{"$f":"'Data diagrams (noprint)'!OHB8","v":0},{"$f":"'Data diagrams (noprint)'!OHC8","v":0},{"$f":"'Data diagrams (noprint)'!OHD8","v":0},{"$f":"'Data diagrams (noprint)'!OHE8","v":0},{"$f":"'Data diagrams (noprint)'!OHF8","v":0},{"$f":"'Data diagrams (noprint)'!OHG8","v":0},{"$f":"'Data diagrams (noprint)'!OHH8","v":0},{"$f":"'Data diagrams (noprint)'!OHI8","v":0},{"$f":"'Data diagrams (noprint)'!OHJ8","v":0},{"$f":"'Data diagrams (noprint)'!OHK8","v":0},{"$f":"'Data diagrams (noprint)'!OHL8","v":0},{"$f":"'Data diagrams (noprint)'!OHM8","v":0},{"$f":"'Data diagrams (noprint)'!OHN8","v":0},{"$f":"'Data diagrams (noprint)'!OHO8","v":0},{"$f":"'Data diagrams (noprint)'!OHP8","v":0},{"$f":"'Data diagrams (noprint)'!OHQ8","v":0},{"$f":"'Data diagrams (noprint)'!OHR8","v":0},{"$f":"'Data diagrams (noprint)'!OHS8","v":0},{"$f":"'Data diagrams (noprint)'!OHT8","v":0},{"$f":"'Data diagrams (noprint)'!OHU8","v":0},{"$f":"'Data diagrams (noprint)'!OHV8","v":0},{"$f":"'Data diagrams (noprint)'!OHW8","v":0},{"$f":"'Data diagrams (noprint)'!OHX8","v":0},{"$f":"'Data diagrams (noprint)'!OHY8","v":0},{"$f":"'Data diagrams (noprint)'!OHZ8","v":0},{"$f":"'Data diagrams (noprint)'!OIA8","v":0},{"$f":"'Data diagrams (noprint)'!OIB8","v":0},{"$f":"'Data diagrams (noprint)'!OIC8","v":0},{"$f":"'Data diagrams (noprint)'!OID8","v":0},{"$f":"'Data diagrams (noprint)'!OIE8","v":0},{"$f":"'Data diagrams (noprint)'!OIF8","v":0},{"$f":"'Data diagrams (noprint)'!OIG8","v":0},{"$f":"'Data diagrams (noprint)'!OIH8","v":0},{"$f":"'Data diagrams (noprint)'!OII8","v":0},{"$f":"'Data diagrams (noprint)'!OIJ8","v":0},{"$f":"'Data diagrams (noprint)'!OIK8","v":0},{"$f":"'Data diagrams (noprint)'!OIL8","v":0},{"$f":"'Data diagrams (noprint)'!OIM8","v":0},{"$f":"'Data diagrams (noprint)'!OIN8","v":0},{"$f":"'Data diagrams (noprint)'!OIO8","v":0},{"$f":"'Data diagrams (noprint)'!OIP8","v":0},{"$f":"'Data diagrams (noprint)'!OIQ8","v":0},{"$f":"'Data diagrams (noprint)'!OIR8","v":0},{"$f":"'Data diagrams (noprint)'!OIS8","v":0},{"$f":"'Data diagrams (noprint)'!OIT8","v":0},{"$f":"'Data diagrams (noprint)'!OIU8","v":0},{"$f":"'Data diagrams (noprint)'!OIV8","v":0},{"$f":"'Data diagrams (noprint)'!OIW8","v":0},{"$f":"'Data diagrams (noprint)'!OIX8","v":0},{"$f":"'Data diagrams (noprint)'!OIY8","v":0},{"$f":"'Data diagrams (noprint)'!OIZ8","v":0},{"$f":"'Data diagrams (noprint)'!OJA8","v":0},{"$f":"'Data diagrams (noprint)'!OJB8","v":0},{"$f":"'Data diagrams (noprint)'!OJC8","v":0},{"$f":"'Data diagrams (noprint)'!OJD8","v":0},{"$f":"'Data diagrams (noprint)'!OJE8","v":0},{"$f":"'Data diagrams (noprint)'!OJF8","v":0},{"$f":"'Data diagrams (noprint)'!OJG8","v":0},{"$f":"'Data diagrams (noprint)'!OJH8","v":0},{"$f":"'Data diagrams (noprint)'!OJI8","v":0},{"$f":"'Data diagrams (noprint)'!OJJ8","v":0},{"$f":"'Data diagrams (noprint)'!OJK8","v":0},{"$f":"'Data diagrams (noprint)'!OJL8","v":0},{"$f":"'Data diagrams (noprint)'!OJM8","v":0},{"$f":"'Data diagrams (noprint)'!OJN8","v":0},{"$f":"'Data diagrams (noprint)'!OJO8","v":0},{"$f":"'Data diagrams (noprint)'!OJP8","v":0},{"$f":"'Data diagrams (noprint)'!OJQ8","v":0},{"$f":"'Data diagrams (noprint)'!OJR8","v":0},{"$f":"'Data diagrams (noprint)'!OJS8","v":0},{"$f":"'Data diagrams (noprint)'!OJT8","v":0},{"$f":"'Data diagrams (noprint)'!OJU8","v":0},{"$f":"'Data diagrams (noprint)'!OJV8","v":0},{"$f":"'Data diagrams (noprint)'!OJW8","v":0},{"$f":"'Data diagrams (noprint)'!OJX8","v":0},{"$f":"'Data diagrams (noprint)'!OJY8","v":0},{"$f":"'Data diagrams (noprint)'!OJZ8","v":0},{"$f":"'Data diagrams (noprint)'!OKA8","v":0},{"$f":"'Data diagrams (noprint)'!OKB8","v":0},{"$f":"'Data diagrams (noprint)'!OKC8","v":0},{"$f":"'Data diagrams (noprint)'!OKD8","v":0},{"$f":"'Data diagrams (noprint)'!OKE8","v":0},{"$f":"'Data diagrams (noprint)'!OKF8","v":0},{"$f":"'Data diagrams (noprint)'!OKG8","v":0},{"$f":"'Data diagrams (noprint)'!OKH8","v":0},{"$f":"'Data diagrams (noprint)'!OKI8","v":0},{"$f":"'Data diagrams (noprint)'!OKJ8","v":0},{"$f":"'Data diagrams (noprint)'!OKK8","v":0},{"$f":"'Data diagrams (noprint)'!OKL8","v":0},{"$f":"'Data diagrams (noprint)'!OKM8","v":0},{"$f":"'Data diagrams (noprint)'!OKN8","v":0},{"$f":"'Data diagrams (noprint)'!OKO8","v":0},{"$f":"'Data diagrams (noprint)'!OKP8","v":0},{"$f":"'Data diagrams (noprint)'!OKQ8","v":0},{"$f":"'Data diagrams (noprint)'!OKR8","v":0},{"$f":"'Data diagrams (noprint)'!OKS8","v":0},{"$f":"'Data diagrams (noprint)'!OKT8","v":0},{"$f":"'Data diagrams (noprint)'!OKU8","v":0},{"$f":"'Data diagrams (noprint)'!OKV8","v":0},{"$f":"'Data diagrams (noprint)'!OKW8","v":0},{"$f":"'Data diagrams (noprint)'!OKX8","v":0},{"$f":"'Data diagrams (noprint)'!OKY8","v":0},{"$f":"'Data diagrams (noprint)'!OKZ8","v":0},{"$f":"'Data diagrams (noprint)'!OLA8","v":0},{"$f":"'Data diagrams (noprint)'!OLB8","v":0},{"$f":"'Data diagrams (noprint)'!OLC8","v":0},{"$f":"'Data diagrams (noprint)'!OLD8","v":0},{"$f":"'Data diagrams (noprint)'!OLE8","v":0},{"$f":"'Data diagrams (noprint)'!OLF8","v":0},{"$f":"'Data diagrams (noprint)'!OLG8","v":0},{"$f":"'Data diagrams (noprint)'!OLH8","v":0},{"$f":"'Data diagrams (noprint)'!OLI8","v":0},{"$f":"'Data diagrams (noprint)'!OLJ8","v":0},{"$f":"'Data diagrams (noprint)'!OLK8","v":0},{"$f":"'Data diagrams (noprint)'!OLL8","v":0},{"$f":"'Data diagrams (noprint)'!OLM8","v":0},{"$f":"'Data diagrams (noprint)'!OLN8","v":0},{"$f":"'Data diagrams (noprint)'!OLO8","v":0},{"$f":"'Data diagrams (noprint)'!OLP8","v":0},{"$f":"'Data diagrams (noprint)'!OLQ8","v":0},{"$f":"'Data diagrams (noprint)'!OLR8","v":0},{"$f":"'Data diagrams (noprint)'!OLS8","v":0},{"$f":"'Data diagrams (noprint)'!OLT8","v":0},{"$f":"'Data diagrams (noprint)'!OLU8","v":0},{"$f":"'Data diagrams (noprint)'!OLV8","v":0},{"$f":"'Data diagrams (noprint)'!OLW8","v":0},{"$f":"'Data diagrams (noprint)'!OLX8","v":0},{"$f":"'Data diagrams (noprint)'!OLY8","v":0},{"$f":"'Data diagrams (noprint)'!OLZ8","v":0},{"$f":"'Data diagrams (noprint)'!OMA8","v":0},{"$f":"'Data diagrams (noprint)'!OMB8","v":0},{"$f":"'Data diagrams (noprint)'!OMC8","v":0},{"$f":"'Data diagrams (noprint)'!OMD8","v":0},{"$f":"'Data diagrams (noprint)'!OME8","v":0},{"$f":"'Data diagrams (noprint)'!OMF8","v":0},{"$f":"'Data diagrams (noprint)'!OMG8","v":0},{"$f":"'Data diagrams (noprint)'!OMH8","v":0},{"$f":"'Data diagrams (noprint)'!OMI8","v":0},{"$f":"'Data diagrams (noprint)'!OMJ8","v":0},{"$f":"'Data diagrams (noprint)'!OMK8","v":0},{"$f":"'Data diagrams (noprint)'!OML8","v":0},{"$f":"'Data diagrams (noprint)'!OMM8","v":0},{"$f":"'Data diagrams (noprint)'!OMN8","v":0},{"$f":"'Data diagrams (noprint)'!OMO8","v":0},{"$f":"'Data diagrams (noprint)'!OMP8","v":0},{"$f":"'Data diagrams (noprint)'!OMQ8","v":0},{"$f":"'Data diagrams (noprint)'!OMR8","v":0},{"$f":"'Data diagrams (noprint)'!OMS8","v":0},{"$f":"'Data diagrams (noprint)'!OMT8","v":0},{"$f":"'Data diagrams (noprint)'!OMU8","v":0},{"$f":"'Data diagrams (noprint)'!OMV8","v":0},{"$f":"'Data diagrams (noprint)'!OMW8","v":0},{"$f":"'Data diagrams (noprint)'!OMX8","v":0},{"$f":"'Data diagrams (noprint)'!OMY8","v":0},{"$f":"'Data diagrams (noprint)'!OMZ8","v":0},{"$f":"'Data diagrams (noprint)'!ONA8","v":0},{"$f":"'Data diagrams (noprint)'!ONB8","v":0},{"$f":"'Data diagrams (noprint)'!ONC8","v":0},{"$f":"'Data diagrams (noprint)'!OND8","v":0},{"$f":"'Data diagrams (noprint)'!ONE8","v":0},{"$f":"'Data diagrams (noprint)'!ONF8","v":0},{"$f":"'Data diagrams (noprint)'!ONG8","v":0},{"$f":"'Data diagrams (noprint)'!ONH8","v":0},{"$f":"'Data diagrams (noprint)'!ONI8","v":0},{"$f":"'Data diagrams (noprint)'!ONJ8","v":0},{"$f":"'Data diagrams (noprint)'!ONK8","v":0},{"$f":"'Data diagrams (noprint)'!ONL8","v":0},{"$f":"'Data diagrams (noprint)'!ONM8","v":0},{"$f":"'Data diagrams (noprint)'!ONN8","v":0},{"$f":"'Data diagrams (noprint)'!ONO8","v":0},{"$f":"'Data diagrams (noprint)'!ONP8","v":0},{"$f":"'Data diagrams (noprint)'!ONQ8","v":0},{"$f":"'Data diagrams (noprint)'!ONR8","v":0},{"$f":"'Data diagrams (noprint)'!ONS8","v":0},{"$f":"'Data diagrams (noprint)'!ONT8","v":0},{"$f":"'Data diagrams (noprint)'!ONU8","v":0},{"$f":"'Data diagrams (noprint)'!ONV8","v":0},{"$f":"'Data diagrams (noprint)'!ONW8","v":0},{"$f":"'Data diagrams (noprint)'!ONX8","v":0},{"$f":"'Data diagrams (noprint)'!ONY8","v":0},{"$f":"'Data diagrams (noprint)'!ONZ8","v":0},{"$f":"'Data diagrams (noprint)'!OOA8","v":0},{"$f":"'Data diagrams (noprint)'!OOB8","v":0},{"$f":"'Data diagrams (noprint)'!OOC8","v":0},{"$f":"'Data diagrams (noprint)'!OOD8","v":0},{"$f":"'Data diagrams (noprint)'!OOE8","v":0},{"$f":"'Data diagrams (noprint)'!OOF8","v":0},{"$f":"'Data diagrams (noprint)'!OOG8","v":0},{"$f":"'Data diagrams (noprint)'!OOH8","v":0},{"$f":"'Data diagrams (noprint)'!OOI8","v":0},{"$f":"'Data diagrams (noprint)'!OOJ8","v":0},{"$f":"'Data diagrams (noprint)'!OOK8","v":0},{"$f":"'Data diagrams (noprint)'!OOL8","v":0},{"$f":"'Data diagrams (noprint)'!OOM8","v":0},{"$f":"'Data diagrams (noprint)'!OON8","v":0},{"$f":"'Data diagrams (noprint)'!OOO8","v":0},{"$f":"'Data diagrams (noprint)'!OOP8","v":0},{"$f":"'Data diagrams (noprint)'!OOQ8","v":0},{"$f":"'Data diagrams (noprint)'!OOR8","v":0},{"$f":"'Data diagrams (noprint)'!OOS8","v":0},{"$f":"'Data diagrams (noprint)'!OOT8","v":0},{"$f":"'Data diagrams (noprint)'!OOU8","v":0},{"$f":"'Data diagrams (noprint)'!OOV8","v":0},{"$f":"'Data diagrams (noprint)'!OOW8","v":0},{"$f":"'Data diagrams (noprint)'!OOX8","v":0},{"$f":"'Data diagrams (noprint)'!OOY8","v":0},{"$f":"'Data diagrams (noprint)'!OOZ8","v":0},{"$f":"'Data diagrams (noprint)'!OPA8","v":0},{"$f":"'Data diagrams (noprint)'!OPB8","v":0},{"$f":"'Data diagrams (noprint)'!OPC8","v":0},{"$f":"'Data diagrams (noprint)'!OPD8","v":0},{"$f":"'Data diagrams (noprint)'!OPE8","v":0},{"$f":"'Data diagrams (noprint)'!OPF8","v":0},{"$f":"'Data diagrams (noprint)'!OPG8","v":0},{"$f":"'Data diagrams (noprint)'!OPH8","v":0},{"$f":"'Data diagrams (noprint)'!OPI8","v":0},{"$f":"'Data diagrams (noprint)'!OPJ8","v":0},{"$f":"'Data diagrams (noprint)'!OPK8","v":0},{"$f":"'Data diagrams (noprint)'!OPL8","v":0},{"$f":"'Data diagrams (noprint)'!OPM8","v":0},{"$f":"'Data diagrams (noprint)'!OPN8","v":0},{"$f":"'Data diagrams (noprint)'!OPO8","v":0},{"$f":"'Data diagrams (noprint)'!OPP8","v":0},{"$f":"'Data diagrams (noprint)'!OPQ8","v":0},{"$f":"'Data diagrams (noprint)'!OPR8","v":0},{"$f":"'Data diagrams (noprint)'!OPS8","v":0},{"$f":"'Data diagrams (noprint)'!OPT8","v":0},{"$f":"'Data diagrams (noprint)'!OPU8","v":0},{"$f":"'Data diagrams (noprint)'!OPV8","v":0},{"$f":"'Data diagrams (noprint)'!OPW8","v":0},{"$f":"'Data diagrams (noprint)'!OPX8","v":0},{"$f":"'Data diagrams (noprint)'!OPY8","v":0},{"$f":"'Data diagrams (noprint)'!OPZ8","v":0},{"$f":"'Data diagrams (noprint)'!OQA8","v":0},{"$f":"'Data diagrams (noprint)'!OQB8","v":0},{"$f":"'Data diagrams (noprint)'!OQC8","v":0},{"$f":"'Data diagrams (noprint)'!OQD8","v":0},{"$f":"'Data diagrams (noprint)'!OQE8","v":0},{"$f":"'Data diagrams (noprint)'!OQF8","v":0},{"$f":"'Data diagrams (noprint)'!OQG8","v":0},{"$f":"'Data diagrams (noprint)'!OQH8","v":0},{"$f":"'Data diagrams (noprint)'!OQI8","v":0},{"$f":"'Data diagrams (noprint)'!OQJ8","v":0},{"$f":"'Data diagrams (noprint)'!OQK8","v":0},{"$f":"'Data diagrams (noprint)'!OQL8","v":0},{"$f":"'Data diagrams (noprint)'!OQM8","v":0},{"$f":"'Data diagrams (noprint)'!OQN8","v":0},{"$f":"'Data diagrams (noprint)'!OQO8","v":0},{"$f":"'Data diagrams (noprint)'!OQP8","v":0},{"$f":"'Data diagrams (noprint)'!OQQ8","v":0},{"$f":"'Data diagrams (noprint)'!OQR8","v":0},{"$f":"'Data diagrams (noprint)'!OQS8","v":0},{"$f":"'Data diagrams (noprint)'!OQT8","v":0},{"$f":"'Data diagrams (noprint)'!OQU8","v":0},{"$f":"'Data diagrams (noprint)'!OQV8","v":0},{"$f":"'Data diagrams (noprint)'!OQW8","v":0},{"$f":"'Data diagrams (noprint)'!OQX8","v":0},{"$f":"'Data diagrams (noprint)'!OQY8","v":0},{"$f":"'Data diagrams (noprint)'!OQZ8","v":0},{"$f":"'Data diagrams (noprint)'!ORA8","v":0},{"$f":"'Data diagrams (noprint)'!ORB8","v":0},{"$f":"'Data diagrams (noprint)'!ORC8","v":0},{"$f":"'Data diagrams (noprint)'!ORD8","v":0},{"$f":"'Data diagrams (noprint)'!ORE8","v":0},{"$f":"'Data diagrams (noprint)'!ORF8","v":0},{"$f":"'Data diagrams (noprint)'!ORG8","v":0},{"$f":"'Data diagrams (noprint)'!ORH8","v":0},{"$f":"'Data diagrams (noprint)'!ORI8","v":0},{"$f":"'Data diagrams (noprint)'!ORJ8","v":0},{"$f":"'Data diagrams (noprint)'!ORK8","v":0},{"$f":"'Data diagrams (noprint)'!ORL8","v":0},{"$f":"'Data diagrams (noprint)'!ORM8","v":0},{"$f":"'Data diagrams (noprint)'!ORN8","v":0},{"$f":"'Data diagrams (noprint)'!ORO8","v":0},{"$f":"'Data diagrams (noprint)'!ORP8","v":0},{"$f":"'Data diagrams (noprint)'!ORQ8","v":0},{"$f":"'Data diagrams (noprint)'!ORR8","v":0},{"$f":"'Data diagrams (noprint)'!ORS8","v":0},{"$f":"'Data diagrams (noprint)'!ORT8","v":0},{"$f":"'Data diagrams (noprint)'!ORU8","v":0},{"$f":"'Data diagrams (noprint)'!ORV8","v":0},{"$f":"'Data diagrams (noprint)'!ORW8","v":0},{"$f":"'Data diagrams (noprint)'!ORX8","v":0},{"$f":"'Data diagrams (noprint)'!ORY8","v":0},{"$f":"'Data diagrams (noprint)'!ORZ8","v":0},{"$f":"'Data diagrams (noprint)'!OSA8","v":0},{"$f":"'Data diagrams (noprint)'!OSB8","v":0},{"$f":"'Data diagrams (noprint)'!OSC8","v":0},{"$f":"'Data diagrams (noprint)'!OSD8","v":0},{"$f":"'Data diagrams (noprint)'!OSE8","v":0},{"$f":"'Data diagrams (noprint)'!OSF8","v":0},{"$f":"'Data diagrams (noprint)'!OSG8","v":0},{"$f":"'Data diagrams (noprint)'!OSH8","v":0},{"$f":"'Data diagrams (noprint)'!OSI8","v":0},{"$f":"'Data diagrams (noprint)'!OSJ8","v":0},{"$f":"'Data diagrams (noprint)'!OSK8","v":0},{"$f":"'Data diagrams (noprint)'!OSL8","v":0},{"$f":"'Data diagrams (noprint)'!OSM8","v":0},{"$f":"'Data diagrams (noprint)'!OSN8","v":0},{"$f":"'Data diagrams (noprint)'!OSO8","v":0},{"$f":"'Data diagrams (noprint)'!OSP8","v":0},{"$f":"'Data diagrams (noprint)'!OSQ8","v":0},{"$f":"'Data diagrams (noprint)'!OSR8","v":0},{"$f":"'Data diagrams (noprint)'!OSS8","v":0},{"$f":"'Data diagrams (noprint)'!OST8","v":0},{"$f":"'Data diagrams (noprint)'!OSU8","v":0},{"$f":"'Data diagrams (noprint)'!OSV8","v":0},{"$f":"'Data diagrams (noprint)'!OSW8","v":0},{"$f":"'Data diagrams (noprint)'!OSX8","v":0},{"$f":"'Data diagrams (noprint)'!OSY8","v":0},{"$f":"'Data diagrams (noprint)'!OSZ8","v":0},{"$f":"'Data diagrams (noprint)'!OTA8","v":0},{"$f":"'Data diagrams (noprint)'!OTB8","v":0},{"$f":"'Data diagrams (noprint)'!OTC8","v":0},{"$f":"'Data diagrams (noprint)'!OTD8","v":0},{"$f":"'Data diagrams (noprint)'!OTE8","v":0},{"$f":"'Data diagrams (noprint)'!OTF8","v":0},{"$f":"'Data diagrams (noprint)'!OTG8","v":0},{"$f":"'Data diagrams (noprint)'!OTH8","v":0},{"$f":"'Data diagrams (noprint)'!OTI8","v":0},{"$f":"'Data diagrams (noprint)'!OTJ8","v":0},{"$f":"'Data diagrams (noprint)'!OTK8","v":0},{"$f":"'Data diagrams (noprint)'!OTL8","v":0},{"$f":"'Data diagrams (noprint)'!OTM8","v":0},{"$f":"'Data diagrams (noprint)'!OTN8","v":0},{"$f":"'Data diagrams (noprint)'!OTO8","v":0},{"$f":"'Data diagrams (noprint)'!OTP8","v":0},{"$f":"'Data diagrams (noprint)'!OTQ8","v":0},{"$f":"'Data diagrams (noprint)'!OTR8","v":0},{"$f":"'Data diagrams (noprint)'!OTS8","v":0},{"$f":"'Data diagrams (noprint)'!OTT8","v":0},{"$f":"'Data diagrams (noprint)'!OTU8","v":0},{"$f":"'Data diagrams (noprint)'!OTV8","v":0},{"$f":"'Data diagrams (noprint)'!OTW8","v":0},{"$f":"'Data diagrams (noprint)'!OTX8","v":0},{"$f":"'Data diagrams (noprint)'!OTY8","v":0},{"$f":"'Data diagrams (noprint)'!OTZ8","v":0},{"$f":"'Data diagrams (noprint)'!OUA8","v":0},{"$f":"'Data diagrams (noprint)'!OUB8","v":0},{"$f":"'Data diagrams (noprint)'!OUC8","v":0},{"$f":"'Data diagrams (noprint)'!OUD8","v":0},{"$f":"'Data diagrams (noprint)'!OUE8","v":0},{"$f":"'Data diagrams (noprint)'!OUF8","v":0},{"$f":"'Data diagrams (noprint)'!OUG8","v":0},{"$f":"'Data diagrams (noprint)'!OUH8","v":0},{"$f":"'Data diagrams (noprint)'!OUI8","v":0},{"$f":"'Data diagrams (noprint)'!OUJ8","v":0},{"$f":"'Data diagrams (noprint)'!OUK8","v":0},{"$f":"'Data diagrams (noprint)'!OUL8","v":0},{"$f":"'Data diagrams (noprint)'!OUM8","v":0},{"$f":"'Data diagrams (noprint)'!OUN8","v":0},{"$f":"'Data diagrams (noprint)'!OUO8","v":0},{"$f":"'Data diagrams (noprint)'!OUP8","v":0},{"$f":"'Data diagrams (noprint)'!OUQ8","v":0},{"$f":"'Data diagrams (noprint)'!OUR8","v":0},{"$f":"'Data diagrams (noprint)'!OUS8","v":0},{"$f":"'Data diagrams (noprint)'!OUT8","v":0},{"$f":"'Data diagrams (noprint)'!OUU8","v":0},{"$f":"'Data diagrams (noprint)'!OUV8","v":0},{"$f":"'Data diagrams (noprint)'!OUW8","v":0},{"$f":"'Data diagrams (noprint)'!OUX8","v":0},{"$f":"'Data diagrams (noprint)'!OUY8","v":0},{"$f":"'Data diagrams (noprint)'!OUZ8","v":0},{"$f":"'Data diagrams (noprint)'!OVA8","v":0},{"$f":"'Data diagrams (noprint)'!OVB8","v":0},{"$f":"'Data diagrams (noprint)'!OVC8","v":0},{"$f":"'Data diagrams (noprint)'!OVD8","v":0},{"$f":"'Data diagrams (noprint)'!OVE8","v":0},{"$f":"'Data diagrams (noprint)'!OVF8","v":0},{"$f":"'Data diagrams (noprint)'!OVG8","v":0},{"$f":"'Data diagrams (noprint)'!OVH8","v":0},{"$f":"'Data diagrams (noprint)'!OVI8","v":0},{"$f":"'Data diagrams (noprint)'!OVJ8","v":0},{"$f":"'Data diagrams (noprint)'!OVK8","v":0},{"$f":"'Data diagrams (noprint)'!OVL8","v":0},{"$f":"'Data diagrams (noprint)'!OVM8","v":0},{"$f":"'Data diagrams (noprint)'!OVN8","v":0},{"$f":"'Data diagrams (noprint)'!OVO8","v":0},{"$f":"'Data diagrams (noprint)'!OVP8","v":0},{"$f":"'Data diagrams (noprint)'!OVQ8","v":0},{"$f":"'Data diagrams (noprint)'!OVR8","v":0},{"$f":"'Data diagrams (noprint)'!OVS8","v":0},{"$f":"'Data diagrams (noprint)'!OVT8","v":0},{"$f":"'Data diagrams (noprint)'!OVU8","v":0},{"$f":"'Data diagrams (noprint)'!OVV8","v":0},{"$f":"'Data diagrams (noprint)'!OVW8","v":0},{"$f":"'Data diagrams (noprint)'!OVX8","v":0},{"$f":"'Data diagrams (noprint)'!OVY8","v":0},{"$f":"'Data diagrams (noprint)'!OVZ8","v":0},{"$f":"'Data diagrams (noprint)'!OWA8","v":0},{"$f":"'Data diagrams (noprint)'!OWB8","v":0},{"$f":"'Data diagrams (noprint)'!OWC8","v":0},{"$f":"'Data diagrams (noprint)'!OWD8","v":0},{"$f":"'Data diagrams (noprint)'!OWE8","v":0},{"$f":"'Data diagrams (noprint)'!OWF8","v":0},{"$f":"'Data diagrams (noprint)'!OWG8","v":0},{"$f":"'Data diagrams (noprint)'!OWH8","v":0},{"$f":"'Data diagrams (noprint)'!OWI8","v":0},{"$f":"'Data diagrams (noprint)'!OWJ8","v":0},{"$f":"'Data diagrams (noprint)'!OWK8","v":0},{"$f":"'Data diagrams (noprint)'!OWL8","v":0},{"$f":"'Data diagrams (noprint)'!OWM8","v":0},{"$f":"'Data diagrams (noprint)'!OWN8","v":0},{"$f":"'Data diagrams (noprint)'!OWO8","v":0},{"$f":"'Data diagrams (noprint)'!OWP8","v":0},{"$f":"'Data diagrams (noprint)'!OWQ8","v":0},{"$f":"'Data diagrams (noprint)'!OWR8","v":0},{"$f":"'Data diagrams (noprint)'!OWS8","v":0},{"$f":"'Data diagrams (noprint)'!OWT8","v":0},{"$f":"'Data diagrams (noprint)'!OWU8","v":0},{"$f":"'Data diagrams (noprint)'!OWV8","v":0},{"$f":"'Data diagrams (noprint)'!OWW8","v":0},{"$f":"'Data diagrams (noprint)'!OWX8","v":0},{"$f":"'Data diagrams (noprint)'!OWY8","v":0},{"$f":"'Data diagrams (noprint)'!OWZ8","v":0},{"$f":"'Data diagrams (noprint)'!OXA8","v":0},{"$f":"'Data diagrams (noprint)'!OXB8","v":0},{"$f":"'Data diagrams (noprint)'!OXC8","v":0},{"$f":"'Data diagrams (noprint)'!OXD8","v":0},{"$f":"'Data diagrams (noprint)'!OXE8","v":0},{"$f":"'Data diagrams (noprint)'!OXF8","v":0},{"$f":"'Data diagrams (noprint)'!OXG8","v":0},{"$f":"'Data diagrams (noprint)'!OXH8","v":0},{"$f":"'Data diagrams (noprint)'!OXI8","v":0},{"$f":"'Data diagrams (noprint)'!OXJ8","v":0},{"$f":"'Data diagrams (noprint)'!OXK8","v":0},{"$f":"'Data diagrams (noprint)'!OXL8","v":0},{"$f":"'Data diagrams (noprint)'!OXM8","v":0},{"$f":"'Data diagrams (noprint)'!OXN8","v":0},{"$f":"'Data diagrams (noprint)'!OXO8","v":0},{"$f":"'Data diagrams (noprint)'!OXP8","v":0},{"$f":"'Data diagrams (noprint)'!OXQ8","v":0},{"$f":"'Data diagrams (noprint)'!OXR8","v":0},{"$f":"'Data diagrams (noprint)'!OXS8","v":0},{"$f":"'Data diagrams (noprint)'!OXT8","v":0},{"$f":"'Data diagrams (noprint)'!OXU8","v":0},{"$f":"'Data diagrams (noprint)'!OXV8","v":0},{"$f":"'Data diagrams (noprint)'!OXW8","v":0},{"$f":"'Data diagrams (noprint)'!OXX8","v":0},{"$f":"'Data diagrams (noprint)'!OXY8","v":0},{"$f":"'Data diagrams (noprint)'!OXZ8","v":0},{"$f":"'Data diagrams (noprint)'!OYA8","v":0},{"$f":"'Data diagrams (noprint)'!OYB8","v":0},{"$f":"'Data diagrams (noprint)'!OYC8","v":0},{"$f":"'Data diagrams (noprint)'!OYD8","v":0},{"$f":"'Data diagrams (noprint)'!OYE8","v":0},{"$f":"'Data diagrams (noprint)'!OYF8","v":0},{"$f":"'Data diagrams (noprint)'!OYG8","v":0},{"$f":"'Data diagrams (noprint)'!OYH8","v":0},{"$f":"'Data diagrams (noprint)'!OYI8","v":0},{"$f":"'Data diagrams (noprint)'!OYJ8","v":0},{"$f":"'Data diagrams (noprint)'!OYK8","v":0},{"$f":"'Data diagrams (noprint)'!OYL8","v":0},{"$f":"'Data diagrams (noprint)'!OYM8","v":0},{"$f":"'Data diagrams (noprint)'!OYN8","v":0},{"$f":"'Data diagrams (noprint)'!OYO8","v":0},{"$f":"'Data diagrams (noprint)'!OYP8","v":0},{"$f":"'Data diagrams (noprint)'!OYQ8","v":0},{"$f":"'Data diagrams (noprint)'!OYR8","v":0},{"$f":"'Data diagrams (noprint)'!OYS8","v":0},{"$f":"'Data diagrams (noprint)'!OYT8","v":0},{"$f":"'Data diagrams (noprint)'!OYU8","v":0},{"$f":"'Data diagrams (noprint)'!OYV8","v":0},{"$f":"'Data diagrams (noprint)'!OYW8","v":0},{"$f":"'Data diagrams (noprint)'!OYX8","v":0},{"$f":"'Data diagrams (noprint)'!OYY8","v":0},{"$f":"'Data diagrams (noprint)'!OYZ8","v":0},{"$f":"'Data diagrams (noprint)'!OZA8","v":0},{"$f":"'Data diagrams (noprint)'!OZB8","v":0},{"$f":"'Data diagrams (noprint)'!OZC8","v":0},{"$f":"'Data diagrams (noprint)'!OZD8","v":0},{"$f":"'Data diagrams (noprint)'!OZE8","v":0},{"$f":"'Data diagrams (noprint)'!OZF8","v":0},{"$f":"'Data diagrams (noprint)'!OZG8","v":0},{"$f":"'Data diagrams (noprint)'!OZH8","v":0},{"$f":"'Data diagrams (noprint)'!OZI8","v":0},{"$f":"'Data diagrams (noprint)'!OZJ8","v":0},{"$f":"'Data diagrams (noprint)'!OZK8","v":0},{"$f":"'Data diagrams (noprint)'!OZL8","v":0},{"$f":"'Data diagrams (noprint)'!OZM8","v":0},{"$f":"'Data diagrams (noprint)'!OZN8","v":0},{"$f":"'Data diagrams (noprint)'!OZO8","v":0},{"$f":"'Data diagrams (noprint)'!OZP8","v":0},{"$f":"'Data diagrams (noprint)'!OZQ8","v":0},{"$f":"'Data diagrams (noprint)'!OZR8","v":0},{"$f":"'Data diagrams (noprint)'!OZS8","v":0},{"$f":"'Data diagrams (noprint)'!OZT8","v":0},{"$f":"'Data diagrams (noprint)'!OZU8","v":0},{"$f":"'Data diagrams (noprint)'!OZV8","v":0},{"$f":"'Data diagrams (noprint)'!OZW8","v":0},{"$f":"'Data diagrams (noprint)'!OZX8","v":0},{"$f":"'Data diagrams (noprint)'!OZY8","v":0},{"$f":"'Data diagrams (noprint)'!OZZ8","v":0},{"$f":"'Data diagrams (noprint)'!PAA8","v":0},{"$f":"'Data diagrams (noprint)'!PAB8","v":0},{"$f":"'Data diagrams (noprint)'!PAC8","v":0},{"$f":"'Data diagrams (noprint)'!PAD8","v":0},{"$f":"'Data diagrams (noprint)'!PAE8","v":0},{"$f":"'Data diagrams (noprint)'!PAF8","v":0},{"$f":"'Data diagrams (noprint)'!PAG8","v":0},{"$f":"'Data diagrams (noprint)'!PAH8","v":0},{"$f":"'Data diagrams (noprint)'!PAI8","v":0},{"$f":"'Data diagrams (noprint)'!PAJ8","v":0},{"$f":"'Data diagrams (noprint)'!PAK8","v":0},{"$f":"'Data diagrams (noprint)'!PAL8","v":0},{"$f":"'Data diagrams (noprint)'!PAM8","v":0},{"$f":"'Data diagrams (noprint)'!PAN8","v":0},{"$f":"'Data diagrams (noprint)'!PAO8","v":0},{"$f":"'Data diagrams (noprint)'!PAP8","v":0},{"$f":"'Data diagrams (noprint)'!PAQ8","v":0},{"$f":"'Data diagrams (noprint)'!PAR8","v":0},{"$f":"'Data diagrams (noprint)'!PAS8","v":0},{"$f":"'Data diagrams (noprint)'!PAT8","v":0},{"$f":"'Data diagrams (noprint)'!PAU8","v":0},{"$f":"'Data diagrams (noprint)'!PAV8","v":0},{"$f":"'Data diagrams (noprint)'!PAW8","v":0},{"$f":"'Data diagrams (noprint)'!PAX8","v":0},{"$f":"'Data diagrams (noprint)'!PAY8","v":0},{"$f":"'Data diagrams (noprint)'!PAZ8","v":0},{"$f":"'Data diagrams (noprint)'!PBA8","v":0},{"$f":"'Data diagrams (noprint)'!PBB8","v":0},{"$f":"'Data diagrams (noprint)'!PBC8","v":0},{"$f":"'Data diagrams (noprint)'!PBD8","v":0},{"$f":"'Data diagrams (noprint)'!PBE8","v":0},{"$f":"'Data diagrams (noprint)'!PBF8","v":0},{"$f":"'Data diagrams (noprint)'!PBG8","v":0},{"$f":"'Data diagrams (noprint)'!PBH8","v":0},{"$f":"'Data diagrams (noprint)'!PBI8","v":0},{"$f":"'Data diagrams (noprint)'!PBJ8","v":0},{"$f":"'Data diagrams (noprint)'!PBK8","v":0},{"$f":"'Data diagrams (noprint)'!PBL8","v":0},{"$f":"'Data diagrams (noprint)'!PBM8","v":0},{"$f":"'Data diagrams (noprint)'!PBN8","v":0},{"$f":"'Data diagrams (noprint)'!PBO8","v":0},{"$f":"'Data diagrams (noprint)'!PBP8","v":0},{"$f":"'Data diagrams (noprint)'!PBQ8","v":0},{"$f":"'Data diagrams (noprint)'!PBR8","v":0},{"$f":"'Data diagrams (noprint)'!PBS8","v":0},{"$f":"'Data diagrams (noprint)'!PBT8","v":0},{"$f":"'Data diagrams (noprint)'!PBU8","v":0},{"$f":"'Data diagrams (noprint)'!PBV8","v":0},{"$f":"'Data diagrams (noprint)'!PBW8","v":0},{"$f":"'Data diagrams (noprint)'!PBX8","v":0},{"$f":"'Data diagrams (noprint)'!PBY8","v":0},{"$f":"'Data diagrams (noprint)'!PBZ8","v":0},{"$f":"'Data diagrams (noprint)'!PCA8","v":0},{"$f":"'Data diagrams (noprint)'!PCB8","v":0},{"$f":"'Data diagrams (noprint)'!PCC8","v":0},{"$f":"'Data diagrams (noprint)'!PCD8","v":0},{"$f":"'Data diagrams (noprint)'!PCE8","v":0},{"$f":"'Data diagrams (noprint)'!PCF8","v":0},{"$f":"'Data diagrams (noprint)'!PCG8","v":0},{"$f":"'Data diagrams (noprint)'!PCH8","v":0},{"$f":"'Data diagrams (noprint)'!PCI8","v":0},{"$f":"'Data diagrams (noprint)'!PCJ8","v":0},{"$f":"'Data diagrams (noprint)'!PCK8","v":0},{"$f":"'Data diagrams (noprint)'!PCL8","v":0},{"$f":"'Data diagrams (noprint)'!PCM8","v":0},{"$f":"'Data diagrams (noprint)'!PCN8","v":0},{"$f":"'Data diagrams (noprint)'!PCO8","v":0},{"$f":"'Data diagrams (noprint)'!PCP8","v":0},{"$f":"'Data diagrams (noprint)'!PCQ8","v":0},{"$f":"'Data diagrams (noprint)'!PCR8","v":0},{"$f":"'Data diagrams (noprint)'!PCS8","v":0},{"$f":"'Data diagrams (noprint)'!PCT8","v":0},{"$f":"'Data diagrams (noprint)'!PCU8","v":0},{"$f":"'Data diagrams (noprint)'!PCV8","v":0},{"$f":"'Data diagrams (noprint)'!PCW8","v":0},{"$f":"'Data diagrams (noprint)'!PCX8","v":0},{"$f":"'Data diagrams (noprint)'!PCY8","v":0},{"$f":"'Data diagrams (noprint)'!PCZ8","v":0},{"$f":"'Data diagrams (noprint)'!PDA8","v":0},{"$f":"'Data diagrams (noprint)'!PDB8","v":0},{"$f":"'Data diagrams (noprint)'!PDC8","v":0},{"$f":"'Data diagrams (noprint)'!PDD8","v":0},{"$f":"'Data diagrams (noprint)'!PDE8","v":0},{"$f":"'Data diagrams (noprint)'!PDF8","v":0},{"$f":"'Data diagrams (noprint)'!PDG8","v":0},{"$f":"'Data diagrams (noprint)'!PDH8","v":0},{"$f":"'Data diagrams (noprint)'!PDI8","v":0},{"$f":"'Data diagrams (noprint)'!PDJ8","v":0},{"$f":"'Data diagrams (noprint)'!PDK8","v":0},{"$f":"'Data diagrams (noprint)'!PDL8","v":0},{"$f":"'Data diagrams (noprint)'!PDM8","v":0},{"$f":"'Data diagrams (noprint)'!PDN8","v":0},{"$f":"'Data diagrams (noprint)'!PDO8","v":0},{"$f":"'Data diagrams (noprint)'!PDP8","v":0},{"$f":"'Data diagrams (noprint)'!PDQ8","v":0},{"$f":"'Data diagrams (noprint)'!PDR8","v":0},{"$f":"'Data diagrams (noprint)'!PDS8","v":0},{"$f":"'Data diagrams (noprint)'!PDT8","v":0},{"$f":"'Data diagrams (noprint)'!PDU8","v":0},{"$f":"'Data diagrams (noprint)'!PDV8","v":0},{"$f":"'Data diagrams (noprint)'!PDW8","v":0},{"$f":"'Data diagrams (noprint)'!PDX8","v":0},{"$f":"'Data diagrams (noprint)'!PDY8","v":0},{"$f":"'Data diagrams (noprint)'!PDZ8","v":0},{"$f":"'Data diagrams (noprint)'!PEA8","v":0},{"$f":"'Data diagrams (noprint)'!PEB8","v":0},{"$f":"'Data diagrams (noprint)'!PEC8","v":0},{"$f":"'Data diagrams (noprint)'!PED8","v":0},{"$f":"'Data diagrams (noprint)'!PEE8","v":0},{"$f":"'Data diagrams (noprint)'!PEF8","v":0},{"$f":"'Data diagrams (noprint)'!PEG8","v":0},{"$f":"'Data diagrams (noprint)'!PEH8","v":0},{"$f":"'Data diagrams (noprint)'!PEI8","v":0},{"$f":"'Data diagrams (noprint)'!PEJ8","v":0},{"$f":"'Data diagrams (noprint)'!PEK8","v":0},{"$f":"'Data diagrams (noprint)'!PEL8","v":0},{"$f":"'Data diagrams (noprint)'!PEM8","v":0},{"$f":"'Data diagrams (noprint)'!PEN8","v":0},{"$f":"'Data diagrams (noprint)'!PEO8","v":0},{"$f":"'Data diagrams (noprint)'!PEP8","v":0},{"$f":"'Data diagrams (noprint)'!PEQ8","v":0},{"$f":"'Data diagrams (noprint)'!PER8","v":0},{"$f":"'Data diagrams (noprint)'!PES8","v":0},{"$f":"'Data diagrams (noprint)'!PET8","v":0},{"$f":"'Data diagrams (noprint)'!PEU8","v":0},{"$f":"'Data diagrams (noprint)'!PEV8","v":0},{"$f":"'Data diagrams (noprint)'!PEW8","v":0},{"$f":"'Data diagrams (noprint)'!PEX8","v":0},{"$f":"'Data diagrams (noprint)'!PEY8","v":0},{"$f":"'Data diagrams (noprint)'!PEZ8","v":0},{"$f":"'Data diagrams (noprint)'!PFA8","v":0},{"$f":"'Data diagrams (noprint)'!PFB8","v":0},{"$f":"'Data diagrams (noprint)'!PFC8","v":0},{"$f":"'Data diagrams (noprint)'!PFD8","v":0},{"$f":"'Data diagrams (noprint)'!PFE8","v":0},{"$f":"'Data diagrams (noprint)'!PFF8","v":0},{"$f":"'Data diagrams (noprint)'!PFG8","v":0},{"$f":"'Data diagrams (noprint)'!PFH8","v":0},{"$f":"'Data diagrams (noprint)'!PFI8","v":0},{"$f":"'Data diagrams (noprint)'!PFJ8","v":0},{"$f":"'Data diagrams (noprint)'!PFK8","v":0},{"$f":"'Data diagrams (noprint)'!PFL8","v":0},{"$f":"'Data diagrams (noprint)'!PFM8","v":0},{"$f":"'Data diagrams (noprint)'!PFN8","v":0},{"$f":"'Data diagrams (noprint)'!PFO8","v":0},{"$f":"'Data diagrams (noprint)'!PFP8","v":0},{"$f":"'Data diagrams (noprint)'!PFQ8","v":0},{"$f":"'Data diagrams (noprint)'!PFR8","v":0},{"$f":"'Data diagrams (noprint)'!PFS8","v":0},{"$f":"'Data diagrams (noprint)'!PFT8","v":0},{"$f":"'Data diagrams (noprint)'!PFU8","v":0},{"$f":"'Data diagrams (noprint)'!PFV8","v":0},{"$f":"'Data diagrams (noprint)'!PFW8","v":0},{"$f":"'Data diagrams (noprint)'!PFX8","v":0},{"$f":"'Data diagrams (noprint)'!PFY8","v":0},{"$f":"'Data diagrams (noprint)'!PFZ8","v":0},{"$f":"'Data diagrams (noprint)'!PGA8","v":0},{"$f":"'Data diagrams (noprint)'!PGB8","v":0},{"$f":"'Data diagrams (noprint)'!PGC8","v":0},{"$f":"'Data diagrams (noprint)'!PGD8","v":0},{"$f":"'Data diagrams (noprint)'!PGE8","v":0},{"$f":"'Data diagrams (noprint)'!PGF8","v":0},{"$f":"'Data diagrams (noprint)'!PGG8","v":0},{"$f":"'Data diagrams (noprint)'!PGH8","v":0},{"$f":"'Data diagrams (noprint)'!PGI8","v":0},{"$f":"'Data diagrams (noprint)'!PGJ8","v":0},{"$f":"'Data diagrams (noprint)'!PGK8","v":0},{"$f":"'Data diagrams (noprint)'!PGL8","v":0},{"$f":"'Data diagrams (noprint)'!PGM8","v":0},{"$f":"'Data diagrams (noprint)'!PGN8","v":0},{"$f":"'Data diagrams (noprint)'!PGO8","v":0},{"$f":"'Data diagrams (noprint)'!PGP8","v":0},{"$f":"'Data diagrams (noprint)'!PGQ8","v":0},{"$f":"'Data diagrams (noprint)'!PGR8","v":0},{"$f":"'Data diagrams (noprint)'!PGS8","v":0},{"$f":"'Data diagrams (noprint)'!PGT8","v":0},{"$f":"'Data diagrams (noprint)'!PGU8","v":0},{"$f":"'Data diagrams (noprint)'!PGV8","v":0},{"$f":"'Data diagrams (noprint)'!PGW8","v":0},{"$f":"'Data diagrams (noprint)'!PGX8","v":0},{"$f":"'Data diagrams (noprint)'!PGY8","v":0},{"$f":"'Data diagrams (noprint)'!PGZ8","v":0},{"$f":"'Data diagrams (noprint)'!PHA8","v":0},{"$f":"'Data diagrams (noprint)'!PHB8","v":0},{"$f":"'Data diagrams (noprint)'!PHC8","v":0},{"$f":"'Data diagrams (noprint)'!PHD8","v":0},{"$f":"'Data diagrams (noprint)'!PHE8","v":0},{"$f":"'Data diagrams (noprint)'!PHF8","v":0},{"$f":"'Data diagrams (noprint)'!PHG8","v":0},{"$f":"'Data diagrams (noprint)'!PHH8","v":0},{"$f":"'Data diagrams (noprint)'!PHI8","v":0},{"$f":"'Data diagrams (noprint)'!PHJ8","v":0},{"$f":"'Data diagrams (noprint)'!PHK8","v":0},{"$f":"'Data diagrams (noprint)'!PHL8","v":0},{"$f":"'Data diagrams (noprint)'!PHM8","v":0},{"$f":"'Data diagrams (noprint)'!PHN8","v":0},{"$f":"'Data diagrams (noprint)'!PHO8","v":0},{"$f":"'Data diagrams (noprint)'!PHP8","v":0},{"$f":"'Data diagrams (noprint)'!PHQ8","v":0},{"$f":"'Data diagrams (noprint)'!PHR8","v":0},{"$f":"'Data diagrams (noprint)'!PHS8","v":0},{"$f":"'Data diagrams (noprint)'!PHT8","v":0},{"$f":"'Data diagrams (noprint)'!PHU8","v":0},{"$f":"'Data diagrams (noprint)'!PHV8","v":0},{"$f":"'Data diagrams (noprint)'!PHW8","v":0},{"$f":"'Data diagrams (noprint)'!PHX8","v":0},{"$f":"'Data diagrams (noprint)'!PHY8","v":0},{"$f":"'Data diagrams (noprint)'!PHZ8","v":0},{"$f":"'Data diagrams (noprint)'!PIA8","v":0},{"$f":"'Data diagrams (noprint)'!PIB8","v":0},{"$f":"'Data diagrams (noprint)'!PIC8","v":0},{"$f":"'Data diagrams (noprint)'!PID8","v":0},{"$f":"'Data diagrams (noprint)'!PIE8","v":0},{"$f":"'Data diagrams (noprint)'!PIF8","v":0},{"$f":"'Data diagrams (noprint)'!PIG8","v":0},{"$f":"'Data diagrams (noprint)'!PIH8","v":0},{"$f":"'Data diagrams (noprint)'!PII8","v":0},{"$f":"'Data diagrams (noprint)'!PIJ8","v":0},{"$f":"'Data diagrams (noprint)'!PIK8","v":0},{"$f":"'Data diagrams (noprint)'!PIL8","v":0},{"$f":"'Data diagrams (noprint)'!PIM8","v":0},{"$f":"'Data diagrams (noprint)'!PIN8","v":0},{"$f":"'Data diagrams (noprint)'!PIO8","v":0},{"$f":"'Data diagrams (noprint)'!PIP8","v":0},{"$f":"'Data diagrams (noprint)'!PIQ8","v":0},{"$f":"'Data diagrams (noprint)'!PIR8","v":0},{"$f":"'Data diagrams (noprint)'!PIS8","v":0},{"$f":"'Data diagrams (noprint)'!PIT8","v":0},{"$f":"'Data diagrams (noprint)'!PIU8","v":0},{"$f":"'Data diagrams (noprint)'!PIV8","v":0},{"$f":"'Data diagrams (noprint)'!PIW8","v":0},{"$f":"'Data diagrams (noprint)'!PIX8","v":0},{"$f":"'Data diagrams (noprint)'!PIY8","v":0},{"$f":"'Data diagrams (noprint)'!PIZ8","v":0},{"$f":"'Data diagrams (noprint)'!PJA8","v":0},{"$f":"'Data diagrams (noprint)'!PJB8","v":0},{"$f":"'Data diagrams (noprint)'!PJC8","v":0},{"$f":"'Data diagrams (noprint)'!PJD8","v":0},{"$f":"'Data diagrams (noprint)'!PJE8","v":0},{"$f":"'Data diagrams (noprint)'!PJF8","v":0},{"$f":"'Data diagrams (noprint)'!PJG8","v":0},{"$f":"'Data diagrams (noprint)'!PJH8","v":0},{"$f":"'Data diagrams (noprint)'!PJI8","v":0},{"$f":"'Data diagrams (noprint)'!PJJ8","v":0},{"$f":"'Data diagrams (noprint)'!PJK8","v":0},{"$f":"'Data diagrams (noprint)'!PJL8","v":0},{"$f":"'Data diagrams (noprint)'!PJM8","v":0},{"$f":"'Data diagrams (noprint)'!PJN8","v":0},{"$f":"'Data diagrams (noprint)'!PJO8","v":0},{"$f":"'Data diagrams (noprint)'!PJP8","v":0},{"$f":"'Data diagrams (noprint)'!PJQ8","v":0},{"$f":"'Data diagrams (noprint)'!PJR8","v":0},{"$f":"'Data diagrams (noprint)'!PJS8","v":0},{"$f":"'Data diagrams (noprint)'!PJT8","v":0},{"$f":"'Data diagrams (noprint)'!PJU8","v":0},{"$f":"'Data diagrams (noprint)'!PJV8","v":0},{"$f":"'Data diagrams (noprint)'!PJW8","v":0},{"$f":"'Data diagrams (noprint)'!PJX8","v":0},{"$f":"'Data diagrams (noprint)'!PJY8","v":0},{"$f":"'Data diagrams (noprint)'!PJZ8","v":0},{"$f":"'Data diagrams (noprint)'!PKA8","v":0},{"$f":"'Data diagrams (noprint)'!PKB8","v":0},{"$f":"'Data diagrams (noprint)'!PKC8","v":0},{"$f":"'Data diagrams (noprint)'!PKD8","v":0},{"$f":"'Data diagrams (noprint)'!PKE8","v":0},{"$f":"'Data diagrams (noprint)'!PKF8","v":0},{"$f":"'Data diagrams (noprint)'!PKG8","v":0},{"$f":"'Data diagrams (noprint)'!PKH8","v":0},{"$f":"'Data diagrams (noprint)'!PKI8","v":0},{"$f":"'Data diagrams (noprint)'!PKJ8","v":0},{"$f":"'Data diagrams (noprint)'!PKK8","v":0},{"$f":"'Data diagrams (noprint)'!PKL8","v":0},{"$f":"'Data diagrams (noprint)'!PKM8","v":0},{"$f":"'Data diagrams (noprint)'!PKN8","v":0},{"$f":"'Data diagrams (noprint)'!PKO8","v":0},{"$f":"'Data diagrams (noprint)'!PKP8","v":0},{"$f":"'Data diagrams (noprint)'!PKQ8","v":0},{"$f":"'Data diagrams (noprint)'!PKR8","v":0},{"$f":"'Data diagrams (noprint)'!PKS8","v":0},{"$f":"'Data diagrams (noprint)'!PKT8","v":0},{"$f":"'Data diagrams (noprint)'!PKU8","v":0},{"$f":"'Data diagrams (noprint)'!PKV8","v":0},{"$f":"'Data diagrams (noprint)'!PKW8","v":0},{"$f":"'Data diagrams (noprint)'!PKX8","v":0},{"$f":"'Data diagrams (noprint)'!PKY8","v":0},{"$f":"'Data diagrams (noprint)'!PKZ8","v":0},{"$f":"'Data diagrams (noprint)'!PLA8","v":0},{"$f":"'Data diagrams (noprint)'!PLB8","v":0},{"$f":"'Data diagrams (noprint)'!PLC8","v":0},{"$f":"'Data diagrams (noprint)'!PLD8","v":0},{"$f":"'Data diagrams (noprint)'!PLE8","v":0},{"$f":"'Data diagrams (noprint)'!PLF8","v":0},{"$f":"'Data diagrams (noprint)'!PLG8","v":0},{"$f":"'Data diagrams (noprint)'!PLH8","v":0},{"$f":"'Data diagrams (noprint)'!PLI8","v":0},{"$f":"'Data diagrams (noprint)'!PLJ8","v":0},{"$f":"'Data diagrams (noprint)'!PLK8","v":0},{"$f":"'Data diagrams (noprint)'!PLL8","v":0},{"$f":"'Data diagrams (noprint)'!PLM8","v":0},{"$f":"'Data diagrams (noprint)'!PLN8","v":0},{"$f":"'Data diagrams (noprint)'!PLO8","v":0},{"$f":"'Data diagrams (noprint)'!PLP8","v":0},{"$f":"'Data diagrams (noprint)'!PLQ8","v":0},{"$f":"'Data diagrams (noprint)'!PLR8","v":0},{"$f":"'Data diagrams (noprint)'!PLS8","v":0},{"$f":"'Data diagrams (noprint)'!PLT8","v":0},{"$f":"'Data diagrams (noprint)'!PLU8","v":0},{"$f":"'Data diagrams (noprint)'!PLV8","v":0},{"$f":"'Data diagrams (noprint)'!PLW8","v":0},{"$f":"'Data diagrams (noprint)'!PLX8","v":0},{"$f":"'Data diagrams (noprint)'!PLY8","v":0},{"$f":"'Data diagrams (noprint)'!PLZ8","v":0},{"$f":"'Data diagrams (noprint)'!PMA8","v":0},{"$f":"'Data diagrams (noprint)'!PMB8","v":0},{"$f":"'Data diagrams (noprint)'!PMC8","v":0},{"$f":"'Data diagrams (noprint)'!PMD8","v":0},{"$f":"'Data diagrams (noprint)'!PME8","v":0},{"$f":"'Data diagrams (noprint)'!PMF8","v":0},{"$f":"'Data diagrams (noprint)'!PMG8","v":0},{"$f":"'Data diagrams (noprint)'!PMH8","v":0},{"$f":"'Data diagrams (noprint)'!PMI8","v":0},{"$f":"'Data diagrams (noprint)'!PMJ8","v":0},{"$f":"'Data diagrams (noprint)'!PMK8","v":0},{"$f":"'Data diagrams (noprint)'!PML8","v":0},{"$f":"'Data diagrams (noprint)'!PMM8","v":0},{"$f":"'Data diagrams (noprint)'!PMN8","v":0},{"$f":"'Data diagrams (noprint)'!PMO8","v":0},{"$f":"'Data diagrams (noprint)'!PMP8","v":0},{"$f":"'Data diagrams (noprint)'!PMQ8","v":0},{"$f":"'Data diagrams (noprint)'!PMR8","v":0},{"$f":"'Data diagrams (noprint)'!PMS8","v":0},{"$f":"'Data diagrams (noprint)'!PMT8","v":0},{"$f":"'Data diagrams (noprint)'!PMU8","v":0},{"$f":"'Data diagrams (noprint)'!PMV8","v":0},{"$f":"'Data diagrams (noprint)'!PMW8","v":0},{"$f":"'Data diagrams (noprint)'!PMX8","v":0},{"$f":"'Data diagrams (noprint)'!PMY8","v":0},{"$f":"'Data diagrams (noprint)'!PMZ8","v":0},{"$f":"'Data diagrams (noprint)'!PNA8","v":0},{"$f":"'Data diagrams (noprint)'!PNB8","v":0},{"$f":"'Data diagrams (noprint)'!PNC8","v":0},{"$f":"'Data diagrams (noprint)'!PND8","v":0},{"$f":"'Data diagrams (noprint)'!PNE8","v":0},{"$f":"'Data diagrams (noprint)'!PNF8","v":0},{"$f":"'Data diagrams (noprint)'!PNG8","v":0},{"$f":"'Data diagrams (noprint)'!PNH8","v":0},{"$f":"'Data diagrams (noprint)'!PNI8","v":0},{"$f":"'Data diagrams (noprint)'!PNJ8","v":0},{"$f":"'Data diagrams (noprint)'!PNK8","v":0},{"$f":"'Data diagrams (noprint)'!PNL8","v":0},{"$f":"'Data diagrams (noprint)'!PNM8","v":0},{"$f":"'Data diagrams (noprint)'!PNN8","v":0},{"$f":"'Data diagrams (noprint)'!PNO8","v":0},{"$f":"'Data diagrams (noprint)'!PNP8","v":0},{"$f":"'Data diagrams (noprint)'!PNQ8","v":0},{"$f":"'Data diagrams (noprint)'!PNR8","v":0},{"$f":"'Data diagrams (noprint)'!PNS8","v":0},{"$f":"'Data diagrams (noprint)'!PNT8","v":0},{"$f":"'Data diagrams (noprint)'!PNU8","v":0},{"$f":"'Data diagrams (noprint)'!PNV8","v":0},{"$f":"'Data diagrams (noprint)'!PNW8","v":0},{"$f":"'Data diagrams (noprint)'!PNX8","v":0},{"$f":"'Data diagrams (noprint)'!PNY8","v":0},{"$f":"'Data diagrams (noprint)'!PNZ8","v":0},{"$f":"'Data diagrams (noprint)'!POA8","v":0},{"$f":"'Data diagrams (noprint)'!POB8","v":0},{"$f":"'Data diagrams (noprint)'!POC8","v":0},{"$f":"'Data diagrams (noprint)'!POD8","v":0},{"$f":"'Data diagrams (noprint)'!POE8","v":0},{"$f":"'Data diagrams (noprint)'!POF8","v":0},{"$f":"'Data diagrams (noprint)'!POG8","v":0},{"$f":"'Data diagrams (noprint)'!POH8","v":0},{"$f":"'Data diagrams (noprint)'!POI8","v":0},{"$f":"'Data diagrams (noprint)'!POJ8","v":0},{"$f":"'Data diagrams (noprint)'!POK8","v":0},{"$f":"'Data diagrams (noprint)'!POL8","v":0},{"$f":"'Data diagrams (noprint)'!POM8","v":0},{"$f":"'Data diagrams (noprint)'!PON8","v":0},{"$f":"'Data diagrams (noprint)'!POO8","v":0},{"$f":"'Data diagrams (noprint)'!POP8","v":0},{"$f":"'Data diagrams (noprint)'!POQ8","v":0},{"$f":"'Data diagrams (noprint)'!POR8","v":0},{"$f":"'Data diagrams (noprint)'!POS8","v":0},{"$f":"'Data diagrams (noprint)'!POT8","v":0},{"$f":"'Data diagrams (noprint)'!POU8","v":0},{"$f":"'Data diagrams (noprint)'!POV8","v":0},{"$f":"'Data diagrams (noprint)'!POW8","v":0},{"$f":"'Data diagrams (noprint)'!POX8","v":0},{"$f":"'Data diagrams (noprint)'!POY8","v":0},{"$f":"'Data diagrams (noprint)'!POZ8","v":0},{"$f":"'Data diagrams (noprint)'!PPA8","v":0},{"$f":"'Data diagrams (noprint)'!PPB8","v":0},{"$f":"'Data diagrams (noprint)'!PPC8","v":0},{"$f":"'Data diagrams (noprint)'!PPD8","v":0},{"$f":"'Data diagrams (noprint)'!PPE8","v":0},{"$f":"'Data diagrams (noprint)'!PPF8","v":0},{"$f":"'Data diagrams (noprint)'!PPG8","v":0},{"$f":"'Data diagrams (noprint)'!PPH8","v":0},{"$f":"'Data diagrams (noprint)'!PPI8","v":0},{"$f":"'Data diagrams (noprint)'!PPJ8","v":0},{"$f":"'Data diagrams (noprint)'!PPK8","v":0},{"$f":"'Data diagrams (noprint)'!PPL8","v":0},{"$f":"'Data diagrams (noprint)'!PPM8","v":0},{"$f":"'Data diagrams (noprint)'!PPN8","v":0},{"$f":"'Data diagrams (noprint)'!PPO8","v":0},{"$f":"'Data diagrams (noprint)'!PPP8","v":0},{"$f":"'Data diagrams (noprint)'!PPQ8","v":0},{"$f":"'Data diagrams (noprint)'!PPR8","v":0},{"$f":"'Data diagrams (noprint)'!PPS8","v":0},{"$f":"'Data diagrams (noprint)'!PPT8","v":0},{"$f":"'Data diagrams (noprint)'!PPU8","v":0},{"$f":"'Data diagrams (noprint)'!PPV8","v":0},{"$f":"'Data diagrams (noprint)'!PPW8","v":0},{"$f":"'Data diagrams (noprint)'!PPX8","v":0},{"$f":"'Data diagrams (noprint)'!PPY8","v":0},{"$f":"'Data diagrams (noprint)'!PPZ8","v":0},{"$f":"'Data diagrams (noprint)'!PQA8","v":0},{"$f":"'Data diagrams (noprint)'!PQB8","v":0},{"$f":"'Data diagrams (noprint)'!PQC8","v":0},{"$f":"'Data diagrams (noprint)'!PQD8","v":0},{"$f":"'Data diagrams (noprint)'!PQE8","v":0},{"$f":"'Data diagrams (noprint)'!PQF8","v":0},{"$f":"'Data diagrams (noprint)'!PQG8","v":0},{"$f":"'Data diagrams (noprint)'!PQH8","v":0},{"$f":"'Data diagrams (noprint)'!PQI8","v":0},{"$f":"'Data diagrams (noprint)'!PQJ8","v":0},{"$f":"'Data diagrams (noprint)'!PQK8","v":0},{"$f":"'Data diagrams (noprint)'!PQL8","v":0},{"$f":"'Data diagrams (noprint)'!PQM8","v":0},{"$f":"'Data diagrams (noprint)'!PQN8","v":0},{"$f":"'Data diagrams (noprint)'!PQO8","v":0},{"$f":"'Data diagrams (noprint)'!PQP8","v":0},{"$f":"'Data diagrams (noprint)'!PQQ8","v":0},{"$f":"'Data diagrams (noprint)'!PQR8","v":0},{"$f":"'Data diagrams (noprint)'!PQS8","v":0},{"$f":"'Data diagrams (noprint)'!PQT8","v":0},{"$f":"'Data diagrams (noprint)'!PQU8","v":0},{"$f":"'Data diagrams (noprint)'!PQV8","v":0},{"$f":"'Data diagrams (noprint)'!PQW8","v":0},{"$f":"'Data diagrams (noprint)'!PQX8","v":0},{"$f":"'Data diagrams (noprint)'!PQY8","v":0},{"$f":"'Data diagrams (noprint)'!PQZ8","v":0},{"$f":"'Data diagrams (noprint)'!PRA8","v":0},{"$f":"'Data diagrams (noprint)'!PRB8","v":0},{"$f":"'Data diagrams (noprint)'!PRC8","v":0},{"$f":"'Data diagrams (noprint)'!PRD8","v":0},{"$f":"'Data diagrams (noprint)'!PRE8","v":0},{"$f":"'Data diagrams (noprint)'!PRF8","v":0},{"$f":"'Data diagrams (noprint)'!PRG8","v":0},{"$f":"'Data diagrams (noprint)'!PRH8","v":0},{"$f":"'Data diagrams (noprint)'!PRI8","v":0},{"$f":"'Data diagrams (noprint)'!PRJ8","v":0},{"$f":"'Data diagrams (noprint)'!PRK8","v":0},{"$f":"'Data diagrams (noprint)'!PRL8","v":0},{"$f":"'Data diagrams (noprint)'!PRM8","v":0},{"$f":"'Data diagrams (noprint)'!PRN8","v":0},{"$f":"'Data diagrams (noprint)'!PRO8","v":0},{"$f":"'Data diagrams (noprint)'!PRP8","v":0},{"$f":"'Data diagrams (noprint)'!PRQ8","v":0},{"$f":"'Data diagrams (noprint)'!PRR8","v":0},{"$f":"'Data diagrams (noprint)'!PRS8","v":0},{"$f":"'Data diagrams (noprint)'!PRT8","v":0},{"$f":"'Data diagrams (noprint)'!PRU8","v":0},{"$f":"'Data diagrams (noprint)'!PRV8","v":0},{"$f":"'Data diagrams (noprint)'!PRW8","v":0},{"$f":"'Data diagrams (noprint)'!PRX8","v":0},{"$f":"'Data diagrams (noprint)'!PRY8","v":0},{"$f":"'Data diagrams (noprint)'!PRZ8","v":0},{"$f":"'Data diagrams (noprint)'!PSA8","v":0},{"$f":"'Data diagrams (noprint)'!PSB8","v":0},{"$f":"'Data diagrams (noprint)'!PSC8","v":0},{"$f":"'Data diagrams (noprint)'!PSD8","v":0},{"$f":"'Data diagrams (noprint)'!PSE8","v":0},{"$f":"'Data diagrams (noprint)'!PSF8","v":0},{"$f":"'Data diagrams (noprint)'!PSG8","v":0},{"$f":"'Data diagrams (noprint)'!PSH8","v":0},{"$f":"'Data diagrams (noprint)'!PSI8","v":0},{"$f":"'Data diagrams (noprint)'!PSJ8","v":0},{"$f":"'Data diagrams (noprint)'!PSK8","v":0},{"$f":"'Data diagrams (noprint)'!PSL8","v":0},{"$f":"'Data diagrams (noprint)'!PSM8","v":0},{"$f":"'Data diagrams (noprint)'!PSN8","v":0},{"$f":"'Data diagrams (noprint)'!PSO8","v":0},{"$f":"'Data diagrams (noprint)'!PSP8","v":0},{"$f":"'Data diagrams (noprint)'!PSQ8","v":0},{"$f":"'Data diagrams (noprint)'!PSR8","v":0},{"$f":"'Data diagrams (noprint)'!PSS8","v":0},{"$f":"'Data diagrams (noprint)'!PST8","v":0},{"$f":"'Data diagrams (noprint)'!PSU8","v":0},{"$f":"'Data diagrams (noprint)'!PSV8","v":0},{"$f":"'Data diagrams (noprint)'!PSW8","v":0},{"$f":"'Data diagrams (noprint)'!PSX8","v":0},{"$f":"'Data diagrams (noprint)'!PSY8","v":0},{"$f":"'Data diagrams (noprint)'!PSZ8","v":0},{"$f":"'Data diagrams (noprint)'!PTA8","v":0},{"$f":"'Data diagrams (noprint)'!PTB8","v":0},{"$f":"'Data diagrams (noprint)'!PTC8","v":0},{"$f":"'Data diagrams (noprint)'!PTD8","v":0},{"$f":"'Data diagrams (noprint)'!PTE8","v":0},{"$f":"'Data diagrams (noprint)'!PTF8","v":0},{"$f":"'Data diagrams (noprint)'!PTG8","v":0},{"$f":"'Data diagrams (noprint)'!PTH8","v":0},{"$f":"'Data diagrams (noprint)'!PTI8","v":0},{"$f":"'Data diagrams (noprint)'!PTJ8","v":0},{"$f":"'Data diagrams (noprint)'!PTK8","v":0},{"$f":"'Data diagrams (noprint)'!PTL8","v":0},{"$f":"'Data diagrams (noprint)'!PTM8","v":0},{"$f":"'Data diagrams (noprint)'!PTN8","v":0},{"$f":"'Data diagrams (noprint)'!PTO8","v":0},{"$f":"'Data diagrams (noprint)'!PTP8","v":0},{"$f":"'Data diagrams (noprint)'!PTQ8","v":0},{"$f":"'Data diagrams (noprint)'!PTR8","v":0},{"$f":"'Data diagrams (noprint)'!PTS8","v":0},{"$f":"'Data diagrams (noprint)'!PTT8","v":0},{"$f":"'Data diagrams (noprint)'!PTU8","v":0},{"$f":"'Data diagrams (noprint)'!PTV8","v":0},{"$f":"'Data diagrams (noprint)'!PTW8","v":0},{"$f":"'Data diagrams (noprint)'!PTX8","v":0},{"$f":"'Data diagrams (noprint)'!PTY8","v":0},{"$f":"'Data diagrams (noprint)'!PTZ8","v":0},{"$f":"'Data diagrams (noprint)'!PUA8","v":0},{"$f":"'Data diagrams (noprint)'!PUB8","v":0},{"$f":"'Data diagrams (noprint)'!PUC8","v":0},{"$f":"'Data diagrams (noprint)'!PUD8","v":0},{"$f":"'Data diagrams (noprint)'!PUE8","v":0},{"$f":"'Data diagrams (noprint)'!PUF8","v":0},{"$f":"'Data diagrams (noprint)'!PUG8","v":0},{"$f":"'Data diagrams (noprint)'!PUH8","v":0},{"$f":"'Data diagrams (noprint)'!PUI8","v":0},{"$f":"'Data diagrams (noprint)'!PUJ8","v":0},{"$f":"'Data diagrams (noprint)'!PUK8","v":0},{"$f":"'Data diagrams (noprint)'!PUL8","v":0},{"$f":"'Data diagrams (noprint)'!PUM8","v":0},{"$f":"'Data diagrams (noprint)'!PUN8","v":0},{"$f":"'Data diagrams (noprint)'!PUO8","v":0},{"$f":"'Data diagrams (noprint)'!PUP8","v":0},{"$f":"'Data diagrams (noprint)'!PUQ8","v":0},{"$f":"'Data diagrams (noprint)'!PUR8","v":0},{"$f":"'Data diagrams (noprint)'!PUS8","v":0},{"$f":"'Data diagrams (noprint)'!PUT8","v":0},{"$f":"'Data diagrams (noprint)'!PUU8","v":0},{"$f":"'Data diagrams (noprint)'!PUV8","v":0},{"$f":"'Data diagrams (noprint)'!PUW8","v":0},{"$f":"'Data diagrams (noprint)'!PUX8","v":0},{"$f":"'Data diagrams (noprint)'!PUY8","v":0},{"$f":"'Data diagrams (noprint)'!PUZ8","v":0},{"$f":"'Data diagrams (noprint)'!PVA8","v":0},{"$f":"'Data diagrams (noprint)'!PVB8","v":0},{"$f":"'Data diagrams (noprint)'!PVC8","v":0},{"$f":"'Data diagrams (noprint)'!PVD8","v":0},{"$f":"'Data diagrams (noprint)'!PVE8","v":0},{"$f":"'Data diagrams (noprint)'!PVF8","v":0},{"$f":"'Data diagrams (noprint)'!PVG8","v":0},{"$f":"'Data diagrams (noprint)'!PVH8","v":0},{"$f":"'Data diagrams (noprint)'!PVI8","v":0},{"$f":"'Data diagrams (noprint)'!PVJ8","v":0},{"$f":"'Data diagrams (noprint)'!PVK8","v":0},{"$f":"'Data diagrams (noprint)'!PVL8","v":0},{"$f":"'Data diagrams (noprint)'!PVM8","v":0},{"$f":"'Data diagrams (noprint)'!PVN8","v":0},{"$f":"'Data diagrams (noprint)'!PVO8","v":0},{"$f":"'Data diagrams (noprint)'!PVP8","v":0},{"$f":"'Data diagrams (noprint)'!PVQ8","v":0},{"$f":"'Data diagrams (noprint)'!PVR8","v":0},{"$f":"'Data diagrams (noprint)'!PVS8","v":0},{"$f":"'Data diagrams (noprint)'!PVT8","v":0},{"$f":"'Data diagrams (noprint)'!PVU8","v":0},{"$f":"'Data diagrams (noprint)'!PVV8","v":0},{"$f":"'Data diagrams (noprint)'!PVW8","v":0},{"$f":"'Data diagrams (noprint)'!PVX8","v":0},{"$f":"'Data diagrams (noprint)'!PVY8","v":0},{"$f":"'Data diagrams (noprint)'!PVZ8","v":0},{"$f":"'Data diagrams (noprint)'!PWA8","v":0},{"$f":"'Data diagrams (noprint)'!PWB8","v":0},{"$f":"'Data diagrams (noprint)'!PWC8","v":0},{"$f":"'Data diagrams (noprint)'!PWD8","v":0},{"$f":"'Data diagrams (noprint)'!PWE8","v":0},{"$f":"'Data diagrams (noprint)'!PWF8","v":0},{"$f":"'Data diagrams (noprint)'!PWG8","v":0},{"$f":"'Data diagrams (noprint)'!PWH8","v":0},{"$f":"'Data diagrams (noprint)'!PWI8","v":0},{"$f":"'Data diagrams (noprint)'!PWJ8","v":0},{"$f":"'Data diagrams (noprint)'!PWK8","v":0},{"$f":"'Data diagrams (noprint)'!PWL8","v":0},{"$f":"'Data diagrams (noprint)'!PWM8","v":0},{"$f":"'Data diagrams (noprint)'!PWN8","v":0},{"$f":"'Data diagrams (noprint)'!PWO8","v":0},{"$f":"'Data diagrams (noprint)'!PWP8","v":0},{"$f":"'Data diagrams (noprint)'!PWQ8","v":0},{"$f":"'Data diagrams (noprint)'!PWR8","v":0},{"$f":"'Data diagrams (noprint)'!PWS8","v":0},{"$f":"'Data diagrams (noprint)'!PWT8","v":0},{"$f":"'Data diagrams (noprint)'!PWU8","v":0},{"$f":"'Data diagrams (noprint)'!PWV8","v":0},{"$f":"'Data diagrams (noprint)'!PWW8","v":0},{"$f":"'Data diagrams (noprint)'!PWX8","v":0},{"$f":"'Data diagrams (noprint)'!PWY8","v":0},{"$f":"'Data diagrams (noprint)'!PWZ8","v":0},{"$f":"'Data diagrams (noprint)'!PXA8","v":0},{"$f":"'Data diagrams (noprint)'!PXB8","v":0},{"$f":"'Data diagrams (noprint)'!PXC8","v":0},{"$f":"'Data diagrams (noprint)'!PXD8","v":0},{"$f":"'Data diagrams (noprint)'!PXE8","v":0},{"$f":"'Data diagrams (noprint)'!PXF8","v":0},{"$f":"'Data diagrams (noprint)'!PXG8","v":0},{"$f":"'Data diagrams (noprint)'!PXH8","v":0},{"$f":"'Data diagrams (noprint)'!PXI8","v":0},{"$f":"'Data diagrams (noprint)'!PXJ8","v":0},{"$f":"'Data diagrams (noprint)'!PXK8","v":0},{"$f":"'Data diagrams (noprint)'!PXL8","v":0},{"$f":"'Data diagrams (noprint)'!PXM8","v":0},{"$f":"'Data diagrams (noprint)'!PXN8","v":0},{"$f":"'Data diagrams (noprint)'!PXO8","v":0},{"$f":"'Data diagrams (noprint)'!PXP8","v":0},{"$f":"'Data diagrams (noprint)'!PXQ8","v":0},{"$f":"'Data diagrams (noprint)'!PXR8","v":0},{"$f":"'Data diagrams (noprint)'!PXS8","v":0},{"$f":"'Data diagrams (noprint)'!PXT8","v":0},{"$f":"'Data diagrams (noprint)'!PXU8","v":0},{"$f":"'Data diagrams (noprint)'!PXV8","v":0},{"$f":"'Data diagrams (noprint)'!PXW8","v":0},{"$f":"'Data diagrams (noprint)'!PXX8","v":0},{"$f":"'Data diagrams (noprint)'!PXY8","v":0},{"$f":"'Data diagrams (noprint)'!PXZ8","v":0},{"$f":"'Data diagrams (noprint)'!PYA8","v":0},{"$f":"'Data diagrams (noprint)'!PYB8","v":0},{"$f":"'Data diagrams (noprint)'!PYC8","v":0},{"$f":"'Data diagrams (noprint)'!PYD8","v":0},{"$f":"'Data diagrams (noprint)'!PYE8","v":0},{"$f":"'Data diagrams (noprint)'!PYF8","v":0},{"$f":"'Data diagrams (noprint)'!PYG8","v":0},{"$f":"'Data diagrams (noprint)'!PYH8","v":0},{"$f":"'Data diagrams (noprint)'!PYI8","v":0},{"$f":"'Data diagrams (noprint)'!PYJ8","v":0},{"$f":"'Data diagrams (noprint)'!PYK8","v":0},{"$f":"'Data diagrams (noprint)'!PYL8","v":0},{"$f":"'Data diagrams (noprint)'!PYM8","v":0},{"$f":"'Data diagrams (noprint)'!PYN8","v":0},{"$f":"'Data diagrams (noprint)'!PYO8","v":0},{"$f":"'Data diagrams (noprint)'!PYP8","v":0},{"$f":"'Data diagrams (noprint)'!PYQ8","v":0},{"$f":"'Data diagrams (noprint)'!PYR8","v":0},{"$f":"'Data diagrams (noprint)'!PYS8","v":0},{"$f":"'Data diagrams (noprint)'!PYT8","v":0},{"$f":"'Data diagrams (noprint)'!PYU8","v":0},{"$f":"'Data diagrams (noprint)'!PYV8","v":0},{"$f":"'Data diagrams (noprint)'!PYW8","v":0},{"$f":"'Data diagrams (noprint)'!PYX8","v":0},{"$f":"'Data diagrams (noprint)'!PYY8","v":0},{"$f":"'Data diagrams (noprint)'!PYZ8","v":0},{"$f":"'Data diagrams (noprint)'!PZA8","v":0},{"$f":"'Data diagrams (noprint)'!PZB8","v":0},{"$f":"'Data diagrams (noprint)'!PZC8","v":0},{"$f":"'Data diagrams (noprint)'!PZD8","v":0},{"$f":"'Data diagrams (noprint)'!PZE8","v":0},{"$f":"'Data diagrams (noprint)'!PZF8","v":0},{"$f":"'Data diagrams (noprint)'!PZG8","v":0},{"$f":"'Data diagrams (noprint)'!PZH8","v":0},{"$f":"'Data diagrams (noprint)'!PZI8","v":0},{"$f":"'Data diagrams (noprint)'!PZJ8","v":0},{"$f":"'Data diagrams (noprint)'!PZK8","v":0},{"$f":"'Data diagrams (noprint)'!PZL8","v":0},{"$f":"'Data diagrams (noprint)'!PZM8","v":0},{"$f":"'Data diagrams (noprint)'!PZN8","v":0},{"$f":"'Data diagrams (noprint)'!PZO8","v":0},{"$f":"'Data diagrams (noprint)'!PZP8","v":0},{"$f":"'Data diagrams (noprint)'!PZQ8","v":0},{"$f":"'Data diagrams (noprint)'!PZR8","v":0},{"$f":"'Data diagrams (noprint)'!PZS8","v":0},{"$f":"'Data diagrams (noprint)'!PZT8","v":0},{"$f":"'Data diagrams (noprint)'!PZU8","v":0},{"$f":"'Data diagrams (noprint)'!PZV8","v":0},{"$f":"'Data diagrams (noprint)'!PZW8","v":0},{"$f":"'Data diagrams (noprint)'!PZX8","v":0},{"$f":"'Data diagrams (noprint)'!PZY8","v":0},{"$f":"'Data diagrams (noprint)'!PZZ8","v":0},{"$f":"'Data diagrams (noprint)'!QAA8","v":0},{"$f":"'Data diagrams (noprint)'!QAB8","v":0},{"$f":"'Data diagrams (noprint)'!QAC8","v":0},{"$f":"'Data diagrams (noprint)'!QAD8","v":0},{"$f":"'Data diagrams (noprint)'!QAE8","v":0},{"$f":"'Data diagrams (noprint)'!QAF8","v":0},{"$f":"'Data diagrams (noprint)'!QAG8","v":0},{"$f":"'Data diagrams (noprint)'!QAH8","v":0},{"$f":"'Data diagrams (noprint)'!QAI8","v":0},{"$f":"'Data diagrams (noprint)'!QAJ8","v":0},{"$f":"'Data diagrams (noprint)'!QAK8","v":0},{"$f":"'Data diagrams (noprint)'!QAL8","v":0},{"$f":"'Data diagrams (noprint)'!QAM8","v":0},{"$f":"'Data diagrams (noprint)'!QAN8","v":0},{"$f":"'Data diagrams (noprint)'!QAO8","v":0},{"$f":"'Data diagrams (noprint)'!QAP8","v":0},{"$f":"'Data diagrams (noprint)'!QAQ8","v":0},{"$f":"'Data diagrams (noprint)'!QAR8","v":0},{"$f":"'Data diagrams (noprint)'!QAS8","v":0},{"$f":"'Data diagrams (noprint)'!QAT8","v":0},{"$f":"'Data diagrams (noprint)'!QAU8","v":0},{"$f":"'Data diagrams (noprint)'!QAV8","v":0},{"$f":"'Data diagrams (noprint)'!QAW8","v":0},{"$f":"'Data diagrams (noprint)'!QAX8","v":0},{"$f":"'Data diagrams (noprint)'!QAY8","v":0},{"$f":"'Data diagrams (noprint)'!QAZ8","v":0},{"$f":"'Data diagrams (noprint)'!QBA8","v":0},{"$f":"'Data diagrams (noprint)'!QBB8","v":0},{"$f":"'Data diagrams (noprint)'!QBC8","v":0},{"$f":"'Data diagrams (noprint)'!QBD8","v":0},{"$f":"'Data diagrams (noprint)'!QBE8","v":0},{"$f":"'Data diagrams (noprint)'!QBF8","v":0},{"$f":"'Data diagrams (noprint)'!QBG8","v":0},{"$f":"'Data diagrams (noprint)'!QBH8","v":0},{"$f":"'Data diagrams (noprint)'!QBI8","v":0},{"$f":"'Data diagrams (noprint)'!QBJ8","v":0},{"$f":"'Data diagrams (noprint)'!QBK8","v":0},{"$f":"'Data diagrams (noprint)'!QBL8","v":0},{"$f":"'Data diagrams (noprint)'!QBM8","v":0},{"$f":"'Data diagrams (noprint)'!QBN8","v":0},{"$f":"'Data diagrams (noprint)'!QBO8","v":0},{"$f":"'Data diagrams (noprint)'!QBP8","v":0},{"$f":"'Data diagrams (noprint)'!QBQ8","v":0},{"$f":"'Data diagrams (noprint)'!QBR8","v":0},{"$f":"'Data diagrams (noprint)'!QBS8","v":0},{"$f":"'Data diagrams (noprint)'!QBT8","v":0},{"$f":"'Data diagrams (noprint)'!QBU8","v":0},{"$f":"'Data diagrams (noprint)'!QBV8","v":0},{"$f":"'Data diagrams (noprint)'!QBW8","v":0},{"$f":"'Data diagrams (noprint)'!QBX8","v":0},{"$f":"'Data diagrams (noprint)'!QBY8","v":0},{"$f":"'Data diagrams (noprint)'!QBZ8","v":0},{"$f":"'Data diagrams (noprint)'!QCA8","v":0},{"$f":"'Data diagrams (noprint)'!QCB8","v":0},{"$f":"'Data diagrams (noprint)'!QCC8","v":0},{"$f":"'Data diagrams (noprint)'!QCD8","v":0},{"$f":"'Data diagrams (noprint)'!QCE8","v":0},{"$f":"'Data diagrams (noprint)'!QCF8","v":0},{"$f":"'Data diagrams (noprint)'!QCG8","v":0},{"$f":"'Data diagrams (noprint)'!QCH8","v":0},{"$f":"'Data diagrams (noprint)'!QCI8","v":0},{"$f":"'Data diagrams (noprint)'!QCJ8","v":0},{"$f":"'Data diagrams (noprint)'!QCK8","v":0},{"$f":"'Data diagrams (noprint)'!QCL8","v":0},{"$f":"'Data diagrams (noprint)'!QCM8","v":0},{"$f":"'Data diagrams (noprint)'!QCN8","v":0},{"$f":"'Data diagrams (noprint)'!QCO8","v":0},{"$f":"'Data diagrams (noprint)'!QCP8","v":0},{"$f":"'Data diagrams (noprint)'!QCQ8","v":0},{"$f":"'Data diagrams (noprint)'!QCR8","v":0},{"$f":"'Data diagrams (noprint)'!QCS8","v":0},{"$f":"'Data diagrams (noprint)'!QCT8","v":0},{"$f":"'Data diagrams (noprint)'!QCU8","v":0},{"$f":"'Data diagrams (noprint)'!QCV8","v":0},{"$f":"'Data diagrams (noprint)'!QCW8","v":0},{"$f":"'Data diagrams (noprint)'!QCX8","v":0},{"$f":"'Data diagrams (noprint)'!QCY8","v":0},{"$f":"'Data diagrams (noprint)'!QCZ8","v":0},{"$f":"'Data diagrams (noprint)'!QDA8","v":0},{"$f":"'Data diagrams (noprint)'!QDB8","v":0},{"$f":"'Data diagrams (noprint)'!QDC8","v":0},{"$f":"'Data diagrams (noprint)'!QDD8","v":0},{"$f":"'Data diagrams (noprint)'!QDE8","v":0},{"$f":"'Data diagrams (noprint)'!QDF8","v":0},{"$f":"'Data diagrams (noprint)'!QDG8","v":0},{"$f":"'Data diagrams (noprint)'!QDH8","v":0},{"$f":"'Data diagrams (noprint)'!QDI8","v":0},{"$f":"'Data diagrams (noprint)'!QDJ8","v":0},{"$f":"'Data diagrams (noprint)'!QDK8","v":0},{"$f":"'Data diagrams (noprint)'!QDL8","v":0},{"$f":"'Data diagrams (noprint)'!QDM8","v":0},{"$f":"'Data diagrams (noprint)'!QDN8","v":0},{"$f":"'Data diagrams (noprint)'!QDO8","v":0},{"$f":"'Data diagrams (noprint)'!QDP8","v":0},{"$f":"'Data diagrams (noprint)'!QDQ8","v":0},{"$f":"'Data diagrams (noprint)'!QDR8","v":0},{"$f":"'Data diagrams (noprint)'!QDS8","v":0},{"$f":"'Data diagrams (noprint)'!QDT8","v":0},{"$f":"'Data diagrams (noprint)'!QDU8","v":0},{"$f":"'Data diagrams (noprint)'!QDV8","v":0},{"$f":"'Data diagrams (noprint)'!QDW8","v":0},{"$f":"'Data diagrams (noprint)'!QDX8","v":0},{"$f":"'Data diagrams (noprint)'!QDY8","v":0},{"$f":"'Data diagrams (noprint)'!QDZ8","v":0},{"$f":"'Data diagrams (noprint)'!QEA8","v":0},{"$f":"'Data diagrams (noprint)'!QEB8","v":0},{"$f":"'Data diagrams (noprint)'!QEC8","v":0},{"$f":"'Data diagrams (noprint)'!QED8","v":0},{"$f":"'Data diagrams (noprint)'!QEE8","v":0},{"$f":"'Data diagrams (noprint)'!QEF8","v":0},{"$f":"'Data diagrams (noprint)'!QEG8","v":0},{"$f":"'Data diagrams (noprint)'!QEH8","v":0},{"$f":"'Data diagrams (noprint)'!QEI8","v":0},{"$f":"'Data diagrams (noprint)'!QEJ8","v":0},{"$f":"'Data diagrams (noprint)'!QEK8","v":0},{"$f":"'Data diagrams (noprint)'!QEL8","v":0},{"$f":"'Data diagrams (noprint)'!QEM8","v":0},{"$f":"'Data diagrams (noprint)'!QEN8","v":0},{"$f":"'Data diagrams (noprint)'!QEO8","v":0},{"$f":"'Data diagrams (noprint)'!QEP8","v":0},{"$f":"'Data diagrams (noprint)'!QEQ8","v":0},{"$f":"'Data diagrams (noprint)'!QER8","v":0},{"$f":"'Data diagrams (noprint)'!QES8","v":0},{"$f":"'Data diagrams (noprint)'!QET8","v":0},{"$f":"'Data diagrams (noprint)'!QEU8","v":0},{"$f":"'Data diagrams (noprint)'!QEV8","v":0},{"$f":"'Data diagrams (noprint)'!QEW8","v":0},{"$f":"'Data diagrams (noprint)'!QEX8","v":0},{"$f":"'Data diagrams (noprint)'!QEY8","v":0},{"$f":"'Data diagrams (noprint)'!QEZ8","v":0},{"$f":"'Data diagrams (noprint)'!QFA8","v":0},{"$f":"'Data diagrams (noprint)'!QFB8","v":0},{"$f":"'Data diagrams (noprint)'!QFC8","v":0},{"$f":"'Data diagrams (noprint)'!QFD8","v":0},{"$f":"'Data diagrams (noprint)'!QFE8","v":0},{"$f":"'Data diagrams (noprint)'!QFF8","v":0},{"$f":"'Data diagrams (noprint)'!QFG8","v":0},{"$f":"'Data diagrams (noprint)'!QFH8","v":0},{"$f":"'Data diagrams (noprint)'!QFI8","v":0},{"$f":"'Data diagrams (noprint)'!QFJ8","v":0},{"$f":"'Data diagrams (noprint)'!QFK8","v":0},{"$f":"'Data diagrams (noprint)'!QFL8","v":0},{"$f":"'Data diagrams (noprint)'!QFM8","v":0},{"$f":"'Data diagrams (noprint)'!QFN8","v":0},{"$f":"'Data diagrams (noprint)'!QFO8","v":0},{"$f":"'Data diagrams (noprint)'!QFP8","v":0},{"$f":"'Data diagrams (noprint)'!QFQ8","v":0},{"$f":"'Data diagrams (noprint)'!QFR8","v":0},{"$f":"'Data diagrams (noprint)'!QFS8","v":0},{"$f":"'Data diagrams (noprint)'!QFT8","v":0},{"$f":"'Data diagrams (noprint)'!QFU8","v":0},{"$f":"'Data diagrams (noprint)'!QFV8","v":0},{"$f":"'Data diagrams (noprint)'!QFW8","v":0},{"$f":"'Data diagrams (noprint)'!QFX8","v":0},{"$f":"'Data diagrams (noprint)'!QFY8","v":0},{"$f":"'Data diagrams (noprint)'!QFZ8","v":0},{"$f":"'Data diagrams (noprint)'!QGA8","v":0},{"$f":"'Data diagrams (noprint)'!QGB8","v":0},{"$f":"'Data diagrams (noprint)'!QGC8","v":0},{"$f":"'Data diagrams (noprint)'!QGD8","v":0},{"$f":"'Data diagrams (noprint)'!QGE8","v":0},{"$f":"'Data diagrams (noprint)'!QGF8","v":0},{"$f":"'Data diagrams (noprint)'!QGG8","v":0},{"$f":"'Data diagrams (noprint)'!QGH8","v":0},{"$f":"'Data diagrams (noprint)'!QGI8","v":0},{"$f":"'Data diagrams (noprint)'!QGJ8","v":0},{"$f":"'Data diagrams (noprint)'!QGK8","v":0},{"$f":"'Data diagrams (noprint)'!QGL8","v":0},{"$f":"'Data diagrams (noprint)'!QGM8","v":0},{"$f":"'Data diagrams (noprint)'!QGN8","v":0},{"$f":"'Data diagrams (noprint)'!QGO8","v":0},{"$f":"'Data diagrams (noprint)'!QGP8","v":0},{"$f":"'Data diagrams (noprint)'!QGQ8","v":0},{"$f":"'Data diagrams (noprint)'!QGR8","v":0},{"$f":"'Data diagrams (noprint)'!QGS8","v":0},{"$f":"'Data diagrams (noprint)'!QGT8","v":0},{"$f":"'Data diagrams (noprint)'!QGU8","v":0},{"$f":"'Data diagrams (noprint)'!QGV8","v":0},{"$f":"'Data diagrams (noprint)'!QGW8","v":0},{"$f":"'Data diagrams (noprint)'!QGX8","v":0},{"$f":"'Data diagrams (noprint)'!QGY8","v":0},{"$f":"'Data diagrams (noprint)'!QGZ8","v":0},{"$f":"'Data diagrams (noprint)'!QHA8","v":0},{"$f":"'Data diagrams (noprint)'!QHB8","v":0},{"$f":"'Data diagrams (noprint)'!QHC8","v":0},{"$f":"'Data diagrams (noprint)'!QHD8","v":0},{"$f":"'Data diagrams (noprint)'!QHE8","v":0},{"$f":"'Data diagrams (noprint)'!QHF8","v":0},{"$f":"'Data diagrams (noprint)'!QHG8","v":0},{"$f":"'Data diagrams (noprint)'!QHH8","v":0},{"$f":"'Data diagrams (noprint)'!QHI8","v":0},{"$f":"'Data diagrams (noprint)'!QHJ8","v":0},{"$f":"'Data diagrams (noprint)'!QHK8","v":0},{"$f":"'Data diagrams (noprint)'!QHL8","v":0},{"$f":"'Data diagrams (noprint)'!QHM8","v":0},{"$f":"'Data diagrams (noprint)'!QHN8","v":0},{"$f":"'Data diagrams (noprint)'!QHO8","v":0},{"$f":"'Data diagrams (noprint)'!QHP8","v":0},{"$f":"'Data diagrams (noprint)'!QHQ8","v":0},{"$f":"'Data diagrams (noprint)'!QHR8","v":0},{"$f":"'Data diagrams (noprint)'!QHS8","v":0},{"$f":"'Data diagrams (noprint)'!QHT8","v":0},{"$f":"'Data diagrams (noprint)'!QHU8","v":0},{"$f":"'Data diagrams (noprint)'!QHV8","v":0},{"$f":"'Data diagrams (noprint)'!QHW8","v":0},{"$f":"'Data diagrams (noprint)'!QHX8","v":0},{"$f":"'Data diagrams (noprint)'!QHY8","v":0},{"$f":"'Data diagrams (noprint)'!QHZ8","v":0},{"$f":"'Data diagrams (noprint)'!QIA8","v":0},{"$f":"'Data diagrams (noprint)'!QIB8","v":0},{"$f":"'Data diagrams (noprint)'!QIC8","v":0},{"$f":"'Data diagrams (noprint)'!QID8","v":0},{"$f":"'Data diagrams (noprint)'!QIE8","v":0},{"$f":"'Data diagrams (noprint)'!QIF8","v":0},{"$f":"'Data diagrams (noprint)'!QIG8","v":0},{"$f":"'Data diagrams (noprint)'!QIH8","v":0},{"$f":"'Data diagrams (noprint)'!QII8","v":0},{"$f":"'Data diagrams (noprint)'!QIJ8","v":0},{"$f":"'Data diagrams (noprint)'!QIK8","v":0},{"$f":"'Data diagrams (noprint)'!QIL8","v":0},{"$f":"'Data diagrams (noprint)'!QIM8","v":0},{"$f":"'Data diagrams (noprint)'!QIN8","v":0},{"$f":"'Data diagrams (noprint)'!QIO8","v":0},{"$f":"'Data diagrams (noprint)'!QIP8","v":0},{"$f":"'Data diagrams (noprint)'!QIQ8","v":0},{"$f":"'Data diagrams (noprint)'!QIR8","v":0},{"$f":"'Data diagrams (noprint)'!QIS8","v":0},{"$f":"'Data diagrams (noprint)'!QIT8","v":0},{"$f":"'Data diagrams (noprint)'!QIU8","v":0},{"$f":"'Data diagrams (noprint)'!QIV8","v":0},{"$f":"'Data diagrams (noprint)'!QIW8","v":0},{"$f":"'Data diagrams (noprint)'!QIX8","v":0},{"$f":"'Data diagrams (noprint)'!QIY8","v":0},{"$f":"'Data diagrams (noprint)'!QIZ8","v":0},{"$f":"'Data diagrams (noprint)'!QJA8","v":0},{"$f":"'Data diagrams (noprint)'!QJB8","v":0},{"$f":"'Data diagrams (noprint)'!QJC8","v":0},{"$f":"'Data diagrams (noprint)'!QJD8","v":0},{"$f":"'Data diagrams (noprint)'!QJE8","v":0},{"$f":"'Data diagrams (noprint)'!QJF8","v":0},{"$f":"'Data diagrams (noprint)'!QJG8","v":0},{"$f":"'Data diagrams (noprint)'!QJH8","v":0},{"$f":"'Data diagrams (noprint)'!QJI8","v":0},{"$f":"'Data diagrams (noprint)'!QJJ8","v":0},{"$f":"'Data diagrams (noprint)'!QJK8","v":0},{"$f":"'Data diagrams (noprint)'!QJL8","v":0},{"$f":"'Data diagrams (noprint)'!QJM8","v":0},{"$f":"'Data diagrams (noprint)'!QJN8","v":0},{"$f":"'Data diagrams (noprint)'!QJO8","v":0},{"$f":"'Data diagrams (noprint)'!QJP8","v":0},{"$f":"'Data diagrams (noprint)'!QJQ8","v":0},{"$f":"'Data diagrams (noprint)'!QJR8","v":0},{"$f":"'Data diagrams (noprint)'!QJS8","v":0},{"$f":"'Data diagrams (noprint)'!QJT8","v":0},{"$f":"'Data diagrams (noprint)'!QJU8","v":0},{"$f":"'Data diagrams (noprint)'!QJV8","v":0},{"$f":"'Data diagrams (noprint)'!QJW8","v":0},{"$f":"'Data diagrams (noprint)'!QJX8","v":0},{"$f":"'Data diagrams (noprint)'!QJY8","v":0},{"$f":"'Data diagrams (noprint)'!QJZ8","v":0},{"$f":"'Data diagrams (noprint)'!QKA8","v":0},{"$f":"'Data diagrams (noprint)'!QKB8","v":0},{"$f":"'Data diagrams (noprint)'!QKC8","v":0},{"$f":"'Data diagrams (noprint)'!QKD8","v":0},{"$f":"'Data diagrams (noprint)'!QKE8","v":0},{"$f":"'Data diagrams (noprint)'!QKF8","v":0},{"$f":"'Data diagrams (noprint)'!QKG8","v":0},{"$f":"'Data diagrams (noprint)'!QKH8","v":0},{"$f":"'Data diagrams (noprint)'!QKI8","v":0},{"$f":"'Data diagrams (noprint)'!QKJ8","v":0},{"$f":"'Data diagrams (noprint)'!QKK8","v":0},{"$f":"'Data diagrams (noprint)'!QKL8","v":0},{"$f":"'Data diagrams (noprint)'!QKM8","v":0},{"$f":"'Data diagrams (noprint)'!QKN8","v":0},{"$f":"'Data diagrams (noprint)'!QKO8","v":0},{"$f":"'Data diagrams (noprint)'!QKP8","v":0},{"$f":"'Data diagrams (noprint)'!QKQ8","v":0},{"$f":"'Data diagrams (noprint)'!QKR8","v":0},{"$f":"'Data diagrams (noprint)'!QKS8","v":0},{"$f":"'Data diagrams (noprint)'!QKT8","v":0},{"$f":"'Data diagrams (noprint)'!QKU8","v":0},{"$f":"'Data diagrams (noprint)'!QKV8","v":0},{"$f":"'Data diagrams (noprint)'!QKW8","v":0},{"$f":"'Data diagrams (noprint)'!QKX8","v":0},{"$f":"'Data diagrams (noprint)'!QKY8","v":0},{"$f":"'Data diagrams (noprint)'!QKZ8","v":0},{"$f":"'Data diagrams (noprint)'!QLA8","v":0},{"$f":"'Data diagrams (noprint)'!QLB8","v":0},{"$f":"'Data diagrams (noprint)'!QLC8","v":0},{"$f":"'Data diagrams (noprint)'!QLD8","v":0},{"$f":"'Data diagrams (noprint)'!QLE8","v":0},{"$f":"'Data diagrams (noprint)'!QLF8","v":0},{"$f":"'Data diagrams (noprint)'!QLG8","v":0},{"$f":"'Data diagrams (noprint)'!QLH8","v":0},{"$f":"'Data diagrams (noprint)'!QLI8","v":0},{"$f":"'Data diagrams (noprint)'!QLJ8","v":0},{"$f":"'Data diagrams (noprint)'!QLK8","v":0},{"$f":"'Data diagrams (noprint)'!QLL8","v":0},{"$f":"'Data diagrams (noprint)'!QLM8","v":0},{"$f":"'Data diagrams (noprint)'!QLN8","v":0},{"$f":"'Data diagrams (noprint)'!QLO8","v":0},{"$f":"'Data diagrams (noprint)'!QLP8","v":0},{"$f":"'Data diagrams (noprint)'!QLQ8","v":0},{"$f":"'Data diagrams (noprint)'!QLR8","v":0},{"$f":"'Data diagrams (noprint)'!QLS8","v":0},{"$f":"'Data diagrams (noprint)'!QLT8","v":0},{"$f":"'Data diagrams (noprint)'!QLU8","v":0},{"$f":"'Data diagrams (noprint)'!QLV8","v":0},{"$f":"'Data diagrams (noprint)'!QLW8","v":0},{"$f":"'Data diagrams (noprint)'!QLX8","v":0},{"$f":"'Data diagrams (noprint)'!QLY8","v":0},{"$f":"'Data diagrams (noprint)'!QLZ8","v":0},{"$f":"'Data diagrams (noprint)'!QMA8","v":0},{"$f":"'Data diagrams (noprint)'!QMB8","v":0},{"$f":"'Data diagrams (noprint)'!QMC8","v":0},{"$f":"'Data diagrams (noprint)'!QMD8","v":0},{"$f":"'Data diagrams (noprint)'!QME8","v":0},{"$f":"'Data diagrams (noprint)'!QMF8","v":0},{"$f":"'Data diagrams (noprint)'!QMG8","v":0},{"$f":"'Data diagrams (noprint)'!QMH8","v":0},{"$f":"'Data diagrams (noprint)'!QMI8","v":0},{"$f":"'Data diagrams (noprint)'!QMJ8","v":0},{"$f":"'Data diagrams (noprint)'!QMK8","v":0},{"$f":"'Data diagrams (noprint)'!QML8","v":0},{"$f":"'Data diagrams (noprint)'!QMM8","v":0},{"$f":"'Data diagrams (noprint)'!QMN8","v":0},{"$f":"'Data diagrams (noprint)'!QMO8","v":0},{"$f":"'Data diagrams (noprint)'!QMP8","v":0},{"$f":"'Data diagrams (noprint)'!QMQ8","v":0},{"$f":"'Data diagrams (noprint)'!QMR8","v":0},{"$f":"'Data diagrams (noprint)'!QMS8","v":0},{"$f":"'Data diagrams (noprint)'!QMT8","v":0},{"$f":"'Data diagrams (noprint)'!QMU8","v":0},{"$f":"'Data diagrams (noprint)'!QMV8","v":0},{"$f":"'Data diagrams (noprint)'!QMW8","v":0},{"$f":"'Data diagrams (noprint)'!QMX8","v":0},{"$f":"'Data diagrams (noprint)'!QMY8","v":0},{"$f":"'Data diagrams (noprint)'!QMZ8","v":0},{"$f":"'Data diagrams (noprint)'!QNA8","v":0},{"$f":"'Data diagrams (noprint)'!QNB8","v":0},{"$f":"'Data diagrams (noprint)'!QNC8","v":0},{"$f":"'Data diagrams (noprint)'!QND8","v":0},{"$f":"'Data diagrams (noprint)'!QNE8","v":0},{"$f":"'Data diagrams (noprint)'!QNF8","v":0},{"$f":"'Data diagrams (noprint)'!QNG8","v":0},{"$f":"'Data diagrams (noprint)'!QNH8","v":0},{"$f":"'Data diagrams (noprint)'!QNI8","v":0},{"$f":"'Data diagrams (noprint)'!QNJ8","v":0},{"$f":"'Data diagrams (noprint)'!QNK8","v":0},{"$f":"'Data diagrams (noprint)'!QNL8","v":0},{"$f":"'Data diagrams (noprint)'!QNM8","v":0},{"$f":"'Data diagrams (noprint)'!QNN8","v":0},{"$f":"'Data diagrams (noprint)'!QNO8","v":0},{"$f":"'Data diagrams (noprint)'!QNP8","v":0},{"$f":"'Data diagrams (noprint)'!QNQ8","v":0},{"$f":"'Data diagrams (noprint)'!QNR8","v":0},{"$f":"'Data diagrams (noprint)'!QNS8","v":0},{"$f":"'Data diagrams (noprint)'!QNT8","v":0},{"$f":"'Data diagrams (noprint)'!QNU8","v":0},{"$f":"'Data diagrams (noprint)'!QNV8","v":0},{"$f":"'Data diagrams (noprint)'!QNW8","v":0},{"$f":"'Data diagrams (noprint)'!QNX8","v":0},{"$f":"'Data diagrams (noprint)'!QNY8","v":0},{"$f":"'Data diagrams (noprint)'!QNZ8","v":0},{"$f":"'Data diagrams (noprint)'!QOA8","v":0},{"$f":"'Data diagrams (noprint)'!QOB8","v":0},{"$f":"'Data diagrams (noprint)'!QOC8","v":0},{"$f":"'Data diagrams (noprint)'!QOD8","v":0},{"$f":"'Data diagrams (noprint)'!QOE8","v":0},{"$f":"'Data diagrams (noprint)'!QOF8","v":0},{"$f":"'Data diagrams (noprint)'!QOG8","v":0},{"$f":"'Data diagrams (noprint)'!QOH8","v":0},{"$f":"'Data diagrams (noprint)'!QOI8","v":0},{"$f":"'Data diagrams (noprint)'!QOJ8","v":0},{"$f":"'Data diagrams (noprint)'!QOK8","v":0},{"$f":"'Data diagrams (noprint)'!QOL8","v":0},{"$f":"'Data diagrams (noprint)'!QOM8","v":0},{"$f":"'Data diagrams (noprint)'!QON8","v":0},{"$f":"'Data diagrams (noprint)'!QOO8","v":0},{"$f":"'Data diagrams (noprint)'!QOP8","v":0},{"$f":"'Data diagrams (noprint)'!QOQ8","v":0},{"$f":"'Data diagrams (noprint)'!QOR8","v":0},{"$f":"'Data diagrams (noprint)'!QOS8","v":0},{"$f":"'Data diagrams (noprint)'!QOT8","v":0},{"$f":"'Data diagrams (noprint)'!QOU8","v":0},{"$f":"'Data diagrams (noprint)'!QOV8","v":0},{"$f":"'Data diagrams (noprint)'!QOW8","v":0},{"$f":"'Data diagrams (noprint)'!QOX8","v":0},{"$f":"'Data diagrams (noprint)'!QOY8","v":0},{"$f":"'Data diagrams (noprint)'!QOZ8","v":0},{"$f":"'Data diagrams (noprint)'!QPA8","v":0},{"$f":"'Data diagrams (noprint)'!QPB8","v":0},{"$f":"'Data diagrams (noprint)'!QPC8","v":0},{"$f":"'Data diagrams (noprint)'!QPD8","v":0},{"$f":"'Data diagrams (noprint)'!QPE8","v":0},{"$f":"'Data diagrams (noprint)'!QPF8","v":0},{"$f":"'Data diagrams (noprint)'!QPG8","v":0},{"$f":"'Data diagrams (noprint)'!QPH8","v":0},{"$f":"'Data diagrams (noprint)'!QPI8","v":0},{"$f":"'Data diagrams (noprint)'!QPJ8","v":0},{"$f":"'Data diagrams (noprint)'!QPK8","v":0},{"$f":"'Data diagrams (noprint)'!QPL8","v":0},{"$f":"'Data diagrams (noprint)'!QPM8","v":0},{"$f":"'Data diagrams (noprint)'!QPN8","v":0},{"$f":"'Data diagrams (noprint)'!QPO8","v":0},{"$f":"'Data diagrams (noprint)'!QPP8","v":0},{"$f":"'Data diagrams (noprint)'!QPQ8","v":0},{"$f":"'Data diagrams (noprint)'!QPR8","v":0},{"$f":"'Data diagrams (noprint)'!QPS8","v":0},{"$f":"'Data diagrams (noprint)'!QPT8","v":0},{"$f":"'Data diagrams (noprint)'!QPU8","v":0},{"$f":"'Data diagrams (noprint)'!QPV8","v":0},{"$f":"'Data diagrams (noprint)'!QPW8","v":0},{"$f":"'Data diagrams (noprint)'!QPX8","v":0},{"$f":"'Data diagrams (noprint)'!QPY8","v":0},{"$f":"'Data diagrams (noprint)'!QPZ8","v":0},{"$f":"'Data diagrams (noprint)'!QQA8","v":0},{"$f":"'Data diagrams (noprint)'!QQB8","v":0},{"$f":"'Data diagrams (noprint)'!QQC8","v":0},{"$f":"'Data diagrams (noprint)'!QQD8","v":0},{"$f":"'Data diagrams (noprint)'!QQE8","v":0},{"$f":"'Data diagrams (noprint)'!QQF8","v":0},{"$f":"'Data diagrams (noprint)'!QQG8","v":0},{"$f":"'Data diagrams (noprint)'!QQH8","v":0},{"$f":"'Data diagrams (noprint)'!QQI8","v":0},{"$f":"'Data diagrams (noprint)'!QQJ8","v":0},{"$f":"'Data diagrams (noprint)'!QQK8","v":0},{"$f":"'Data diagrams (noprint)'!QQL8","v":0},{"$f":"'Data diagrams (noprint)'!QQM8","v":0},{"$f":"'Data diagrams (noprint)'!QQN8","v":0},{"$f":"'Data diagrams (noprint)'!QQO8","v":0},{"$f":"'Data diagrams (noprint)'!QQP8","v":0},{"$f":"'Data diagrams (noprint)'!QQQ8","v":0},{"$f":"'Data diagrams (noprint)'!QQR8","v":0},{"$f":"'Data diagrams (noprint)'!QQS8","v":0},{"$f":"'Data diagrams (noprint)'!QQT8","v":0},{"$f":"'Data diagrams (noprint)'!QQU8","v":0},{"$f":"'Data diagrams (noprint)'!QQV8","v":0},{"$f":"'Data diagrams (noprint)'!QQW8","v":0},{"$f":"'Data diagrams (noprint)'!QQX8","v":0},{"$f":"'Data diagrams (noprint)'!QQY8","v":0},{"$f":"'Data diagrams (noprint)'!QQZ8","v":0},{"$f":"'Data diagrams (noprint)'!QRA8","v":0},{"$f":"'Data diagrams (noprint)'!QRB8","v":0},{"$f":"'Data diagrams (noprint)'!QRC8","v":0},{"$f":"'Data diagrams (noprint)'!QRD8","v":0},{"$f":"'Data diagrams (noprint)'!QRE8","v":0},{"$f":"'Data diagrams (noprint)'!QRF8","v":0},{"$f":"'Data diagrams (noprint)'!QRG8","v":0},{"$f":"'Data diagrams (noprint)'!QRH8","v":0},{"$f":"'Data diagrams (noprint)'!QRI8","v":0},{"$f":"'Data diagrams (noprint)'!QRJ8","v":0},{"$f":"'Data diagrams (noprint)'!QRK8","v":0},{"$f":"'Data diagrams (noprint)'!QRL8","v":0},{"$f":"'Data diagrams (noprint)'!QRM8","v":0},{"$f":"'Data diagrams (noprint)'!QRN8","v":0},{"$f":"'Data diagrams (noprint)'!QRO8","v":0},{"$f":"'Data diagrams (noprint)'!QRP8","v":0},{"$f":"'Data diagrams (noprint)'!QRQ8","v":0},{"$f":"'Data diagrams (noprint)'!QRR8","v":0},{"$f":"'Data diagrams (noprint)'!QRS8","v":0},{"$f":"'Data diagrams (noprint)'!QRT8","v":0},{"$f":"'Data diagrams (noprint)'!QRU8","v":0},{"$f":"'Data diagrams (noprint)'!QRV8","v":0},{"$f":"'Data diagrams (noprint)'!QRW8","v":0},{"$f":"'Data diagrams (noprint)'!QRX8","v":0},{"$f":"'Data diagrams (noprint)'!QRY8","v":0},{"$f":"'Data diagrams (noprint)'!QRZ8","v":0},{"$f":"'Data diagrams (noprint)'!QSA8","v":0},{"$f":"'Data diagrams (noprint)'!QSB8","v":0},{"$f":"'Data diagrams (noprint)'!QSC8","v":0},{"$f":"'Data diagrams (noprint)'!QSD8","v":0},{"$f":"'Data diagrams (noprint)'!QSE8","v":0},{"$f":"'Data diagrams (noprint)'!QSF8","v":0},{"$f":"'Data diagrams (noprint)'!QSG8","v":0},{"$f":"'Data diagrams (noprint)'!QSH8","v":0},{"$f":"'Data diagrams (noprint)'!QSI8","v":0},{"$f":"'Data diagrams (noprint)'!QSJ8","v":0},{"$f":"'Data diagrams (noprint)'!QSK8","v":0},{"$f":"'Data diagrams (noprint)'!QSL8","v":0},{"$f":"'Data diagrams (noprint)'!QSM8","v":0},{"$f":"'Data diagrams (noprint)'!QSN8","v":0},{"$f":"'Data diagrams (noprint)'!QSO8","v":0},{"$f":"'Data diagrams (noprint)'!QSP8","v":0},{"$f":"'Data diagrams (noprint)'!QSQ8","v":0},{"$f":"'Data diagrams (noprint)'!QSR8","v":0},{"$f":"'Data diagrams (noprint)'!QSS8","v":0},{"$f":"'Data diagrams (noprint)'!QST8","v":0},{"$f":"'Data diagrams (noprint)'!QSU8","v":0},{"$f":"'Data diagrams (noprint)'!QSV8","v":0},{"$f":"'Data diagrams (noprint)'!QSW8","v":0},{"$f":"'Data diagrams (noprint)'!QSX8","v":0},{"$f":"'Data diagrams (noprint)'!QSY8","v":0},{"$f":"'Data diagrams (noprint)'!QSZ8","v":0},{"$f":"'Data diagrams (noprint)'!QTA8","v":0},{"$f":"'Data diagrams (noprint)'!QTB8","v":0},{"$f":"'Data diagrams (noprint)'!QTC8","v":0},{"$f":"'Data diagrams (noprint)'!QTD8","v":0},{"$f":"'Data diagrams (noprint)'!QTE8","v":0},{"$f":"'Data diagrams (noprint)'!QTF8","v":0},{"$f":"'Data diagrams (noprint)'!QTG8","v":0},{"$f":"'Data diagrams (noprint)'!QTH8","v":0},{"$f":"'Data diagrams (noprint)'!QTI8","v":0},{"$f":"'Data diagrams (noprint)'!QTJ8","v":0},{"$f":"'Data diagrams (noprint)'!QTK8","v":0},{"$f":"'Data diagrams (noprint)'!QTL8","v":0},{"$f":"'Data diagrams (noprint)'!QTM8","v":0},{"$f":"'Data diagrams (noprint)'!QTN8","v":0},{"$f":"'Data diagrams (noprint)'!QTO8","v":0},{"$f":"'Data diagrams (noprint)'!QTP8","v":0},{"$f":"'Data diagrams (noprint)'!QTQ8","v":0},{"$f":"'Data diagrams (noprint)'!QTR8","v":0},{"$f":"'Data diagrams (noprint)'!QTS8","v":0},{"$f":"'Data diagrams (noprint)'!QTT8","v":0},{"$f":"'Data diagrams (noprint)'!QTU8","v":0},{"$f":"'Data diagrams (noprint)'!QTV8","v":0},{"$f":"'Data diagrams (noprint)'!QTW8","v":0},{"$f":"'Data diagrams (noprint)'!QTX8","v":0},{"$f":"'Data diagrams (noprint)'!QTY8","v":0},{"$f":"'Data diagrams (noprint)'!QTZ8","v":0},{"$f":"'Data diagrams (noprint)'!QUA8","v":0},{"$f":"'Data diagrams (noprint)'!QUB8","v":0},{"$f":"'Data diagrams (noprint)'!QUC8","v":0},{"$f":"'Data diagrams (noprint)'!QUD8","v":0},{"$f":"'Data diagrams (noprint)'!QUE8","v":0},{"$f":"'Data diagrams (noprint)'!QUF8","v":0},{"$f":"'Data diagrams (noprint)'!QUG8","v":0},{"$f":"'Data diagrams (noprint)'!QUH8","v":0},{"$f":"'Data diagrams (noprint)'!QUI8","v":0},{"$f":"'Data diagrams (noprint)'!QUJ8","v":0},{"$f":"'Data diagrams (noprint)'!QUK8","v":0},{"$f":"'Data diagrams (noprint)'!QUL8","v":0},{"$f":"'Data diagrams (noprint)'!QUM8","v":0},{"$f":"'Data diagrams (noprint)'!QUN8","v":0},{"$f":"'Data diagrams (noprint)'!QUO8","v":0},{"$f":"'Data diagrams (noprint)'!QUP8","v":0},{"$f":"'Data diagrams (noprint)'!QUQ8","v":0},{"$f":"'Data diagrams (noprint)'!QUR8","v":0},{"$f":"'Data diagrams (noprint)'!QUS8","v":0},{"$f":"'Data diagrams (noprint)'!QUT8","v":0},{"$f":"'Data diagrams (noprint)'!QUU8","v":0},{"$f":"'Data diagrams (noprint)'!QUV8","v":0},{"$f":"'Data diagrams (noprint)'!QUW8","v":0},{"$f":"'Data diagrams (noprint)'!QUX8","v":0},{"$f":"'Data diagrams (noprint)'!QUY8","v":0},{"$f":"'Data diagrams (noprint)'!QUZ8","v":0},{"$f":"'Data diagrams (noprint)'!QVA8","v":0},{"$f":"'Data diagrams (noprint)'!QVB8","v":0},{"$f":"'Data diagrams (noprint)'!QVC8","v":0},{"$f":"'Data diagrams (noprint)'!QVD8","v":0},{"$f":"'Data diagrams (noprint)'!QVE8","v":0},{"$f":"'Data diagrams (noprint)'!QVF8","v":0},{"$f":"'Data diagrams (noprint)'!QVG8","v":0},{"$f":"'Data diagrams (noprint)'!QVH8","v":0},{"$f":"'Data diagrams (noprint)'!QVI8","v":0},{"$f":"'Data diagrams (noprint)'!QVJ8","v":0},{"$f":"'Data diagrams (noprint)'!QVK8","v":0},{"$f":"'Data diagrams (noprint)'!QVL8","v":0},{"$f":"'Data diagrams (noprint)'!QVM8","v":0},{"$f":"'Data diagrams (noprint)'!QVN8","v":0},{"$f":"'Data diagrams (noprint)'!QVO8","v":0},{"$f":"'Data diagrams (noprint)'!QVP8","v":0},{"$f":"'Data diagrams (noprint)'!QVQ8","v":0},{"$f":"'Data diagrams (noprint)'!QVR8","v":0},{"$f":"'Data diagrams (noprint)'!QVS8","v":0},{"$f":"'Data diagrams (noprint)'!QVT8","v":0},{"$f":"'Data diagrams (noprint)'!QVU8","v":0},{"$f":"'Data diagrams (noprint)'!QVV8","v":0},{"$f":"'Data diagrams (noprint)'!QVW8","v":0},{"$f":"'Data diagrams (noprint)'!QVX8","v":0},{"$f":"'Data diagrams (noprint)'!QVY8","v":0},{"$f":"'Data diagrams (noprint)'!QVZ8","v":0},{"$f":"'Data diagrams (noprint)'!QWA8","v":0},{"$f":"'Data diagrams (noprint)'!QWB8","v":0},{"$f":"'Data diagrams (noprint)'!QWC8","v":0},{"$f":"'Data diagrams (noprint)'!QWD8","v":0},{"$f":"'Data diagrams (noprint)'!QWE8","v":0},{"$f":"'Data diagrams (noprint)'!QWF8","v":0},{"$f":"'Data diagrams (noprint)'!QWG8","v":0},{"$f":"'Data diagrams (noprint)'!QWH8","v":0},{"$f":"'Data diagrams (noprint)'!QWI8","v":0},{"$f":"'Data diagrams (noprint)'!QWJ8","v":0},{"$f":"'Data diagrams (noprint)'!QWK8","v":0},{"$f":"'Data diagrams (noprint)'!QWL8","v":0},{"$f":"'Data diagrams (noprint)'!QWM8","v":0},{"$f":"'Data diagrams (noprint)'!QWN8","v":0},{"$f":"'Data diagrams (noprint)'!QWO8","v":0},{"$f":"'Data diagrams (noprint)'!QWP8","v":0},{"$f":"'Data diagrams (noprint)'!QWQ8","v":0},{"$f":"'Data diagrams (noprint)'!QWR8","v":0},{"$f":"'Data diagrams (noprint)'!QWS8","v":0},{"$f":"'Data diagrams (noprint)'!QWT8","v":0},{"$f":"'Data diagrams (noprint)'!QWU8","v":0},{"$f":"'Data diagrams (noprint)'!QWV8","v":0},{"$f":"'Data diagrams (noprint)'!QWW8","v":0},{"$f":"'Data diagrams (noprint)'!QWX8","v":0},{"$f":"'Data diagrams (noprint)'!QWY8","v":0},{"$f":"'Data diagrams (noprint)'!QWZ8","v":0},{"$f":"'Data diagrams (noprint)'!QXA8","v":0},{"$f":"'Data diagrams (noprint)'!QXB8","v":0},{"$f":"'Data diagrams (noprint)'!QXC8","v":0},{"$f":"'Data diagrams (noprint)'!QXD8","v":0},{"$f":"'Data diagrams (noprint)'!QXE8","v":0},{"$f":"'Data diagrams (noprint)'!QXF8","v":0},{"$f":"'Data diagrams (noprint)'!QXG8","v":0},{"$f":"'Data diagrams (noprint)'!QXH8","v":0},{"$f":"'Data diagrams (noprint)'!QXI8","v":0},{"$f":"'Data diagrams (noprint)'!QXJ8","v":0},{"$f":"'Data diagrams (noprint)'!QXK8","v":0},{"$f":"'Data diagrams (noprint)'!QXL8","v":0},{"$f":"'Data diagrams (noprint)'!QXM8","v":0},{"$f":"'Data diagrams (noprint)'!QXN8","v":0},{"$f":"'Data diagrams (noprint)'!QXO8","v":0},{"$f":"'Data diagrams (noprint)'!QXP8","v":0},{"$f":"'Data diagrams (noprint)'!QXQ8","v":0},{"$f":"'Data diagrams (noprint)'!QXR8","v":0},{"$f":"'Data diagrams (noprint)'!QXS8","v":0},{"$f":"'Data diagrams (noprint)'!QXT8","v":0},{"$f":"'Data diagrams (noprint)'!QXU8","v":0},{"$f":"'Data diagrams (noprint)'!QXV8","v":0},{"$f":"'Data diagrams (noprint)'!QXW8","v":0},{"$f":"'Data diagrams (noprint)'!QXX8","v":0},{"$f":"'Data diagrams (noprint)'!QXY8","v":0},{"$f":"'Data diagrams (noprint)'!QXZ8","v":0},{"$f":"'Data diagrams (noprint)'!QYA8","v":0},{"$f":"'Data diagrams (noprint)'!QYB8","v":0},{"$f":"'Data diagrams (noprint)'!QYC8","v":0},{"$f":"'Data diagrams (noprint)'!QYD8","v":0},{"$f":"'Data diagrams (noprint)'!QYE8","v":0},{"$f":"'Data diagrams (noprint)'!QYF8","v":0},{"$f":"'Data diagrams (noprint)'!QYG8","v":0},{"$f":"'Data diagrams (noprint)'!QYH8","v":0},{"$f":"'Data diagrams (noprint)'!QYI8","v":0},{"$f":"'Data diagrams (noprint)'!QYJ8","v":0},{"$f":"'Data diagrams (noprint)'!QYK8","v":0},{"$f":"'Data diagrams (noprint)'!QYL8","v":0},{"$f":"'Data diagrams (noprint)'!QYM8","v":0},{"$f":"'Data diagrams (noprint)'!QYN8","v":0},{"$f":"'Data diagrams (noprint)'!QYO8","v":0},{"$f":"'Data diagrams (noprint)'!QYP8","v":0},{"$f":"'Data diagrams (noprint)'!QYQ8","v":0},{"$f":"'Data diagrams (noprint)'!QYR8","v":0},{"$f":"'Data diagrams (noprint)'!QYS8","v":0},{"$f":"'Data diagrams (noprint)'!QYT8","v":0},{"$f":"'Data diagrams (noprint)'!QYU8","v":0},{"$f":"'Data diagrams (noprint)'!QYV8","v":0},{"$f":"'Data diagrams (noprint)'!QYW8","v":0},{"$f":"'Data diagrams (noprint)'!QYX8","v":0},{"$f":"'Data diagrams (noprint)'!QYY8","v":0},{"$f":"'Data diagrams (noprint)'!QYZ8","v":0},{"$f":"'Data diagrams (noprint)'!QZA8","v":0},{"$f":"'Data diagrams (noprint)'!QZB8","v":0},{"$f":"'Data diagrams (noprint)'!QZC8","v":0},{"$f":"'Data diagrams (noprint)'!QZD8","v":0},{"$f":"'Data diagrams (noprint)'!QZE8","v":0},{"$f":"'Data diagrams (noprint)'!QZF8","v":0},{"$f":"'Data diagrams (noprint)'!QZG8","v":0},{"$f":"'Data diagrams (noprint)'!QZH8","v":0},{"$f":"'Data diagrams (noprint)'!QZI8","v":0},{"$f":"'Data diagrams (noprint)'!QZJ8","v":0},{"$f":"'Data diagrams (noprint)'!QZK8","v":0},{"$f":"'Data diagrams (noprint)'!QZL8","v":0},{"$f":"'Data diagrams (noprint)'!QZM8","v":0},{"$f":"'Data diagrams (noprint)'!QZN8","v":0},{"$f":"'Data diagrams (noprint)'!QZO8","v":0},{"$f":"'Data diagrams (noprint)'!QZP8","v":0},{"$f":"'Data diagrams (noprint)'!QZQ8","v":0},{"$f":"'Data diagrams (noprint)'!QZR8","v":0},{"$f":"'Data diagrams (noprint)'!QZS8","v":0},{"$f":"'Data diagrams (noprint)'!QZT8","v":0},{"$f":"'Data diagrams (noprint)'!QZU8","v":0},{"$f":"'Data diagrams (noprint)'!QZV8","v":0},{"$f":"'Data diagrams (noprint)'!QZW8","v":0},{"$f":"'Data diagrams (noprint)'!QZX8","v":0},{"$f":"'Data diagrams (noprint)'!QZY8","v":0},{"$f":"'Data diagrams (noprint)'!QZZ8","v":0},{"$f":"'Data diagrams (noprint)'!RAA8","v":0},{"$f":"'Data diagrams (noprint)'!RAB8","v":0},{"$f":"'Data diagrams (noprint)'!RAC8","v":0},{"$f":"'Data diagrams (noprint)'!RAD8","v":0},{"$f":"'Data diagrams (noprint)'!RAE8","v":0},{"$f":"'Data diagrams (noprint)'!RAF8","v":0},{"$f":"'Data diagrams (noprint)'!RAG8","v":0},{"$f":"'Data diagrams (noprint)'!RAH8","v":0},{"$f":"'Data diagrams (noprint)'!RAI8","v":0},{"$f":"'Data diagrams (noprint)'!RAJ8","v":0},{"$f":"'Data diagrams (noprint)'!RAK8","v":0},{"$f":"'Data diagrams (noprint)'!RAL8","v":0},{"$f":"'Data diagrams (noprint)'!RAM8","v":0},{"$f":"'Data diagrams (noprint)'!RAN8","v":0},{"$f":"'Data diagrams (noprint)'!RAO8","v":0},{"$f":"'Data diagrams (noprint)'!RAP8","v":0},{"$f":"'Data diagrams (noprint)'!RAQ8","v":0},{"$f":"'Data diagrams (noprint)'!RAR8","v":0},{"$f":"'Data diagrams (noprint)'!RAS8","v":0},{"$f":"'Data diagrams (noprint)'!RAT8","v":0},{"$f":"'Data diagrams (noprint)'!RAU8","v":0},{"$f":"'Data diagrams (noprint)'!RAV8","v":0},{"$f":"'Data diagrams (noprint)'!RAW8","v":0},{"$f":"'Data diagrams (noprint)'!RAX8","v":0},{"$f":"'Data diagrams (noprint)'!RAY8","v":0},{"$f":"'Data diagrams (noprint)'!RAZ8","v":0},{"$f":"'Data diagrams (noprint)'!RBA8","v":0},{"$f":"'Data diagrams (noprint)'!RBB8","v":0},{"$f":"'Data diagrams (noprint)'!RBC8","v":0},{"$f":"'Data diagrams (noprint)'!RBD8","v":0},{"$f":"'Data diagrams (noprint)'!RBE8","v":0},{"$f":"'Data diagrams (noprint)'!RBF8","v":0},{"$f":"'Data diagrams (noprint)'!RBG8","v":0},{"$f":"'Data diagrams (noprint)'!RBH8","v":0},{"$f":"'Data diagrams (noprint)'!RBI8","v":0},{"$f":"'Data diagrams (noprint)'!RBJ8","v":0},{"$f":"'Data diagrams (noprint)'!RBK8","v":0},{"$f":"'Data diagrams (noprint)'!RBL8","v":0},{"$f":"'Data diagrams (noprint)'!RBM8","v":0},{"$f":"'Data diagrams (noprint)'!RBN8","v":0},{"$f":"'Data diagrams (noprint)'!RBO8","v":0},{"$f":"'Data diagrams (noprint)'!RBP8","v":0},{"$f":"'Data diagrams (noprint)'!RBQ8","v":0},{"$f":"'Data diagrams (noprint)'!RBR8","v":0},{"$f":"'Data diagrams (noprint)'!RBS8","v":0},{"$f":"'Data diagrams (noprint)'!RBT8","v":0},{"$f":"'Data diagrams (noprint)'!RBU8","v":0},{"$f":"'Data diagrams (noprint)'!RBV8","v":0},{"$f":"'Data diagrams (noprint)'!RBW8","v":0},{"$f":"'Data diagrams (noprint)'!RBX8","v":0},{"$f":"'Data diagrams (noprint)'!RBY8","v":0},{"$f":"'Data diagrams (noprint)'!RBZ8","v":0},{"$f":"'Data diagrams (noprint)'!RCA8","v":0},{"$f":"'Data diagrams (noprint)'!RCB8","v":0},{"$f":"'Data diagrams (noprint)'!RCC8","v":0},{"$f":"'Data diagrams (noprint)'!RCD8","v":0},{"$f":"'Data diagrams (noprint)'!RCE8","v":0},{"$f":"'Data diagrams (noprint)'!RCF8","v":0},{"$f":"'Data diagrams (noprint)'!RCG8","v":0},{"$f":"'Data diagrams (noprint)'!RCH8","v":0},{"$f":"'Data diagrams (noprint)'!RCI8","v":0},{"$f":"'Data diagrams (noprint)'!RCJ8","v":0},{"$f":"'Data diagrams (noprint)'!RCK8","v":0},{"$f":"'Data diagrams (noprint)'!RCL8","v":0},{"$f":"'Data diagrams (noprint)'!RCM8","v":0},{"$f":"'Data diagrams (noprint)'!RCN8","v":0},{"$f":"'Data diagrams (noprint)'!RCO8","v":0},{"$f":"'Data diagrams (noprint)'!RCP8","v":0},{"$f":"'Data diagrams (noprint)'!RCQ8","v":0},{"$f":"'Data diagrams (noprint)'!RCR8","v":0},{"$f":"'Data diagrams (noprint)'!RCS8","v":0},{"$f":"'Data diagrams (noprint)'!RCT8","v":0},{"$f":"'Data diagrams (noprint)'!RCU8","v":0},{"$f":"'Data diagrams (noprint)'!RCV8","v":0},{"$f":"'Data diagrams (noprint)'!RCW8","v":0},{"$f":"'Data diagrams (noprint)'!RCX8","v":0},{"$f":"'Data diagrams (noprint)'!RCY8","v":0},{"$f":"'Data diagrams (noprint)'!RCZ8","v":0},{"$f":"'Data diagrams (noprint)'!RDA8","v":0},{"$f":"'Data diagrams (noprint)'!RDB8","v":0},{"$f":"'Data diagrams (noprint)'!RDC8","v":0},{"$f":"'Data diagrams (noprint)'!RDD8","v":0},{"$f":"'Data diagrams (noprint)'!RDE8","v":0},{"$f":"'Data diagrams (noprint)'!RDF8","v":0},{"$f":"'Data diagrams (noprint)'!RDG8","v":0},{"$f":"'Data diagrams (noprint)'!RDH8","v":0},{"$f":"'Data diagrams (noprint)'!RDI8","v":0},{"$f":"'Data diagrams (noprint)'!RDJ8","v":0},{"$f":"'Data diagrams (noprint)'!RDK8","v":0},{"$f":"'Data diagrams (noprint)'!RDL8","v":0},{"$f":"'Data diagrams (noprint)'!RDM8","v":0},{"$f":"'Data diagrams (noprint)'!RDN8","v":0},{"$f":"'Data diagrams (noprint)'!RDO8","v":0},{"$f":"'Data diagrams (noprint)'!RDP8","v":0},{"$f":"'Data diagrams (noprint)'!RDQ8","v":0},{"$f":"'Data diagrams (noprint)'!RDR8","v":0},{"$f":"'Data diagrams (noprint)'!RDS8","v":0},{"$f":"'Data diagrams (noprint)'!RDT8","v":0},{"$f":"'Data diagrams (noprint)'!RDU8","v":0},{"$f":"'Data diagrams (noprint)'!RDV8","v":0},{"$f":"'Data diagrams (noprint)'!RDW8","v":0},{"$f":"'Data diagrams (noprint)'!RDX8","v":0},{"$f":"'Data diagrams (noprint)'!RDY8","v":0},{"$f":"'Data diagrams (noprint)'!RDZ8","v":0},{"$f":"'Data diagrams (noprint)'!REA8","v":0},{"$f":"'Data diagrams (noprint)'!REB8","v":0},{"$f":"'Data diagrams (noprint)'!REC8","v":0},{"$f":"'Data diagrams (noprint)'!RED8","v":0},{"$f":"'Data diagrams (noprint)'!REE8","v":0},{"$f":"'Data diagrams (noprint)'!REF8","v":0},{"$f":"'Data diagrams (noprint)'!REG8","v":0},{"$f":"'Data diagrams (noprint)'!REH8","v":0},{"$f":"'Data diagrams (noprint)'!REI8","v":0},{"$f":"'Data diagrams (noprint)'!REJ8","v":0},{"$f":"'Data diagrams (noprint)'!REK8","v":0},{"$f":"'Data diagrams (noprint)'!REL8","v":0},{"$f":"'Data diagrams (noprint)'!REM8","v":0},{"$f":"'Data diagrams (noprint)'!REN8","v":0},{"$f":"'Data diagrams (noprint)'!REO8","v":0},{"$f":"'Data diagrams (noprint)'!REP8","v":0},{"$f":"'Data diagrams (noprint)'!REQ8","v":0},{"$f":"'Data diagrams (noprint)'!RER8","v":0},{"$f":"'Data diagrams (noprint)'!RES8","v":0},{"$f":"'Data diagrams (noprint)'!RET8","v":0},{"$f":"'Data diagrams (noprint)'!REU8","v":0},{"$f":"'Data diagrams (noprint)'!REV8","v":0},{"$f":"'Data diagrams (noprint)'!REW8","v":0},{"$f":"'Data diagrams (noprint)'!REX8","v":0},{"$f":"'Data diagrams (noprint)'!REY8","v":0},{"$f":"'Data diagrams (noprint)'!REZ8","v":0},{"$f":"'Data diagrams (noprint)'!RFA8","v":0},{"$f":"'Data diagrams (noprint)'!RFB8","v":0},{"$f":"'Data diagrams (noprint)'!RFC8","v":0},{"$f":"'Data diagrams (noprint)'!RFD8","v":0},{"$f":"'Data diagrams (noprint)'!RFE8","v":0},{"$f":"'Data diagrams (noprint)'!RFF8","v":0},{"$f":"'Data diagrams (noprint)'!RFG8","v":0},{"$f":"'Data diagrams (noprint)'!RFH8","v":0},{"$f":"'Data diagrams (noprint)'!RFI8","v":0},{"$f":"'Data diagrams (noprint)'!RFJ8","v":0},{"$f":"'Data diagrams (noprint)'!RFK8","v":0},{"$f":"'Data diagrams (noprint)'!RFL8","v":0},{"$f":"'Data diagrams (noprint)'!RFM8","v":0},{"$f":"'Data diagrams (noprint)'!RFN8","v":0},{"$f":"'Data diagrams (noprint)'!RFO8","v":0},{"$f":"'Data diagrams (noprint)'!RFP8","v":0},{"$f":"'Data diagrams (noprint)'!RFQ8","v":0},{"$f":"'Data diagrams (noprint)'!RFR8","v":0},{"$f":"'Data diagrams (noprint)'!RFS8","v":0},{"$f":"'Data diagrams (noprint)'!RFT8","v":0},{"$f":"'Data diagrams (noprint)'!RFU8","v":0},{"$f":"'Data diagrams (noprint)'!RFV8","v":0},{"$f":"'Data diagrams (noprint)'!RFW8","v":0},{"$f":"'Data diagrams (noprint)'!RFX8","v":0},{"$f":"'Data diagrams (noprint)'!RFY8","v":0},{"$f":"'Data diagrams (noprint)'!RFZ8","v":0},{"$f":"'Data diagrams (noprint)'!RGA8","v":0},{"$f":"'Data diagrams (noprint)'!RGB8","v":0},{"$f":"'Data diagrams (noprint)'!RGC8","v":0},{"$f":"'Data diagrams (noprint)'!RGD8","v":0},{"$f":"'Data diagrams (noprint)'!RGE8","v":0},{"$f":"'Data diagrams (noprint)'!RGF8","v":0},{"$f":"'Data diagrams (noprint)'!RGG8","v":0},{"$f":"'Data diagrams (noprint)'!RGH8","v":0},{"$f":"'Data diagrams (noprint)'!RGI8","v":0},{"$f":"'Data diagrams (noprint)'!RGJ8","v":0},{"$f":"'Data diagrams (noprint)'!RGK8","v":0},{"$f":"'Data diagrams (noprint)'!RGL8","v":0},{"$f":"'Data diagrams (noprint)'!RGM8","v":0},{"$f":"'Data diagrams (noprint)'!RGN8","v":0},{"$f":"'Data diagrams (noprint)'!RGO8","v":0},{"$f":"'Data diagrams (noprint)'!RGP8","v":0},{"$f":"'Data diagrams (noprint)'!RGQ8","v":0},{"$f":"'Data diagrams (noprint)'!RGR8","v":0},{"$f":"'Data diagrams (noprint)'!RGS8","v":0},{"$f":"'Data diagrams (noprint)'!RGT8","v":0},{"$f":"'Data diagrams (noprint)'!RGU8","v":0},{"$f":"'Data diagrams (noprint)'!RGV8","v":0},{"$f":"'Data diagrams (noprint)'!RGW8","v":0},{"$f":"'Data diagrams (noprint)'!RGX8","v":0},{"$f":"'Data diagrams (noprint)'!RGY8","v":0},{"$f":"'Data diagrams (noprint)'!RGZ8","v":0},{"$f":"'Data diagrams (noprint)'!RHA8","v":0},{"$f":"'Data diagrams (noprint)'!RHB8","v":0},{"$f":"'Data diagrams (noprint)'!RHC8","v":0},{"$f":"'Data diagrams (noprint)'!RHD8","v":0},{"$f":"'Data diagrams (noprint)'!RHE8","v":0},{"$f":"'Data diagrams (noprint)'!RHF8","v":0},{"$f":"'Data diagrams (noprint)'!RHG8","v":0},{"$f":"'Data diagrams (noprint)'!RHH8","v":0},{"$f":"'Data diagrams (noprint)'!RHI8","v":0},{"$f":"'Data diagrams (noprint)'!RHJ8","v":0},{"$f":"'Data diagrams (noprint)'!RHK8","v":0},{"$f":"'Data diagrams (noprint)'!RHL8","v":0},{"$f":"'Data diagrams (noprint)'!RHM8","v":0},{"$f":"'Data diagrams (noprint)'!RHN8","v":0},{"$f":"'Data diagrams (noprint)'!RHO8","v":0},{"$f":"'Data diagrams (noprint)'!RHP8","v":0},{"$f":"'Data diagrams (noprint)'!RHQ8","v":0},{"$f":"'Data diagrams (noprint)'!RHR8","v":0},{"$f":"'Data diagrams (noprint)'!RHS8","v":0},{"$f":"'Data diagrams (noprint)'!RHT8","v":0},{"$f":"'Data diagrams (noprint)'!RHU8","v":0},{"$f":"'Data diagrams (noprint)'!RHV8","v":0},{"$f":"'Data diagrams (noprint)'!RHW8","v":0},{"$f":"'Data diagrams (noprint)'!RHX8","v":0},{"$f":"'Data diagrams (noprint)'!RHY8","v":0},{"$f":"'Data diagrams (noprint)'!RHZ8","v":0},{"$f":"'Data diagrams (noprint)'!RIA8","v":0},{"$f":"'Data diagrams (noprint)'!RIB8","v":0},{"$f":"'Data diagrams (noprint)'!RIC8","v":0},{"$f":"'Data diagrams (noprint)'!RID8","v":0},{"$f":"'Data diagrams (noprint)'!RIE8","v":0},{"$f":"'Data diagrams (noprint)'!RIF8","v":0},{"$f":"'Data diagrams (noprint)'!RIG8","v":0},{"$f":"'Data diagrams (noprint)'!RIH8","v":0},{"$f":"'Data diagrams (noprint)'!RII8","v":0},{"$f":"'Data diagrams (noprint)'!RIJ8","v":0},{"$f":"'Data diagrams (noprint)'!RIK8","v":0},{"$f":"'Data diagrams (noprint)'!RIL8","v":0},{"$f":"'Data diagrams (noprint)'!RIM8","v":0},{"$f":"'Data diagrams (noprint)'!RIN8","v":0},{"$f":"'Data diagrams (noprint)'!RIO8","v":0},{"$f":"'Data diagrams (noprint)'!RIP8","v":0},{"$f":"'Data diagrams (noprint)'!RIQ8","v":0},{"$f":"'Data diagrams (noprint)'!RIR8","v":0},{"$f":"'Data diagrams (noprint)'!RIS8","v":0},{"$f":"'Data diagrams (noprint)'!RIT8","v":0},{"$f":"'Data diagrams (noprint)'!RIU8","v":0},{"$f":"'Data diagrams (noprint)'!RIV8","v":0},{"$f":"'Data diagrams (noprint)'!RIW8","v":0},{"$f":"'Data diagrams (noprint)'!RIX8","v":0},{"$f":"'Data diagrams (noprint)'!RIY8","v":0},{"$f":"'Data diagrams (noprint)'!RIZ8","v":0},{"$f":"'Data diagrams (noprint)'!RJA8","v":0},{"$f":"'Data diagrams (noprint)'!RJB8","v":0},{"$f":"'Data diagrams (noprint)'!RJC8","v":0},{"$f":"'Data diagrams (noprint)'!RJD8","v":0},{"$f":"'Data diagrams (noprint)'!RJE8","v":0},{"$f":"'Data diagrams (noprint)'!RJF8","v":0},{"$f":"'Data diagrams (noprint)'!RJG8","v":0},{"$f":"'Data diagrams (noprint)'!RJH8","v":0},{"$f":"'Data diagrams (noprint)'!RJI8","v":0},{"$f":"'Data diagrams (noprint)'!RJJ8","v":0},{"$f":"'Data diagrams (noprint)'!RJK8","v":0},{"$f":"'Data diagrams (noprint)'!RJL8","v":0},{"$f":"'Data diagrams (noprint)'!RJM8","v":0},{"$f":"'Data diagrams (noprint)'!RJN8","v":0},{"$f":"'Data diagrams (noprint)'!RJO8","v":0},{"$f":"'Data diagrams (noprint)'!RJP8","v":0},{"$f":"'Data diagrams (noprint)'!RJQ8","v":0},{"$f":"'Data diagrams (noprint)'!RJR8","v":0},{"$f":"'Data diagrams (noprint)'!RJS8","v":0},{"$f":"'Data diagrams (noprint)'!RJT8","v":0},{"$f":"'Data diagrams (noprint)'!RJU8","v":0},{"$f":"'Data diagrams (noprint)'!RJV8","v":0},{"$f":"'Data diagrams (noprint)'!RJW8","v":0},{"$f":"'Data diagrams (noprint)'!RJX8","v":0},{"$f":"'Data diagrams (noprint)'!RJY8","v":0},{"$f":"'Data diagrams (noprint)'!RJZ8","v":0},{"$f":"'Data diagrams (noprint)'!RKA8","v":0},{"$f":"'Data diagrams (noprint)'!RKB8","v":0},{"$f":"'Data diagrams (noprint)'!RKC8","v":0},{"$f":"'Data diagrams (noprint)'!RKD8","v":0},{"$f":"'Data diagrams (noprint)'!RKE8","v":0},{"$f":"'Data diagrams (noprint)'!RKF8","v":0},{"$f":"'Data diagrams (noprint)'!RKG8","v":0},{"$f":"'Data diagrams (noprint)'!RKH8","v":0},{"$f":"'Data diagrams (noprint)'!RKI8","v":0},{"$f":"'Data diagrams (noprint)'!RKJ8","v":0},{"$f":"'Data diagrams (noprint)'!RKK8","v":0},{"$f":"'Data diagrams (noprint)'!RKL8","v":0},{"$f":"'Data diagrams (noprint)'!RKM8","v":0},{"$f":"'Data diagrams (noprint)'!RKN8","v":0},{"$f":"'Data diagrams (noprint)'!RKO8","v":0},{"$f":"'Data diagrams (noprint)'!RKP8","v":0},{"$f":"'Data diagrams (noprint)'!RKQ8","v":0},{"$f":"'Data diagrams (noprint)'!RKR8","v":0},{"$f":"'Data diagrams (noprint)'!RKS8","v":0},{"$f":"'Data diagrams (noprint)'!RKT8","v":0},{"$f":"'Data diagrams (noprint)'!RKU8","v":0},{"$f":"'Data diagrams (noprint)'!RKV8","v":0},{"$f":"'Data diagrams (noprint)'!RKW8","v":0},{"$f":"'Data diagrams (noprint)'!RKX8","v":0},{"$f":"'Data diagrams (noprint)'!RKY8","v":0},{"$f":"'Data diagrams (noprint)'!RKZ8","v":0},{"$f":"'Data diagrams (noprint)'!RLA8","v":0},{"$f":"'Data diagrams (noprint)'!RLB8","v":0},{"$f":"'Data diagrams (noprint)'!RLC8","v":0},{"$f":"'Data diagrams (noprint)'!RLD8","v":0},{"$f":"'Data diagrams (noprint)'!RLE8","v":0},{"$f":"'Data diagrams (noprint)'!RLF8","v":0},{"$f":"'Data diagrams (noprint)'!RLG8","v":0},{"$f":"'Data diagrams (noprint)'!RLH8","v":0},{"$f":"'Data diagrams (noprint)'!RLI8","v":0},{"$f":"'Data diagrams (noprint)'!RLJ8","v":0},{"$f":"'Data diagrams (noprint)'!RLK8","v":0},{"$f":"'Data diagrams (noprint)'!RLL8","v":0},{"$f":"'Data diagrams (noprint)'!RLM8","v":0},{"$f":"'Data diagrams (noprint)'!RLN8","v":0},{"$f":"'Data diagrams (noprint)'!RLO8","v":0},{"$f":"'Data diagrams (noprint)'!RLP8","v":0},{"$f":"'Data diagrams (noprint)'!RLQ8","v":0},{"$f":"'Data diagrams (noprint)'!RLR8","v":0},{"$f":"'Data diagrams (noprint)'!RLS8","v":0},{"$f":"'Data diagrams (noprint)'!RLT8","v":0},{"$f":"'Data diagrams (noprint)'!RLU8","v":0},{"$f":"'Data diagrams (noprint)'!RLV8","v":0},{"$f":"'Data diagrams (noprint)'!RLW8","v":0},{"$f":"'Data diagrams (noprint)'!RLX8","v":0},{"$f":"'Data diagrams (noprint)'!RLY8","v":0},{"$f":"'Data diagrams (noprint)'!RLZ8","v":0},{"$f":"'Data diagrams (noprint)'!RMA8","v":0},{"$f":"'Data diagrams (noprint)'!RMB8","v":0},{"$f":"'Data diagrams (noprint)'!RMC8","v":0},{"$f":"'Data diagrams (noprint)'!RMD8","v":0},{"$f":"'Data diagrams (noprint)'!RME8","v":0},{"$f":"'Data diagrams (noprint)'!RMF8","v":0},{"$f":"'Data diagrams (noprint)'!RMG8","v":0},{"$f":"'Data diagrams (noprint)'!RMH8","v":0},{"$f":"'Data diagrams (noprint)'!RMI8","v":0},{"$f":"'Data diagrams (noprint)'!RMJ8","v":0},{"$f":"'Data diagrams (noprint)'!RMK8","v":0},{"$f":"'Data diagrams (noprint)'!RML8","v":0},{"$f":"'Data diagrams (noprint)'!RMM8","v":0},{"$f":"'Data diagrams (noprint)'!RMN8","v":0},{"$f":"'Data diagrams (noprint)'!RMO8","v":0},{"$f":"'Data diagrams (noprint)'!RMP8","v":0},{"$f":"'Data diagrams (noprint)'!RMQ8","v":0},{"$f":"'Data diagrams (noprint)'!RMR8","v":0},{"$f":"'Data diagrams (noprint)'!RMS8","v":0},{"$f":"'Data diagrams (noprint)'!RMT8","v":0},{"$f":"'Data diagrams (noprint)'!RMU8","v":0},{"$f":"'Data diagrams (noprint)'!RMV8","v":0},{"$f":"'Data diagrams (noprint)'!RMW8","v":0},{"$f":"'Data diagrams (noprint)'!RMX8","v":0},{"$f":"'Data diagrams (noprint)'!RMY8","v":0},{"$f":"'Data diagrams (noprint)'!RMZ8","v":0},{"$f":"'Data diagrams (noprint)'!RNA8","v":0},{"$f":"'Data diagrams (noprint)'!RNB8","v":0},{"$f":"'Data diagrams (noprint)'!RNC8","v":0},{"$f":"'Data diagrams (noprint)'!RND8","v":0},{"$f":"'Data diagrams (noprint)'!RNE8","v":0},{"$f":"'Data diagrams (noprint)'!RNF8","v":0},{"$f":"'Data diagrams (noprint)'!RNG8","v":0},{"$f":"'Data diagrams (noprint)'!RNH8","v":0},{"$f":"'Data diagrams (noprint)'!RNI8","v":0},{"$f":"'Data diagrams (noprint)'!RNJ8","v":0},{"$f":"'Data diagrams (noprint)'!RNK8","v":0},{"$f":"'Data diagrams (noprint)'!RNL8","v":0},{"$f":"'Data diagrams (noprint)'!RNM8","v":0},{"$f":"'Data diagrams (noprint)'!RNN8","v":0},{"$f":"'Data diagrams (noprint)'!RNO8","v":0},{"$f":"'Data diagrams (noprint)'!RNP8","v":0},{"$f":"'Data diagrams (noprint)'!RNQ8","v":0},{"$f":"'Data diagrams (noprint)'!RNR8","v":0},{"$f":"'Data diagrams (noprint)'!RNS8","v":0},{"$f":"'Data diagrams (noprint)'!RNT8","v":0},{"$f":"'Data diagrams (noprint)'!RNU8","v":0},{"$f":"'Data diagrams (noprint)'!RNV8","v":0},{"$f":"'Data diagrams (noprint)'!RNW8","v":0},{"$f":"'Data diagrams (noprint)'!RNX8","v":0},{"$f":"'Data diagrams (noprint)'!RNY8","v":0},{"$f":"'Data diagrams (noprint)'!RNZ8","v":0},{"$f":"'Data diagrams (noprint)'!ROA8","v":0},{"$f":"'Data diagrams (noprint)'!ROB8","v":0},{"$f":"'Data diagrams (noprint)'!ROC8","v":0},{"$f":"'Data diagrams (noprint)'!ROD8","v":0},{"$f":"'Data diagrams (noprint)'!ROE8","v":0},{"$f":"'Data diagrams (noprint)'!ROF8","v":0},{"$f":"'Data diagrams (noprint)'!ROG8","v":0},{"$f":"'Data diagrams (noprint)'!ROH8","v":0},{"$f":"'Data diagrams (noprint)'!ROI8","v":0},{"$f":"'Data diagrams (noprint)'!ROJ8","v":0},{"$f":"'Data diagrams (noprint)'!ROK8","v":0},{"$f":"'Data diagrams (noprint)'!ROL8","v":0},{"$f":"'Data diagrams (noprint)'!ROM8","v":0},{"$f":"'Data diagrams (noprint)'!RON8","v":0},{"$f":"'Data diagrams (noprint)'!ROO8","v":0},{"$f":"'Data diagrams (noprint)'!ROP8","v":0},{"$f":"'Data diagrams (noprint)'!ROQ8","v":0},{"$f":"'Data diagrams (noprint)'!ROR8","v":0},{"$f":"'Data diagrams (noprint)'!ROS8","v":0},{"$f":"'Data diagrams (noprint)'!ROT8","v":0},{"$f":"'Data diagrams (noprint)'!ROU8","v":0},{"$f":"'Data diagrams (noprint)'!ROV8","v":0},{"$f":"'Data diagrams (noprint)'!ROW8","v":0},{"$f":"'Data diagrams (noprint)'!ROX8","v":0},{"$f":"'Data diagrams (noprint)'!ROY8","v":0},{"$f":"'Data diagrams (noprint)'!ROZ8","v":0},{"$f":"'Data diagrams (noprint)'!RPA8","v":0},{"$f":"'Data diagrams (noprint)'!RPB8","v":0},{"$f":"'Data diagrams (noprint)'!RPC8","v":0},{"$f":"'Data diagrams (noprint)'!RPD8","v":0},{"$f":"'Data diagrams (noprint)'!RPE8","v":0},{"$f":"'Data diagrams (noprint)'!RPF8","v":0},{"$f":"'Data diagrams (noprint)'!RPG8","v":0},{"$f":"'Data diagrams (noprint)'!RPH8","v":0},{"$f":"'Data diagrams (noprint)'!RPI8","v":0},{"$f":"'Data diagrams (noprint)'!RPJ8","v":0},{"$f":"'Data diagrams (noprint)'!RPK8","v":0},{"$f":"'Data diagrams (noprint)'!RPL8","v":0},{"$f":"'Data diagrams (noprint)'!RPM8","v":0},{"$f":"'Data diagrams (noprint)'!RPN8","v":0},{"$f":"'Data diagrams (noprint)'!RPO8","v":0},{"$f":"'Data diagrams (noprint)'!RPP8","v":0},{"$f":"'Data diagrams (noprint)'!RPQ8","v":0},{"$f":"'Data diagrams (noprint)'!RPR8","v":0},{"$f":"'Data diagrams (noprint)'!RPS8","v":0},{"$f":"'Data diagrams (noprint)'!RPT8","v":0},{"$f":"'Data diagrams (noprint)'!RPU8","v":0},{"$f":"'Data diagrams (noprint)'!RPV8","v":0},{"$f":"'Data diagrams (noprint)'!RPW8","v":0},{"$f":"'Data diagrams (noprint)'!RPX8","v":0},{"$f":"'Data diagrams (noprint)'!RPY8","v":0},{"$f":"'Data diagrams (noprint)'!RPZ8","v":0},{"$f":"'Data diagrams (noprint)'!RQA8","v":0},{"$f":"'Data diagrams (noprint)'!RQB8","v":0},{"$f":"'Data diagrams (noprint)'!RQC8","v":0},{"$f":"'Data diagrams (noprint)'!RQD8","v":0},{"$f":"'Data diagrams (noprint)'!RQE8","v":0},{"$f":"'Data diagrams (noprint)'!RQF8","v":0},{"$f":"'Data diagrams (noprint)'!RQG8","v":0},{"$f":"'Data diagrams (noprint)'!RQH8","v":0},{"$f":"'Data diagrams (noprint)'!RQI8","v":0},{"$f":"'Data diagrams (noprint)'!RQJ8","v":0},{"$f":"'Data diagrams (noprint)'!RQK8","v":0},{"$f":"'Data diagrams (noprint)'!RQL8","v":0},{"$f":"'Data diagrams (noprint)'!RQM8","v":0},{"$f":"'Data diagrams (noprint)'!RQN8","v":0},{"$f":"'Data diagrams (noprint)'!RQO8","v":0},{"$f":"'Data diagrams (noprint)'!RQP8","v":0},{"$f":"'Data diagrams (noprint)'!RQQ8","v":0},{"$f":"'Data diagrams (noprint)'!RQR8","v":0},{"$f":"'Data diagrams (noprint)'!RQS8","v":0},{"$f":"'Data diagrams (noprint)'!RQT8","v":0},{"$f":"'Data diagrams (noprint)'!RQU8","v":0},{"$f":"'Data diagrams (noprint)'!RQV8","v":0},{"$f":"'Data diagrams (noprint)'!RQW8","v":0},{"$f":"'Data diagrams (noprint)'!RQX8","v":0},{"$f":"'Data diagrams (noprint)'!RQY8","v":0},{"$f":"'Data diagrams (noprint)'!RQZ8","v":0},{"$f":"'Data diagrams (noprint)'!RRA8","v":0},{"$f":"'Data diagrams (noprint)'!RRB8","v":0},{"$f":"'Data diagrams (noprint)'!RRC8","v":0},{"$f":"'Data diagrams (noprint)'!RRD8","v":0},{"$f":"'Data diagrams (noprint)'!RRE8","v":0},{"$f":"'Data diagrams (noprint)'!RRF8","v":0},{"$f":"'Data diagrams (noprint)'!RRG8","v":0},{"$f":"'Data diagrams (noprint)'!RRH8","v":0},{"$f":"'Data diagrams (noprint)'!RRI8","v":0},{"$f":"'Data diagrams (noprint)'!RRJ8","v":0},{"$f":"'Data diagrams (noprint)'!RRK8","v":0},{"$f":"'Data diagrams (noprint)'!RRL8","v":0},{"$f":"'Data diagrams (noprint)'!RRM8","v":0},{"$f":"'Data diagrams (noprint)'!RRN8","v":0},{"$f":"'Data diagrams (noprint)'!RRO8","v":0},{"$f":"'Data diagrams (noprint)'!RRP8","v":0},{"$f":"'Data diagrams (noprint)'!RRQ8","v":0},{"$f":"'Data diagrams (noprint)'!RRR8","v":0},{"$f":"'Data diagrams (noprint)'!RRS8","v":0},{"$f":"'Data diagrams (noprint)'!RRT8","v":0},{"$f":"'Data diagrams (noprint)'!RRU8","v":0},{"$f":"'Data diagrams (noprint)'!RRV8","v":0},{"$f":"'Data diagrams (noprint)'!RRW8","v":0},{"$f":"'Data diagrams (noprint)'!RRX8","v":0},{"$f":"'Data diagrams (noprint)'!RRY8","v":0},{"$f":"'Data diagrams (noprint)'!RRZ8","v":0},{"$f":"'Data diagrams (noprint)'!RSA8","v":0},{"$f":"'Data diagrams (noprint)'!RSB8","v":0},{"$f":"'Data diagrams (noprint)'!RSC8","v":0},{"$f":"'Data diagrams (noprint)'!RSD8","v":0},{"$f":"'Data diagrams (noprint)'!RSE8","v":0},{"$f":"'Data diagrams (noprint)'!RSF8","v":0},{"$f":"'Data diagrams (noprint)'!RSG8","v":0},{"$f":"'Data diagrams (noprint)'!RSH8","v":0},{"$f":"'Data diagrams (noprint)'!RSI8","v":0},{"$f":"'Data diagrams (noprint)'!RSJ8","v":0},{"$f":"'Data diagrams (noprint)'!RSK8","v":0},{"$f":"'Data diagrams (noprint)'!RSL8","v":0},{"$f":"'Data diagrams (noprint)'!RSM8","v":0},{"$f":"'Data diagrams (noprint)'!RSN8","v":0},{"$f":"'Data diagrams (noprint)'!RSO8","v":0},{"$f":"'Data diagrams (noprint)'!RSP8","v":0},{"$f":"'Data diagrams (noprint)'!RSQ8","v":0},{"$f":"'Data diagrams (noprint)'!RSR8","v":0},{"$f":"'Data diagrams (noprint)'!RSS8","v":0},{"$f":"'Data diagrams (noprint)'!RST8","v":0},{"$f":"'Data diagrams (noprint)'!RSU8","v":0},{"$f":"'Data diagrams (noprint)'!RSV8","v":0},{"$f":"'Data diagrams (noprint)'!RSW8","v":0},{"$f":"'Data diagrams (noprint)'!RSX8","v":0},{"$f":"'Data diagrams (noprint)'!RSY8","v":0},{"$f":"'Data diagrams (noprint)'!RSZ8","v":0},{"$f":"'Data diagrams (noprint)'!RTA8","v":0},{"$f":"'Data diagrams (noprint)'!RTB8","v":0},{"$f":"'Data diagrams (noprint)'!RTC8","v":0},{"$f":"'Data diagrams (noprint)'!RTD8","v":0},{"$f":"'Data diagrams (noprint)'!RTE8","v":0},{"$f":"'Data diagrams (noprint)'!RTF8","v":0},{"$f":"'Data diagrams (noprint)'!RTG8","v":0},{"$f":"'Data diagrams (noprint)'!RTH8","v":0},{"$f":"'Data diagrams (noprint)'!RTI8","v":0},{"$f":"'Data diagrams (noprint)'!RTJ8","v":0},{"$f":"'Data diagrams (noprint)'!RTK8","v":0},{"$f":"'Data diagrams (noprint)'!RTL8","v":0},{"$f":"'Data diagrams (noprint)'!RTM8","v":0},{"$f":"'Data diagrams (noprint)'!RTN8","v":0},{"$f":"'Data diagrams (noprint)'!RTO8","v":0},{"$f":"'Data diagrams (noprint)'!RTP8","v":0},{"$f":"'Data diagrams (noprint)'!RTQ8","v":0},{"$f":"'Data diagrams (noprint)'!RTR8","v":0},{"$f":"'Data diagrams (noprint)'!RTS8","v":0},{"$f":"'Data diagrams (noprint)'!RTT8","v":0},{"$f":"'Data diagrams (noprint)'!RTU8","v":0},{"$f":"'Data diagrams (noprint)'!RTV8","v":0},{"$f":"'Data diagrams (noprint)'!RTW8","v":0},{"$f":"'Data diagrams (noprint)'!RTX8","v":0},{"$f":"'Data diagrams (noprint)'!RTY8","v":0},{"$f":"'Data diagrams (noprint)'!RTZ8","v":0},{"$f":"'Data diagrams (noprint)'!RUA8","v":0},{"$f":"'Data diagrams (noprint)'!RUB8","v":0},{"$f":"'Data diagrams (noprint)'!RUC8","v":0},{"$f":"'Data diagrams (noprint)'!RUD8","v":0},{"$f":"'Data diagrams (noprint)'!RUE8","v":0},{"$f":"'Data diagrams (noprint)'!RUF8","v":0},{"$f":"'Data diagrams (noprint)'!RUG8","v":0},{"$f":"'Data diagrams (noprint)'!RUH8","v":0},{"$f":"'Data diagrams (noprint)'!RUI8","v":0},{"$f":"'Data diagrams (noprint)'!RUJ8","v":0},{"$f":"'Data diagrams (noprint)'!RUK8","v":0},{"$f":"'Data diagrams (noprint)'!RUL8","v":0},{"$f":"'Data diagrams (noprint)'!RUM8","v":0},{"$f":"'Data diagrams (noprint)'!RUN8","v":0},{"$f":"'Data diagrams (noprint)'!RUO8","v":0},{"$f":"'Data diagrams (noprint)'!RUP8","v":0},{"$f":"'Data diagrams (noprint)'!RUQ8","v":0},{"$f":"'Data diagrams (noprint)'!RUR8","v":0},{"$f":"'Data diagrams (noprint)'!RUS8","v":0},{"$f":"'Data diagrams (noprint)'!RUT8","v":0},{"$f":"'Data diagrams (noprint)'!RUU8","v":0},{"$f":"'Data diagrams (noprint)'!RUV8","v":0},{"$f":"'Data diagrams (noprint)'!RUW8","v":0},{"$f":"'Data diagrams (noprint)'!RUX8","v":0},{"$f":"'Data diagrams (noprint)'!RUY8","v":0},{"$f":"'Data diagrams (noprint)'!RUZ8","v":0},{"$f":"'Data diagrams (noprint)'!RVA8","v":0},{"$f":"'Data diagrams (noprint)'!RVB8","v":0},{"$f":"'Data diagrams (noprint)'!RVC8","v":0},{"$f":"'Data diagrams (noprint)'!RVD8","v":0},{"$f":"'Data diagrams (noprint)'!RVE8","v":0},{"$f":"'Data diagrams (noprint)'!RVF8","v":0},{"$f":"'Data diagrams (noprint)'!RVG8","v":0},{"$f":"'Data diagrams (noprint)'!RVH8","v":0},{"$f":"'Data diagrams (noprint)'!RVI8","v":0},{"$f":"'Data diagrams (noprint)'!RVJ8","v":0},{"$f":"'Data diagrams (noprint)'!RVK8","v":0},{"$f":"'Data diagrams (noprint)'!RVL8","v":0},{"$f":"'Data diagrams (noprint)'!RVM8","v":0},{"$f":"'Data diagrams (noprint)'!RVN8","v":0},{"$f":"'Data diagrams (noprint)'!RVO8","v":0},{"$f":"'Data diagrams (noprint)'!RVP8","v":0},{"$f":"'Data diagrams (noprint)'!RVQ8","v":0},{"$f":"'Data diagrams (noprint)'!RVR8","v":0},{"$f":"'Data diagrams (noprint)'!RVS8","v":0},{"$f":"'Data diagrams (noprint)'!RVT8","v":0},{"$f":"'Data diagrams (noprint)'!RVU8","v":0},{"$f":"'Data diagrams (noprint)'!RVV8","v":0},{"$f":"'Data diagrams (noprint)'!RVW8","v":0},{"$f":"'Data diagrams (noprint)'!RVX8","v":0},{"$f":"'Data diagrams (noprint)'!RVY8","v":0},{"$f":"'Data diagrams (noprint)'!RVZ8","v":0},{"$f":"'Data diagrams (noprint)'!RWA8","v":0},{"$f":"'Data diagrams (noprint)'!RWB8","v":0},{"$f":"'Data diagrams (noprint)'!RWC8","v":0},{"$f":"'Data diagrams (noprint)'!RWD8","v":0},{"$f":"'Data diagrams (noprint)'!RWE8","v":0},{"$f":"'Data diagrams (noprint)'!RWF8","v":0},{"$f":"'Data diagrams (noprint)'!RWG8","v":0},{"$f":"'Data diagrams (noprint)'!RWH8","v":0},{"$f":"'Data diagrams (noprint)'!RWI8","v":0},{"$f":"'Data diagrams (noprint)'!RWJ8","v":0},{"$f":"'Data diagrams (noprint)'!RWK8","v":0},{"$f":"'Data diagrams (noprint)'!RWL8","v":0},{"$f":"'Data diagrams (noprint)'!RWM8","v":0},{"$f":"'Data diagrams (noprint)'!RWN8","v":0},{"$f":"'Data diagrams (noprint)'!RWO8","v":0},{"$f":"'Data diagrams (noprint)'!RWP8","v":0},{"$f":"'Data diagrams (noprint)'!RWQ8","v":0},{"$f":"'Data diagrams (noprint)'!RWR8","v":0},{"$f":"'Data diagrams (noprint)'!RWS8","v":0},{"$f":"'Data diagrams (noprint)'!RWT8","v":0},{"$f":"'Data diagrams (noprint)'!RWU8","v":0},{"$f":"'Data diagrams (noprint)'!RWV8","v":0},{"$f":"'Data diagrams (noprint)'!RWW8","v":0},{"$f":"'Data diagrams (noprint)'!RWX8","v":0},{"$f":"'Data diagrams (noprint)'!RWY8","v":0},{"$f":"'Data diagrams (noprint)'!RWZ8","v":0},{"$f":"'Data diagrams (noprint)'!RXA8","v":0},{"$f":"'Data diagrams (noprint)'!RXB8","v":0},{"$f":"'Data diagrams (noprint)'!RXC8","v":0},{"$f":"'Data diagrams (noprint)'!RXD8","v":0},{"$f":"'Data diagrams (noprint)'!RXE8","v":0},{"$f":"'Data diagrams (noprint)'!RXF8","v":0},{"$f":"'Data diagrams (noprint)'!RXG8","v":0},{"$f":"'Data diagrams (noprint)'!RXH8","v":0},{"$f":"'Data diagrams (noprint)'!RXI8","v":0},{"$f":"'Data diagrams (noprint)'!RXJ8","v":0},{"$f":"'Data diagrams (noprint)'!RXK8","v":0},{"$f":"'Data diagrams (noprint)'!RXL8","v":0},{"$f":"'Data diagrams (noprint)'!RXM8","v":0},{"$f":"'Data diagrams (noprint)'!RXN8","v":0},{"$f":"'Data diagrams (noprint)'!RXO8","v":0},{"$f":"'Data diagrams (noprint)'!RXP8","v":0},{"$f":"'Data diagrams (noprint)'!RXQ8","v":0},{"$f":"'Data diagrams (noprint)'!RXR8","v":0},{"$f":"'Data diagrams (noprint)'!RXS8","v":0},{"$f":"'Data diagrams (noprint)'!RXT8","v":0},{"$f":"'Data diagrams (noprint)'!RXU8","v":0},{"$f":"'Data diagrams (noprint)'!RXV8","v":0},{"$f":"'Data diagrams (noprint)'!RXW8","v":0},{"$f":"'Data diagrams (noprint)'!RXX8","v":0},{"$f":"'Data diagrams (noprint)'!RXY8","v":0},{"$f":"'Data diagrams (noprint)'!RXZ8","v":0},{"$f":"'Data diagrams (noprint)'!RYA8","v":0},{"$f":"'Data diagrams (noprint)'!RYB8","v":0},{"$f":"'Data diagrams (noprint)'!RYC8","v":0},{"$f":"'Data diagrams (noprint)'!RYD8","v":0},{"$f":"'Data diagrams (noprint)'!RYE8","v":0},{"$f":"'Data diagrams (noprint)'!RYF8","v":0},{"$f":"'Data diagrams (noprint)'!RYG8","v":0},{"$f":"'Data diagrams (noprint)'!RYH8","v":0},{"$f":"'Data diagrams (noprint)'!RYI8","v":0},{"$f":"'Data diagrams (noprint)'!RYJ8","v":0},{"$f":"'Data diagrams (noprint)'!RYK8","v":0},{"$f":"'Data diagrams (noprint)'!RYL8","v":0},{"$f":"'Data diagrams (noprint)'!RYM8","v":0},{"$f":"'Data diagrams (noprint)'!RYN8","v":0},{"$f":"'Data diagrams (noprint)'!RYO8","v":0},{"$f":"'Data diagrams (noprint)'!RYP8","v":0},{"$f":"'Data diagrams (noprint)'!RYQ8","v":0},{"$f":"'Data diagrams (noprint)'!RYR8","v":0},{"$f":"'Data diagrams (noprint)'!RYS8","v":0},{"$f":"'Data diagrams (noprint)'!RYT8","v":0},{"$f":"'Data diagrams (noprint)'!RYU8","v":0},{"$f":"'Data diagrams (noprint)'!RYV8","v":0},{"$f":"'Data diagrams (noprint)'!RYW8","v":0},{"$f":"'Data diagrams (noprint)'!RYX8","v":0},{"$f":"'Data diagrams (noprint)'!RYY8","v":0},{"$f":"'Data diagrams (noprint)'!RYZ8","v":0},{"$f":"'Data diagrams (noprint)'!RZA8","v":0},{"$f":"'Data diagrams (noprint)'!RZB8","v":0},{"$f":"'Data diagrams (noprint)'!RZC8","v":0},{"$f":"'Data diagrams (noprint)'!RZD8","v":0},{"$f":"'Data diagrams (noprint)'!RZE8","v":0},{"$f":"'Data diagrams (noprint)'!RZF8","v":0},{"$f":"'Data diagrams (noprint)'!RZG8","v":0},{"$f":"'Data diagrams (noprint)'!RZH8","v":0},{"$f":"'Data diagrams (noprint)'!RZI8","v":0},{"$f":"'Data diagrams (noprint)'!RZJ8","v":0},{"$f":"'Data diagrams (noprint)'!RZK8","v":0},{"$f":"'Data diagrams (noprint)'!RZL8","v":0},{"$f":"'Data diagrams (noprint)'!RZM8","v":0},{"$f":"'Data diagrams (noprint)'!RZN8","v":0},{"$f":"'Data diagrams (noprint)'!RZO8","v":0},{"$f":"'Data diagrams (noprint)'!RZP8","v":0},{"$f":"'Data diagrams (noprint)'!RZQ8","v":0},{"$f":"'Data diagrams (noprint)'!RZR8","v":0},{"$f":"'Data diagrams (noprint)'!RZS8","v":0},{"$f":"'Data diagrams (noprint)'!RZT8","v":0},{"$f":"'Data diagrams (noprint)'!RZU8","v":0},{"$f":"'Data diagrams (noprint)'!RZV8","v":0},{"$f":"'Data diagrams (noprint)'!RZW8","v":0},{"$f":"'Data diagrams (noprint)'!RZX8","v":0},{"$f":"'Data diagrams (noprint)'!RZY8","v":0},{"$f":"'Data diagrams (noprint)'!RZZ8","v":0},{"$f":"'Data diagrams (noprint)'!SAA8","v":0},{"$f":"'Data diagrams (noprint)'!SAB8","v":0},{"$f":"'Data diagrams (noprint)'!SAC8","v":0},{"$f":"'Data diagrams (noprint)'!SAD8","v":0},{"$f":"'Data diagrams (noprint)'!SAE8","v":0},{"$f":"'Data diagrams (noprint)'!SAF8","v":0},{"$f":"'Data diagrams (noprint)'!SAG8","v":0},{"$f":"'Data diagrams (noprint)'!SAH8","v":0},{"$f":"'Data diagrams (noprint)'!SAI8","v":0},{"$f":"'Data diagrams (noprint)'!SAJ8","v":0},{"$f":"'Data diagrams (noprint)'!SAK8","v":0},{"$f":"'Data diagrams (noprint)'!SAL8","v":0},{"$f":"'Data diagrams (noprint)'!SAM8","v":0},{"$f":"'Data diagrams (noprint)'!SAN8","v":0},{"$f":"'Data diagrams (noprint)'!SAO8","v":0},{"$f":"'Data diagrams (noprint)'!SAP8","v":0},{"$f":"'Data diagrams (noprint)'!SAQ8","v":0},{"$f":"'Data diagrams (noprint)'!SAR8","v":0},{"$f":"'Data diagrams (noprint)'!SAS8","v":0},{"$f":"'Data diagrams (noprint)'!SAT8","v":0},{"$f":"'Data diagrams (noprint)'!SAU8","v":0},{"$f":"'Data diagrams (noprint)'!SAV8","v":0},{"$f":"'Data diagrams (noprint)'!SAW8","v":0},{"$f":"'Data diagrams (noprint)'!SAX8","v":0},{"$f":"'Data diagrams (noprint)'!SAY8","v":0},{"$f":"'Data diagrams (noprint)'!SAZ8","v":0},{"$f":"'Data diagrams (noprint)'!SBA8","v":0},{"$f":"'Data diagrams (noprint)'!SBB8","v":0},{"$f":"'Data diagrams (noprint)'!SBC8","v":0},{"$f":"'Data diagrams (noprint)'!SBD8","v":0},{"$f":"'Data diagrams (noprint)'!SBE8","v":0},{"$f":"'Data diagrams (noprint)'!SBF8","v":0},{"$f":"'Data diagrams (noprint)'!SBG8","v":0},{"$f":"'Data diagrams (noprint)'!SBH8","v":0},{"$f":"'Data diagrams (noprint)'!SBI8","v":0},{"$f":"'Data diagrams (noprint)'!SBJ8","v":0},{"$f":"'Data diagrams (noprint)'!SBK8","v":0},{"$f":"'Data diagrams (noprint)'!SBL8","v":0},{"$f":"'Data diagrams (noprint)'!SBM8","v":0},{"$f":"'Data diagrams (noprint)'!SBN8","v":0},{"$f":"'Data diagrams (noprint)'!SBO8","v":0},{"$f":"'Data diagrams (noprint)'!SBP8","v":0},{"$f":"'Data diagrams (noprint)'!SBQ8","v":0},{"$f":"'Data diagrams (noprint)'!SBR8","v":0},{"$f":"'Data diagrams (noprint)'!SBS8","v":0},{"$f":"'Data diagrams (noprint)'!SBT8","v":0},{"$f":"'Data diagrams (noprint)'!SBU8","v":0},{"$f":"'Data diagrams (noprint)'!SBV8","v":0},{"$f":"'Data diagrams (noprint)'!SBW8","v":0},{"$f":"'Data diagrams (noprint)'!SBX8","v":0},{"$f":"'Data diagrams (noprint)'!SBY8","v":0},{"$f":"'Data diagrams (noprint)'!SBZ8","v":0},{"$f":"'Data diagrams (noprint)'!SCA8","v":0},{"$f":"'Data diagrams (noprint)'!SCB8","v":0},{"$f":"'Data diagrams (noprint)'!SCC8","v":0},{"$f":"'Data diagrams (noprint)'!SCD8","v":0},{"$f":"'Data diagrams (noprint)'!SCE8","v":0},{"$f":"'Data diagrams (noprint)'!SCF8","v":0},{"$f":"'Data diagrams (noprint)'!SCG8","v":0},{"$f":"'Data diagrams (noprint)'!SCH8","v":0},{"$f":"'Data diagrams (noprint)'!SCI8","v":0},{"$f":"'Data diagrams (noprint)'!SCJ8","v":0},{"$f":"'Data diagrams (noprint)'!SCK8","v":0},{"$f":"'Data diagrams (noprint)'!SCL8","v":0},{"$f":"'Data diagrams (noprint)'!SCM8","v":0},{"$f":"'Data diagrams (noprint)'!SCN8","v":0},{"$f":"'Data diagrams (noprint)'!SCO8","v":0},{"$f":"'Data diagrams (noprint)'!SCP8","v":0},{"$f":"'Data diagrams (noprint)'!SCQ8","v":0},{"$f":"'Data diagrams (noprint)'!SCR8","v":0},{"$f":"'Data diagrams (noprint)'!SCS8","v":0},{"$f":"'Data diagrams (noprint)'!SCT8","v":0},{"$f":"'Data diagrams (noprint)'!SCU8","v":0},{"$f":"'Data diagrams (noprint)'!SCV8","v":0},{"$f":"'Data diagrams (noprint)'!SCW8","v":0},{"$f":"'Data diagrams (noprint)'!SCX8","v":0},{"$f":"'Data diagrams (noprint)'!SCY8","v":0},{"$f":"'Data diagrams (noprint)'!SCZ8","v":0},{"$f":"'Data diagrams (noprint)'!SDA8","v":0},{"$f":"'Data diagrams (noprint)'!SDB8","v":0},{"$f":"'Data diagrams (noprint)'!SDC8","v":0},{"$f":"'Data diagrams (noprint)'!SDD8","v":0},{"$f":"'Data diagrams (noprint)'!SDE8","v":0},{"$f":"'Data diagrams (noprint)'!SDF8","v":0},{"$f":"'Data diagrams (noprint)'!SDG8","v":0},{"$f":"'Data diagrams (noprint)'!SDH8","v":0},{"$f":"'Data diagrams (noprint)'!SDI8","v":0},{"$f":"'Data diagrams (noprint)'!SDJ8","v":0},{"$f":"'Data diagrams (noprint)'!SDK8","v":0},{"$f":"'Data diagrams (noprint)'!SDL8","v":0},{"$f":"'Data diagrams (noprint)'!SDM8","v":0},{"$f":"'Data diagrams (noprint)'!SDN8","v":0},{"$f":"'Data diagrams (noprint)'!SDO8","v":0},{"$f":"'Data diagrams (noprint)'!SDP8","v":0},{"$f":"'Data diagrams (noprint)'!SDQ8","v":0},{"$f":"'Data diagrams (noprint)'!SDR8","v":0},{"$f":"'Data diagrams (noprint)'!SDS8","v":0},{"$f":"'Data diagrams (noprint)'!SDT8","v":0},{"$f":"'Data diagrams (noprint)'!SDU8","v":0},{"$f":"'Data diagrams (noprint)'!SDV8","v":0},{"$f":"'Data diagrams (noprint)'!SDW8","v":0},{"$f":"'Data diagrams (noprint)'!SDX8","v":0},{"$f":"'Data diagrams (noprint)'!SDY8","v":0},{"$f":"'Data diagrams (noprint)'!SDZ8","v":0},{"$f":"'Data diagrams (noprint)'!SEA8","v":0},{"$f":"'Data diagrams (noprint)'!SEB8","v":0},{"$f":"'Data diagrams (noprint)'!SEC8","v":0},{"$f":"'Data diagrams (noprint)'!SED8","v":0},{"$f":"'Data diagrams (noprint)'!SEE8","v":0},{"$f":"'Data diagrams (noprint)'!SEF8","v":0},{"$f":"'Data diagrams (noprint)'!SEG8","v":0},{"$f":"'Data diagrams (noprint)'!SEH8","v":0},{"$f":"'Data diagrams (noprint)'!SEI8","v":0},{"$f":"'Data diagrams (noprint)'!SEJ8","v":0},{"$f":"'Data diagrams (noprint)'!SEK8","v":0},{"$f":"'Data diagrams (noprint)'!SEL8","v":0},{"$f":"'Data diagrams (noprint)'!SEM8","v":0},{"$f":"'Data diagrams (noprint)'!SEN8","v":0},{"$f":"'Data diagrams (noprint)'!SEO8","v":0},{"$f":"'Data diagrams (noprint)'!SEP8","v":0},{"$f":"'Data diagrams (noprint)'!SEQ8","v":0},{"$f":"'Data diagrams (noprint)'!SER8","v":0},{"$f":"'Data diagrams (noprint)'!SES8","v":0},{"$f":"'Data diagrams (noprint)'!SET8","v":0},{"$f":"'Data diagrams (noprint)'!SEU8","v":0},{"$f":"'Data diagrams (noprint)'!SEV8","v":0},{"$f":"'Data diagrams (noprint)'!SEW8","v":0},{"$f":"'Data diagrams (noprint)'!SEX8","v":0},{"$f":"'Data diagrams (noprint)'!SEY8","v":0},{"$f":"'Data diagrams (noprint)'!SEZ8","v":0},{"$f":"'Data diagrams (noprint)'!SFA8","v":0},{"$f":"'Data diagrams (noprint)'!SFB8","v":0},{"$f":"'Data diagrams (noprint)'!SFC8","v":0},{"$f":"'Data diagrams (noprint)'!SFD8","v":0},{"$f":"'Data diagrams (noprint)'!SFE8","v":0},{"$f":"'Data diagrams (noprint)'!SFF8","v":0},{"$f":"'Data diagrams (noprint)'!SFG8","v":0},{"$f":"'Data diagrams (noprint)'!SFH8","v":0},{"$f":"'Data diagrams (noprint)'!SFI8","v":0},{"$f":"'Data diagrams (noprint)'!SFJ8","v":0},{"$f":"'Data diagrams (noprint)'!SFK8","v":0},{"$f":"'Data diagrams (noprint)'!SFL8","v":0},{"$f":"'Data diagrams (noprint)'!SFM8","v":0},{"$f":"'Data diagrams (noprint)'!SFN8","v":0},{"$f":"'Data diagrams (noprint)'!SFO8","v":0},{"$f":"'Data diagrams (noprint)'!SFP8","v":0},{"$f":"'Data diagrams (noprint)'!SFQ8","v":0},{"$f":"'Data diagrams (noprint)'!SFR8","v":0},{"$f":"'Data diagrams (noprint)'!SFS8","v":0},{"$f":"'Data diagrams (noprint)'!SFT8","v":0},{"$f":"'Data diagrams (noprint)'!SFU8","v":0},{"$f":"'Data diagrams (noprint)'!SFV8","v":0},{"$f":"'Data diagrams (noprint)'!SFW8","v":0},{"$f":"'Data diagrams (noprint)'!SFX8","v":0},{"$f":"'Data diagrams (noprint)'!SFY8","v":0},{"$f":"'Data diagrams (noprint)'!SFZ8","v":0},{"$f":"'Data diagrams (noprint)'!SGA8","v":0},{"$f":"'Data diagrams (noprint)'!SGB8","v":0},{"$f":"'Data diagrams (noprint)'!SGC8","v":0},{"$f":"'Data diagrams (noprint)'!SGD8","v":0},{"$f":"'Data diagrams (noprint)'!SGE8","v":0},{"$f":"'Data diagrams (noprint)'!SGF8","v":0},{"$f":"'Data diagrams (noprint)'!SGG8","v":0},{"$f":"'Data diagrams (noprint)'!SGH8","v":0},{"$f":"'Data diagrams (noprint)'!SGI8","v":0},{"$f":"'Data diagrams (noprint)'!SGJ8","v":0},{"$f":"'Data diagrams (noprint)'!SGK8","v":0},{"$f":"'Data diagrams (noprint)'!SGL8","v":0},{"$f":"'Data diagrams (noprint)'!SGM8","v":0},{"$f":"'Data diagrams (noprint)'!SGN8","v":0},{"$f":"'Data diagrams (noprint)'!SGO8","v":0},{"$f":"'Data diagrams (noprint)'!SGP8","v":0},{"$f":"'Data diagrams (noprint)'!SGQ8","v":0},{"$f":"'Data diagrams (noprint)'!SGR8","v":0},{"$f":"'Data diagrams (noprint)'!SGS8","v":0},{"$f":"'Data diagrams (noprint)'!SGT8","v":0},{"$f":"'Data diagrams (noprint)'!SGU8","v":0},{"$f":"'Data diagrams (noprint)'!SGV8","v":0},{"$f":"'Data diagrams (noprint)'!SGW8","v":0},{"$f":"'Data diagrams (noprint)'!SGX8","v":0},{"$f":"'Data diagrams (noprint)'!SGY8","v":0},{"$f":"'Data diagrams (noprint)'!SGZ8","v":0},{"$f":"'Data diagrams (noprint)'!SHA8","v":0},{"$f":"'Data diagrams (noprint)'!SHB8","v":0},{"$f":"'Data diagrams (noprint)'!SHC8","v":0},{"$f":"'Data diagrams (noprint)'!SHD8","v":0},{"$f":"'Data diagrams (noprint)'!SHE8","v":0},{"$f":"'Data diagrams (noprint)'!SHF8","v":0},{"$f":"'Data diagrams (noprint)'!SHG8","v":0},{"$f":"'Data diagrams (noprint)'!SHH8","v":0},{"$f":"'Data diagrams (noprint)'!SHI8","v":0},{"$f":"'Data diagrams (noprint)'!SHJ8","v":0},{"$f":"'Data diagrams (noprint)'!SHK8","v":0},{"$f":"'Data diagrams (noprint)'!SHL8","v":0},{"$f":"'Data diagrams (noprint)'!SHM8","v":0},{"$f":"'Data diagrams (noprint)'!SHN8","v":0},{"$f":"'Data diagrams (noprint)'!SHO8","v":0},{"$f":"'Data diagrams (noprint)'!SHP8","v":0},{"$f":"'Data diagrams (noprint)'!SHQ8","v":0},{"$f":"'Data diagrams (noprint)'!SHR8","v":0},{"$f":"'Data diagrams (noprint)'!SHS8","v":0},{"$f":"'Data diagrams (noprint)'!SHT8","v":0},{"$f":"'Data diagrams (noprint)'!SHU8","v":0},{"$f":"'Data diagrams (noprint)'!SHV8","v":0},{"$f":"'Data diagrams (noprint)'!SHW8","v":0},{"$f":"'Data diagrams (noprint)'!SHX8","v":0},{"$f":"'Data diagrams (noprint)'!SHY8","v":0},{"$f":"'Data diagrams (noprint)'!SHZ8","v":0},{"$f":"'Data diagrams (noprint)'!SIA8","v":0},{"$f":"'Data diagrams (noprint)'!SIB8","v":0},{"$f":"'Data diagrams (noprint)'!SIC8","v":0},{"$f":"'Data diagrams (noprint)'!SID8","v":0},{"$f":"'Data diagrams (noprint)'!SIE8","v":0},{"$f":"'Data diagrams (noprint)'!SIF8","v":0},{"$f":"'Data diagrams (noprint)'!SIG8","v":0},{"$f":"'Data diagrams (noprint)'!SIH8","v":0},{"$f":"'Data diagrams (noprint)'!SII8","v":0},{"$f":"'Data diagrams (noprint)'!SIJ8","v":0},{"$f":"'Data diagrams (noprint)'!SIK8","v":0},{"$f":"'Data diagrams (noprint)'!SIL8","v":0},{"$f":"'Data diagrams (noprint)'!SIM8","v":0},{"$f":"'Data diagrams (noprint)'!SIN8","v":0},{"$f":"'Data diagrams (noprint)'!SIO8","v":0},{"$f":"'Data diagrams (noprint)'!SIP8","v":0},{"$f":"'Data diagrams (noprint)'!SIQ8","v":0},{"$f":"'Data diagrams (noprint)'!SIR8","v":0},{"$f":"'Data diagrams (noprint)'!SIS8","v":0},{"$f":"'Data diagrams (noprint)'!SIT8","v":0},{"$f":"'Data diagrams (noprint)'!SIU8","v":0},{"$f":"'Data diagrams (noprint)'!SIV8","v":0},{"$f":"'Data diagrams (noprint)'!SIW8","v":0},{"$f":"'Data diagrams (noprint)'!SIX8","v":0},{"$f":"'Data diagrams (noprint)'!SIY8","v":0},{"$f":"'Data diagrams (noprint)'!SIZ8","v":0},{"$f":"'Data diagrams (noprint)'!SJA8","v":0},{"$f":"'Data diagrams (noprint)'!SJB8","v":0},{"$f":"'Data diagrams (noprint)'!SJC8","v":0},{"$f":"'Data diagrams (noprint)'!SJD8","v":0},{"$f":"'Data diagrams (noprint)'!SJE8","v":0},{"$f":"'Data diagrams (noprint)'!SJF8","v":0},{"$f":"'Data diagrams (noprint)'!SJG8","v":0},{"$f":"'Data diagrams (noprint)'!SJH8","v":0},{"$f":"'Data diagrams (noprint)'!SJI8","v":0},{"$f":"'Data diagrams (noprint)'!SJJ8","v":0},{"$f":"'Data diagrams (noprint)'!SJK8","v":0},{"$f":"'Data diagrams (noprint)'!SJL8","v":0},{"$f":"'Data diagrams (noprint)'!SJM8","v":0},{"$f":"'Data diagrams (noprint)'!SJN8","v":0},{"$f":"'Data diagrams (noprint)'!SJO8","v":0},{"$f":"'Data diagrams (noprint)'!SJP8","v":0},{"$f":"'Data diagrams (noprint)'!SJQ8","v":0},{"$f":"'Data diagrams (noprint)'!SJR8","v":0},{"$f":"'Data diagrams (noprint)'!SJS8","v":0},{"$f":"'Data diagrams (noprint)'!SJT8","v":0},{"$f":"'Data diagrams (noprint)'!SJU8","v":0},{"$f":"'Data diagrams (noprint)'!SJV8","v":0},{"$f":"'Data diagrams (noprint)'!SJW8","v":0},{"$f":"'Data diagrams (noprint)'!SJX8","v":0},{"$f":"'Data diagrams (noprint)'!SJY8","v":0},{"$f":"'Data diagrams (noprint)'!SJZ8","v":0},{"$f":"'Data diagrams (noprint)'!SKA8","v":0},{"$f":"'Data diagrams (noprint)'!SKB8","v":0},{"$f":"'Data diagrams (noprint)'!SKC8","v":0},{"$f":"'Data diagrams (noprint)'!SKD8","v":0},{"$f":"'Data diagrams (noprint)'!SKE8","v":0},{"$f":"'Data diagrams (noprint)'!SKF8","v":0},{"$f":"'Data diagrams (noprint)'!SKG8","v":0},{"$f":"'Data diagrams (noprint)'!SKH8","v":0},{"$f":"'Data diagrams (noprint)'!SKI8","v":0},{"$f":"'Data diagrams (noprint)'!SKJ8","v":0},{"$f":"'Data diagrams (noprint)'!SKK8","v":0},{"$f":"'Data diagrams (noprint)'!SKL8","v":0},{"$f":"'Data diagrams (noprint)'!SKM8","v":0},{"$f":"'Data diagrams (noprint)'!SKN8","v":0},{"$f":"'Data diagrams (noprint)'!SKO8","v":0},{"$f":"'Data diagrams (noprint)'!SKP8","v":0},{"$f":"'Data diagrams (noprint)'!SKQ8","v":0},{"$f":"'Data diagrams (noprint)'!SKR8","v":0},{"$f":"'Data diagrams (noprint)'!SKS8","v":0},{"$f":"'Data diagrams (noprint)'!SKT8","v":0},{"$f":"'Data diagrams (noprint)'!SKU8","v":0},{"$f":"'Data diagrams (noprint)'!SKV8","v":0},{"$f":"'Data diagrams (noprint)'!SKW8","v":0},{"$f":"'Data diagrams (noprint)'!SKX8","v":0},{"$f":"'Data diagrams (noprint)'!SKY8","v":0},{"$f":"'Data diagrams (noprint)'!SKZ8","v":0},{"$f":"'Data diagrams (noprint)'!SLA8","v":0},{"$f":"'Data diagrams (noprint)'!SLB8","v":0},{"$f":"'Data diagrams (noprint)'!SLC8","v":0},{"$f":"'Data diagrams (noprint)'!SLD8","v":0},{"$f":"'Data diagrams (noprint)'!SLE8","v":0},{"$f":"'Data diagrams (noprint)'!SLF8","v":0},{"$f":"'Data diagrams (noprint)'!SLG8","v":0},{"$f":"'Data diagrams (noprint)'!SLH8","v":0},{"$f":"'Data diagrams (noprint)'!SLI8","v":0},{"$f":"'Data diagrams (noprint)'!SLJ8","v":0},{"$f":"'Data diagrams (noprint)'!SLK8","v":0},{"$f":"'Data diagrams (noprint)'!SLL8","v":0},{"$f":"'Data diagrams (noprint)'!SLM8","v":0},{"$f":"'Data diagrams (noprint)'!SLN8","v":0},{"$f":"'Data diagrams (noprint)'!SLO8","v":0},{"$f":"'Data diagrams (noprint)'!SLP8","v":0},{"$f":"'Data diagrams (noprint)'!SLQ8","v":0},{"$f":"'Data diagrams (noprint)'!SLR8","v":0},{"$f":"'Data diagrams (noprint)'!SLS8","v":0},{"$f":"'Data diagrams (noprint)'!SLT8","v":0},{"$f":"'Data diagrams (noprint)'!SLU8","v":0},{"$f":"'Data diagrams (noprint)'!SLV8","v":0},{"$f":"'Data diagrams (noprint)'!SLW8","v":0},{"$f":"'Data diagrams (noprint)'!SLX8","v":0},{"$f":"'Data diagrams (noprint)'!SLY8","v":0},{"$f":"'Data diagrams (noprint)'!SLZ8","v":0},{"$f":"'Data diagrams (noprint)'!SMA8","v":0},{"$f":"'Data diagrams (noprint)'!SMB8","v":0},{"$f":"'Data diagrams (noprint)'!SMC8","v":0},{"$f":"'Data diagrams (noprint)'!SMD8","v":0},{"$f":"'Data diagrams (noprint)'!SME8","v":0},{"$f":"'Data diagrams (noprint)'!SMF8","v":0},{"$f":"'Data diagrams (noprint)'!SMG8","v":0},{"$f":"'Data diagrams (noprint)'!SMH8","v":0},{"$f":"'Data diagrams (noprint)'!SMI8","v":0},{"$f":"'Data diagrams (noprint)'!SMJ8","v":0},{"$f":"'Data diagrams (noprint)'!SMK8","v":0},{"$f":"'Data diagrams (noprint)'!SML8","v":0},{"$f":"'Data diagrams (noprint)'!SMM8","v":0},{"$f":"'Data diagrams (noprint)'!SMN8","v":0},{"$f":"'Data diagrams (noprint)'!SMO8","v":0},{"$f":"'Data diagrams (noprint)'!SMP8","v":0},{"$f":"'Data diagrams (noprint)'!SMQ8","v":0},{"$f":"'Data diagrams (noprint)'!SMR8","v":0},{"$f":"'Data diagrams (noprint)'!SMS8","v":0},{"$f":"'Data diagrams (noprint)'!SMT8","v":0},{"$f":"'Data diagrams (noprint)'!SMU8","v":0},{"$f":"'Data diagrams (noprint)'!SMV8","v":0},{"$f":"'Data diagrams (noprint)'!SMW8","v":0},{"$f":"'Data diagrams (noprint)'!SMX8","v":0},{"$f":"'Data diagrams (noprint)'!SMY8","v":0},{"$f":"'Data diagrams (noprint)'!SMZ8","v":0},{"$f":"'Data diagrams (noprint)'!SNA8","v":0},{"$f":"'Data diagrams (noprint)'!SNB8","v":0},{"$f":"'Data diagrams (noprint)'!SNC8","v":0},{"$f":"'Data diagrams (noprint)'!SND8","v":0},{"$f":"'Data diagrams (noprint)'!SNE8","v":0},{"$f":"'Data diagrams (noprint)'!SNF8","v":0},{"$f":"'Data diagrams (noprint)'!SNG8","v":0},{"$f":"'Data diagrams (noprint)'!SNH8","v":0},{"$f":"'Data diagrams (noprint)'!SNI8","v":0},{"$f":"'Data diagrams (noprint)'!SNJ8","v":0},{"$f":"'Data diagrams (noprint)'!SNK8","v":0},{"$f":"'Data diagrams (noprint)'!SNL8","v":0},{"$f":"'Data diagrams (noprint)'!SNM8","v":0},{"$f":"'Data diagrams (noprint)'!SNN8","v":0},{"$f":"'Data diagrams (noprint)'!SNO8","v":0},{"$f":"'Data diagrams (noprint)'!SNP8","v":0},{"$f":"'Data diagrams (noprint)'!SNQ8","v":0},{"$f":"'Data diagrams (noprint)'!SNR8","v":0},{"$f":"'Data diagrams (noprint)'!SNS8","v":0},{"$f":"'Data diagrams (noprint)'!SNT8","v":0},{"$f":"'Data diagrams (noprint)'!SNU8","v":0},{"$f":"'Data diagrams (noprint)'!SNV8","v":0},{"$f":"'Data diagrams (noprint)'!SNW8","v":0},{"$f":"'Data diagrams (noprint)'!SNX8","v":0},{"$f":"'Data diagrams (noprint)'!SNY8","v":0},{"$f":"'Data diagrams (noprint)'!SNZ8","v":0},{"$f":"'Data diagrams (noprint)'!SOA8","v":0},{"$f":"'Data diagrams (noprint)'!SOB8","v":0},{"$f":"'Data diagrams (noprint)'!SOC8","v":0},{"$f":"'Data diagrams (noprint)'!SOD8","v":0},{"$f":"'Data diagrams (noprint)'!SOE8","v":0},{"$f":"'Data diagrams (noprint)'!SOF8","v":0},{"$f":"'Data diagrams (noprint)'!SOG8","v":0},{"$f":"'Data diagrams (noprint)'!SOH8","v":0},{"$f":"'Data diagrams (noprint)'!SOI8","v":0},{"$f":"'Data diagrams (noprint)'!SOJ8","v":0},{"$f":"'Data diagrams (noprint)'!SOK8","v":0},{"$f":"'Data diagrams (noprint)'!SOL8","v":0},{"$f":"'Data diagrams (noprint)'!SOM8","v":0},{"$f":"'Data diagrams (noprint)'!SON8","v":0},{"$f":"'Data diagrams (noprint)'!SOO8","v":0},{"$f":"'Data diagrams (noprint)'!SOP8","v":0},{"$f":"'Data diagrams (noprint)'!SOQ8","v":0},{"$f":"'Data diagrams (noprint)'!SOR8","v":0},{"$f":"'Data diagrams (noprint)'!SOS8","v":0},{"$f":"'Data diagrams (noprint)'!SOT8","v":0},{"$f":"'Data diagrams (noprint)'!SOU8","v":0},{"$f":"'Data diagrams (noprint)'!SOV8","v":0},{"$f":"'Data diagrams (noprint)'!SOW8","v":0},{"$f":"'Data diagrams (noprint)'!SOX8","v":0},{"$f":"'Data diagrams (noprint)'!SOY8","v":0},{"$f":"'Data diagrams (noprint)'!SOZ8","v":0},{"$f":"'Data diagrams (noprint)'!SPA8","v":0},{"$f":"'Data diagrams (noprint)'!SPB8","v":0},{"$f":"'Data diagrams (noprint)'!SPC8","v":0},{"$f":"'Data diagrams (noprint)'!SPD8","v":0},{"$f":"'Data diagrams (noprint)'!SPE8","v":0},{"$f":"'Data diagrams (noprint)'!SPF8","v":0},{"$f":"'Data diagrams (noprint)'!SPG8","v":0},{"$f":"'Data diagrams (noprint)'!SPH8","v":0},{"$f":"'Data diagrams (noprint)'!SPI8","v":0},{"$f":"'Data diagrams (noprint)'!SPJ8","v":0},{"$f":"'Data diagrams (noprint)'!SPK8","v":0},{"$f":"'Data diagrams (noprint)'!SPL8","v":0},{"$f":"'Data diagrams (noprint)'!SPM8","v":0},{"$f":"'Data diagrams (noprint)'!SPN8","v":0},{"$f":"'Data diagrams (noprint)'!SPO8","v":0},{"$f":"'Data diagrams (noprint)'!SPP8","v":0},{"$f":"'Data diagrams (noprint)'!SPQ8","v":0},{"$f":"'Data diagrams (noprint)'!SPR8","v":0},{"$f":"'Data diagrams (noprint)'!SPS8","v":0},{"$f":"'Data diagrams (noprint)'!SPT8","v":0},{"$f":"'Data diagrams (noprint)'!SPU8","v":0},{"$f":"'Data diagrams (noprint)'!SPV8","v":0},{"$f":"'Data diagrams (noprint)'!SPW8","v":0},{"$f":"'Data diagrams (noprint)'!SPX8","v":0},{"$f":"'Data diagrams (noprint)'!SPY8","v":0},{"$f":"'Data diagrams (noprint)'!SPZ8","v":0},{"$f":"'Data diagrams (noprint)'!SQA8","v":0},{"$f":"'Data diagrams (noprint)'!SQB8","v":0},{"$f":"'Data diagrams (noprint)'!SQC8","v":0},{"$f":"'Data diagrams (noprint)'!SQD8","v":0},{"$f":"'Data diagrams (noprint)'!SQE8","v":0},{"$f":"'Data diagrams (noprint)'!SQF8","v":0},{"$f":"'Data diagrams (noprint)'!SQG8","v":0},{"$f":"'Data diagrams (noprint)'!SQH8","v":0},{"$f":"'Data diagrams (noprint)'!SQI8","v":0},{"$f":"'Data diagrams (noprint)'!SQJ8","v":0},{"$f":"'Data diagrams (noprint)'!SQK8","v":0},{"$f":"'Data diagrams (noprint)'!SQL8","v":0},{"$f":"'Data diagrams (noprint)'!SQM8","v":0},{"$f":"'Data diagrams (noprint)'!SQN8","v":0},{"$f":"'Data diagrams (noprint)'!SQO8","v":0},{"$f":"'Data diagrams (noprint)'!SQP8","v":0},{"$f":"'Data diagrams (noprint)'!SQQ8","v":0},{"$f":"'Data diagrams (noprint)'!SQR8","v":0},{"$f":"'Data diagrams (noprint)'!SQS8","v":0},{"$f":"'Data diagrams (noprint)'!SQT8","v":0},{"$f":"'Data diagrams (noprint)'!SQU8","v":0},{"$f":"'Data diagrams (noprint)'!SQV8","v":0},{"$f":"'Data diagrams (noprint)'!SQW8","v":0},{"$f":"'Data diagrams (noprint)'!SQX8","v":0},{"$f":"'Data diagrams (noprint)'!SQY8","v":0},{"$f":"'Data diagrams (noprint)'!SQZ8","v":0},{"$f":"'Data diagrams (noprint)'!SRA8","v":0},{"$f":"'Data diagrams (noprint)'!SRB8","v":0},{"$f":"'Data diagrams (noprint)'!SRC8","v":0},{"$f":"'Data diagrams (noprint)'!SRD8","v":0},{"$f":"'Data diagrams (noprint)'!SRE8","v":0},{"$f":"'Data diagrams (noprint)'!SRF8","v":0},{"$f":"'Data diagrams (noprint)'!SRG8","v":0},{"$f":"'Data diagrams (noprint)'!SRH8","v":0},{"$f":"'Data diagrams (noprint)'!SRI8","v":0},{"$f":"'Data diagrams (noprint)'!SRJ8","v":0},{"$f":"'Data diagrams (noprint)'!SRK8","v":0},{"$f":"'Data diagrams (noprint)'!SRL8","v":0},{"$f":"'Data diagrams (noprint)'!SRM8","v":0},{"$f":"'Data diagrams (noprint)'!SRN8","v":0},{"$f":"'Data diagrams (noprint)'!SRO8","v":0},{"$f":"'Data diagrams (noprint)'!SRP8","v":0},{"$f":"'Data diagrams (noprint)'!SRQ8","v":0},{"$f":"'Data diagrams (noprint)'!SRR8","v":0},{"$f":"'Data diagrams (noprint)'!SRS8","v":0},{"$f":"'Data diagrams (noprint)'!SRT8","v":0},{"$f":"'Data diagrams (noprint)'!SRU8","v":0},{"$f":"'Data diagrams (noprint)'!SRV8","v":0},{"$f":"'Data diagrams (noprint)'!SRW8","v":0},{"$f":"'Data diagrams (noprint)'!SRX8","v":0},{"$f":"'Data diagrams (noprint)'!SRY8","v":0},{"$f":"'Data diagrams (noprint)'!SRZ8","v":0},{"$f":"'Data diagrams (noprint)'!SSA8","v":0},{"$f":"'Data diagrams (noprint)'!SSB8","v":0},{"$f":"'Data diagrams (noprint)'!SSC8","v":0},{"$f":"'Data diagrams (noprint)'!SSD8","v":0},{"$f":"'Data diagrams (noprint)'!SSE8","v":0},{"$f":"'Data diagrams (noprint)'!SSF8","v":0},{"$f":"'Data diagrams (noprint)'!SSG8","v":0},{"$f":"'Data diagrams (noprint)'!SSH8","v":0},{"$f":"'Data diagrams (noprint)'!SSI8","v":0},{"$f":"'Data diagrams (noprint)'!SSJ8","v":0},{"$f":"'Data diagrams (noprint)'!SSK8","v":0},{"$f":"'Data diagrams (noprint)'!SSL8","v":0},{"$f":"'Data diagrams (noprint)'!SSM8","v":0},{"$f":"'Data diagrams (noprint)'!SSN8","v":0},{"$f":"'Data diagrams (noprint)'!SSO8","v":0},{"$f":"'Data diagrams (noprint)'!SSP8","v":0},{"$f":"'Data diagrams (noprint)'!SSQ8","v":0},{"$f":"'Data diagrams (noprint)'!SSR8","v":0},{"$f":"'Data diagrams (noprint)'!SSS8","v":0},{"$f":"'Data diagrams (noprint)'!SST8","v":0},{"$f":"'Data diagrams (noprint)'!SSU8","v":0},{"$f":"'Data diagrams (noprint)'!SSV8","v":0},{"$f":"'Data diagrams (noprint)'!SSW8","v":0},{"$f":"'Data diagrams (noprint)'!SSX8","v":0},{"$f":"'Data diagrams (noprint)'!SSY8","v":0},{"$f":"'Data diagrams (noprint)'!SSZ8","v":0},{"$f":"'Data diagrams (noprint)'!STA8","v":0},{"$f":"'Data diagrams (noprint)'!STB8","v":0},{"$f":"'Data diagrams (noprint)'!STC8","v":0},{"$f":"'Data diagrams (noprint)'!STD8","v":0},{"$f":"'Data diagrams (noprint)'!STE8","v":0},{"$f":"'Data diagrams (noprint)'!STF8","v":0},{"$f":"'Data diagrams (noprint)'!STG8","v":0},{"$f":"'Data diagrams (noprint)'!STH8","v":0},{"$f":"'Data diagrams (noprint)'!STI8","v":0},{"$f":"'Data diagrams (noprint)'!STJ8","v":0},{"$f":"'Data diagrams (noprint)'!STK8","v":0},{"$f":"'Data diagrams (noprint)'!STL8","v":0},{"$f":"'Data diagrams (noprint)'!STM8","v":0},{"$f":"'Data diagrams (noprint)'!STN8","v":0},{"$f":"'Data diagrams (noprint)'!STO8","v":0},{"$f":"'Data diagrams (noprint)'!STP8","v":0},{"$f":"'Data diagrams (noprint)'!STQ8","v":0},{"$f":"'Data diagrams (noprint)'!STR8","v":0},{"$f":"'Data diagrams (noprint)'!STS8","v":0},{"$f":"'Data diagrams (noprint)'!STT8","v":0},{"$f":"'Data diagrams (noprint)'!STU8","v":0},{"$f":"'Data diagrams (noprint)'!STV8","v":0},{"$f":"'Data diagrams (noprint)'!STW8","v":0},{"$f":"'Data diagrams (noprint)'!STX8","v":0},{"$f":"'Data diagrams (noprint)'!STY8","v":0},{"$f":"'Data diagrams (noprint)'!STZ8","v":0},{"$f":"'Data diagrams (noprint)'!SUA8","v":0},{"$f":"'Data diagrams (noprint)'!SUB8","v":0},{"$f":"'Data diagrams (noprint)'!SUC8","v":0},{"$f":"'Data diagrams (noprint)'!SUD8","v":0},{"$f":"'Data diagrams (noprint)'!SUE8","v":0},{"$f":"'Data diagrams (noprint)'!SUF8","v":0},{"$f":"'Data diagrams (noprint)'!SUG8","v":0},{"$f":"'Data diagrams (noprint)'!SUH8","v":0},{"$f":"'Data diagrams (noprint)'!SUI8","v":0},{"$f":"'Data diagrams (noprint)'!SUJ8","v":0},{"$f":"'Data diagrams (noprint)'!SUK8","v":0},{"$f":"'Data diagrams (noprint)'!SUL8","v":0},{"$f":"'Data diagrams (noprint)'!SUM8","v":0},{"$f":"'Data diagrams (noprint)'!SUN8","v":0},{"$f":"'Data diagrams (noprint)'!SUO8","v":0},{"$f":"'Data diagrams (noprint)'!SUP8","v":0},{"$f":"'Data diagrams (noprint)'!SUQ8","v":0},{"$f":"'Data diagrams (noprint)'!SUR8","v":0},{"$f":"'Data diagrams (noprint)'!SUS8","v":0},{"$f":"'Data diagrams (noprint)'!SUT8","v":0},{"$f":"'Data diagrams (noprint)'!SUU8","v":0},{"$f":"'Data diagrams (noprint)'!SUV8","v":0},{"$f":"'Data diagrams (noprint)'!SUW8","v":0},{"$f":"'Data diagrams (noprint)'!SUX8","v":0},{"$f":"'Data diagrams (noprint)'!SUY8","v":0},{"$f":"'Data diagrams (noprint)'!SUZ8","v":0},{"$f":"'Data diagrams (noprint)'!SVA8","v":0},{"$f":"'Data diagrams (noprint)'!SVB8","v":0},{"$f":"'Data diagrams (noprint)'!SVC8","v":0},{"$f":"'Data diagrams (noprint)'!SVD8","v":0},{"$f":"'Data diagrams (noprint)'!SVE8","v":0},{"$f":"'Data diagrams (noprint)'!SVF8","v":0},{"$f":"'Data diagrams (noprint)'!SVG8","v":0},{"$f":"'Data diagrams (noprint)'!SVH8","v":0},{"$f":"'Data diagrams (noprint)'!SVI8","v":0},{"$f":"'Data diagrams (noprint)'!SVJ8","v":0},{"$f":"'Data diagrams (noprint)'!SVK8","v":0},{"$f":"'Data diagrams (noprint)'!SVL8","v":0},{"$f":"'Data diagrams (noprint)'!SVM8","v":0},{"$f":"'Data diagrams (noprint)'!SVN8","v":0},{"$f":"'Data diagrams (noprint)'!SVO8","v":0},{"$f":"'Data diagrams (noprint)'!SVP8","v":0},{"$f":"'Data diagrams (noprint)'!SVQ8","v":0},{"$f":"'Data diagrams (noprint)'!SVR8","v":0},{"$f":"'Data diagrams (noprint)'!SVS8","v":0},{"$f":"'Data diagrams (noprint)'!SVT8","v":0},{"$f":"'Data diagrams (noprint)'!SVU8","v":0},{"$f":"'Data diagrams (noprint)'!SVV8","v":0},{"$f":"'Data diagrams (noprint)'!SVW8","v":0},{"$f":"'Data diagrams (noprint)'!SVX8","v":0},{"$f":"'Data diagrams (noprint)'!SVY8","v":0},{"$f":"'Data diagrams (noprint)'!SVZ8","v":0},{"$f":"'Data diagrams (noprint)'!SWA8","v":0},{"$f":"'Data diagrams (noprint)'!SWB8","v":0},{"$f":"'Data diagrams (noprint)'!SWC8","v":0},{"$f":"'Data diagrams (noprint)'!SWD8","v":0},{"$f":"'Data diagrams (noprint)'!SWE8","v":0},{"$f":"'Data diagrams (noprint)'!SWF8","v":0},{"$f":"'Data diagrams (noprint)'!SWG8","v":0},{"$f":"'Data diagrams (noprint)'!SWH8","v":0},{"$f":"'Data diagrams (noprint)'!SWI8","v":0},{"$f":"'Data diagrams (noprint)'!SWJ8","v":0},{"$f":"'Data diagrams (noprint)'!SWK8","v":0},{"$f":"'Data diagrams (noprint)'!SWL8","v":0},{"$f":"'Data diagrams (noprint)'!SWM8","v":0},{"$f":"'Data diagrams (noprint)'!SWN8","v":0},{"$f":"'Data diagrams (noprint)'!SWO8","v":0},{"$f":"'Data diagrams (noprint)'!SWP8","v":0},{"$f":"'Data diagrams (noprint)'!SWQ8","v":0},{"$f":"'Data diagrams (noprint)'!SWR8","v":0},{"$f":"'Data diagrams (noprint)'!SWS8","v":0},{"$f":"'Data diagrams (noprint)'!SWT8","v":0},{"$f":"'Data diagrams (noprint)'!SWU8","v":0},{"$f":"'Data diagrams (noprint)'!SWV8","v":0},{"$f":"'Data diagrams (noprint)'!SWW8","v":0},{"$f":"'Data diagrams (noprint)'!SWX8","v":0},{"$f":"'Data diagrams (noprint)'!SWY8","v":0},{"$f":"'Data diagrams (noprint)'!SWZ8","v":0},{"$f":"'Data diagrams (noprint)'!SXA8","v":0},{"$f":"'Data diagrams (noprint)'!SXB8","v":0},{"$f":"'Data diagrams (noprint)'!SXC8","v":0},{"$f":"'Data diagrams (noprint)'!SXD8","v":0},{"$f":"'Data diagrams (noprint)'!SXE8","v":0},{"$f":"'Data diagrams (noprint)'!SXF8","v":0},{"$f":"'Data diagrams (noprint)'!SXG8","v":0},{"$f":"'Data diagrams (noprint)'!SXH8","v":0},{"$f":"'Data diagrams (noprint)'!SXI8","v":0},{"$f":"'Data diagrams (noprint)'!SXJ8","v":0},{"$f":"'Data diagrams (noprint)'!SXK8","v":0},{"$f":"'Data diagrams (noprint)'!SXL8","v":0},{"$f":"'Data diagrams (noprint)'!SXM8","v":0},{"$f":"'Data diagrams (noprint)'!SXN8","v":0},{"$f":"'Data diagrams (noprint)'!SXO8","v":0},{"$f":"'Data diagrams (noprint)'!SXP8","v":0},{"$f":"'Data diagrams (noprint)'!SXQ8","v":0},{"$f":"'Data diagrams (noprint)'!SXR8","v":0},{"$f":"'Data diagrams (noprint)'!SXS8","v":0},{"$f":"'Data diagrams (noprint)'!SXT8","v":0},{"$f":"'Data diagrams (noprint)'!SXU8","v":0},{"$f":"'Data diagrams (noprint)'!SXV8","v":0},{"$f":"'Data diagrams (noprint)'!SXW8","v":0},{"$f":"'Data diagrams (noprint)'!SXX8","v":0},{"$f":"'Data diagrams (noprint)'!SXY8","v":0},{"$f":"'Data diagrams (noprint)'!SXZ8","v":0},{"$f":"'Data diagrams (noprint)'!SYA8","v":0},{"$f":"'Data diagrams (noprint)'!SYB8","v":0},{"$f":"'Data diagrams (noprint)'!SYC8","v":0},{"$f":"'Data diagrams (noprint)'!SYD8","v":0},{"$f":"'Data diagrams (noprint)'!SYE8","v":0},{"$f":"'Data diagrams (noprint)'!SYF8","v":0},{"$f":"'Data diagrams (noprint)'!SYG8","v":0},{"$f":"'Data diagrams (noprint)'!SYH8","v":0},{"$f":"'Data diagrams (noprint)'!SYI8","v":0},{"$f":"'Data diagrams (noprint)'!SYJ8","v":0},{"$f":"'Data diagrams (noprint)'!SYK8","v":0},{"$f":"'Data diagrams (noprint)'!SYL8","v":0},{"$f":"'Data diagrams (noprint)'!SYM8","v":0},{"$f":"'Data diagrams (noprint)'!SYN8","v":0},{"$f":"'Data diagrams (noprint)'!SYO8","v":0},{"$f":"'Data diagrams (noprint)'!SYP8","v":0},{"$f":"'Data diagrams (noprint)'!SYQ8","v":0},{"$f":"'Data diagrams (noprint)'!SYR8","v":0},{"$f":"'Data diagrams (noprint)'!SYS8","v":0},{"$f":"'Data diagrams (noprint)'!SYT8","v":0},{"$f":"'Data diagrams (noprint)'!SYU8","v":0},{"$f":"'Data diagrams (noprint)'!SYV8","v":0},{"$f":"'Data diagrams (noprint)'!SYW8","v":0},{"$f":"'Data diagrams (noprint)'!SYX8","v":0},{"$f":"'Data diagrams (noprint)'!SYY8","v":0},{"$f":"'Data diagrams (noprint)'!SYZ8","v":0},{"$f":"'Data diagrams (noprint)'!SZA8","v":0},{"$f":"'Data diagrams (noprint)'!SZB8","v":0},{"$f":"'Data diagrams (noprint)'!SZC8","v":0},{"$f":"'Data diagrams (noprint)'!SZD8","v":0},{"$f":"'Data diagrams (noprint)'!SZE8","v":0},{"$f":"'Data diagrams (noprint)'!SZF8","v":0},{"$f":"'Data diagrams (noprint)'!SZG8","v":0},{"$f":"'Data diagrams (noprint)'!SZH8","v":0},{"$f":"'Data diagrams (noprint)'!SZI8","v":0},{"$f":"'Data diagrams (noprint)'!SZJ8","v":0},{"$f":"'Data diagrams (noprint)'!SZK8","v":0},{"$f":"'Data diagrams (noprint)'!SZL8","v":0},{"$f":"'Data diagrams (noprint)'!SZM8","v":0},{"$f":"'Data diagrams (noprint)'!SZN8","v":0},{"$f":"'Data diagrams (noprint)'!SZO8","v":0},{"$f":"'Data diagrams (noprint)'!SZP8","v":0},{"$f":"'Data diagrams (noprint)'!SZQ8","v":0},{"$f":"'Data diagrams (noprint)'!SZR8","v":0},{"$f":"'Data diagrams (noprint)'!SZS8","v":0},{"$f":"'Data diagrams (noprint)'!SZT8","v":0},{"$f":"'Data diagrams (noprint)'!SZU8","v":0},{"$f":"'Data diagrams (noprint)'!SZV8","v":0},{"$f":"'Data diagrams (noprint)'!SZW8","v":0},{"$f":"'Data diagrams (noprint)'!SZX8","v":0},{"$f":"'Data diagrams (noprint)'!SZY8","v":0},{"$f":"'Data diagrams (noprint)'!SZZ8","v":0},{"$f":"'Data diagrams (noprint)'!TAA8","v":0},{"$f":"'Data diagrams (noprint)'!TAB8","v":0},{"$f":"'Data diagrams (noprint)'!TAC8","v":0},{"$f":"'Data diagrams (noprint)'!TAD8","v":0},{"$f":"'Data diagrams (noprint)'!TAE8","v":0},{"$f":"'Data diagrams (noprint)'!TAF8","v":0},{"$f":"'Data diagrams (noprint)'!TAG8","v":0},{"$f":"'Data diagrams (noprint)'!TAH8","v":0},{"$f":"'Data diagrams (noprint)'!TAI8","v":0},{"$f":"'Data diagrams (noprint)'!TAJ8","v":0},{"$f":"'Data diagrams (noprint)'!TAK8","v":0},{"$f":"'Data diagrams (noprint)'!TAL8","v":0},{"$f":"'Data diagrams (noprint)'!TAM8","v":0},{"$f":"'Data diagrams (noprint)'!TAN8","v":0},{"$f":"'Data diagrams (noprint)'!TAO8","v":0},{"$f":"'Data diagrams (noprint)'!TAP8","v":0},{"$f":"'Data diagrams (noprint)'!TAQ8","v":0},{"$f":"'Data diagrams (noprint)'!TAR8","v":0},{"$f":"'Data diagrams (noprint)'!TAS8","v":0},{"$f":"'Data diagrams (noprint)'!TAT8","v":0},{"$f":"'Data diagrams (noprint)'!TAU8","v":0},{"$f":"'Data diagrams (noprint)'!TAV8","v":0},{"$f":"'Data diagrams (noprint)'!TAW8","v":0},{"$f":"'Data diagrams (noprint)'!TAX8","v":0},{"$f":"'Data diagrams (noprint)'!TAY8","v":0},{"$f":"'Data diagrams (noprint)'!TAZ8","v":0},{"$f":"'Data diagrams (noprint)'!TBA8","v":0},{"$f":"'Data diagrams (noprint)'!TBB8","v":0},{"$f":"'Data diagrams (noprint)'!TBC8","v":0},{"$f":"'Data diagrams (noprint)'!TBD8","v":0},{"$f":"'Data diagrams (noprint)'!TBE8","v":0},{"$f":"'Data diagrams (noprint)'!TBF8","v":0},{"$f":"'Data diagrams (noprint)'!TBG8","v":0},{"$f":"'Data diagrams (noprint)'!TBH8","v":0},{"$f":"'Data diagrams (noprint)'!TBI8","v":0},{"$f":"'Data diagrams (noprint)'!TBJ8","v":0},{"$f":"'Data diagrams (noprint)'!TBK8","v":0},{"$f":"'Data diagrams (noprint)'!TBL8","v":0},{"$f":"'Data diagrams (noprint)'!TBM8","v":0},{"$f":"'Data diagrams (noprint)'!TBN8","v":0},{"$f":"'Data diagrams (noprint)'!TBO8","v":0},{"$f":"'Data diagrams (noprint)'!TBP8","v":0},{"$f":"'Data diagrams (noprint)'!TBQ8","v":0},{"$f":"'Data diagrams (noprint)'!TBR8","v":0},{"$f":"'Data diagrams (noprint)'!TBS8","v":0},{"$f":"'Data diagrams (noprint)'!TBT8","v":0},{"$f":"'Data diagrams (noprint)'!TBU8","v":0},{"$f":"'Data diagrams (noprint)'!TBV8","v":0},{"$f":"'Data diagrams (noprint)'!TBW8","v":0},{"$f":"'Data diagrams (noprint)'!TBX8","v":0},{"$f":"'Data diagrams (noprint)'!TBY8","v":0},{"$f":"'Data diagrams (noprint)'!TBZ8","v":0},{"$f":"'Data diagrams (noprint)'!TCA8","v":0},{"$f":"'Data diagrams (noprint)'!TCB8","v":0},{"$f":"'Data diagrams (noprint)'!TCC8","v":0},{"$f":"'Data diagrams (noprint)'!TCD8","v":0},{"$f":"'Data diagrams (noprint)'!TCE8","v":0},{"$f":"'Data diagrams (noprint)'!TCF8","v":0},{"$f":"'Data diagrams (noprint)'!TCG8","v":0},{"$f":"'Data diagrams (noprint)'!TCH8","v":0},{"$f":"'Data diagrams (noprint)'!TCI8","v":0},{"$f":"'Data diagrams (noprint)'!TCJ8","v":0},{"$f":"'Data diagrams (noprint)'!TCK8","v":0},{"$f":"'Data diagrams (noprint)'!TCL8","v":0},{"$f":"'Data diagrams (noprint)'!TCM8","v":0},{"$f":"'Data diagrams (noprint)'!TCN8","v":0},{"$f":"'Data diagrams (noprint)'!TCO8","v":0},{"$f":"'Data diagrams (noprint)'!TCP8","v":0},{"$f":"'Data diagrams (noprint)'!TCQ8","v":0},{"$f":"'Data diagrams (noprint)'!TCR8","v":0},{"$f":"'Data diagrams (noprint)'!TCS8","v":0},{"$f":"'Data diagrams (noprint)'!TCT8","v":0},{"$f":"'Data diagrams (noprint)'!TCU8","v":0},{"$f":"'Data diagrams (noprint)'!TCV8","v":0},{"$f":"'Data diagrams (noprint)'!TCW8","v":0},{"$f":"'Data diagrams (noprint)'!TCX8","v":0},{"$f":"'Data diagrams (noprint)'!TCY8","v":0},{"$f":"'Data diagrams (noprint)'!TCZ8","v":0},{"$f":"'Data diagrams (noprint)'!TDA8","v":0},{"$f":"'Data diagrams (noprint)'!TDB8","v":0},{"$f":"'Data diagrams (noprint)'!TDC8","v":0},{"$f":"'Data diagrams (noprint)'!TDD8","v":0},{"$f":"'Data diagrams (noprint)'!TDE8","v":0},{"$f":"'Data diagrams (noprint)'!TDF8","v":0},{"$f":"'Data diagrams (noprint)'!TDG8","v":0},{"$f":"'Data diagrams (noprint)'!TDH8","v":0},{"$f":"'Data diagrams (noprint)'!TDI8","v":0},{"$f":"'Data diagrams (noprint)'!TDJ8","v":0},{"$f":"'Data diagrams (noprint)'!TDK8","v":0},{"$f":"'Data diagrams (noprint)'!TDL8","v":0},{"$f":"'Data diagrams (noprint)'!TDM8","v":0},{"$f":"'Data diagrams (noprint)'!TDN8","v":0},{"$f":"'Data diagrams (noprint)'!TDO8","v":0},{"$f":"'Data diagrams (noprint)'!TDP8","v":0},{"$f":"'Data diagrams (noprint)'!TDQ8","v":0},{"$f":"'Data diagrams (noprint)'!TDR8","v":0},{"$f":"'Data diagrams (noprint)'!TDS8","v":0},{"$f":"'Data diagrams (noprint)'!TDT8","v":0},{"$f":"'Data diagrams (noprint)'!TDU8","v":0},{"$f":"'Data diagrams (noprint)'!TDV8","v":0},{"$f":"'Data diagrams (noprint)'!TDW8","v":0},{"$f":"'Data diagrams (noprint)'!TDX8","v":0},{"$f":"'Data diagrams (noprint)'!TDY8","v":0},{"$f":"'Data diagrams (noprint)'!TDZ8","v":0},{"$f":"'Data diagrams (noprint)'!TEA8","v":0},{"$f":"'Data diagrams (noprint)'!TEB8","v":0},{"$f":"'Data diagrams (noprint)'!TEC8","v":0},{"$f":"'Data diagrams (noprint)'!TED8","v":0},{"$f":"'Data diagrams (noprint)'!TEE8","v":0},{"$f":"'Data diagrams (noprint)'!TEF8","v":0},{"$f":"'Data diagrams (noprint)'!TEG8","v":0},{"$f":"'Data diagrams (noprint)'!TEH8","v":0},{"$f":"'Data diagrams (noprint)'!TEI8","v":0},{"$f":"'Data diagrams (noprint)'!TEJ8","v":0},{"$f":"'Data diagrams (noprint)'!TEK8","v":0},{"$f":"'Data diagrams (noprint)'!TEL8","v":0},{"$f":"'Data diagrams (noprint)'!TEM8","v":0},{"$f":"'Data diagrams (noprint)'!TEN8","v":0},{"$f":"'Data diagrams (noprint)'!TEO8","v":0},{"$f":"'Data diagrams (noprint)'!TEP8","v":0},{"$f":"'Data diagrams (noprint)'!TEQ8","v":0},{"$f":"'Data diagrams (noprint)'!TER8","v":0},{"$f":"'Data diagrams (noprint)'!TES8","v":0},{"$f":"'Data diagrams (noprint)'!TET8","v":0},{"$f":"'Data diagrams (noprint)'!TEU8","v":0},{"$f":"'Data diagrams (noprint)'!TEV8","v":0},{"$f":"'Data diagrams (noprint)'!TEW8","v":0},{"$f":"'Data diagrams (noprint)'!TEX8","v":0},{"$f":"'Data diagrams (noprint)'!TEY8","v":0},{"$f":"'Data diagrams (noprint)'!TEZ8","v":0},{"$f":"'Data diagrams (noprint)'!TFA8","v":0},{"$f":"'Data diagrams (noprint)'!TFB8","v":0},{"$f":"'Data diagrams (noprint)'!TFC8","v":0},{"$f":"'Data diagrams (noprint)'!TFD8","v":0},{"$f":"'Data diagrams (noprint)'!TFE8","v":0},{"$f":"'Data diagrams (noprint)'!TFF8","v":0},{"$f":"'Data diagrams (noprint)'!TFG8","v":0},{"$f":"'Data diagrams (noprint)'!TFH8","v":0},{"$f":"'Data diagrams (noprint)'!TFI8","v":0},{"$f":"'Data diagrams (noprint)'!TFJ8","v":0},{"$f":"'Data diagrams (noprint)'!TFK8","v":0},{"$f":"'Data diagrams (noprint)'!TFL8","v":0},{"$f":"'Data diagrams (noprint)'!TFM8","v":0},{"$f":"'Data diagrams (noprint)'!TFN8","v":0},{"$f":"'Data diagrams (noprint)'!TFO8","v":0},{"$f":"'Data diagrams (noprint)'!TFP8","v":0},{"$f":"'Data diagrams (noprint)'!TFQ8","v":0},{"$f":"'Data diagrams (noprint)'!TFR8","v":0},{"$f":"'Data diagrams (noprint)'!TFS8","v":0},{"$f":"'Data diagrams (noprint)'!TFT8","v":0},{"$f":"'Data diagrams (noprint)'!TFU8","v":0},{"$f":"'Data diagrams (noprint)'!TFV8","v":0},{"$f":"'Data diagrams (noprint)'!TFW8","v":0},{"$f":"'Data diagrams (noprint)'!TFX8","v":0},{"$f":"'Data diagrams (noprint)'!TFY8","v":0},{"$f":"'Data diagrams (noprint)'!TFZ8","v":0},{"$f":"'Data diagrams (noprint)'!TGA8","v":0},{"$f":"'Data diagrams (noprint)'!TGB8","v":0},{"$f":"'Data diagrams (noprint)'!TGC8","v":0},{"$f":"'Data diagrams (noprint)'!TGD8","v":0},{"$f":"'Data diagrams (noprint)'!TGE8","v":0},{"$f":"'Data diagrams (noprint)'!TGF8","v":0},{"$f":"'Data diagrams (noprint)'!TGG8","v":0},{"$f":"'Data diagrams (noprint)'!TGH8","v":0},{"$f":"'Data diagrams (noprint)'!TGI8","v":0},{"$f":"'Data diagrams (noprint)'!TGJ8","v":0},{"$f":"'Data diagrams (noprint)'!TGK8","v":0},{"$f":"'Data diagrams (noprint)'!TGL8","v":0},{"$f":"'Data diagrams (noprint)'!TGM8","v":0},{"$f":"'Data diagrams (noprint)'!TGN8","v":0},{"$f":"'Data diagrams (noprint)'!TGO8","v":0},{"$f":"'Data diagrams (noprint)'!TGP8","v":0},{"$f":"'Data diagrams (noprint)'!TGQ8","v":0},{"$f":"'Data diagrams (noprint)'!TGR8","v":0},{"$f":"'Data diagrams (noprint)'!TGS8","v":0},{"$f":"'Data diagrams (noprint)'!TGT8","v":0},{"$f":"'Data diagrams (noprint)'!TGU8","v":0},{"$f":"'Data diagrams (noprint)'!TGV8","v":0},{"$f":"'Data diagrams (noprint)'!TGW8","v":0},{"$f":"'Data diagrams (noprint)'!TGX8","v":0},{"$f":"'Data diagrams (noprint)'!TGY8","v":0},{"$f":"'Data diagrams (noprint)'!TGZ8","v":0},{"$f":"'Data diagrams (noprint)'!THA8","v":0},{"$f":"'Data diagrams (noprint)'!THB8","v":0},{"$f":"'Data diagrams (noprint)'!THC8","v":0},{"$f":"'Data diagrams (noprint)'!THD8","v":0},{"$f":"'Data diagrams (noprint)'!THE8","v":0},{"$f":"'Data diagrams (noprint)'!THF8","v":0},{"$f":"'Data diagrams (noprint)'!THG8","v":0},{"$f":"'Data diagrams (noprint)'!THH8","v":0},{"$f":"'Data diagrams (noprint)'!THI8","v":0},{"$f":"'Data diagrams (noprint)'!THJ8","v":0},{"$f":"'Data diagrams (noprint)'!THK8","v":0},{"$f":"'Data diagrams (noprint)'!THL8","v":0},{"$f":"'Data diagrams (noprint)'!THM8","v":0},{"$f":"'Data diagrams (noprint)'!THN8","v":0},{"$f":"'Data diagrams (noprint)'!THO8","v":0},{"$f":"'Data diagrams (noprint)'!THP8","v":0},{"$f":"'Data diagrams (noprint)'!THQ8","v":0},{"$f":"'Data diagrams (noprint)'!THR8","v":0},{"$f":"'Data diagrams (noprint)'!THS8","v":0},{"$f":"'Data diagrams (noprint)'!THT8","v":0},{"$f":"'Data diagrams (noprint)'!THU8","v":0},{"$f":"'Data diagrams (noprint)'!THV8","v":0},{"$f":"'Data diagrams (noprint)'!THW8","v":0},{"$f":"'Data diagrams (noprint)'!THX8","v":0},{"$f":"'Data diagrams (noprint)'!THY8","v":0},{"$f":"'Data diagrams (noprint)'!THZ8","v":0},{"$f":"'Data diagrams (noprint)'!TIA8","v":0},{"$f":"'Data diagrams (noprint)'!TIB8","v":0},{"$f":"'Data diagrams (noprint)'!TIC8","v":0},{"$f":"'Data diagrams (noprint)'!TID8","v":0},{"$f":"'Data diagrams (noprint)'!TIE8","v":0},{"$f":"'Data diagrams (noprint)'!TIF8","v":0},{"$f":"'Data diagrams (noprint)'!TIG8","v":0},{"$f":"'Data diagrams (noprint)'!TIH8","v":0},{"$f":"'Data diagrams (noprint)'!TII8","v":0},{"$f":"'Data diagrams (noprint)'!TIJ8","v":0},{"$f":"'Data diagrams (noprint)'!TIK8","v":0},{"$f":"'Data diagrams (noprint)'!TIL8","v":0},{"$f":"'Data diagrams (noprint)'!TIM8","v":0},{"$f":"'Data diagrams (noprint)'!TIN8","v":0},{"$f":"'Data diagrams (noprint)'!TIO8","v":0},{"$f":"'Data diagrams (noprint)'!TIP8","v":0},{"$f":"'Data diagrams (noprint)'!TIQ8","v":0},{"$f":"'Data diagrams (noprint)'!TIR8","v":0},{"$f":"'Data diagrams (noprint)'!TIS8","v":0},{"$f":"'Data diagrams (noprint)'!TIT8","v":0},{"$f":"'Data diagrams (noprint)'!TIU8","v":0},{"$f":"'Data diagrams (noprint)'!TIV8","v":0},{"$f":"'Data diagrams (noprint)'!TIW8","v":0},{"$f":"'Data diagrams (noprint)'!TIX8","v":0},{"$f":"'Data diagrams (noprint)'!TIY8","v":0},{"$f":"'Data diagrams (noprint)'!TIZ8","v":0},{"$f":"'Data diagrams (noprint)'!TJA8","v":0},{"$f":"'Data diagrams (noprint)'!TJB8","v":0},{"$f":"'Data diagrams (noprint)'!TJC8","v":0},{"$f":"'Data diagrams (noprint)'!TJD8","v":0},{"$f":"'Data diagrams (noprint)'!TJE8","v":0},{"$f":"'Data diagrams (noprint)'!TJF8","v":0},{"$f":"'Data diagrams (noprint)'!TJG8","v":0},{"$f":"'Data diagrams (noprint)'!TJH8","v":0},{"$f":"'Data diagrams (noprint)'!TJI8","v":0},{"$f":"'Data diagrams (noprint)'!TJJ8","v":0},{"$f":"'Data diagrams (noprint)'!TJK8","v":0},{"$f":"'Data diagrams (noprint)'!TJL8","v":0},{"$f":"'Data diagrams (noprint)'!TJM8","v":0},{"$f":"'Data diagrams (noprint)'!TJN8","v":0},{"$f":"'Data diagrams (noprint)'!TJO8","v":0},{"$f":"'Data diagrams (noprint)'!TJP8","v":0},{"$f":"'Data diagrams (noprint)'!TJQ8","v":0},{"$f":"'Data diagrams (noprint)'!TJR8","v":0},{"$f":"'Data diagrams (noprint)'!TJS8","v":0},{"$f":"'Data diagrams (noprint)'!TJT8","v":0},{"$f":"'Data diagrams (noprint)'!TJU8","v":0},{"$f":"'Data diagrams (noprint)'!TJV8","v":0},{"$f":"'Data diagrams (noprint)'!TJW8","v":0},{"$f":"'Data diagrams (noprint)'!TJX8","v":0},{"$f":"'Data diagrams (noprint)'!TJY8","v":0},{"$f":"'Data diagrams (noprint)'!TJZ8","v":0},{"$f":"'Data diagrams (noprint)'!TKA8","v":0},{"$f":"'Data diagrams (noprint)'!TKB8","v":0},{"$f":"'Data diagrams (noprint)'!TKC8","v":0},{"$f":"'Data diagrams (noprint)'!TKD8","v":0},{"$f":"'Data diagrams (noprint)'!TKE8","v":0},{"$f":"'Data diagrams (noprint)'!TKF8","v":0},{"$f":"'Data diagrams (noprint)'!TKG8","v":0},{"$f":"'Data diagrams (noprint)'!TKH8","v":0},{"$f":"'Data diagrams (noprint)'!TKI8","v":0},{"$f":"'Data diagrams (noprint)'!TKJ8","v":0},{"$f":"'Data diagrams (noprint)'!TKK8","v":0},{"$f":"'Data diagrams (noprint)'!TKL8","v":0},{"$f":"'Data diagrams (noprint)'!TKM8","v":0},{"$f":"'Data diagrams (noprint)'!TKN8","v":0},{"$f":"'Data diagrams (noprint)'!TKO8","v":0},{"$f":"'Data diagrams (noprint)'!TKP8","v":0},{"$f":"'Data diagrams (noprint)'!TKQ8","v":0},{"$f":"'Data diagrams (noprint)'!TKR8","v":0},{"$f":"'Data diagrams (noprint)'!TKS8","v":0},{"$f":"'Data diagrams (noprint)'!TKT8","v":0},{"$f":"'Data diagrams (noprint)'!TKU8","v":0},{"$f":"'Data diagrams (noprint)'!TKV8","v":0},{"$f":"'Data diagrams (noprint)'!TKW8","v":0},{"$f":"'Data diagrams (noprint)'!TKX8","v":0},{"$f":"'Data diagrams (noprint)'!TKY8","v":0},{"$f":"'Data diagrams (noprint)'!TKZ8","v":0},{"$f":"'Data diagrams (noprint)'!TLA8","v":0},{"$f":"'Data diagrams (noprint)'!TLB8","v":0},{"$f":"'Data diagrams (noprint)'!TLC8","v":0},{"$f":"'Data diagrams (noprint)'!TLD8","v":0},{"$f":"'Data diagrams (noprint)'!TLE8","v":0},{"$f":"'Data diagrams (noprint)'!TLF8","v":0},{"$f":"'Data diagrams (noprint)'!TLG8","v":0},{"$f":"'Data diagrams (noprint)'!TLH8","v":0},{"$f":"'Data diagrams (noprint)'!TLI8","v":0},{"$f":"'Data diagrams (noprint)'!TLJ8","v":0},{"$f":"'Data diagrams (noprint)'!TLK8","v":0},{"$f":"'Data diagrams (noprint)'!TLL8","v":0},{"$f":"'Data diagrams (noprint)'!TLM8","v":0},{"$f":"'Data diagrams (noprint)'!TLN8","v":0},{"$f":"'Data diagrams (noprint)'!TLO8","v":0},{"$f":"'Data diagrams (noprint)'!TLP8","v":0},{"$f":"'Data diagrams (noprint)'!TLQ8","v":0},{"$f":"'Data diagrams (noprint)'!TLR8","v":0},{"$f":"'Data diagrams (noprint)'!TLS8","v":0},{"$f":"'Data diagrams (noprint)'!TLT8","v":0},{"$f":"'Data diagrams (noprint)'!TLU8","v":0},{"$f":"'Data diagrams (noprint)'!TLV8","v":0},{"$f":"'Data diagrams (noprint)'!TLW8","v":0},{"$f":"'Data diagrams (noprint)'!TLX8","v":0},{"$f":"'Data diagrams (noprint)'!TLY8","v":0},{"$f":"'Data diagrams (noprint)'!TLZ8","v":0},{"$f":"'Data diagrams (noprint)'!TMA8","v":0},{"$f":"'Data diagrams (noprint)'!TMB8","v":0},{"$f":"'Data diagrams (noprint)'!TMC8","v":0},{"$f":"'Data diagrams (noprint)'!TMD8","v":0},{"$f":"'Data diagrams (noprint)'!TME8","v":0},{"$f":"'Data diagrams (noprint)'!TMF8","v":0},{"$f":"'Data diagrams (noprint)'!TMG8","v":0},{"$f":"'Data diagrams (noprint)'!TMH8","v":0},{"$f":"'Data diagrams (noprint)'!TMI8","v":0},{"$f":"'Data diagrams (noprint)'!TMJ8","v":0},{"$f":"'Data diagrams (noprint)'!TMK8","v":0},{"$f":"'Data diagrams (noprint)'!TML8","v":0},{"$f":"'Data diagrams (noprint)'!TMM8","v":0},{"$f":"'Data diagrams (noprint)'!TMN8","v":0},{"$f":"'Data diagrams (noprint)'!TMO8","v":0},{"$f":"'Data diagrams (noprint)'!TMP8","v":0},{"$f":"'Data diagrams (noprint)'!TMQ8","v":0},{"$f":"'Data diagrams (noprint)'!TMR8","v":0},{"$f":"'Data diagrams (noprint)'!TMS8","v":0},{"$f":"'Data diagrams (noprint)'!TMT8","v":0},{"$f":"'Data diagrams (noprint)'!TMU8","v":0},{"$f":"'Data diagrams (noprint)'!TMV8","v":0},{"$f":"'Data diagrams (noprint)'!TMW8","v":0},{"$f":"'Data diagrams (noprint)'!TMX8","v":0},{"$f":"'Data diagrams (noprint)'!TMY8","v":0},{"$f":"'Data diagrams (noprint)'!TMZ8","v":0},{"$f":"'Data diagrams (noprint)'!TNA8","v":0},{"$f":"'Data diagrams (noprint)'!TNB8","v":0},{"$f":"'Data diagrams (noprint)'!TNC8","v":0},{"$f":"'Data diagrams (noprint)'!TND8","v":0},{"$f":"'Data diagrams (noprint)'!TNE8","v":0},{"$f":"'Data diagrams (noprint)'!TNF8","v":0},{"$f":"'Data diagrams (noprint)'!TNG8","v":0},{"$f":"'Data diagrams (noprint)'!TNH8","v":0},{"$f":"'Data diagrams (noprint)'!TNI8","v":0},{"$f":"'Data diagrams (noprint)'!TNJ8","v":0},{"$f":"'Data diagrams (noprint)'!TNK8","v":0},{"$f":"'Data diagrams (noprint)'!TNL8","v":0},{"$f":"'Data diagrams (noprint)'!TNM8","v":0},{"$f":"'Data diagrams (noprint)'!TNN8","v":0},{"$f":"'Data diagrams (noprint)'!TNO8","v":0},{"$f":"'Data diagrams (noprint)'!TNP8","v":0},{"$f":"'Data diagrams (noprint)'!TNQ8","v":0},{"$f":"'Data diagrams (noprint)'!TNR8","v":0},{"$f":"'Data diagrams (noprint)'!TNS8","v":0},{"$f":"'Data diagrams (noprint)'!TNT8","v":0},{"$f":"'Data diagrams (noprint)'!TNU8","v":0},{"$f":"'Data diagrams (noprint)'!TNV8","v":0},{"$f":"'Data diagrams (noprint)'!TNW8","v":0},{"$f":"'Data diagrams (noprint)'!TNX8","v":0},{"$f":"'Data diagrams (noprint)'!TNY8","v":0},{"$f":"'Data diagrams (noprint)'!TNZ8","v":0},{"$f":"'Data diagrams (noprint)'!TOA8","v":0},{"$f":"'Data diagrams (noprint)'!TOB8","v":0},{"$f":"'Data diagrams (noprint)'!TOC8","v":0},{"$f":"'Data diagrams (noprint)'!TOD8","v":0},{"$f":"'Data diagrams (noprint)'!TOE8","v":0},{"$f":"'Data diagrams (noprint)'!TOF8","v":0},{"$f":"'Data diagrams (noprint)'!TOG8","v":0},{"$f":"'Data diagrams (noprint)'!TOH8","v":0},{"$f":"'Data diagrams (noprint)'!TOI8","v":0},{"$f":"'Data diagrams (noprint)'!TOJ8","v":0},{"$f":"'Data diagrams (noprint)'!TOK8","v":0},{"$f":"'Data diagrams (noprint)'!TOL8","v":0},{"$f":"'Data diagrams (noprint)'!TOM8","v":0},{"$f":"'Data diagrams (noprint)'!TON8","v":0},{"$f":"'Data diagrams (noprint)'!TOO8","v":0},{"$f":"'Data diagrams (noprint)'!TOP8","v":0},{"$f":"'Data diagrams (noprint)'!TOQ8","v":0},{"$f":"'Data diagrams (noprint)'!TOR8","v":0},{"$f":"'Data diagrams (noprint)'!TOS8","v":0},{"$f":"'Data diagrams (noprint)'!TOT8","v":0},{"$f":"'Data diagrams (noprint)'!TOU8","v":0},{"$f":"'Data diagrams (noprint)'!TOV8","v":0},{"$f":"'Data diagrams (noprint)'!TOW8","v":0},{"$f":"'Data diagrams (noprint)'!TOX8","v":0},{"$f":"'Data diagrams (noprint)'!TOY8","v":0},{"$f":"'Data diagrams (noprint)'!TOZ8","v":0},{"$f":"'Data diagrams (noprint)'!TPA8","v":0},{"$f":"'Data diagrams (noprint)'!TPB8","v":0},{"$f":"'Data diagrams (noprint)'!TPC8","v":0},{"$f":"'Data diagrams (noprint)'!TPD8","v":0},{"$f":"'Data diagrams (noprint)'!TPE8","v":0},{"$f":"'Data diagrams (noprint)'!TPF8","v":0},{"$f":"'Data diagrams (noprint)'!TPG8","v":0},{"$f":"'Data diagrams (noprint)'!TPH8","v":0},{"$f":"'Data diagrams (noprint)'!TPI8","v":0},{"$f":"'Data diagrams (noprint)'!TPJ8","v":0},{"$f":"'Data diagrams (noprint)'!TPK8","v":0},{"$f":"'Data diagrams (noprint)'!TPL8","v":0},{"$f":"'Data diagrams (noprint)'!TPM8","v":0},{"$f":"'Data diagrams (noprint)'!TPN8","v":0},{"$f":"'Data diagrams (noprint)'!TPO8","v":0},{"$f":"'Data diagrams (noprint)'!TPP8","v":0},{"$f":"'Data diagrams (noprint)'!TPQ8","v":0},{"$f":"'Data diagrams (noprint)'!TPR8","v":0},{"$f":"'Data diagrams (noprint)'!TPS8","v":0},{"$f":"'Data diagrams (noprint)'!TPT8","v":0},{"$f":"'Data diagrams (noprint)'!TPU8","v":0},{"$f":"'Data diagrams (noprint)'!TPV8","v":0},{"$f":"'Data diagrams (noprint)'!TPW8","v":0},{"$f":"'Data diagrams (noprint)'!TPX8","v":0},{"$f":"'Data diagrams (noprint)'!TPY8","v":0},{"$f":"'Data diagrams (noprint)'!TPZ8","v":0},{"$f":"'Data diagrams (noprint)'!TQA8","v":0},{"$f":"'Data diagrams (noprint)'!TQB8","v":0},{"$f":"'Data diagrams (noprint)'!TQC8","v":0},{"$f":"'Data diagrams (noprint)'!TQD8","v":0},{"$f":"'Data diagrams (noprint)'!TQE8","v":0},{"$f":"'Data diagrams (noprint)'!TQF8","v":0},{"$f":"'Data diagrams (noprint)'!TQG8","v":0},{"$f":"'Data diagrams (noprint)'!TQH8","v":0},{"$f":"'Data diagrams (noprint)'!TQI8","v":0},{"$f":"'Data diagrams (noprint)'!TQJ8","v":0},{"$f":"'Data diagrams (noprint)'!TQK8","v":0},{"$f":"'Data diagrams (noprint)'!TQL8","v":0},{"$f":"'Data diagrams (noprint)'!TQM8","v":0},{"$f":"'Data diagrams (noprint)'!TQN8","v":0},{"$f":"'Data diagrams (noprint)'!TQO8","v":0},{"$f":"'Data diagrams (noprint)'!TQP8","v":0},{"$f":"'Data diagrams (noprint)'!TQQ8","v":0},{"$f":"'Data diagrams (noprint)'!TQR8","v":0},{"$f":"'Data diagrams (noprint)'!TQS8","v":0},{"$f":"'Data diagrams (noprint)'!TQT8","v":0},{"$f":"'Data diagrams (noprint)'!TQU8","v":0},{"$f":"'Data diagrams (noprint)'!TQV8","v":0},{"$f":"'Data diagrams (noprint)'!TQW8","v":0},{"$f":"'Data diagrams (noprint)'!TQX8","v":0},{"$f":"'Data diagrams (noprint)'!TQY8","v":0},{"$f":"'Data diagrams (noprint)'!TQZ8","v":0},{"$f":"'Data diagrams (noprint)'!TRA8","v":0},{"$f":"'Data diagrams (noprint)'!TRB8","v":0},{"$f":"'Data diagrams (noprint)'!TRC8","v":0},{"$f":"'Data diagrams (noprint)'!TRD8","v":0},{"$f":"'Data diagrams (noprint)'!TRE8","v":0},{"$f":"'Data diagrams (noprint)'!TRF8","v":0},{"$f":"'Data diagrams (noprint)'!TRG8","v":0},{"$f":"'Data diagrams (noprint)'!TRH8","v":0},{"$f":"'Data diagrams (noprint)'!TRI8","v":0},{"$f":"'Data diagrams (noprint)'!TRJ8","v":0},{"$f":"'Data diagrams (noprint)'!TRK8","v":0},{"$f":"'Data diagrams (noprint)'!TRL8","v":0},{"$f":"'Data diagrams (noprint)'!TRM8","v":0},{"$f":"'Data diagrams (noprint)'!TRN8","v":0},{"$f":"'Data diagrams (noprint)'!TRO8","v":0},{"$f":"'Data diagrams (noprint)'!TRP8","v":0},{"$f":"'Data diagrams (noprint)'!TRQ8","v":0},{"$f":"'Data diagrams (noprint)'!TRR8","v":0},{"$f":"'Data diagrams (noprint)'!TRS8","v":0},{"$f":"'Data diagrams (noprint)'!TRT8","v":0},{"$f":"'Data diagrams (noprint)'!TRU8","v":0},{"$f":"'Data diagrams (noprint)'!TRV8","v":0},{"$f":"'Data diagrams (noprint)'!TRW8","v":0},{"$f":"'Data diagrams (noprint)'!TRX8","v":0},{"$f":"'Data diagrams (noprint)'!TRY8","v":0},{"$f":"'Data diagrams (noprint)'!TRZ8","v":0},{"$f":"'Data diagrams (noprint)'!TSA8","v":0},{"$f":"'Data diagrams (noprint)'!TSB8","v":0},{"$f":"'Data diagrams (noprint)'!TSC8","v":0},{"$f":"'Data diagrams (noprint)'!TSD8","v":0},{"$f":"'Data diagrams (noprint)'!TSE8","v":0},{"$f":"'Data diagrams (noprint)'!TSF8","v":0},{"$f":"'Data diagrams (noprint)'!TSG8","v":0},{"$f":"'Data diagrams (noprint)'!TSH8","v":0},{"$f":"'Data diagrams (noprint)'!TSI8","v":0},{"$f":"'Data diagrams (noprint)'!TSJ8","v":0},{"$f":"'Data diagrams (noprint)'!TSK8","v":0},{"$f":"'Data diagrams (noprint)'!TSL8","v":0},{"$f":"'Data diagrams (noprint)'!TSM8","v":0},{"$f":"'Data diagrams (noprint)'!TSN8","v":0},{"$f":"'Data diagrams (noprint)'!TSO8","v":0},{"$f":"'Data diagrams (noprint)'!TSP8","v":0},{"$f":"'Data diagrams (noprint)'!TSQ8","v":0},{"$f":"'Data diagrams (noprint)'!TSR8","v":0},{"$f":"'Data diagrams (noprint)'!TSS8","v":0},{"$f":"'Data diagrams (noprint)'!TST8","v":0},{"$f":"'Data diagrams (noprint)'!TSU8","v":0},{"$f":"'Data diagrams (noprint)'!TSV8","v":0},{"$f":"'Data diagrams (noprint)'!TSW8","v":0},{"$f":"'Data diagrams (noprint)'!TSX8","v":0},{"$f":"'Data diagrams (noprint)'!TSY8","v":0},{"$f":"'Data diagrams (noprint)'!TSZ8","v":0},{"$f":"'Data diagrams (noprint)'!TTA8","v":0},{"$f":"'Data diagrams (noprint)'!TTB8","v":0},{"$f":"'Data diagrams (noprint)'!TTC8","v":0},{"$f":"'Data diagrams (noprint)'!TTD8","v":0},{"$f":"'Data diagrams (noprint)'!TTE8","v":0},{"$f":"'Data diagrams (noprint)'!TTF8","v":0},{"$f":"'Data diagrams (noprint)'!TTG8","v":0},{"$f":"'Data diagrams (noprint)'!TTH8","v":0},{"$f":"'Data diagrams (noprint)'!TTI8","v":0},{"$f":"'Data diagrams (noprint)'!TTJ8","v":0},{"$f":"'Data diagrams (noprint)'!TTK8","v":0},{"$f":"'Data diagrams (noprint)'!TTL8","v":0},{"$f":"'Data diagrams (noprint)'!TTM8","v":0},{"$f":"'Data diagrams (noprint)'!TTN8","v":0},{"$f":"'Data diagrams (noprint)'!TTO8","v":0},{"$f":"'Data diagrams (noprint)'!TTP8","v":0},{"$f":"'Data diagrams (noprint)'!TTQ8","v":0},{"$f":"'Data diagrams (noprint)'!TTR8","v":0},{"$f":"'Data diagrams (noprint)'!TTS8","v":0},{"$f":"'Data diagrams (noprint)'!TTT8","v":0},{"$f":"'Data diagrams (noprint)'!TTU8","v":0},{"$f":"'Data diagrams (noprint)'!TTV8","v":0},{"$f":"'Data diagrams (noprint)'!TTW8","v":0},{"$f":"'Data diagrams (noprint)'!TTX8","v":0},{"$f":"'Data diagrams (noprint)'!TTY8","v":0},{"$f":"'Data diagrams (noprint)'!TTZ8","v":0},{"$f":"'Data diagrams (noprint)'!TUA8","v":0},{"$f":"'Data diagrams (noprint)'!TUB8","v":0},{"$f":"'Data diagrams (noprint)'!TUC8","v":0},{"$f":"'Data diagrams (noprint)'!TUD8","v":0},{"$f":"'Data diagrams (noprint)'!TUE8","v":0},{"$f":"'Data diagrams (noprint)'!TUF8","v":0},{"$f":"'Data diagrams (noprint)'!TUG8","v":0},{"$f":"'Data diagrams (noprint)'!TUH8","v":0},{"$f":"'Data diagrams (noprint)'!TUI8","v":0},{"$f":"'Data diagrams (noprint)'!TUJ8","v":0},{"$f":"'Data diagrams (noprint)'!TUK8","v":0},{"$f":"'Data diagrams (noprint)'!TUL8","v":0},{"$f":"'Data diagrams (noprint)'!TUM8","v":0},{"$f":"'Data diagrams (noprint)'!TUN8","v":0},{"$f":"'Data diagrams (noprint)'!TUO8","v":0},{"$f":"'Data diagrams (noprint)'!TUP8","v":0},{"$f":"'Data diagrams (noprint)'!TUQ8","v":0},{"$f":"'Data diagrams (noprint)'!TUR8","v":0},{"$f":"'Data diagrams (noprint)'!TUS8","v":0},{"$f":"'Data diagrams (noprint)'!TUT8","v":0},{"$f":"'Data diagrams (noprint)'!TUU8","v":0},{"$f":"'Data diagrams (noprint)'!TUV8","v":0},{"$f":"'Data diagrams (noprint)'!TUW8","v":0},{"$f":"'Data diagrams (noprint)'!TUX8","v":0},{"$f":"'Data diagrams (noprint)'!TUY8","v":0},{"$f":"'Data diagrams (noprint)'!TUZ8","v":0},{"$f":"'Data diagrams (noprint)'!TVA8","v":0},{"$f":"'Data diagrams (noprint)'!TVB8","v":0},{"$f":"'Data diagrams (noprint)'!TVC8","v":0},{"$f":"'Data diagrams (noprint)'!TVD8","v":0},{"$f":"'Data diagrams (noprint)'!TVE8","v":0},{"$f":"'Data diagrams (noprint)'!TVF8","v":0},{"$f":"'Data diagrams (noprint)'!TVG8","v":0},{"$f":"'Data diagrams (noprint)'!TVH8","v":0},{"$f":"'Data diagrams (noprint)'!TVI8","v":0},{"$f":"'Data diagrams (noprint)'!TVJ8","v":0},{"$f":"'Data diagrams (noprint)'!TVK8","v":0},{"$f":"'Data diagrams (noprint)'!TVL8","v":0},{"$f":"'Data diagrams (noprint)'!TVM8","v":0},{"$f":"'Data diagrams (noprint)'!TVN8","v":0},{"$f":"'Data diagrams (noprint)'!TVO8","v":0},{"$f":"'Data diagrams (noprint)'!TVP8","v":0},{"$f":"'Data diagrams (noprint)'!TVQ8","v":0},{"$f":"'Data diagrams (noprint)'!TVR8","v":0},{"$f":"'Data diagrams (noprint)'!TVS8","v":0},{"$f":"'Data diagrams (noprint)'!TVT8","v":0},{"$f":"'Data diagrams (noprint)'!TVU8","v":0},{"$f":"'Data diagrams (noprint)'!TVV8","v":0},{"$f":"'Data diagrams (noprint)'!TVW8","v":0},{"$f":"'Data diagrams (noprint)'!TVX8","v":0},{"$f":"'Data diagrams (noprint)'!TVY8","v":0},{"$f":"'Data diagrams (noprint)'!TVZ8","v":0},{"$f":"'Data diagrams (noprint)'!TWA8","v":0},{"$f":"'Data diagrams (noprint)'!TWB8","v":0},{"$f":"'Data diagrams (noprint)'!TWC8","v":0},{"$f":"'Data diagrams (noprint)'!TWD8","v":0},{"$f":"'Data diagrams (noprint)'!TWE8","v":0},{"$f":"'Data diagrams (noprint)'!TWF8","v":0},{"$f":"'Data diagrams (noprint)'!TWG8","v":0},{"$f":"'Data diagrams (noprint)'!TWH8","v":0},{"$f":"'Data diagrams (noprint)'!TWI8","v":0},{"$f":"'Data diagrams (noprint)'!TWJ8","v":0},{"$f":"'Data diagrams (noprint)'!TWK8","v":0},{"$f":"'Data diagrams (noprint)'!TWL8","v":0},{"$f":"'Data diagrams (noprint)'!TWM8","v":0},{"$f":"'Data diagrams (noprint)'!TWN8","v":0},{"$f":"'Data diagrams (noprint)'!TWO8","v":0},{"$f":"'Data diagrams (noprint)'!TWP8","v":0},{"$f":"'Data diagrams (noprint)'!TWQ8","v":0},{"$f":"'Data diagrams (noprint)'!TWR8","v":0},{"$f":"'Data diagrams (noprint)'!TWS8","v":0},{"$f":"'Data diagrams (noprint)'!TWT8","v":0},{"$f":"'Data diagrams (noprint)'!TWU8","v":0},{"$f":"'Data diagrams (noprint)'!TWV8","v":0},{"$f":"'Data diagrams (noprint)'!TWW8","v":0},{"$f":"'Data diagrams (noprint)'!TWX8","v":0},{"$f":"'Data diagrams (noprint)'!TWY8","v":0},{"$f":"'Data diagrams (noprint)'!TWZ8","v":0},{"$f":"'Data diagrams (noprint)'!TXA8","v":0},{"$f":"'Data diagrams (noprint)'!TXB8","v":0},{"$f":"'Data diagrams (noprint)'!TXC8","v":0},{"$f":"'Data diagrams (noprint)'!TXD8","v":0},{"$f":"'Data diagrams (noprint)'!TXE8","v":0},{"$f":"'Data diagrams (noprint)'!TXF8","v":0},{"$f":"'Data diagrams (noprint)'!TXG8","v":0},{"$f":"'Data diagrams (noprint)'!TXH8","v":0},{"$f":"'Data diagrams (noprint)'!TXI8","v":0},{"$f":"'Data diagrams (noprint)'!TXJ8","v":0},{"$f":"'Data diagrams (noprint)'!TXK8","v":0},{"$f":"'Data diagrams (noprint)'!TXL8","v":0},{"$f":"'Data diagrams (noprint)'!TXM8","v":0},{"$f":"'Data diagrams (noprint)'!TXN8","v":0},{"$f":"'Data diagrams (noprint)'!TXO8","v":0},{"$f":"'Data diagrams (noprint)'!TXP8","v":0},{"$f":"'Data diagrams (noprint)'!TXQ8","v":0},{"$f":"'Data diagrams (noprint)'!TXR8","v":0},{"$f":"'Data diagrams (noprint)'!TXS8","v":0},{"$f":"'Data diagrams (noprint)'!TXT8","v":0},{"$f":"'Data diagrams (noprint)'!TXU8","v":0},{"$f":"'Data diagrams (noprint)'!TXV8","v":0},{"$f":"'Data diagrams (noprint)'!TXW8","v":0},{"$f":"'Data diagrams (noprint)'!TXX8","v":0},{"$f":"'Data diagrams (noprint)'!TXY8","v":0},{"$f":"'Data diagrams (noprint)'!TXZ8","v":0},{"$f":"'Data diagrams (noprint)'!TYA8","v":0},{"$f":"'Data diagrams (noprint)'!TYB8","v":0},{"$f":"'Data diagrams (noprint)'!TYC8","v":0},{"$f":"'Data diagrams (noprint)'!TYD8","v":0},{"$f":"'Data diagrams (noprint)'!TYE8","v":0},{"$f":"'Data diagrams (noprint)'!TYF8","v":0},{"$f":"'Data diagrams (noprint)'!TYG8","v":0},{"$f":"'Data diagrams (noprint)'!TYH8","v":0},{"$f":"'Data diagrams (noprint)'!TYI8","v":0},{"$f":"'Data diagrams (noprint)'!TYJ8","v":0},{"$f":"'Data diagrams (noprint)'!TYK8","v":0},{"$f":"'Data diagrams (noprint)'!TYL8","v":0},{"$f":"'Data diagrams (noprint)'!TYM8","v":0},{"$f":"'Data diagrams (noprint)'!TYN8","v":0},{"$f":"'Data diagrams (noprint)'!TYO8","v":0},{"$f":"'Data diagrams (noprint)'!TYP8","v":0},{"$f":"'Data diagrams (noprint)'!TYQ8","v":0},{"$f":"'Data diagrams (noprint)'!TYR8","v":0},{"$f":"'Data diagrams (noprint)'!TYS8","v":0},{"$f":"'Data diagrams (noprint)'!TYT8","v":0},{"$f":"'Data diagrams (noprint)'!TYU8","v":0},{"$f":"'Data diagrams (noprint)'!TYV8","v":0},{"$f":"'Data diagrams (noprint)'!TYW8","v":0},{"$f":"'Data diagrams (noprint)'!TYX8","v":0},{"$f":"'Data diagrams (noprint)'!TYY8","v":0},{"$f":"'Data diagrams (noprint)'!TYZ8","v":0},{"$f":"'Data diagrams (noprint)'!TZA8","v":0},{"$f":"'Data diagrams (noprint)'!TZB8","v":0},{"$f":"'Data diagrams (noprint)'!TZC8","v":0},{"$f":"'Data diagrams (noprint)'!TZD8","v":0},{"$f":"'Data diagrams (noprint)'!TZE8","v":0},{"$f":"'Data diagrams (noprint)'!TZF8","v":0},{"$f":"'Data diagrams (noprint)'!TZG8","v":0},{"$f":"'Data diagrams (noprint)'!TZH8","v":0},{"$f":"'Data diagrams (noprint)'!TZI8","v":0},{"$f":"'Data diagrams (noprint)'!TZJ8","v":0},{"$f":"'Data diagrams (noprint)'!TZK8","v":0},{"$f":"'Data diagrams (noprint)'!TZL8","v":0},{"$f":"'Data diagrams (noprint)'!TZM8","v":0},{"$f":"'Data diagrams (noprint)'!TZN8","v":0},{"$f":"'Data diagrams (noprint)'!TZO8","v":0},{"$f":"'Data diagrams (noprint)'!TZP8","v":0},{"$f":"'Data diagrams (noprint)'!TZQ8","v":0},{"$f":"'Data diagrams (noprint)'!TZR8","v":0},{"$f":"'Data diagrams (noprint)'!TZS8","v":0},{"$f":"'Data diagrams (noprint)'!TZT8","v":0},{"$f":"'Data diagrams (noprint)'!TZU8","v":0},{"$f":"'Data diagrams (noprint)'!TZV8","v":0},{"$f":"'Data diagrams (noprint)'!TZW8","v":0},{"$f":"'Data diagrams (noprint)'!TZX8","v":0},{"$f":"'Data diagrams (noprint)'!TZY8","v":0},{"$f":"'Data diagrams (noprint)'!TZZ8","v":0},{"$f":"'Data diagrams (noprint)'!UAA8","v":0},{"$f":"'Data diagrams (noprint)'!UAB8","v":0},{"$f":"'Data diagrams (noprint)'!UAC8","v":0},{"$f":"'Data diagrams (noprint)'!UAD8","v":0},{"$f":"'Data diagrams (noprint)'!UAE8","v":0},{"$f":"'Data diagrams (noprint)'!UAF8","v":0},{"$f":"'Data diagrams (noprint)'!UAG8","v":0},{"$f":"'Data diagrams (noprint)'!UAH8","v":0},{"$f":"'Data diagrams (noprint)'!UAI8","v":0},{"$f":"'Data diagrams (noprint)'!UAJ8","v":0},{"$f":"'Data diagrams (noprint)'!UAK8","v":0},{"$f":"'Data diagrams (noprint)'!UAL8","v":0},{"$f":"'Data diagrams (noprint)'!UAM8","v":0},{"$f":"'Data diagrams (noprint)'!UAN8","v":0},{"$f":"'Data diagrams (noprint)'!UAO8","v":0},{"$f":"'Data diagrams (noprint)'!UAP8","v":0},{"$f":"'Data diagrams (noprint)'!UAQ8","v":0},{"$f":"'Data diagrams (noprint)'!UAR8","v":0},{"$f":"'Data diagrams (noprint)'!UAS8","v":0},{"$f":"'Data diagrams (noprint)'!UAT8","v":0},{"$f":"'Data diagrams (noprint)'!UAU8","v":0},{"$f":"'Data diagrams (noprint)'!UAV8","v":0},{"$f":"'Data diagrams (noprint)'!UAW8","v":0},{"$f":"'Data diagrams (noprint)'!UAX8","v":0},{"$f":"'Data diagrams (noprint)'!UAY8","v":0},{"$f":"'Data diagrams (noprint)'!UAZ8","v":0},{"$f":"'Data diagrams (noprint)'!UBA8","v":0},{"$f":"'Data diagrams (noprint)'!UBB8","v":0},{"$f":"'Data diagrams (noprint)'!UBC8","v":0},{"$f":"'Data diagrams (noprint)'!UBD8","v":0},{"$f":"'Data diagrams (noprint)'!UBE8","v":0},{"$f":"'Data diagrams (noprint)'!UBF8","v":0},{"$f":"'Data diagrams (noprint)'!UBG8","v":0},{"$f":"'Data diagrams (noprint)'!UBH8","v":0},{"$f":"'Data diagrams (noprint)'!UBI8","v":0},{"$f":"'Data diagrams (noprint)'!UBJ8","v":0},{"$f":"'Data diagrams (noprint)'!UBK8","v":0},{"$f":"'Data diagrams (noprint)'!UBL8","v":0},{"$f":"'Data diagrams (noprint)'!UBM8","v":0},{"$f":"'Data diagrams (noprint)'!UBN8","v":0},{"$f":"'Data diagrams (noprint)'!UBO8","v":0},{"$f":"'Data diagrams (noprint)'!UBP8","v":0},{"$f":"'Data diagrams (noprint)'!UBQ8","v":0},{"$f":"'Data diagrams (noprint)'!UBR8","v":0},{"$f":"'Data diagrams (noprint)'!UBS8","v":0},{"$f":"'Data diagrams (noprint)'!UBT8","v":0},{"$f":"'Data diagrams (noprint)'!UBU8","v":0},{"$f":"'Data diagrams (noprint)'!UBV8","v":0},{"$f":"'Data diagrams (noprint)'!UBW8","v":0},{"$f":"'Data diagrams (noprint)'!UBX8","v":0},{"$f":"'Data diagrams (noprint)'!UBY8","v":0},{"$f":"'Data diagrams (noprint)'!UBZ8","v":0},{"$f":"'Data diagrams (noprint)'!UCA8","v":0},{"$f":"'Data diagrams (noprint)'!UCB8","v":0},{"$f":"'Data diagrams (noprint)'!UCC8","v":0},{"$f":"'Data diagrams (noprint)'!UCD8","v":0},{"$f":"'Data diagrams (noprint)'!UCE8","v":0},{"$f":"'Data diagrams (noprint)'!UCF8","v":0},{"$f":"'Data diagrams (noprint)'!UCG8","v":0},{"$f":"'Data diagrams (noprint)'!UCH8","v":0},{"$f":"'Data diagrams (noprint)'!UCI8","v":0},{"$f":"'Data diagrams (noprint)'!UCJ8","v":0},{"$f":"'Data diagrams (noprint)'!UCK8","v":0},{"$f":"'Data diagrams (noprint)'!UCL8","v":0},{"$f":"'Data diagrams (noprint)'!UCM8","v":0},{"$f":"'Data diagrams (noprint)'!UCN8","v":0},{"$f":"'Data diagrams (noprint)'!UCO8","v":0},{"$f":"'Data diagrams (noprint)'!UCP8","v":0},{"$f":"'Data diagrams (noprint)'!UCQ8","v":0},{"$f":"'Data diagrams (noprint)'!UCR8","v":0},{"$f":"'Data diagrams (noprint)'!UCS8","v":0},{"$f":"'Data diagrams (noprint)'!UCT8","v":0},{"$f":"'Data diagrams (noprint)'!UCU8","v":0},{"$f":"'Data diagrams (noprint)'!UCV8","v":0},{"$f":"'Data diagrams (noprint)'!UCW8","v":0},{"$f":"'Data diagrams (noprint)'!UCX8","v":0},{"$f":"'Data diagrams (noprint)'!UCY8","v":0},{"$f":"'Data diagrams (noprint)'!UCZ8","v":0},{"$f":"'Data diagrams (noprint)'!UDA8","v":0},{"$f":"'Data diagrams (noprint)'!UDB8","v":0},{"$f":"'Data diagrams (noprint)'!UDC8","v":0},{"$f":"'Data diagrams (noprint)'!UDD8","v":0},{"$f":"'Data diagrams (noprint)'!UDE8","v":0},{"$f":"'Data diagrams (noprint)'!UDF8","v":0},{"$f":"'Data diagrams (noprint)'!UDG8","v":0},{"$f":"'Data diagrams (noprint)'!UDH8","v":0},{"$f":"'Data diagrams (noprint)'!UDI8","v":0},{"$f":"'Data diagrams (noprint)'!UDJ8","v":0},{"$f":"'Data diagrams (noprint)'!UDK8","v":0},{"$f":"'Data diagrams (noprint)'!UDL8","v":0},{"$f":"'Data diagrams (noprint)'!UDM8","v":0},{"$f":"'Data diagrams (noprint)'!UDN8","v":0},{"$f":"'Data diagrams (noprint)'!UDO8","v":0},{"$f":"'Data diagrams (noprint)'!UDP8","v":0},{"$f":"'Data diagrams (noprint)'!UDQ8","v":0},{"$f":"'Data diagrams (noprint)'!UDR8","v":0},{"$f":"'Data diagrams (noprint)'!UDS8","v":0},{"$f":"'Data diagrams (noprint)'!UDT8","v":0},{"$f":"'Data diagrams (noprint)'!UDU8","v":0},{"$f":"'Data diagrams (noprint)'!UDV8","v":0},{"$f":"'Data diagrams (noprint)'!UDW8","v":0},{"$f":"'Data diagrams (noprint)'!UDX8","v":0},{"$f":"'Data diagrams (noprint)'!UDY8","v":0},{"$f":"'Data diagrams (noprint)'!UDZ8","v":0},{"$f":"'Data diagrams (noprint)'!UEA8","v":0},{"$f":"'Data diagrams (noprint)'!UEB8","v":0},{"$f":"'Data diagrams (noprint)'!UEC8","v":0},{"$f":"'Data diagrams (noprint)'!UED8","v":0},{"$f":"'Data diagrams (noprint)'!UEE8","v":0},{"$f":"'Data diagrams (noprint)'!UEF8","v":0},{"$f":"'Data diagrams (noprint)'!UEG8","v":0},{"$f":"'Data diagrams (noprint)'!UEH8","v":0},{"$f":"'Data diagrams (noprint)'!UEI8","v":0},{"$f":"'Data diagrams (noprint)'!UEJ8","v":0},{"$f":"'Data diagrams (noprint)'!UEK8","v":0},{"$f":"'Data diagrams (noprint)'!UEL8","v":0},{"$f":"'Data diagrams (noprint)'!UEM8","v":0},{"$f":"'Data diagrams (noprint)'!UEN8","v":0},{"$f":"'Data diagrams (noprint)'!UEO8","v":0},{"$f":"'Data diagrams (noprint)'!UEP8","v":0},{"$f":"'Data diagrams (noprint)'!UEQ8","v":0},{"$f":"'Data diagrams (noprint)'!UER8","v":0},{"$f":"'Data diagrams (noprint)'!UES8","v":0},{"$f":"'Data diagrams (noprint)'!UET8","v":0},{"$f":"'Data diagrams (noprint)'!UEU8","v":0},{"$f":"'Data diagrams (noprint)'!UEV8","v":0},{"$f":"'Data diagrams (noprint)'!UEW8","v":0},{"$f":"'Data diagrams (noprint)'!UEX8","v":0},{"$f":"'Data diagrams (noprint)'!UEY8","v":0},{"$f":"'Data diagrams (noprint)'!UEZ8","v":0},{"$f":"'Data diagrams (noprint)'!UFA8","v":0},{"$f":"'Data diagrams (noprint)'!UFB8","v":0},{"$f":"'Data diagrams (noprint)'!UFC8","v":0},{"$f":"'Data diagrams (noprint)'!UFD8","v":0},{"$f":"'Data diagrams (noprint)'!UFE8","v":0},{"$f":"'Data diagrams (noprint)'!UFF8","v":0},{"$f":"'Data diagrams (noprint)'!UFG8","v":0},{"$f":"'Data diagrams (noprint)'!UFH8","v":0},{"$f":"'Data diagrams (noprint)'!UFI8","v":0},{"$f":"'Data diagrams (noprint)'!UFJ8","v":0},{"$f":"'Data diagrams (noprint)'!UFK8","v":0},{"$f":"'Data diagrams (noprint)'!UFL8","v":0},{"$f":"'Data diagrams (noprint)'!UFM8","v":0},{"$f":"'Data diagrams (noprint)'!UFN8","v":0},{"$f":"'Data diagrams (noprint)'!UFO8","v":0},{"$f":"'Data diagrams (noprint)'!UFP8","v":0},{"$f":"'Data diagrams (noprint)'!UFQ8","v":0},{"$f":"'Data diagrams (noprint)'!UFR8","v":0},{"$f":"'Data diagrams (noprint)'!UFS8","v":0},{"$f":"'Data diagrams (noprint)'!UFT8","v":0},{"$f":"'Data diagrams (noprint)'!UFU8","v":0},{"$f":"'Data diagrams (noprint)'!UFV8","v":0},{"$f":"'Data diagrams (noprint)'!UFW8","v":0},{"$f":"'Data diagrams (noprint)'!UFX8","v":0},{"$f":"'Data diagrams (noprint)'!UFY8","v":0},{"$f":"'Data diagrams (noprint)'!UFZ8","v":0},{"$f":"'Data diagrams (noprint)'!UGA8","v":0},{"$f":"'Data diagrams (noprint)'!UGB8","v":0},{"$f":"'Data diagrams (noprint)'!UGC8","v":0},{"$f":"'Data diagrams (noprint)'!UGD8","v":0},{"$f":"'Data diagrams (noprint)'!UGE8","v":0},{"$f":"'Data diagrams (noprint)'!UGF8","v":0},{"$f":"'Data diagrams (noprint)'!UGG8","v":0},{"$f":"'Data diagrams (noprint)'!UGH8","v":0},{"$f":"'Data diagrams (noprint)'!UGI8","v":0},{"$f":"'Data diagrams (noprint)'!UGJ8","v":0},{"$f":"'Data diagrams (noprint)'!UGK8","v":0},{"$f":"'Data diagrams (noprint)'!UGL8","v":0},{"$f":"'Data diagrams (noprint)'!UGM8","v":0},{"$f":"'Data diagrams (noprint)'!UGN8","v":0},{"$f":"'Data diagrams (noprint)'!UGO8","v":0},{"$f":"'Data diagrams (noprint)'!UGP8","v":0},{"$f":"'Data diagrams (noprint)'!UGQ8","v":0},{"$f":"'Data diagrams (noprint)'!UGR8","v":0},{"$f":"'Data diagrams (noprint)'!UGS8","v":0},{"$f":"'Data diagrams (noprint)'!UGT8","v":0},{"$f":"'Data diagrams (noprint)'!UGU8","v":0},{"$f":"'Data diagrams (noprint)'!UGV8","v":0},{"$f":"'Data diagrams (noprint)'!UGW8","v":0},{"$f":"'Data diagrams (noprint)'!UGX8","v":0},{"$f":"'Data diagrams (noprint)'!UGY8","v":0},{"$f":"'Data diagrams (noprint)'!UGZ8","v":0},{"$f":"'Data diagrams (noprint)'!UHA8","v":0},{"$f":"'Data diagrams (noprint)'!UHB8","v":0},{"$f":"'Data diagrams (noprint)'!UHC8","v":0},{"$f":"'Data diagrams (noprint)'!UHD8","v":0},{"$f":"'Data diagrams (noprint)'!UHE8","v":0},{"$f":"'Data diagrams (noprint)'!UHF8","v":0},{"$f":"'Data diagrams (noprint)'!UHG8","v":0},{"$f":"'Data diagrams (noprint)'!UHH8","v":0},{"$f":"'Data diagrams (noprint)'!UHI8","v":0},{"$f":"'Data diagrams (noprint)'!UHJ8","v":0},{"$f":"'Data diagrams (noprint)'!UHK8","v":0},{"$f":"'Data diagrams (noprint)'!UHL8","v":0},{"$f":"'Data diagrams (noprint)'!UHM8","v":0},{"$f":"'Data diagrams (noprint)'!UHN8","v":0},{"$f":"'Data diagrams (noprint)'!UHO8","v":0},{"$f":"'Data diagrams (noprint)'!UHP8","v":0},{"$f":"'Data diagrams (noprint)'!UHQ8","v":0},{"$f":"'Data diagrams (noprint)'!UHR8","v":0},{"$f":"'Data diagrams (noprint)'!UHS8","v":0},{"$f":"'Data diagrams (noprint)'!UHT8","v":0},{"$f":"'Data diagrams (noprint)'!UHU8","v":0},{"$f":"'Data diagrams (noprint)'!UHV8","v":0},{"$f":"'Data diagrams (noprint)'!UHW8","v":0},{"$f":"'Data diagrams (noprint)'!UHX8","v":0},{"$f":"'Data diagrams (noprint)'!UHY8","v":0},{"$f":"'Data diagrams (noprint)'!UHZ8","v":0},{"$f":"'Data diagrams (noprint)'!UIA8","v":0},{"$f":"'Data diagrams (noprint)'!UIB8","v":0},{"$f":"'Data diagrams (noprint)'!UIC8","v":0},{"$f":"'Data diagrams (noprint)'!UID8","v":0},{"$f":"'Data diagrams (noprint)'!UIE8","v":0},{"$f":"'Data diagrams (noprint)'!UIF8","v":0},{"$f":"'Data diagrams (noprint)'!UIG8","v":0},{"$f":"'Data diagrams (noprint)'!UIH8","v":0},{"$f":"'Data diagrams (noprint)'!UII8","v":0},{"$f":"'Data diagrams (noprint)'!UIJ8","v":0},{"$f":"'Data diagrams (noprint)'!UIK8","v":0},{"$f":"'Data diagrams (noprint)'!UIL8","v":0},{"$f":"'Data diagrams (noprint)'!UIM8","v":0},{"$f":"'Data diagrams (noprint)'!UIN8","v":0},{"$f":"'Data diagrams (noprint)'!UIO8","v":0},{"$f":"'Data diagrams (noprint)'!UIP8","v":0},{"$f":"'Data diagrams (noprint)'!UIQ8","v":0},{"$f":"'Data diagrams (noprint)'!UIR8","v":0},{"$f":"'Data diagrams (noprint)'!UIS8","v":0},{"$f":"'Data diagrams (noprint)'!UIT8","v":0},{"$f":"'Data diagrams (noprint)'!UIU8","v":0},{"$f":"'Data diagrams (noprint)'!UIV8","v":0},{"$f":"'Data diagrams (noprint)'!UIW8","v":0},{"$f":"'Data diagrams (noprint)'!UIX8","v":0},{"$f":"'Data diagrams (noprint)'!UIY8","v":0},{"$f":"'Data diagrams (noprint)'!UIZ8","v":0},{"$f":"'Data diagrams (noprint)'!UJA8","v":0},{"$f":"'Data diagrams (noprint)'!UJB8","v":0},{"$f":"'Data diagrams (noprint)'!UJC8","v":0},{"$f":"'Data diagrams (noprint)'!UJD8","v":0},{"$f":"'Data diagrams (noprint)'!UJE8","v":0},{"$f":"'Data diagrams (noprint)'!UJF8","v":0},{"$f":"'Data diagrams (noprint)'!UJG8","v":0},{"$f":"'Data diagrams (noprint)'!UJH8","v":0},{"$f":"'Data diagrams (noprint)'!UJI8","v":0},{"$f":"'Data diagrams (noprint)'!UJJ8","v":0},{"$f":"'Data diagrams (noprint)'!UJK8","v":0},{"$f":"'Data diagrams (noprint)'!UJL8","v":0},{"$f":"'Data diagrams (noprint)'!UJM8","v":0},{"$f":"'Data diagrams (noprint)'!UJN8","v":0},{"$f":"'Data diagrams (noprint)'!UJO8","v":0},{"$f":"'Data diagrams (noprint)'!UJP8","v":0},{"$f":"'Data diagrams (noprint)'!UJQ8","v":0},{"$f":"'Data diagrams (noprint)'!UJR8","v":0},{"$f":"'Data diagrams (noprint)'!UJS8","v":0},{"$f":"'Data diagrams (noprint)'!UJT8","v":0},{"$f":"'Data diagrams (noprint)'!UJU8","v":0},{"$f":"'Data diagrams (noprint)'!UJV8","v":0},{"$f":"'Data diagrams (noprint)'!UJW8","v":0},{"$f":"'Data diagrams (noprint)'!UJX8","v":0},{"$f":"'Data diagrams (noprint)'!UJY8","v":0},{"$f":"'Data diagrams (noprint)'!UJZ8","v":0},{"$f":"'Data diagrams (noprint)'!UKA8","v":0},{"$f":"'Data diagrams (noprint)'!UKB8","v":0},{"$f":"'Data diagrams (noprint)'!UKC8","v":0},{"$f":"'Data diagrams (noprint)'!UKD8","v":0},{"$f":"'Data diagrams (noprint)'!UKE8","v":0},{"$f":"'Data diagrams (noprint)'!UKF8","v":0},{"$f":"'Data diagrams (noprint)'!UKG8","v":0},{"$f":"'Data diagrams (noprint)'!UKH8","v":0},{"$f":"'Data diagrams (noprint)'!UKI8","v":0},{"$f":"'Data diagrams (noprint)'!UKJ8","v":0},{"$f":"'Data diagrams (noprint)'!UKK8","v":0},{"$f":"'Data diagrams (noprint)'!UKL8","v":0},{"$f":"'Data diagrams (noprint)'!UKM8","v":0},{"$f":"'Data diagrams (noprint)'!UKN8","v":0},{"$f":"'Data diagrams (noprint)'!UKO8","v":0},{"$f":"'Data diagrams (noprint)'!UKP8","v":0},{"$f":"'Data diagrams (noprint)'!UKQ8","v":0},{"$f":"'Data diagrams (noprint)'!UKR8","v":0},{"$f":"'Data diagrams (noprint)'!UKS8","v":0},{"$f":"'Data diagrams (noprint)'!UKT8","v":0},{"$f":"'Data diagrams (noprint)'!UKU8","v":0},{"$f":"'Data diagrams (noprint)'!UKV8","v":0},{"$f":"'Data diagrams (noprint)'!UKW8","v":0},{"$f":"'Data diagrams (noprint)'!UKX8","v":0},{"$f":"'Data diagrams (noprint)'!UKY8","v":0},{"$f":"'Data diagrams (noprint)'!UKZ8","v":0},{"$f":"'Data diagrams (noprint)'!ULA8","v":0},{"$f":"'Data diagrams (noprint)'!ULB8","v":0},{"$f":"'Data diagrams (noprint)'!ULC8","v":0},{"$f":"'Data diagrams (noprint)'!ULD8","v":0},{"$f":"'Data diagrams (noprint)'!ULE8","v":0},{"$f":"'Data diagrams (noprint)'!ULF8","v":0},{"$f":"'Data diagrams (noprint)'!ULG8","v":0},{"$f":"'Data diagrams (noprint)'!ULH8","v":0},{"$f":"'Data diagrams (noprint)'!ULI8","v":0},{"$f":"'Data diagrams (noprint)'!ULJ8","v":0},{"$f":"'Data diagrams (noprint)'!ULK8","v":0},{"$f":"'Data diagrams (noprint)'!ULL8","v":0},{"$f":"'Data diagrams (noprint)'!ULM8","v":0},{"$f":"'Data diagrams (noprint)'!ULN8","v":0},{"$f":"'Data diagrams (noprint)'!ULO8","v":0},{"$f":"'Data diagrams (noprint)'!ULP8","v":0},{"$f":"'Data diagrams (noprint)'!ULQ8","v":0},{"$f":"'Data diagrams (noprint)'!ULR8","v":0},{"$f":"'Data diagrams (noprint)'!ULS8","v":0},{"$f":"'Data diagrams (noprint)'!ULT8","v":0},{"$f":"'Data diagrams (noprint)'!ULU8","v":0},{"$f":"'Data diagrams (noprint)'!ULV8","v":0},{"$f":"'Data diagrams (noprint)'!ULW8","v":0},{"$f":"'Data diagrams (noprint)'!ULX8","v":0},{"$f":"'Data diagrams (noprint)'!ULY8","v":0},{"$f":"'Data diagrams (noprint)'!ULZ8","v":0},{"$f":"'Data diagrams (noprint)'!UMA8","v":0},{"$f":"'Data diagrams (noprint)'!UMB8","v":0},{"$f":"'Data diagrams (noprint)'!UMC8","v":0},{"$f":"'Data diagrams (noprint)'!UMD8","v":0},{"$f":"'Data diagrams (noprint)'!UME8","v":0},{"$f":"'Data diagrams (noprint)'!UMF8","v":0},{"$f":"'Data diagrams (noprint)'!UMG8","v":0},{"$f":"'Data diagrams (noprint)'!UMH8","v":0},{"$f":"'Data diagrams (noprint)'!UMI8","v":0},{"$f":"'Data diagrams (noprint)'!UMJ8","v":0},{"$f":"'Data diagrams (noprint)'!UMK8","v":0},{"$f":"'Data diagrams (noprint)'!UML8","v":0},{"$f":"'Data diagrams (noprint)'!UMM8","v":0},{"$f":"'Data diagrams (noprint)'!UMN8","v":0},{"$f":"'Data diagrams (noprint)'!UMO8","v":0},{"$f":"'Data diagrams (noprint)'!UMP8","v":0},{"$f":"'Data diagrams (noprint)'!UMQ8","v":0},{"$f":"'Data diagrams (noprint)'!UMR8","v":0},{"$f":"'Data diagrams (noprint)'!UMS8","v":0},{"$f":"'Data diagrams (noprint)'!UMT8","v":0},{"$f":"'Data diagrams (noprint)'!UMU8","v":0},{"$f":"'Data diagrams (noprint)'!UMV8","v":0},{"$f":"'Data diagrams (noprint)'!UMW8","v":0},{"$f":"'Data diagrams (noprint)'!UMX8","v":0},{"$f":"'Data diagrams (noprint)'!UMY8","v":0},{"$f":"'Data diagrams (noprint)'!UMZ8","v":0},{"$f":"'Data diagrams (noprint)'!UNA8","v":0},{"$f":"'Data diagrams (noprint)'!UNB8","v":0},{"$f":"'Data diagrams (noprint)'!UNC8","v":0},{"$f":"'Data diagrams (noprint)'!UND8","v":0},{"$f":"'Data diagrams (noprint)'!UNE8","v":0},{"$f":"'Data diagrams (noprint)'!UNF8","v":0},{"$f":"'Data diagrams (noprint)'!UNG8","v":0},{"$f":"'Data diagrams (noprint)'!UNH8","v":0},{"$f":"'Data diagrams (noprint)'!UNI8","v":0},{"$f":"'Data diagrams (noprint)'!UNJ8","v":0},{"$f":"'Data diagrams (noprint)'!UNK8","v":0},{"$f":"'Data diagrams (noprint)'!UNL8","v":0},{"$f":"'Data diagrams (noprint)'!UNM8","v":0},{"$f":"'Data diagrams (noprint)'!UNN8","v":0},{"$f":"'Data diagrams (noprint)'!UNO8","v":0},{"$f":"'Data diagrams (noprint)'!UNP8","v":0},{"$f":"'Data diagrams (noprint)'!UNQ8","v":0},{"$f":"'Data diagrams (noprint)'!UNR8","v":0},{"$f":"'Data diagrams (noprint)'!UNS8","v":0},{"$f":"'Data diagrams (noprint)'!UNT8","v":0},{"$f":"'Data diagrams (noprint)'!UNU8","v":0},{"$f":"'Data diagrams (noprint)'!UNV8","v":0},{"$f":"'Data diagrams (noprint)'!UNW8","v":0},{"$f":"'Data diagrams (noprint)'!UNX8","v":0},{"$f":"'Data diagrams (noprint)'!UNY8","v":0},{"$f":"'Data diagrams (noprint)'!UNZ8","v":0},{"$f":"'Data diagrams (noprint)'!UOA8","v":0},{"$f":"'Data diagrams (noprint)'!UOB8","v":0},{"$f":"'Data diagrams (noprint)'!UOC8","v":0},{"$f":"'Data diagrams (noprint)'!UOD8","v":0},{"$f":"'Data diagrams (noprint)'!UOE8","v":0},{"$f":"'Data diagrams (noprint)'!UOF8","v":0},{"$f":"'Data diagrams (noprint)'!UOG8","v":0},{"$f":"'Data diagrams (noprint)'!UOH8","v":0},{"$f":"'Data diagrams (noprint)'!UOI8","v":0},{"$f":"'Data diagrams (noprint)'!UOJ8","v":0},{"$f":"'Data diagrams (noprint)'!UOK8","v":0},{"$f":"'Data diagrams (noprint)'!UOL8","v":0},{"$f":"'Data diagrams (noprint)'!UOM8","v":0},{"$f":"'Data diagrams (noprint)'!UON8","v":0},{"$f":"'Data diagrams (noprint)'!UOO8","v":0},{"$f":"'Data diagrams (noprint)'!UOP8","v":0},{"$f":"'Data diagrams (noprint)'!UOQ8","v":0},{"$f":"'Data diagrams (noprint)'!UOR8","v":0},{"$f":"'Data diagrams (noprint)'!UOS8","v":0},{"$f":"'Data diagrams (noprint)'!UOT8","v":0},{"$f":"'Data diagrams (noprint)'!UOU8","v":0},{"$f":"'Data diagrams (noprint)'!UOV8","v":0},{"$f":"'Data diagrams (noprint)'!UOW8","v":0},{"$f":"'Data diagrams (noprint)'!UOX8","v":0},{"$f":"'Data diagrams (noprint)'!UOY8","v":0},{"$f":"'Data diagrams (noprint)'!UOZ8","v":0},{"$f":"'Data diagrams (noprint)'!UPA8","v":0},{"$f":"'Data diagrams (noprint)'!UPB8","v":0},{"$f":"'Data diagrams (noprint)'!UPC8","v":0},{"$f":"'Data diagrams (noprint)'!UPD8","v":0},{"$f":"'Data diagrams (noprint)'!UPE8","v":0},{"$f":"'Data diagrams (noprint)'!UPF8","v":0},{"$f":"'Data diagrams (noprint)'!UPG8","v":0},{"$f":"'Data diagrams (noprint)'!UPH8","v":0},{"$f":"'Data diagrams (noprint)'!UPI8","v":0},{"$f":"'Data diagrams (noprint)'!UPJ8","v":0},{"$f":"'Data diagrams (noprint)'!UPK8","v":0},{"$f":"'Data diagrams (noprint)'!UPL8","v":0},{"$f":"'Data diagrams (noprint)'!UPM8","v":0},{"$f":"'Data diagrams (noprint)'!UPN8","v":0},{"$f":"'Data diagrams (noprint)'!UPO8","v":0},{"$f":"'Data diagrams (noprint)'!UPP8","v":0},{"$f":"'Data diagrams (noprint)'!UPQ8","v":0},{"$f":"'Data diagrams (noprint)'!UPR8","v":0},{"$f":"'Data diagrams (noprint)'!UPS8","v":0},{"$f":"'Data diagrams (noprint)'!UPT8","v":0},{"$f":"'Data diagrams (noprint)'!UPU8","v":0},{"$f":"'Data diagrams (noprint)'!UPV8","v":0},{"$f":"'Data diagrams (noprint)'!UPW8","v":0},{"$f":"'Data diagrams (noprint)'!UPX8","v":0},{"$f":"'Data diagrams (noprint)'!UPY8","v":0},{"$f":"'Data diagrams (noprint)'!UPZ8","v":0},{"$f":"'Data diagrams (noprint)'!UQA8","v":0},{"$f":"'Data diagrams (noprint)'!UQB8","v":0},{"$f":"'Data diagrams (noprint)'!UQC8","v":0},{"$f":"'Data diagrams (noprint)'!UQD8","v":0},{"$f":"'Data diagrams (noprint)'!UQE8","v":0},{"$f":"'Data diagrams (noprint)'!UQF8","v":0},{"$f":"'Data diagrams (noprint)'!UQG8","v":0},{"$f":"'Data diagrams (noprint)'!UQH8","v":0},{"$f":"'Data diagrams (noprint)'!UQI8","v":0},{"$f":"'Data diagrams (noprint)'!UQJ8","v":0},{"$f":"'Data diagrams (noprint)'!UQK8","v":0},{"$f":"'Data diagrams (noprint)'!UQL8","v":0},{"$f":"'Data diagrams (noprint)'!UQM8","v":0},{"$f":"'Data diagrams (noprint)'!UQN8","v":0},{"$f":"'Data diagrams (noprint)'!UQO8","v":0},{"$f":"'Data diagrams (noprint)'!UQP8","v":0},{"$f":"'Data diagrams (noprint)'!UQQ8","v":0},{"$f":"'Data diagrams (noprint)'!UQR8","v":0},{"$f":"'Data diagrams (noprint)'!UQS8","v":0},{"$f":"'Data diagrams (noprint)'!UQT8","v":0},{"$f":"'Data diagrams (noprint)'!UQU8","v":0},{"$f":"'Data diagrams (noprint)'!UQV8","v":0},{"$f":"'Data diagrams (noprint)'!UQW8","v":0},{"$f":"'Data diagrams (noprint)'!UQX8","v":0},{"$f":"'Data diagrams (noprint)'!UQY8","v":0},{"$f":"'Data diagrams (noprint)'!UQZ8","v":0},{"$f":"'Data diagrams (noprint)'!URA8","v":0},{"$f":"'Data diagrams (noprint)'!URB8","v":0},{"$f":"'Data diagrams (noprint)'!URC8","v":0},{"$f":"'Data diagrams (noprint)'!URD8","v":0},{"$f":"'Data diagrams (noprint)'!URE8","v":0},{"$f":"'Data diagrams (noprint)'!URF8","v":0},{"$f":"'Data diagrams (noprint)'!URG8","v":0},{"$f":"'Data diagrams (noprint)'!URH8","v":0},{"$f":"'Data diagrams (noprint)'!URI8","v":0},{"$f":"'Data diagrams (noprint)'!URJ8","v":0},{"$f":"'Data diagrams (noprint)'!URK8","v":0},{"$f":"'Data diagrams (noprint)'!URL8","v":0},{"$f":"'Data diagrams (noprint)'!URM8","v":0},{"$f":"'Data diagrams (noprint)'!URN8","v":0},{"$f":"'Data diagrams (noprint)'!URO8","v":0},{"$f":"'Data diagrams (noprint)'!URP8","v":0},{"$f":"'Data diagrams (noprint)'!URQ8","v":0},{"$f":"'Data diagrams (noprint)'!URR8","v":0},{"$f":"'Data diagrams (noprint)'!URS8","v":0},{"$f":"'Data diagrams (noprint)'!URT8","v":0},{"$f":"'Data diagrams (noprint)'!URU8","v":0},{"$f":"'Data diagrams (noprint)'!URV8","v":0},{"$f":"'Data diagrams (noprint)'!URW8","v":0},{"$f":"'Data diagrams (noprint)'!URX8","v":0},{"$f":"'Data diagrams (noprint)'!URY8","v":0},{"$f":"'Data diagrams (noprint)'!URZ8","v":0},{"$f":"'Data diagrams (noprint)'!USA8","v":0},{"$f":"'Data diagrams (noprint)'!USB8","v":0},{"$f":"'Data diagrams (noprint)'!USC8","v":0},{"$f":"'Data diagrams (noprint)'!USD8","v":0},{"$f":"'Data diagrams (noprint)'!USE8","v":0},{"$f":"'Data diagrams (noprint)'!USF8","v":0},{"$f":"'Data diagrams (noprint)'!USG8","v":0},{"$f":"'Data diagrams (noprint)'!USH8","v":0},{"$f":"'Data diagrams (noprint)'!USI8","v":0},{"$f":"'Data diagrams (noprint)'!USJ8","v":0},{"$f":"'Data diagrams (noprint)'!USK8","v":0},{"$f":"'Data diagrams (noprint)'!USL8","v":0},{"$f":"'Data diagrams (noprint)'!USM8","v":0},{"$f":"'Data diagrams (noprint)'!USN8","v":0},{"$f":"'Data diagrams (noprint)'!USO8","v":0},{"$f":"'Data diagrams (noprint)'!USP8","v":0},{"$f":"'Data diagrams (noprint)'!USQ8","v":0},{"$f":"'Data diagrams (noprint)'!USR8","v":0},{"$f":"'Data diagrams (noprint)'!USS8","v":0},{"$f":"'Data diagrams (noprint)'!UST8","v":0},{"$f":"'Data diagrams (noprint)'!USU8","v":0},{"$f":"'Data diagrams (noprint)'!USV8","v":0},{"$f":"'Data diagrams (noprint)'!USW8","v":0},{"$f":"'Data diagrams (noprint)'!USX8","v":0},{"$f":"'Data diagrams (noprint)'!USY8","v":0},{"$f":"'Data diagrams (noprint)'!USZ8","v":0},{"$f":"'Data diagrams (noprint)'!UTA8","v":0},{"$f":"'Data diagrams (noprint)'!UTB8","v":0},{"$f":"'Data diagrams (noprint)'!UTC8","v":0},{"$f":"'Data diagrams (noprint)'!UTD8","v":0},{"$f":"'Data diagrams (noprint)'!UTE8","v":0},{"$f":"'Data diagrams (noprint)'!UTF8","v":0},{"$f":"'Data diagrams (noprint)'!UTG8","v":0},{"$f":"'Data diagrams (noprint)'!UTH8","v":0},{"$f":"'Data diagrams (noprint)'!UTI8","v":0},{"$f":"'Data diagrams (noprint)'!UTJ8","v":0},{"$f":"'Data diagrams (noprint)'!UTK8","v":0},{"$f":"'Data diagrams (noprint)'!UTL8","v":0},{"$f":"'Data diagrams (noprint)'!UTM8","v":0},{"$f":"'Data diagrams (noprint)'!UTN8","v":0},{"$f":"'Data diagrams (noprint)'!UTO8","v":0},{"$f":"'Data diagrams (noprint)'!UTP8","v":0},{"$f":"'Data diagrams (noprint)'!UTQ8","v":0},{"$f":"'Data diagrams (noprint)'!UTR8","v":0},{"$f":"'Data diagrams (noprint)'!UTS8","v":0},{"$f":"'Data diagrams (noprint)'!UTT8","v":0},{"$f":"'Data diagrams (noprint)'!UTU8","v":0},{"$f":"'Data diagrams (noprint)'!UTV8","v":0},{"$f":"'Data diagrams (noprint)'!UTW8","v":0},{"$f":"'Data diagrams (noprint)'!UTX8","v":0},{"$f":"'Data diagrams (noprint)'!UTY8","v":0},{"$f":"'Data diagrams (noprint)'!UTZ8","v":0},{"$f":"'Data diagrams (noprint)'!UUA8","v":0},{"$f":"'Data diagrams (noprint)'!UUB8","v":0},{"$f":"'Data diagrams (noprint)'!UUC8","v":0},{"$f":"'Data diagrams (noprint)'!UUD8","v":0},{"$f":"'Data diagrams (noprint)'!UUE8","v":0},{"$f":"'Data diagrams (noprint)'!UUF8","v":0},{"$f":"'Data diagrams (noprint)'!UUG8","v":0},{"$f":"'Data diagrams (noprint)'!UUH8","v":0},{"$f":"'Data diagrams (noprint)'!UUI8","v":0},{"$f":"'Data diagrams (noprint)'!UUJ8","v":0},{"$f":"'Data diagrams (noprint)'!UUK8","v":0},{"$f":"'Data diagrams (noprint)'!UUL8","v":0},{"$f":"'Data diagrams (noprint)'!UUM8","v":0},{"$f":"'Data diagrams (noprint)'!UUN8","v":0},{"$f":"'Data diagrams (noprint)'!UUO8","v":0},{"$f":"'Data diagrams (noprint)'!UUP8","v":0},{"$f":"'Data diagrams (noprint)'!UUQ8","v":0},{"$f":"'Data diagrams (noprint)'!UUR8","v":0},{"$f":"'Data diagrams (noprint)'!UUS8","v":0},{"$f":"'Data diagrams (noprint)'!UUT8","v":0},{"$f":"'Data diagrams (noprint)'!UUU8","v":0},{"$f":"'Data diagrams (noprint)'!UUV8","v":0},{"$f":"'Data diagrams (noprint)'!UUW8","v":0},{"$f":"'Data diagrams (noprint)'!UUX8","v":0},{"$f":"'Data diagrams (noprint)'!UUY8","v":0},{"$f":"'Data diagrams (noprint)'!UUZ8","v":0},{"$f":"'Data diagrams (noprint)'!UVA8","v":0},{"$f":"'Data diagrams (noprint)'!UVB8","v":0},{"$f":"'Data diagrams (noprint)'!UVC8","v":0},{"$f":"'Data diagrams (noprint)'!UVD8","v":0},{"$f":"'Data diagrams (noprint)'!UVE8","v":0},{"$f":"'Data diagrams (noprint)'!UVF8","v":0},{"$f":"'Data diagrams (noprint)'!UVG8","v":0},{"$f":"'Data diagrams (noprint)'!UVH8","v":0},{"$f":"'Data diagrams (noprint)'!UVI8","v":0},{"$f":"'Data diagrams (noprint)'!UVJ8","v":0},{"$f":"'Data diagrams (noprint)'!UVK8","v":0},{"$f":"'Data diagrams (noprint)'!UVL8","v":0},{"$f":"'Data diagrams (noprint)'!UVM8","v":0},{"$f":"'Data diagrams (noprint)'!UVN8","v":0},{"$f":"'Data diagrams (noprint)'!UVO8","v":0},{"$f":"'Data diagrams (noprint)'!UVP8","v":0},{"$f":"'Data diagrams (noprint)'!UVQ8","v":0},{"$f":"'Data diagrams (noprint)'!UVR8","v":0},{"$f":"'Data diagrams (noprint)'!UVS8","v":0},{"$f":"'Data diagrams (noprint)'!UVT8","v":0},{"$f":"'Data diagrams (noprint)'!UVU8","v":0},{"$f":"'Data diagrams (noprint)'!UVV8","v":0},{"$f":"'Data diagrams (noprint)'!UVW8","v":0},{"$f":"'Data diagrams (noprint)'!UVX8","v":0},{"$f":"'Data diagrams (noprint)'!UVY8","v":0},{"$f":"'Data diagrams (noprint)'!UVZ8","v":0},{"$f":"'Data diagrams (noprint)'!UWA8","v":0},{"$f":"'Data diagrams (noprint)'!UWB8","v":0},{"$f":"'Data diagrams (noprint)'!UWC8","v":0},{"$f":"'Data diagrams (noprint)'!UWD8","v":0},{"$f":"'Data diagrams (noprint)'!UWE8","v":0},{"$f":"'Data diagrams (noprint)'!UWF8","v":0},{"$f":"'Data diagrams (noprint)'!UWG8","v":0},{"$f":"'Data diagrams (noprint)'!UWH8","v":0},{"$f":"'Data diagrams (noprint)'!UWI8","v":0},{"$f":"'Data diagrams (noprint)'!UWJ8","v":0},{"$f":"'Data diagrams (noprint)'!UWK8","v":0},{"$f":"'Data diagrams (noprint)'!UWL8","v":0},{"$f":"'Data diagrams (noprint)'!UWM8","v":0},{"$f":"'Data diagrams (noprint)'!UWN8","v":0},{"$f":"'Data diagrams (noprint)'!UWO8","v":0},{"$f":"'Data diagrams (noprint)'!UWP8","v":0},{"$f":"'Data diagrams (noprint)'!UWQ8","v":0},{"$f":"'Data diagrams (noprint)'!UWR8","v":0},{"$f":"'Data diagrams (noprint)'!UWS8","v":0},{"$f":"'Data diagrams (noprint)'!UWT8","v":0},{"$f":"'Data diagrams (noprint)'!UWU8","v":0},{"$f":"'Data diagrams (noprint)'!UWV8","v":0},{"$f":"'Data diagrams (noprint)'!UWW8","v":0},{"$f":"'Data diagrams (noprint)'!UWX8","v":0},{"$f":"'Data diagrams (noprint)'!UWY8","v":0},{"$f":"'Data diagrams (noprint)'!UWZ8","v":0},{"$f":"'Data diagrams (noprint)'!UXA8","v":0},{"$f":"'Data diagrams (noprint)'!UXB8","v":0},{"$f":"'Data diagrams (noprint)'!UXC8","v":0},{"$f":"'Data diagrams (noprint)'!UXD8","v":0},{"$f":"'Data diagrams (noprint)'!UXE8","v":0},{"$f":"'Data diagrams (noprint)'!UXF8","v":0},{"$f":"'Data diagrams (noprint)'!UXG8","v":0},{"$f":"'Data diagrams (noprint)'!UXH8","v":0},{"$f":"'Data diagrams (noprint)'!UXI8","v":0},{"$f":"'Data diagrams (noprint)'!UXJ8","v":0},{"$f":"'Data diagrams (noprint)'!UXK8","v":0},{"$f":"'Data diagrams (noprint)'!UXL8","v":0},{"$f":"'Data diagrams (noprint)'!UXM8","v":0},{"$f":"'Data diagrams (noprint)'!UXN8","v":0},{"$f":"'Data diagrams (noprint)'!UXO8","v":0},{"$f":"'Data diagrams (noprint)'!UXP8","v":0},{"$f":"'Data diagrams (noprint)'!UXQ8","v":0},{"$f":"'Data diagrams (noprint)'!UXR8","v":0},{"$f":"'Data diagrams (noprint)'!UXS8","v":0},{"$f":"'Data diagrams (noprint)'!UXT8","v":0},{"$f":"'Data diagrams (noprint)'!UXU8","v":0},{"$f":"'Data diagrams (noprint)'!UXV8","v":0},{"$f":"'Data diagrams (noprint)'!UXW8","v":0},{"$f":"'Data diagrams (noprint)'!UXX8","v":0},{"$f":"'Data diagrams (noprint)'!UXY8","v":0},{"$f":"'Data diagrams (noprint)'!UXZ8","v":0},{"$f":"'Data diagrams (noprint)'!UYA8","v":0},{"$f":"'Data diagrams (noprint)'!UYB8","v":0},{"$f":"'Data diagrams (noprint)'!UYC8","v":0},{"$f":"'Data diagrams (noprint)'!UYD8","v":0},{"$f":"'Data diagrams (noprint)'!UYE8","v":0},{"$f":"'Data diagrams (noprint)'!UYF8","v":0},{"$f":"'Data diagrams (noprint)'!UYG8","v":0},{"$f":"'Data diagrams (noprint)'!UYH8","v":0},{"$f":"'Data diagrams (noprint)'!UYI8","v":0},{"$f":"'Data diagrams (noprint)'!UYJ8","v":0},{"$f":"'Data diagrams (noprint)'!UYK8","v":0},{"$f":"'Data diagrams (noprint)'!UYL8","v":0},{"$f":"'Data diagrams (noprint)'!UYM8","v":0},{"$f":"'Data diagrams (noprint)'!UYN8","v":0},{"$f":"'Data diagrams (noprint)'!UYO8","v":0},{"$f":"'Data diagrams (noprint)'!UYP8","v":0},{"$f":"'Data diagrams (noprint)'!UYQ8","v":0},{"$f":"'Data diagrams (noprint)'!UYR8","v":0},{"$f":"'Data diagrams (noprint)'!UYS8","v":0},{"$f":"'Data diagrams (noprint)'!UYT8","v":0},{"$f":"'Data diagrams (noprint)'!UYU8","v":0},{"$f":"'Data diagrams (noprint)'!UYV8","v":0},{"$f":"'Data diagrams (noprint)'!UYW8","v":0},{"$f":"'Data diagrams (noprint)'!UYX8","v":0},{"$f":"'Data diagrams (noprint)'!UYY8","v":0},{"$f":"'Data diagrams (noprint)'!UYZ8","v":0},{"$f":"'Data diagrams (noprint)'!UZA8","v":0},{"$f":"'Data diagrams (noprint)'!UZB8","v":0},{"$f":"'Data diagrams (noprint)'!UZC8","v":0},{"$f":"'Data diagrams (noprint)'!UZD8","v":0},{"$f":"'Data diagrams (noprint)'!UZE8","v":0},{"$f":"'Data diagrams (noprint)'!UZF8","v":0},{"$f":"'Data diagrams (noprint)'!UZG8","v":0},{"$f":"'Data diagrams (noprint)'!UZH8","v":0},{"$f":"'Data diagrams (noprint)'!UZI8","v":0},{"$f":"'Data diagrams (noprint)'!UZJ8","v":0},{"$f":"'Data diagrams (noprint)'!UZK8","v":0},{"$f":"'Data diagrams (noprint)'!UZL8","v":0},{"$f":"'Data diagrams (noprint)'!UZM8","v":0},{"$f":"'Data diagrams (noprint)'!UZN8","v":0},{"$f":"'Data diagrams (noprint)'!UZO8","v":0},{"$f":"'Data diagrams (noprint)'!UZP8","v":0},{"$f":"'Data diagrams (noprint)'!UZQ8","v":0},{"$f":"'Data diagrams (noprint)'!UZR8","v":0},{"$f":"'Data diagrams (noprint)'!UZS8","v":0},{"$f":"'Data diagrams (noprint)'!UZT8","v":0},{"$f":"'Data diagrams (noprint)'!UZU8","v":0},{"$f":"'Data diagrams (noprint)'!UZV8","v":0},{"$f":"'Data diagrams (noprint)'!UZW8","v":0},{"$f":"'Data diagrams (noprint)'!UZX8","v":0},{"$f":"'Data diagrams (noprint)'!UZY8","v":0},{"$f":"'Data diagrams (noprint)'!UZZ8","v":0},{"$f":"'Data diagrams (noprint)'!VAA8","v":0},{"$f":"'Data diagrams (noprint)'!VAB8","v":0},{"$f":"'Data diagrams (noprint)'!VAC8","v":0},{"$f":"'Data diagrams (noprint)'!VAD8","v":0},{"$f":"'Data diagrams (noprint)'!VAE8","v":0},{"$f":"'Data diagrams (noprint)'!VAF8","v":0},{"$f":"'Data diagrams (noprint)'!VAG8","v":0},{"$f":"'Data diagrams (noprint)'!VAH8","v":0},{"$f":"'Data diagrams (noprint)'!VAI8","v":0},{"$f":"'Data diagrams (noprint)'!VAJ8","v":0},{"$f":"'Data diagrams (noprint)'!VAK8","v":0},{"$f":"'Data diagrams (noprint)'!VAL8","v":0},{"$f":"'Data diagrams (noprint)'!VAM8","v":0},{"$f":"'Data diagrams (noprint)'!VAN8","v":0},{"$f":"'Data diagrams (noprint)'!VAO8","v":0},{"$f":"'Data diagrams (noprint)'!VAP8","v":0},{"$f":"'Data diagrams (noprint)'!VAQ8","v":0},{"$f":"'Data diagrams (noprint)'!VAR8","v":0},{"$f":"'Data diagrams (noprint)'!VAS8","v":0},{"$f":"'Data diagrams (noprint)'!VAT8","v":0},{"$f":"'Data diagrams (noprint)'!VAU8","v":0},{"$f":"'Data diagrams (noprint)'!VAV8","v":0},{"$f":"'Data diagrams (noprint)'!VAW8","v":0},{"$f":"'Data diagrams (noprint)'!VAX8","v":0},{"$f":"'Data diagrams (noprint)'!VAY8","v":0},{"$f":"'Data diagrams (noprint)'!VAZ8","v":0},{"$f":"'Data diagrams (noprint)'!VBA8","v":0},{"$f":"'Data diagrams (noprint)'!VBB8","v":0},{"$f":"'Data diagrams (noprint)'!VBC8","v":0},{"$f":"'Data diagrams (noprint)'!VBD8","v":0},{"$f":"'Data diagrams (noprint)'!VBE8","v":0},{"$f":"'Data diagrams (noprint)'!VBF8","v":0},{"$f":"'Data diagrams (noprint)'!VBG8","v":0},{"$f":"'Data diagrams (noprint)'!VBH8","v":0},{"$f":"'Data diagrams (noprint)'!VBI8","v":0},{"$f":"'Data diagrams (noprint)'!VBJ8","v":0},{"$f":"'Data diagrams (noprint)'!VBK8","v":0},{"$f":"'Data diagrams (noprint)'!VBL8","v":0},{"$f":"'Data diagrams (noprint)'!VBM8","v":0},{"$f":"'Data diagrams (noprint)'!VBN8","v":0},{"$f":"'Data diagrams (noprint)'!VBO8","v":0},{"$f":"'Data diagrams (noprint)'!VBP8","v":0},{"$f":"'Data diagrams (noprint)'!VBQ8","v":0},{"$f":"'Data diagrams (noprint)'!VBR8","v":0},{"$f":"'Data diagrams (noprint)'!VBS8","v":0},{"$f":"'Data diagrams (noprint)'!VBT8","v":0},{"$f":"'Data diagrams (noprint)'!VBU8","v":0},{"$f":"'Data diagrams (noprint)'!VBV8","v":0},{"$f":"'Data diagrams (noprint)'!VBW8","v":0},{"$f":"'Data diagrams (noprint)'!VBX8","v":0},{"$f":"'Data diagrams (noprint)'!VBY8","v":0},{"$f":"'Data diagrams (noprint)'!VBZ8","v":0},{"$f":"'Data diagrams (noprint)'!VCA8","v":0},{"$f":"'Data diagrams (noprint)'!VCB8","v":0},{"$f":"'Data diagrams (noprint)'!VCC8","v":0},{"$f":"'Data diagrams (noprint)'!VCD8","v":0},{"$f":"'Data diagrams (noprint)'!VCE8","v":0},{"$f":"'Data diagrams (noprint)'!VCF8","v":0},{"$f":"'Data diagrams (noprint)'!VCG8","v":0},{"$f":"'Data diagrams (noprint)'!VCH8","v":0},{"$f":"'Data diagrams (noprint)'!VCI8","v":0},{"$f":"'Data diagrams (noprint)'!VCJ8","v":0},{"$f":"'Data diagrams (noprint)'!VCK8","v":0},{"$f":"'Data diagrams (noprint)'!VCL8","v":0},{"$f":"'Data diagrams (noprint)'!VCM8","v":0},{"$f":"'Data diagrams (noprint)'!VCN8","v":0},{"$f":"'Data diagrams (noprint)'!VCO8","v":0},{"$f":"'Data diagrams (noprint)'!VCP8","v":0},{"$f":"'Data diagrams (noprint)'!VCQ8","v":0},{"$f":"'Data diagrams (noprint)'!VCR8","v":0},{"$f":"'Data diagrams (noprint)'!VCS8","v":0},{"$f":"'Data diagrams (noprint)'!VCT8","v":0},{"$f":"'Data diagrams (noprint)'!VCU8","v":0},{"$f":"'Data diagrams (noprint)'!VCV8","v":0},{"$f":"'Data diagrams (noprint)'!VCW8","v":0},{"$f":"'Data diagrams (noprint)'!VCX8","v":0},{"$f":"'Data diagrams (noprint)'!VCY8","v":0},{"$f":"'Data diagrams (noprint)'!VCZ8","v":0},{"$f":"'Data diagrams (noprint)'!VDA8","v":0},{"$f":"'Data diagrams (noprint)'!VDB8","v":0},{"$f":"'Data diagrams (noprint)'!VDC8","v":0},{"$f":"'Data diagrams (noprint)'!VDD8","v":0},{"$f":"'Data diagrams (noprint)'!VDE8","v":0},{"$f":"'Data diagrams (noprint)'!VDF8","v":0},{"$f":"'Data diagrams (noprint)'!VDG8","v":0},{"$f":"'Data diagrams (noprint)'!VDH8","v":0},{"$f":"'Data diagrams (noprint)'!VDI8","v":0},{"$f":"'Data diagrams (noprint)'!VDJ8","v":0},{"$f":"'Data diagrams (noprint)'!VDK8","v":0},{"$f":"'Data diagrams (noprint)'!VDL8","v":0},{"$f":"'Data diagrams (noprint)'!VDM8","v":0},{"$f":"'Data diagrams (noprint)'!VDN8","v":0},{"$f":"'Data diagrams (noprint)'!VDO8","v":0},{"$f":"'Data diagrams (noprint)'!VDP8","v":0},{"$f":"'Data diagrams (noprint)'!VDQ8","v":0},{"$f":"'Data diagrams (noprint)'!VDR8","v":0},{"$f":"'Data diagrams (noprint)'!VDS8","v":0},{"$f":"'Data diagrams (noprint)'!VDT8","v":0},{"$f":"'Data diagrams (noprint)'!VDU8","v":0},{"$f":"'Data diagrams (noprint)'!VDV8","v":0},{"$f":"'Data diagrams (noprint)'!VDW8","v":0},{"$f":"'Data diagrams (noprint)'!VDX8","v":0},{"$f":"'Data diagrams (noprint)'!VDY8","v":0},{"$f":"'Data diagrams (noprint)'!VDZ8","v":0},{"$f":"'Data diagrams (noprint)'!VEA8","v":0},{"$f":"'Data diagrams (noprint)'!VEB8","v":0},{"$f":"'Data diagrams (noprint)'!VEC8","v":0},{"$f":"'Data diagrams (noprint)'!VED8","v":0},{"$f":"'Data diagrams (noprint)'!VEE8","v":0},{"$f":"'Data diagrams (noprint)'!VEF8","v":0},{"$f":"'Data diagrams (noprint)'!VEG8","v":0},{"$f":"'Data diagrams (noprint)'!VEH8","v":0},{"$f":"'Data diagrams (noprint)'!VEI8","v":0},{"$f":"'Data diagrams (noprint)'!VEJ8","v":0},{"$f":"'Data diagrams (noprint)'!VEK8","v":0},{"$f":"'Data diagrams (noprint)'!VEL8","v":0},{"$f":"'Data diagrams (noprint)'!VEM8","v":0},{"$f":"'Data diagrams (noprint)'!VEN8","v":0},{"$f":"'Data diagrams (noprint)'!VEO8","v":0},{"$f":"'Data diagrams (noprint)'!VEP8","v":0},{"$f":"'Data diagrams (noprint)'!VEQ8","v":0},{"$f":"'Data diagrams (noprint)'!VER8","v":0},{"$f":"'Data diagrams (noprint)'!VES8","v":0},{"$f":"'Data diagrams (noprint)'!VET8","v":0},{"$f":"'Data diagrams (noprint)'!VEU8","v":0},{"$f":"'Data diagrams (noprint)'!VEV8","v":0},{"$f":"'Data diagrams (noprint)'!VEW8","v":0},{"$f":"'Data diagrams (noprint)'!VEX8","v":0},{"$f":"'Data diagrams (noprint)'!VEY8","v":0},{"$f":"'Data diagrams (noprint)'!VEZ8","v":0},{"$f":"'Data diagrams (noprint)'!VFA8","v":0},{"$f":"'Data diagrams (noprint)'!VFB8","v":0},{"$f":"'Data diagrams (noprint)'!VFC8","v":0},{"$f":"'Data diagrams (noprint)'!VFD8","v":0},{"$f":"'Data diagrams (noprint)'!VFE8","v":0},{"$f":"'Data diagrams (noprint)'!VFF8","v":0},{"$f":"'Data diagrams (noprint)'!VFG8","v":0},{"$f":"'Data diagrams (noprint)'!VFH8","v":0},{"$f":"'Data diagrams (noprint)'!VFI8","v":0},{"$f":"'Data diagrams (noprint)'!VFJ8","v":0},{"$f":"'Data diagrams (noprint)'!VFK8","v":0},{"$f":"'Data diagrams (noprint)'!VFL8","v":0},{"$f":"'Data diagrams (noprint)'!VFM8","v":0},{"$f":"'Data diagrams (noprint)'!VFN8","v":0},{"$f":"'Data diagrams (noprint)'!VFO8","v":0},{"$f":"'Data diagrams (noprint)'!VFP8","v":0},{"$f":"'Data diagrams (noprint)'!VFQ8","v":0},{"$f":"'Data diagrams (noprint)'!VFR8","v":0},{"$f":"'Data diagrams (noprint)'!VFS8","v":0},{"$f":"'Data diagrams (noprint)'!VFT8","v":0},{"$f":"'Data diagrams (noprint)'!VFU8","v":0},{"$f":"'Data diagrams (noprint)'!VFV8","v":0},{"$f":"'Data diagrams (noprint)'!VFW8","v":0},{"$f":"'Data diagrams (noprint)'!VFX8","v":0},{"$f":"'Data diagrams (noprint)'!VFY8","v":0},{"$f":"'Data diagrams (noprint)'!VFZ8","v":0},{"$f":"'Data diagrams (noprint)'!VGA8","v":0},{"$f":"'Data diagrams (noprint)'!VGB8","v":0},{"$f":"'Data diagrams (noprint)'!VGC8","v":0},{"$f":"'Data diagrams (noprint)'!VGD8","v":0},{"$f":"'Data diagrams (noprint)'!VGE8","v":0},{"$f":"'Data diagrams (noprint)'!VGF8","v":0},{"$f":"'Data diagrams (noprint)'!VGG8","v":0},{"$f":"'Data diagrams (noprint)'!VGH8","v":0},{"$f":"'Data diagrams (noprint)'!VGI8","v":0},{"$f":"'Data diagrams (noprint)'!VGJ8","v":0},{"$f":"'Data diagrams (noprint)'!VGK8","v":0},{"$f":"'Data diagrams (noprint)'!VGL8","v":0},{"$f":"'Data diagrams (noprint)'!VGM8","v":0},{"$f":"'Data diagrams (noprint)'!VGN8","v":0},{"$f":"'Data diagrams (noprint)'!VGO8","v":0},{"$f":"'Data diagrams (noprint)'!VGP8","v":0},{"$f":"'Data diagrams (noprint)'!VGQ8","v":0},{"$f":"'Data diagrams (noprint)'!VGR8","v":0},{"$f":"'Data diagrams (noprint)'!VGS8","v":0},{"$f":"'Data diagrams (noprint)'!VGT8","v":0},{"$f":"'Data diagrams (noprint)'!VGU8","v":0},{"$f":"'Data diagrams (noprint)'!VGV8","v":0},{"$f":"'Data diagrams (noprint)'!VGW8","v":0},{"$f":"'Data diagrams (noprint)'!VGX8","v":0},{"$f":"'Data diagrams (noprint)'!VGY8","v":0},{"$f":"'Data diagrams (noprint)'!VGZ8","v":0},{"$f":"'Data diagrams (noprint)'!VHA8","v":0},{"$f":"'Data diagrams (noprint)'!VHB8","v":0},{"$f":"'Data diagrams (noprint)'!VHC8","v":0},{"$f":"'Data diagrams (noprint)'!VHD8","v":0},{"$f":"'Data diagrams (noprint)'!VHE8","v":0},{"$f":"'Data diagrams (noprint)'!VHF8","v":0},{"$f":"'Data diagrams (noprint)'!VHG8","v":0},{"$f":"'Data diagrams (noprint)'!VHH8","v":0},{"$f":"'Data diagrams (noprint)'!VHI8","v":0},{"$f":"'Data diagrams (noprint)'!VHJ8","v":0},{"$f":"'Data diagrams (noprint)'!VHK8","v":0},{"$f":"'Data diagrams (noprint)'!VHL8","v":0},{"$f":"'Data diagrams (noprint)'!VHM8","v":0},{"$f":"'Data diagrams (noprint)'!VHN8","v":0},{"$f":"'Data diagrams (noprint)'!VHO8","v":0},{"$f":"'Data diagrams (noprint)'!VHP8","v":0},{"$f":"'Data diagrams (noprint)'!VHQ8","v":0},{"$f":"'Data diagrams (noprint)'!VHR8","v":0},{"$f":"'Data diagrams (noprint)'!VHS8","v":0},{"$f":"'Data diagrams (noprint)'!VHT8","v":0},{"$f":"'Data diagrams (noprint)'!VHU8","v":0},{"$f":"'Data diagrams (noprint)'!VHV8","v":0},{"$f":"'Data diagrams (noprint)'!VHW8","v":0},{"$f":"'Data diagrams (noprint)'!VHX8","v":0},{"$f":"'Data diagrams (noprint)'!VHY8","v":0},{"$f":"'Data diagrams (noprint)'!VHZ8","v":0},{"$f":"'Data diagrams (noprint)'!VIA8","v":0},{"$f":"'Data diagrams (noprint)'!VIB8","v":0},{"$f":"'Data diagrams (noprint)'!VIC8","v":0},{"$f":"'Data diagrams (noprint)'!VID8","v":0},{"$f":"'Data diagrams (noprint)'!VIE8","v":0},{"$f":"'Data diagrams (noprint)'!VIF8","v":0},{"$f":"'Data diagrams (noprint)'!VIG8","v":0},{"$f":"'Data diagrams (noprint)'!VIH8","v":0},{"$f":"'Data diagrams (noprint)'!VII8","v":0},{"$f":"'Data diagrams (noprint)'!VIJ8","v":0},{"$f":"'Data diagrams (noprint)'!VIK8","v":0},{"$f":"'Data diagrams (noprint)'!VIL8","v":0},{"$f":"'Data diagrams (noprint)'!VIM8","v":0},{"$f":"'Data diagrams (noprint)'!VIN8","v":0},{"$f":"'Data diagrams (noprint)'!VIO8","v":0},{"$f":"'Data diagrams (noprint)'!VIP8","v":0},{"$f":"'Data diagrams (noprint)'!VIQ8","v":0},{"$f":"'Data diagrams (noprint)'!VIR8","v":0},{"$f":"'Data diagrams (noprint)'!VIS8","v":0},{"$f":"'Data diagrams (noprint)'!VIT8","v":0},{"$f":"'Data diagrams (noprint)'!VIU8","v":0},{"$f":"'Data diagrams (noprint)'!VIV8","v":0},{"$f":"'Data diagrams (noprint)'!VIW8","v":0},{"$f":"'Data diagrams (noprint)'!VIX8","v":0},{"$f":"'Data diagrams (noprint)'!VIY8","v":0},{"$f":"'Data diagrams (noprint)'!VIZ8","v":0},{"$f":"'Data diagrams (noprint)'!VJA8","v":0},{"$f":"'Data diagrams (noprint)'!VJB8","v":0},{"$f":"'Data diagrams (noprint)'!VJC8","v":0},{"$f":"'Data diagrams (noprint)'!VJD8","v":0},{"$f":"'Data diagrams (noprint)'!VJE8","v":0},{"$f":"'Data diagrams (noprint)'!VJF8","v":0},{"$f":"'Data diagrams (noprint)'!VJG8","v":0},{"$f":"'Data diagrams (noprint)'!VJH8","v":0},{"$f":"'Data diagrams (noprint)'!VJI8","v":0},{"$f":"'Data diagrams (noprint)'!VJJ8","v":0},{"$f":"'Data diagrams (noprint)'!VJK8","v":0},{"$f":"'Data diagrams (noprint)'!VJL8","v":0},{"$f":"'Data diagrams (noprint)'!VJM8","v":0},{"$f":"'Data diagrams (noprint)'!VJN8","v":0},{"$f":"'Data diagrams (noprint)'!VJO8","v":0},{"$f":"'Data diagrams (noprint)'!VJP8","v":0},{"$f":"'Data diagrams (noprint)'!VJQ8","v":0},{"$f":"'Data diagrams (noprint)'!VJR8","v":0},{"$f":"'Data diagrams (noprint)'!VJS8","v":0},{"$f":"'Data diagrams (noprint)'!VJT8","v":0},{"$f":"'Data diagrams (noprint)'!VJU8","v":0},{"$f":"'Data diagrams (noprint)'!VJV8","v":0},{"$f":"'Data diagrams (noprint)'!VJW8","v":0},{"$f":"'Data diagrams (noprint)'!VJX8","v":0},{"$f":"'Data diagrams (noprint)'!VJY8","v":0},{"$f":"'Data diagrams (noprint)'!VJZ8","v":0},{"$f":"'Data diagrams (noprint)'!VKA8","v":0},{"$f":"'Data diagrams (noprint)'!VKB8","v":0},{"$f":"'Data diagrams (noprint)'!VKC8","v":0},{"$f":"'Data diagrams (noprint)'!VKD8","v":0},{"$f":"'Data diagrams (noprint)'!VKE8","v":0},{"$f":"'Data diagrams (noprint)'!VKF8","v":0},{"$f":"'Data diagrams (noprint)'!VKG8","v":0},{"$f":"'Data diagrams (noprint)'!VKH8","v":0},{"$f":"'Data diagrams (noprint)'!VKI8","v":0},{"$f":"'Data diagrams (noprint)'!VKJ8","v":0},{"$f":"'Data diagrams (noprint)'!VKK8","v":0},{"$f":"'Data diagrams (noprint)'!VKL8","v":0},{"$f":"'Data diagrams (noprint)'!VKM8","v":0},{"$f":"'Data diagrams (noprint)'!VKN8","v":0},{"$f":"'Data diagrams (noprint)'!VKO8","v":0},{"$f":"'Data diagrams (noprint)'!VKP8","v":0},{"$f":"'Data diagrams (noprint)'!VKQ8","v":0},{"$f":"'Data diagrams (noprint)'!VKR8","v":0},{"$f":"'Data diagrams (noprint)'!VKS8","v":0},{"$f":"'Data diagrams (noprint)'!VKT8","v":0},{"$f":"'Data diagrams (noprint)'!VKU8","v":0},{"$f":"'Data diagrams (noprint)'!VKV8","v":0},{"$f":"'Data diagrams (noprint)'!VKW8","v":0},{"$f":"'Data diagrams (noprint)'!VKX8","v":0},{"$f":"'Data diagrams (noprint)'!VKY8","v":0},{"$f":"'Data diagrams (noprint)'!VKZ8","v":0},{"$f":"'Data diagrams (noprint)'!VLA8","v":0},{"$f":"'Data diagrams (noprint)'!VLB8","v":0},{"$f":"'Data diagrams (noprint)'!VLC8","v":0},{"$f":"'Data diagrams (noprint)'!VLD8","v":0},{"$f":"'Data diagrams (noprint)'!VLE8","v":0},{"$f":"'Data diagrams (noprint)'!VLF8","v":0},{"$f":"'Data diagrams (noprint)'!VLG8","v":0},{"$f":"'Data diagrams (noprint)'!VLH8","v":0},{"$f":"'Data diagrams (noprint)'!VLI8","v":0},{"$f":"'Data diagrams (noprint)'!VLJ8","v":0},{"$f":"'Data diagrams (noprint)'!VLK8","v":0},{"$f":"'Data diagrams (noprint)'!VLL8","v":0},{"$f":"'Data diagrams (noprint)'!VLM8","v":0},{"$f":"'Data diagrams (noprint)'!VLN8","v":0},{"$f":"'Data diagrams (noprint)'!VLO8","v":0},{"$f":"'Data diagrams (noprint)'!VLP8","v":0},{"$f":"'Data diagrams (noprint)'!VLQ8","v":0},{"$f":"'Data diagrams (noprint)'!VLR8","v":0},{"$f":"'Data diagrams (noprint)'!VLS8","v":0},{"$f":"'Data diagrams (noprint)'!VLT8","v":0},{"$f":"'Data diagrams (noprint)'!VLU8","v":0},{"$f":"'Data diagrams (noprint)'!VLV8","v":0},{"$f":"'Data diagrams (noprint)'!VLW8","v":0},{"$f":"'Data diagrams (noprint)'!VLX8","v":0},{"$f":"'Data diagrams (noprint)'!VLY8","v":0},{"$f":"'Data diagrams (noprint)'!VLZ8","v":0},{"$f":"'Data diagrams (noprint)'!VMA8","v":0},{"$f":"'Data diagrams (noprint)'!VMB8","v":0},{"$f":"'Data diagrams (noprint)'!VMC8","v":0},{"$f":"'Data diagrams (noprint)'!VMD8","v":0},{"$f":"'Data diagrams (noprint)'!VME8","v":0},{"$f":"'Data diagrams (noprint)'!VMF8","v":0},{"$f":"'Data diagrams (noprint)'!VMG8","v":0},{"$f":"'Data diagrams (noprint)'!VMH8","v":0},{"$f":"'Data diagrams (noprint)'!VMI8","v":0},{"$f":"'Data diagrams (noprint)'!VMJ8","v":0},{"$f":"'Data diagrams (noprint)'!VMK8","v":0},{"$f":"'Data diagrams (noprint)'!VML8","v":0},{"$f":"'Data diagrams (noprint)'!VMM8","v":0},{"$f":"'Data diagrams (noprint)'!VMN8","v":0},{"$f":"'Data diagrams (noprint)'!VMO8","v":0},{"$f":"'Data diagrams (noprint)'!VMP8","v":0},{"$f":"'Data diagrams (noprint)'!VMQ8","v":0},{"$f":"'Data diagrams (noprint)'!VMR8","v":0},{"$f":"'Data diagrams (noprint)'!VMS8","v":0},{"$f":"'Data diagrams (noprint)'!VMT8","v":0},{"$f":"'Data diagrams (noprint)'!VMU8","v":0},{"$f":"'Data diagrams (noprint)'!VMV8","v":0},{"$f":"'Data diagrams (noprint)'!VMW8","v":0},{"$f":"'Data diagrams (noprint)'!VMX8","v":0},{"$f":"'Data diagrams (noprint)'!VMY8","v":0},{"$f":"'Data diagrams (noprint)'!VMZ8","v":0},{"$f":"'Data diagrams (noprint)'!VNA8","v":0},{"$f":"'Data diagrams (noprint)'!VNB8","v":0},{"$f":"'Data diagrams (noprint)'!VNC8","v":0},{"$f":"'Data diagrams (noprint)'!VND8","v":0},{"$f":"'Data diagrams (noprint)'!VNE8","v":0},{"$f":"'Data diagrams (noprint)'!VNF8","v":0},{"$f":"'Data diagrams (noprint)'!VNG8","v":0},{"$f":"'Data diagrams (noprint)'!VNH8","v":0},{"$f":"'Data diagrams (noprint)'!VNI8","v":0},{"$f":"'Data diagrams (noprint)'!VNJ8","v":0},{"$f":"'Data diagrams (noprint)'!VNK8","v":0},{"$f":"'Data diagrams (noprint)'!VNL8","v":0},{"$f":"'Data diagrams (noprint)'!VNM8","v":0},{"$f":"'Data diagrams (noprint)'!VNN8","v":0},{"$f":"'Data diagrams (noprint)'!VNO8","v":0},{"$f":"'Data diagrams (noprint)'!VNP8","v":0},{"$f":"'Data diagrams (noprint)'!VNQ8","v":0},{"$f":"'Data diagrams (noprint)'!VNR8","v":0},{"$f":"'Data diagrams (noprint)'!VNS8","v":0},{"$f":"'Data diagrams (noprint)'!VNT8","v":0},{"$f":"'Data diagrams (noprint)'!VNU8","v":0},{"$f":"'Data diagrams (noprint)'!VNV8","v":0},{"$f":"'Data diagrams (noprint)'!VNW8","v":0},{"$f":"'Data diagrams (noprint)'!VNX8","v":0},{"$f":"'Data diagrams (noprint)'!VNY8","v":0},{"$f":"'Data diagrams (noprint)'!VNZ8","v":0},{"$f":"'Data diagrams (noprint)'!VOA8","v":0},{"$f":"'Data diagrams (noprint)'!VOB8","v":0},{"$f":"'Data diagrams (noprint)'!VOC8","v":0},{"$f":"'Data diagrams (noprint)'!VOD8","v":0},{"$f":"'Data diagrams (noprint)'!VOE8","v":0},{"$f":"'Data diagrams (noprint)'!VOF8","v":0},{"$f":"'Data diagrams (noprint)'!VOG8","v":0},{"$f":"'Data diagrams (noprint)'!VOH8","v":0},{"$f":"'Data diagrams (noprint)'!VOI8","v":0},{"$f":"'Data diagrams (noprint)'!VOJ8","v":0},{"$f":"'Data diagrams (noprint)'!VOK8","v":0},{"$f":"'Data diagrams (noprint)'!VOL8","v":0},{"$f":"'Data diagrams (noprint)'!VOM8","v":0},{"$f":"'Data diagrams (noprint)'!VON8","v":0},{"$f":"'Data diagrams (noprint)'!VOO8","v":0},{"$f":"'Data diagrams (noprint)'!VOP8","v":0},{"$f":"'Data diagrams (noprint)'!VOQ8","v":0},{"$f":"'Data diagrams (noprint)'!VOR8","v":0},{"$f":"'Data diagrams (noprint)'!VOS8","v":0},{"$f":"'Data diagrams (noprint)'!VOT8","v":0},{"$f":"'Data diagrams (noprint)'!VOU8","v":0},{"$f":"'Data diagrams (noprint)'!VOV8","v":0},{"$f":"'Data diagrams (noprint)'!VOW8","v":0},{"$f":"'Data diagrams (noprint)'!VOX8","v":0},{"$f":"'Data diagrams (noprint)'!VOY8","v":0},{"$f":"'Data diagrams (noprint)'!VOZ8","v":0},{"$f":"'Data diagrams (noprint)'!VPA8","v":0},{"$f":"'Data diagrams (noprint)'!VPB8","v":0},{"$f":"'Data diagrams (noprint)'!VPC8","v":0},{"$f":"'Data diagrams (noprint)'!VPD8","v":0},{"$f":"'Data diagrams (noprint)'!VPE8","v":0},{"$f":"'Data diagrams (noprint)'!VPF8","v":0},{"$f":"'Data diagrams (noprint)'!VPG8","v":0},{"$f":"'Data diagrams (noprint)'!VPH8","v":0},{"$f":"'Data diagrams (noprint)'!VPI8","v":0},{"$f":"'Data diagrams (noprint)'!VPJ8","v":0},{"$f":"'Data diagrams (noprint)'!VPK8","v":0},{"$f":"'Data diagrams (noprint)'!VPL8","v":0},{"$f":"'Data diagrams (noprint)'!VPM8","v":0},{"$f":"'Data diagrams (noprint)'!VPN8","v":0},{"$f":"'Data diagrams (noprint)'!VPO8","v":0},{"$f":"'Data diagrams (noprint)'!VPP8","v":0},{"$f":"'Data diagrams (noprint)'!VPQ8","v":0},{"$f":"'Data diagrams (noprint)'!VPR8","v":0},{"$f":"'Data diagrams (noprint)'!VPS8","v":0},{"$f":"'Data diagrams (noprint)'!VPT8","v":0},{"$f":"'Data diagrams (noprint)'!VPU8","v":0},{"$f":"'Data diagrams (noprint)'!VPV8","v":0},{"$f":"'Data diagrams (noprint)'!VPW8","v":0},{"$f":"'Data diagrams (noprint)'!VPX8","v":0},{"$f":"'Data diagrams (noprint)'!VPY8","v":0},{"$f":"'Data diagrams (noprint)'!VPZ8","v":0},{"$f":"'Data diagrams (noprint)'!VQA8","v":0},{"$f":"'Data diagrams (noprint)'!VQB8","v":0},{"$f":"'Data diagrams (noprint)'!VQC8","v":0},{"$f":"'Data diagrams (noprint)'!VQD8","v":0},{"$f":"'Data diagrams (noprint)'!VQE8","v":0},{"$f":"'Data diagrams (noprint)'!VQF8","v":0},{"$f":"'Data diagrams (noprint)'!VQG8","v":0},{"$f":"'Data diagrams (noprint)'!VQH8","v":0},{"$f":"'Data diagrams (noprint)'!VQI8","v":0},{"$f":"'Data diagrams (noprint)'!VQJ8","v":0},{"$f":"'Data diagrams (noprint)'!VQK8","v":0},{"$f":"'Data diagrams (noprint)'!VQL8","v":0},{"$f":"'Data diagrams (noprint)'!VQM8","v":0},{"$f":"'Data diagrams (noprint)'!VQN8","v":0},{"$f":"'Data diagrams (noprint)'!VQO8","v":0},{"$f":"'Data diagrams (noprint)'!VQP8","v":0},{"$f":"'Data diagrams (noprint)'!VQQ8","v":0},{"$f":"'Data diagrams (noprint)'!VQR8","v":0},{"$f":"'Data diagrams (noprint)'!VQS8","v":0},{"$f":"'Data diagrams (noprint)'!VQT8","v":0},{"$f":"'Data diagrams (noprint)'!VQU8","v":0},{"$f":"'Data diagrams (noprint)'!VQV8","v":0},{"$f":"'Data diagrams (noprint)'!VQW8","v":0},{"$f":"'Data diagrams (noprint)'!VQX8","v":0},{"$f":"'Data diagrams (noprint)'!VQY8","v":0},{"$f":"'Data diagrams (noprint)'!VQZ8","v":0},{"$f":"'Data diagrams (noprint)'!VRA8","v":0},{"$f":"'Data diagrams (noprint)'!VRB8","v":0},{"$f":"'Data diagrams (noprint)'!VRC8","v":0},{"$f":"'Data diagrams (noprint)'!VRD8","v":0},{"$f":"'Data diagrams (noprint)'!VRE8","v":0},{"$f":"'Data diagrams (noprint)'!VRF8","v":0},{"$f":"'Data diagrams (noprint)'!VRG8","v":0},{"$f":"'Data diagrams (noprint)'!VRH8","v":0},{"$f":"'Data diagrams (noprint)'!VRI8","v":0},{"$f":"'Data diagrams (noprint)'!VRJ8","v":0},{"$f":"'Data diagrams (noprint)'!VRK8","v":0},{"$f":"'Data diagrams (noprint)'!VRL8","v":0},{"$f":"'Data diagrams (noprint)'!VRM8","v":0},{"$f":"'Data diagrams (noprint)'!VRN8","v":0},{"$f":"'Data diagrams (noprint)'!VRO8","v":0},{"$f":"'Data diagrams (noprint)'!VRP8","v":0},{"$f":"'Data diagrams (noprint)'!VRQ8","v":0},{"$f":"'Data diagrams (noprint)'!VRR8","v":0},{"$f":"'Data diagrams (noprint)'!VRS8","v":0},{"$f":"'Data diagrams (noprint)'!VRT8","v":0},{"$f":"'Data diagrams (noprint)'!VRU8","v":0},{"$f":"'Data diagrams (noprint)'!VRV8","v":0},{"$f":"'Data diagrams (noprint)'!VRW8","v":0},{"$f":"'Data diagrams (noprint)'!VRX8","v":0},{"$f":"'Data diagrams (noprint)'!VRY8","v":0},{"$f":"'Data diagrams (noprint)'!VRZ8","v":0},{"$f":"'Data diagrams (noprint)'!VSA8","v":0},{"$f":"'Data diagrams (noprint)'!VSB8","v":0},{"$f":"'Data diagrams (noprint)'!VSC8","v":0},{"$f":"'Data diagrams (noprint)'!VSD8","v":0},{"$f":"'Data diagrams (noprint)'!VSE8","v":0},{"$f":"'Data diagrams (noprint)'!VSF8","v":0},{"$f":"'Data diagrams (noprint)'!VSG8","v":0},{"$f":"'Data diagrams (noprint)'!VSH8","v":0},{"$f":"'Data diagrams (noprint)'!VSI8","v":0},{"$f":"'Data diagrams (noprint)'!VSJ8","v":0},{"$f":"'Data diagrams (noprint)'!VSK8","v":0},{"$f":"'Data diagrams (noprint)'!VSL8","v":0},{"$f":"'Data diagrams (noprint)'!VSM8","v":0},{"$f":"'Data diagrams (noprint)'!VSN8","v":0},{"$f":"'Data diagrams (noprint)'!VSO8","v":0},{"$f":"'Data diagrams (noprint)'!VSP8","v":0},{"$f":"'Data diagrams (noprint)'!VSQ8","v":0},{"$f":"'Data diagrams (noprint)'!VSR8","v":0},{"$f":"'Data diagrams (noprint)'!VSS8","v":0},{"$f":"'Data diagrams (noprint)'!VST8","v":0},{"$f":"'Data diagrams (noprint)'!VSU8","v":0},{"$f":"'Data diagrams (noprint)'!VSV8","v":0},{"$f":"'Data diagrams (noprint)'!VSW8","v":0},{"$f":"'Data diagrams (noprint)'!VSX8","v":0},{"$f":"'Data diagrams (noprint)'!VSY8","v":0},{"$f":"'Data diagrams (noprint)'!VSZ8","v":0},{"$f":"'Data diagrams (noprint)'!VTA8","v":0},{"$f":"'Data diagrams (noprint)'!VTB8","v":0},{"$f":"'Data diagrams (noprint)'!VTC8","v":0},{"$f":"'Data diagrams (noprint)'!VTD8","v":0},{"$f":"'Data diagrams (noprint)'!VTE8","v":0},{"$f":"'Data diagrams (noprint)'!VTF8","v":0},{"$f":"'Data diagrams (noprint)'!VTG8","v":0},{"$f":"'Data diagrams (noprint)'!VTH8","v":0},{"$f":"'Data diagrams (noprint)'!VTI8","v":0},{"$f":"'Data diagrams (noprint)'!VTJ8","v":0},{"$f":"'Data diagrams (noprint)'!VTK8","v":0},{"$f":"'Data diagrams (noprint)'!VTL8","v":0},{"$f":"'Data diagrams (noprint)'!VTM8","v":0},{"$f":"'Data diagrams (noprint)'!VTN8","v":0},{"$f":"'Data diagrams (noprint)'!VTO8","v":0},{"$f":"'Data diagrams (noprint)'!VTP8","v":0},{"$f":"'Data diagrams (noprint)'!VTQ8","v":0},{"$f":"'Data diagrams (noprint)'!VTR8","v":0},{"$f":"'Data diagrams (noprint)'!VTS8","v":0},{"$f":"'Data diagrams (noprint)'!VTT8","v":0},{"$f":"'Data diagrams (noprint)'!VTU8","v":0},{"$f":"'Data diagrams (noprint)'!VTV8","v":0},{"$f":"'Data diagrams (noprint)'!VTW8","v":0},{"$f":"'Data diagrams (noprint)'!VTX8","v":0},{"$f":"'Data diagrams (noprint)'!VTY8","v":0},{"$f":"'Data diagrams (noprint)'!VTZ8","v":0},{"$f":"'Data diagrams (noprint)'!VUA8","v":0},{"$f":"'Data diagrams (noprint)'!VUB8","v":0},{"$f":"'Data diagrams (noprint)'!VUC8","v":0},{"$f":"'Data diagrams (noprint)'!VUD8","v":0},{"$f":"'Data diagrams (noprint)'!VUE8","v":0},{"$f":"'Data diagrams (noprint)'!VUF8","v":0},{"$f":"'Data diagrams (noprint)'!VUG8","v":0},{"$f":"'Data diagrams (noprint)'!VUH8","v":0},{"$f":"'Data diagrams (noprint)'!VUI8","v":0},{"$f":"'Data diagrams (noprint)'!VUJ8","v":0},{"$f":"'Data diagrams (noprint)'!VUK8","v":0},{"$f":"'Data diagrams (noprint)'!VUL8","v":0},{"$f":"'Data diagrams (noprint)'!VUM8","v":0},{"$f":"'Data diagrams (noprint)'!VUN8","v":0},{"$f":"'Data diagrams (noprint)'!VUO8","v":0},{"$f":"'Data diagrams (noprint)'!VUP8","v":0},{"$f":"'Data diagrams (noprint)'!VUQ8","v":0},{"$f":"'Data diagrams (noprint)'!VUR8","v":0},{"$f":"'Data diagrams (noprint)'!VUS8","v":0},{"$f":"'Data diagrams (noprint)'!VUT8","v":0},{"$f":"'Data diagrams (noprint)'!VUU8","v":0},{"$f":"'Data diagrams (noprint)'!VUV8","v":0},{"$f":"'Data diagrams (noprint)'!VUW8","v":0},{"$f":"'Data diagrams (noprint)'!VUX8","v":0},{"$f":"'Data diagrams (noprint)'!VUY8","v":0},{"$f":"'Data diagrams (noprint)'!VUZ8","v":0},{"$f":"'Data diagrams (noprint)'!VVA8","v":0},{"$f":"'Data diagrams (noprint)'!VVB8","v":0},{"$f":"'Data diagrams (noprint)'!VVC8","v":0},{"$f":"'Data diagrams (noprint)'!VVD8","v":0},{"$f":"'Data diagrams (noprint)'!VVE8","v":0},{"$f":"'Data diagrams (noprint)'!VVF8","v":0},{"$f":"'Data diagrams (noprint)'!VVG8","v":0},{"$f":"'Data diagrams (noprint)'!VVH8","v":0},{"$f":"'Data diagrams (noprint)'!VVI8","v":0},{"$f":"'Data diagrams (noprint)'!VVJ8","v":0},{"$f":"'Data diagrams (noprint)'!VVK8","v":0},{"$f":"'Data diagrams (noprint)'!VVL8","v":0},{"$f":"'Data diagrams (noprint)'!VVM8","v":0},{"$f":"'Data diagrams (noprint)'!VVN8","v":0},{"$f":"'Data diagrams (noprint)'!VVO8","v":0},{"$f":"'Data diagrams (noprint)'!VVP8","v":0},{"$f":"'Data diagrams (noprint)'!VVQ8","v":0},{"$f":"'Data diagrams (noprint)'!VVR8","v":0},{"$f":"'Data diagrams (noprint)'!VVS8","v":0},{"$f":"'Data diagrams (noprint)'!VVT8","v":0},{"$f":"'Data diagrams (noprint)'!VVU8","v":0},{"$f":"'Data diagrams (noprint)'!VVV8","v":0},{"$f":"'Data diagrams (noprint)'!VVW8","v":0},{"$f":"'Data diagrams (noprint)'!VVX8","v":0},{"$f":"'Data diagrams (noprint)'!VVY8","v":0},{"$f":"'Data diagrams (noprint)'!VVZ8","v":0},{"$f":"'Data diagrams (noprint)'!VWA8","v":0},{"$f":"'Data diagrams (noprint)'!VWB8","v":0},{"$f":"'Data diagrams (noprint)'!VWC8","v":0},{"$f":"'Data diagrams (noprint)'!VWD8","v":0},{"$f":"'Data diagrams (noprint)'!VWE8","v":0},{"$f":"'Data diagrams (noprint)'!VWF8","v":0},{"$f":"'Data diagrams (noprint)'!VWG8","v":0},{"$f":"'Data diagrams (noprint)'!VWH8","v":0},{"$f":"'Data diagrams (noprint)'!VWI8","v":0},{"$f":"'Data diagrams (noprint)'!VWJ8","v":0},{"$f":"'Data diagrams (noprint)'!VWK8","v":0},{"$f":"'Data diagrams (noprint)'!VWL8","v":0},{"$f":"'Data diagrams (noprint)'!VWM8","v":0},{"$f":"'Data diagrams (noprint)'!VWN8","v":0},{"$f":"'Data diagrams (noprint)'!VWO8","v":0},{"$f":"'Data diagrams (noprint)'!VWP8","v":0},{"$f":"'Data diagrams (noprint)'!VWQ8","v":0},{"$f":"'Data diagrams (noprint)'!VWR8","v":0},{"$f":"'Data diagrams (noprint)'!VWS8","v":0},{"$f":"'Data diagrams (noprint)'!VWT8","v":0},{"$f":"'Data diagrams (noprint)'!VWU8","v":0},{"$f":"'Data diagrams (noprint)'!VWV8","v":0},{"$f":"'Data diagrams (noprint)'!VWW8","v":0},{"$f":"'Data diagrams (noprint)'!VWX8","v":0},{"$f":"'Data diagrams (noprint)'!VWY8","v":0},{"$f":"'Data diagrams (noprint)'!VWZ8","v":0},{"$f":"'Data diagrams (noprint)'!VXA8","v":0},{"$f":"'Data diagrams (noprint)'!VXB8","v":0},{"$f":"'Data diagrams (noprint)'!VXC8","v":0},{"$f":"'Data diagrams (noprint)'!VXD8","v":0},{"$f":"'Data diagrams (noprint)'!VXE8","v":0},{"$f":"'Data diagrams (noprint)'!VXF8","v":0},{"$f":"'Data diagrams (noprint)'!VXG8","v":0},{"$f":"'Data diagrams (noprint)'!VXH8","v":0},{"$f":"'Data diagrams (noprint)'!VXI8","v":0},{"$f":"'Data diagrams (noprint)'!VXJ8","v":0},{"$f":"'Data diagrams (noprint)'!VXK8","v":0},{"$f":"'Data diagrams (noprint)'!VXL8","v":0},{"$f":"'Data diagrams (noprint)'!VXM8","v":0},{"$f":"'Data diagrams (noprint)'!VXN8","v":0},{"$f":"'Data diagrams (noprint)'!VXO8","v":0},{"$f":"'Data diagrams (noprint)'!VXP8","v":0},{"$f":"'Data diagrams (noprint)'!VXQ8","v":0},{"$f":"'Data diagrams (noprint)'!VXR8","v":0},{"$f":"'Data diagrams (noprint)'!VXS8","v":0},{"$f":"'Data diagrams (noprint)'!VXT8","v":0},{"$f":"'Data diagrams (noprint)'!VXU8","v":0},{"$f":"'Data diagrams (noprint)'!VXV8","v":0},{"$f":"'Data diagrams (noprint)'!VXW8","v":0},{"$f":"'Data diagrams (noprint)'!VXX8","v":0},{"$f":"'Data diagrams (noprint)'!VXY8","v":0},{"$f":"'Data diagrams (noprint)'!VXZ8","v":0},{"$f":"'Data diagrams (noprint)'!VYA8","v":0},{"$f":"'Data diagrams (noprint)'!VYB8","v":0},{"$f":"'Data diagrams (noprint)'!VYC8","v":0},{"$f":"'Data diagrams (noprint)'!VYD8","v":0},{"$f":"'Data diagrams (noprint)'!VYE8","v":0},{"$f":"'Data diagrams (noprint)'!VYF8","v":0},{"$f":"'Data diagrams (noprint)'!VYG8","v":0},{"$f":"'Data diagrams (noprint)'!VYH8","v":0},{"$f":"'Data diagrams (noprint)'!VYI8","v":0},{"$f":"'Data diagrams (noprint)'!VYJ8","v":0},{"$f":"'Data diagrams (noprint)'!VYK8","v":0},{"$f":"'Data diagrams (noprint)'!VYL8","v":0},{"$f":"'Data diagrams (noprint)'!VYM8","v":0},{"$f":"'Data diagrams (noprint)'!VYN8","v":0},{"$f":"'Data diagrams (noprint)'!VYO8","v":0},{"$f":"'Data diagrams (noprint)'!VYP8","v":0},{"$f":"'Data diagrams (noprint)'!VYQ8","v":0},{"$f":"'Data diagrams (noprint)'!VYR8","v":0},{"$f":"'Data diagrams (noprint)'!VYS8","v":0},{"$f":"'Data diagrams (noprint)'!VYT8","v":0},{"$f":"'Data diagrams (noprint)'!VYU8","v":0},{"$f":"'Data diagrams (noprint)'!VYV8","v":0},{"$f":"'Data diagrams (noprint)'!VYW8","v":0},{"$f":"'Data diagrams (noprint)'!VYX8","v":0},{"$f":"'Data diagrams (noprint)'!VYY8","v":0},{"$f":"'Data diagrams (noprint)'!VYZ8","v":0},{"$f":"'Data diagrams (noprint)'!VZA8","v":0},{"$f":"'Data diagrams (noprint)'!VZB8","v":0},{"$f":"'Data diagrams (noprint)'!VZC8","v":0},{"$f":"'Data diagrams (noprint)'!VZD8","v":0},{"$f":"'Data diagrams (noprint)'!VZE8","v":0},{"$f":"'Data diagrams (noprint)'!VZF8","v":0},{"$f":"'Data diagrams (noprint)'!VZG8","v":0},{"$f":"'Data diagrams (noprint)'!VZH8","v":0},{"$f":"'Data diagrams (noprint)'!VZI8","v":0},{"$f":"'Data diagrams (noprint)'!VZJ8","v":0},{"$f":"'Data diagrams (noprint)'!VZK8","v":0},{"$f":"'Data diagrams (noprint)'!VZL8","v":0},{"$f":"'Data diagrams (noprint)'!VZM8","v":0},{"$f":"'Data diagrams (noprint)'!VZN8","v":0},{"$f":"'Data diagrams (noprint)'!VZO8","v":0},{"$f":"'Data diagrams (noprint)'!VZP8","v":0},{"$f":"'Data diagrams (noprint)'!VZQ8","v":0},{"$f":"'Data diagrams (noprint)'!VZR8","v":0},{"$f":"'Data diagrams (noprint)'!VZS8","v":0},{"$f":"'Data diagrams (noprint)'!VZT8","v":0},{"$f":"'Data diagrams (noprint)'!VZU8","v":0},{"$f":"'Data diagrams (noprint)'!VZV8","v":0},{"$f":"'Data diagrams (noprint)'!VZW8","v":0},{"$f":"'Data diagrams (noprint)'!VZX8","v":0},{"$f":"'Data diagrams (noprint)'!VZY8","v":0},{"$f":"'Data diagrams (noprint)'!VZZ8","v":0},{"$f":"'Data diagrams (noprint)'!WAA8","v":0},{"$f":"'Data diagrams (noprint)'!WAB8","v":0},{"$f":"'Data diagrams (noprint)'!WAC8","v":0},{"$f":"'Data diagrams (noprint)'!WAD8","v":0},{"$f":"'Data diagrams (noprint)'!WAE8","v":0},{"$f":"'Data diagrams (noprint)'!WAF8","v":0},{"$f":"'Data diagrams (noprint)'!WAG8","v":0},{"$f":"'Data diagrams (noprint)'!WAH8","v":0},{"$f":"'Data diagrams (noprint)'!WAI8","v":0},{"$f":"'Data diagrams (noprint)'!WAJ8","v":0},{"$f":"'Data diagrams (noprint)'!WAK8","v":0},{"$f":"'Data diagrams (noprint)'!WAL8","v":0},{"$f":"'Data diagrams (noprint)'!WAM8","v":0},{"$f":"'Data diagrams (noprint)'!WAN8","v":0},{"$f":"'Data diagrams (noprint)'!WAO8","v":0},{"$f":"'Data diagrams (noprint)'!WAP8","v":0},{"$f":"'Data diagrams (noprint)'!WAQ8","v":0},{"$f":"'Data diagrams (noprint)'!WAR8","v":0},{"$f":"'Data diagrams (noprint)'!WAS8","v":0},{"$f":"'Data diagrams (noprint)'!WAT8","v":0},{"$f":"'Data diagrams (noprint)'!WAU8","v":0},{"$f":"'Data diagrams (noprint)'!WAV8","v":0},{"$f":"'Data diagrams (noprint)'!WAW8","v":0},{"$f":"'Data diagrams (noprint)'!WAX8","v":0},{"$f":"'Data diagrams (noprint)'!WAY8","v":0},{"$f":"'Data diagrams (noprint)'!WAZ8","v":0},{"$f":"'Data diagrams (noprint)'!WBA8","v":0},{"$f":"'Data diagrams (noprint)'!WBB8","v":0},{"$f":"'Data diagrams (noprint)'!WBC8","v":0},{"$f":"'Data diagrams (noprint)'!WBD8","v":0},{"$f":"'Data diagrams (noprint)'!WBE8","v":0},{"$f":"'Data diagrams (noprint)'!WBF8","v":0},{"$f":"'Data diagrams (noprint)'!WBG8","v":0},{"$f":"'Data diagrams (noprint)'!WBH8","v":0},{"$f":"'Data diagrams (noprint)'!WBI8","v":0},{"$f":"'Data diagrams (noprint)'!WBJ8","v":0},{"$f":"'Data diagrams (noprint)'!WBK8","v":0},{"$f":"'Data diagrams (noprint)'!WBL8","v":0},{"$f":"'Data diagrams (noprint)'!WBM8","v":0},{"$f":"'Data diagrams (noprint)'!WBN8","v":0},{"$f":"'Data diagrams (noprint)'!WBO8","v":0},{"$f":"'Data diagrams (noprint)'!WBP8","v":0},{"$f":"'Data diagrams (noprint)'!WBQ8","v":0},{"$f":"'Data diagrams (noprint)'!WBR8","v":0},{"$f":"'Data diagrams (noprint)'!WBS8","v":0},{"$f":"'Data diagrams (noprint)'!WBT8","v":0},{"$f":"'Data diagrams (noprint)'!WBU8","v":0},{"$f":"'Data diagrams (noprint)'!WBV8","v":0},{"$f":"'Data diagrams (noprint)'!WBW8","v":0},{"$f":"'Data diagrams (noprint)'!WBX8","v":0},{"$f":"'Data diagrams (noprint)'!WBY8","v":0},{"$f":"'Data diagrams (noprint)'!WBZ8","v":0},{"$f":"'Data diagrams (noprint)'!WCA8","v":0},{"$f":"'Data diagrams (noprint)'!WCB8","v":0},{"$f":"'Data diagrams (noprint)'!WCC8","v":0},{"$f":"'Data diagrams (noprint)'!WCD8","v":0},{"$f":"'Data diagrams (noprint)'!WCE8","v":0},{"$f":"'Data diagrams (noprint)'!WCF8","v":0},{"$f":"'Data diagrams (noprint)'!WCG8","v":0},{"$f":"'Data diagrams (noprint)'!WCH8","v":0},{"$f":"'Data diagrams (noprint)'!WCI8","v":0},{"$f":"'Data diagrams (noprint)'!WCJ8","v":0},{"$f":"'Data diagrams (noprint)'!WCK8","v":0},{"$f":"'Data diagrams (noprint)'!WCL8","v":0},{"$f":"'Data diagrams (noprint)'!WCM8","v":0},{"$f":"'Data diagrams (noprint)'!WCN8","v":0},{"$f":"'Data diagrams (noprint)'!WCO8","v":0},{"$f":"'Data diagrams (noprint)'!WCP8","v":0},{"$f":"'Data diagrams (noprint)'!WCQ8","v":0},{"$f":"'Data diagrams (noprint)'!WCR8","v":0},{"$f":"'Data diagrams (noprint)'!WCS8","v":0},{"$f":"'Data diagrams (noprint)'!WCT8","v":0},{"$f":"'Data diagrams (noprint)'!WCU8","v":0},{"$f":"'Data diagrams (noprint)'!WCV8","v":0},{"$f":"'Data diagrams (noprint)'!WCW8","v":0},{"$f":"'Data diagrams (noprint)'!WCX8","v":0},{"$f":"'Data diagrams (noprint)'!WCY8","v":0},{"$f":"'Data diagrams (noprint)'!WCZ8","v":0},{"$f":"'Data diagrams (noprint)'!WDA8","v":0},{"$f":"'Data diagrams (noprint)'!WDB8","v":0},{"$f":"'Data diagrams (noprint)'!WDC8","v":0},{"$f":"'Data diagrams (noprint)'!WDD8","v":0},{"$f":"'Data diagrams (noprint)'!WDE8","v":0},{"$f":"'Data diagrams (noprint)'!WDF8","v":0},{"$f":"'Data diagrams (noprint)'!WDG8","v":0},{"$f":"'Data diagrams (noprint)'!WDH8","v":0},{"$f":"'Data diagrams (noprint)'!WDI8","v":0},{"$f":"'Data diagrams (noprint)'!WDJ8","v":0},{"$f":"'Data diagrams (noprint)'!WDK8","v":0},{"$f":"'Data diagrams (noprint)'!WDL8","v":0},{"$f":"'Data diagrams (noprint)'!WDM8","v":0},{"$f":"'Data diagrams (noprint)'!WDN8","v":0},{"$f":"'Data diagrams (noprint)'!WDO8","v":0},{"$f":"'Data diagrams (noprint)'!WDP8","v":0},{"$f":"'Data diagrams (noprint)'!WDQ8","v":0},{"$f":"'Data diagrams (noprint)'!WDR8","v":0},{"$f":"'Data diagrams (noprint)'!WDS8","v":0},{"$f":"'Data diagrams (noprint)'!WDT8","v":0},{"$f":"'Data diagrams (noprint)'!WDU8","v":0},{"$f":"'Data diagrams (noprint)'!WDV8","v":0},{"$f":"'Data diagrams (noprint)'!WDW8","v":0},{"$f":"'Data diagrams (noprint)'!WDX8","v":0},{"$f":"'Data diagrams (noprint)'!WDY8","v":0},{"$f":"'Data diagrams (noprint)'!WDZ8","v":0},{"$f":"'Data diagrams (noprint)'!WEA8","v":0},{"$f":"'Data diagrams (noprint)'!WEB8","v":0},{"$f":"'Data diagrams (noprint)'!WEC8","v":0},{"$f":"'Data diagrams (noprint)'!WED8","v":0},{"$f":"'Data diagrams (noprint)'!WEE8","v":0},{"$f":"'Data diagrams (noprint)'!WEF8","v":0},{"$f":"'Data diagrams (noprint)'!WEG8","v":0},{"$f":"'Data diagrams (noprint)'!WEH8","v":0},{"$f":"'Data diagrams (noprint)'!WEI8","v":0},{"$f":"'Data diagrams (noprint)'!WEJ8","v":0},{"$f":"'Data diagrams (noprint)'!WEK8","v":0},{"$f":"'Data diagrams (noprint)'!WEL8","v":0},{"$f":"'Data diagrams (noprint)'!WEM8","v":0},{"$f":"'Data diagrams (noprint)'!WEN8","v":0},{"$f":"'Data diagrams (noprint)'!WEO8","v":0},{"$f":"'Data diagrams (noprint)'!WEP8","v":0},{"$f":"'Data diagrams (noprint)'!WEQ8","v":0},{"$f":"'Data diagrams (noprint)'!WER8","v":0},{"$f":"'Data diagrams (noprint)'!WES8","v":0},{"$f":"'Data diagrams (noprint)'!WET8","v":0},{"$f":"'Data diagrams (noprint)'!WEU8","v":0},{"$f":"'Data diagrams (noprint)'!WEV8","v":0},{"$f":"'Data diagrams (noprint)'!WEW8","v":0},{"$f":"'Data diagrams (noprint)'!WEX8","v":0},{"$f":"'Data diagrams (noprint)'!WEY8","v":0},{"$f":"'Data diagrams (noprint)'!WEZ8","v":0},{"$f":"'Data diagrams (noprint)'!WFA8","v":0},{"$f":"'Data diagrams (noprint)'!WFB8","v":0},{"$f":"'Data diagrams (noprint)'!WFC8","v":0},{"$f":"'Data diagrams (noprint)'!WFD8","v":0},{"$f":"'Data diagrams (noprint)'!WFE8","v":0},{"$f":"'Data diagrams (noprint)'!WFF8","v":0},{"$f":"'Data diagrams (noprint)'!WFG8","v":0},{"$f":"'Data diagrams (noprint)'!WFH8","v":0},{"$f":"'Data diagrams (noprint)'!WFI8","v":0},{"$f":"'Data diagrams (noprint)'!WFJ8","v":0},{"$f":"'Data diagrams (noprint)'!WFK8","v":0},{"$f":"'Data diagrams (noprint)'!WFL8","v":0},{"$f":"'Data diagrams (noprint)'!WFM8","v":0},{"$f":"'Data diagrams (noprint)'!WFN8","v":0},{"$f":"'Data diagrams (noprint)'!WFO8","v":0},{"$f":"'Data diagrams (noprint)'!WFP8","v":0},{"$f":"'Data diagrams (noprint)'!WFQ8","v":0},{"$f":"'Data diagrams (noprint)'!WFR8","v":0},{"$f":"'Data diagrams (noprint)'!WFS8","v":0},{"$f":"'Data diagrams (noprint)'!WFT8","v":0},{"$f":"'Data diagrams (noprint)'!WFU8","v":0},{"$f":"'Data diagrams (noprint)'!WFV8","v":0},{"$f":"'Data diagrams (noprint)'!WFW8","v":0},{"$f":"'Data diagrams (noprint)'!WFX8","v":0},{"$f":"'Data diagrams (noprint)'!WFY8","v":0},{"$f":"'Data diagrams (noprint)'!WFZ8","v":0},{"$f":"'Data diagrams (noprint)'!WGA8","v":0},{"$f":"'Data diagrams (noprint)'!WGB8","v":0},{"$f":"'Data diagrams (noprint)'!WGC8","v":0},{"$f":"'Data diagrams (noprint)'!WGD8","v":0},{"$f":"'Data diagrams (noprint)'!WGE8","v":0},{"$f":"'Data diagrams (noprint)'!WGF8","v":0},{"$f":"'Data diagrams (noprint)'!WGG8","v":0},{"$f":"'Data diagrams (noprint)'!WGH8","v":0},{"$f":"'Data diagrams (noprint)'!WGI8","v":0},{"$f":"'Data diagrams (noprint)'!WGJ8","v":0},{"$f":"'Data diagrams (noprint)'!WGK8","v":0},{"$f":"'Data diagrams (noprint)'!WGL8","v":0},{"$f":"'Data diagrams (noprint)'!WGM8","v":0},{"$f":"'Data diagrams (noprint)'!WGN8","v":0},{"$f":"'Data diagrams (noprint)'!WGO8","v":0},{"$f":"'Data diagrams (noprint)'!WGP8","v":0},{"$f":"'Data diagrams (noprint)'!WGQ8","v":0},{"$f":"'Data diagrams (noprint)'!WGR8","v":0},{"$f":"'Data diagrams (noprint)'!WGS8","v":0},{"$f":"'Data diagrams (noprint)'!WGT8","v":0},{"$f":"'Data diagrams (noprint)'!WGU8","v":0},{"$f":"'Data diagrams (noprint)'!WGV8","v":0},{"$f":"'Data diagrams (noprint)'!WGW8","v":0},{"$f":"'Data diagrams (noprint)'!WGX8","v":0},{"$f":"'Data diagrams (noprint)'!WGY8","v":0},{"$f":"'Data diagrams (noprint)'!WGZ8","v":0},{"$f":"'Data diagrams (noprint)'!WHA8","v":0},{"$f":"'Data diagrams (noprint)'!WHB8","v":0},{"$f":"'Data diagrams (noprint)'!WHC8","v":0},{"$f":"'Data diagrams (noprint)'!WHD8","v":0},{"$f":"'Data diagrams (noprint)'!WHE8","v":0},{"$f":"'Data diagrams (noprint)'!WHF8","v":0},{"$f":"'Data diagrams (noprint)'!WHG8","v":0},{"$f":"'Data diagrams (noprint)'!WHH8","v":0},{"$f":"'Data diagrams (noprint)'!WHI8","v":0},{"$f":"'Data diagrams (noprint)'!WHJ8","v":0},{"$f":"'Data diagrams (noprint)'!WHK8","v":0},{"$f":"'Data diagrams (noprint)'!WHL8","v":0},{"$f":"'Data diagrams (noprint)'!WHM8","v":0},{"$f":"'Data diagrams (noprint)'!WHN8","v":0},{"$f":"'Data diagrams (noprint)'!WHO8","v":0},{"$f":"'Data diagrams (noprint)'!WHP8","v":0},{"$f":"'Data diagrams (noprint)'!WHQ8","v":0},{"$f":"'Data diagrams (noprint)'!WHR8","v":0},{"$f":"'Data diagrams (noprint)'!WHS8","v":0},{"$f":"'Data diagrams (noprint)'!WHT8","v":0},{"$f":"'Data diagrams (noprint)'!WHU8","v":0},{"$f":"'Data diagrams (noprint)'!WHV8","v":0},{"$f":"'Data diagrams (noprint)'!WHW8","v":0},{"$f":"'Data diagrams (noprint)'!WHX8","v":0},{"$f":"'Data diagrams (noprint)'!WHY8","v":0},{"$f":"'Data diagrams (noprint)'!WHZ8","v":0},{"$f":"'Data diagrams (noprint)'!WIA8","v":0},{"$f":"'Data diagrams (noprint)'!WIB8","v":0},{"$f":"'Data diagrams (noprint)'!WIC8","v":0},{"$f":"'Data diagrams (noprint)'!WID8","v":0},{"$f":"'Data diagrams (noprint)'!WIE8","v":0},{"$f":"'Data diagrams (noprint)'!WIF8","v":0},{"$f":"'Data diagrams (noprint)'!WIG8","v":0},{"$f":"'Data diagrams (noprint)'!WIH8","v":0},{"$f":"'Data diagrams (noprint)'!WII8","v":0},{"$f":"'Data diagrams (noprint)'!WIJ8","v":0},{"$f":"'Data diagrams (noprint)'!WIK8","v":0},{"$f":"'Data diagrams (noprint)'!WIL8","v":0},{"$f":"'Data diagrams (noprint)'!WIM8","v":0},{"$f":"'Data diagrams (noprint)'!WIN8","v":0},{"$f":"'Data diagrams (noprint)'!WIO8","v":0},{"$f":"'Data diagrams (noprint)'!WIP8","v":0},{"$f":"'Data diagrams (noprint)'!WIQ8","v":0},{"$f":"'Data diagrams (noprint)'!WIR8","v":0},{"$f":"'Data diagrams (noprint)'!WIS8","v":0},{"$f":"'Data diagrams (noprint)'!WIT8","v":0},{"$f":"'Data diagrams (noprint)'!WIU8","v":0},{"$f":"'Data diagrams (noprint)'!WIV8","v":0},{"$f":"'Data diagrams (noprint)'!WIW8","v":0},{"$f":"'Data diagrams (noprint)'!WIX8","v":0},{"$f":"'Data diagrams (noprint)'!WIY8","v":0},{"$f":"'Data diagrams (noprint)'!WIZ8","v":0},{"$f":"'Data diagrams (noprint)'!WJA8","v":0},{"$f":"'Data diagrams (noprint)'!WJB8","v":0},{"$f":"'Data diagrams (noprint)'!WJC8","v":0},{"$f":"'Data diagrams (noprint)'!WJD8","v":0},{"$f":"'Data diagrams (noprint)'!WJE8","v":0},{"$f":"'Data diagrams (noprint)'!WJF8","v":0},{"$f":"'Data diagrams (noprint)'!WJG8","v":0},{"$f":"'Data diagrams (noprint)'!WJH8","v":0},{"$f":"'Data diagrams (noprint)'!WJI8","v":0},{"$f":"'Data diagrams (noprint)'!WJJ8","v":0},{"$f":"'Data diagrams (noprint)'!WJK8","v":0},{"$f":"'Data diagrams (noprint)'!WJL8","v":0},{"$f":"'Data diagrams (noprint)'!WJM8","v":0},{"$f":"'Data diagrams (noprint)'!WJN8","v":0},{"$f":"'Data diagrams (noprint)'!WJO8","v":0},{"$f":"'Data diagrams (noprint)'!WJP8","v":0},{"$f":"'Data diagrams (noprint)'!WJQ8","v":0},{"$f":"'Data diagrams (noprint)'!WJR8","v":0},{"$f":"'Data diagrams (noprint)'!WJS8","v":0},{"$f":"'Data diagrams (noprint)'!WJT8","v":0},{"$f":"'Data diagrams (noprint)'!WJU8","v":0},{"$f":"'Data diagrams (noprint)'!WJV8","v":0},{"$f":"'Data diagrams (noprint)'!WJW8","v":0},{"$f":"'Data diagrams (noprint)'!WJX8","v":0},{"$f":"'Data diagrams (noprint)'!WJY8","v":0},{"$f":"'Data diagrams (noprint)'!WJZ8","v":0},{"$f":"'Data diagrams (noprint)'!WKA8","v":0},{"$f":"'Data diagrams (noprint)'!WKB8","v":0},{"$f":"'Data diagrams (noprint)'!WKC8","v":0},{"$f":"'Data diagrams (noprint)'!WKD8","v":0},{"$f":"'Data diagrams (noprint)'!WKE8","v":0},{"$f":"'Data diagrams (noprint)'!WKF8","v":0},{"$f":"'Data diagrams (noprint)'!WKG8","v":0},{"$f":"'Data diagrams (noprint)'!WKH8","v":0},{"$f":"'Data diagrams (noprint)'!WKI8","v":0},{"$f":"'Data diagrams (noprint)'!WKJ8","v":0},{"$f":"'Data diagrams (noprint)'!WKK8","v":0},{"$f":"'Data diagrams (noprint)'!WKL8","v":0},{"$f":"'Data diagrams (noprint)'!WKM8","v":0},{"$f":"'Data diagrams (noprint)'!WKN8","v":0},{"$f":"'Data diagrams (noprint)'!WKO8","v":0},{"$f":"'Data diagrams (noprint)'!WKP8","v":0},{"$f":"'Data diagrams (noprint)'!WKQ8","v":0},{"$f":"'Data diagrams (noprint)'!WKR8","v":0},{"$f":"'Data diagrams (noprint)'!WKS8","v":0},{"$f":"'Data diagrams (noprint)'!WKT8","v":0},{"$f":"'Data diagrams (noprint)'!WKU8","v":0},{"$f":"'Data diagrams (noprint)'!WKV8","v":0},{"$f":"'Data diagrams (noprint)'!WKW8","v":0},{"$f":"'Data diagrams (noprint)'!WKX8","v":0},{"$f":"'Data diagrams (noprint)'!WKY8","v":0},{"$f":"'Data diagrams (noprint)'!WKZ8","v":0},{"$f":"'Data diagrams (noprint)'!WLA8","v":0},{"$f":"'Data diagrams (noprint)'!WLB8","v":0},{"$f":"'Data diagrams (noprint)'!WLC8","v":0},{"$f":"'Data diagrams (noprint)'!WLD8","v":0},{"$f":"'Data diagrams (noprint)'!WLE8","v":0},{"$f":"'Data diagrams (noprint)'!WLF8","v":0},{"$f":"'Data diagrams (noprint)'!WLG8","v":0},{"$f":"'Data diagrams (noprint)'!WLH8","v":0},{"$f":"'Data diagrams (noprint)'!WLI8","v":0},{"$f":"'Data diagrams (noprint)'!WLJ8","v":0},{"$f":"'Data diagrams (noprint)'!WLK8","v":0},{"$f":"'Data diagrams (noprint)'!WLL8","v":0},{"$f":"'Data diagrams (noprint)'!WLM8","v":0},{"$f":"'Data diagrams (noprint)'!WLN8","v":0},{"$f":"'Data diagrams (noprint)'!WLO8","v":0},{"$f":"'Data diagrams (noprint)'!WLP8","v":0},{"$f":"'Data diagrams (noprint)'!WLQ8","v":0},{"$f":"'Data diagrams (noprint)'!WLR8","v":0},{"$f":"'Data diagrams (noprint)'!WLS8","v":0},{"$f":"'Data diagrams (noprint)'!WLT8","v":0},{"$f":"'Data diagrams (noprint)'!WLU8","v":0},{"$f":"'Data diagrams (noprint)'!WLV8","v":0},{"$f":"'Data diagrams (noprint)'!WLW8","v":0},{"$f":"'Data diagrams (noprint)'!WLX8","v":0},{"$f":"'Data diagrams (noprint)'!WLY8","v":0},{"$f":"'Data diagrams (noprint)'!WLZ8","v":0},{"$f":"'Data diagrams (noprint)'!WMA8","v":0},{"$f":"'Data diagrams (noprint)'!WMB8","v":0},{"$f":"'Data diagrams (noprint)'!WMC8","v":0},{"$f":"'Data diagrams (noprint)'!WMD8","v":0},{"$f":"'Data diagrams (noprint)'!WME8","v":0},{"$f":"'Data diagrams (noprint)'!WMF8","v":0},{"$f":"'Data diagrams (noprint)'!WMG8","v":0},{"$f":"'Data diagrams (noprint)'!WMH8","v":0},{"$f":"'Data diagrams (noprint)'!WMI8","v":0},{"$f":"'Data diagrams (noprint)'!WMJ8","v":0},{"$f":"'Data diagrams (noprint)'!WMK8","v":0},{"$f":"'Data diagrams (noprint)'!WML8","v":0},{"$f":"'Data diagrams (noprint)'!WMM8","v":0},{"$f":"'Data diagrams (noprint)'!WMN8","v":0},{"$f":"'Data diagrams (noprint)'!WMO8","v":0},{"$f":"'Data diagrams (noprint)'!WMP8","v":0},{"$f":"'Data diagrams (noprint)'!WMQ8","v":0},{"$f":"'Data diagrams (noprint)'!WMR8","v":0},{"$f":"'Data diagrams (noprint)'!WMS8","v":0},{"$f":"'Data diagrams (noprint)'!WMT8","v":0},{"$f":"'Data diagrams (noprint)'!WMU8","v":0},{"$f":"'Data diagrams (noprint)'!WMV8","v":0},{"$f":"'Data diagrams (noprint)'!WMW8","v":0},{"$f":"'Data diagrams (noprint)'!WMX8","v":0},{"$f":"'Data diagrams (noprint)'!WMY8","v":0},{"$f":"'Data diagrams (noprint)'!WMZ8","v":0},{"$f":"'Data diagrams (noprint)'!WNA8","v":0},{"$f":"'Data diagrams (noprint)'!WNB8","v":0},{"$f":"'Data diagrams (noprint)'!WNC8","v":0},{"$f":"'Data diagrams (noprint)'!WND8","v":0},{"$f":"'Data diagrams (noprint)'!WNE8","v":0},{"$f":"'Data diagrams (noprint)'!WNF8","v":0},{"$f":"'Data diagrams (noprint)'!WNG8","v":0},{"$f":"'Data diagrams (noprint)'!WNH8","v":0},{"$f":"'Data diagrams (noprint)'!WNI8","v":0},{"$f":"'Data diagrams (noprint)'!WNJ8","v":0},{"$f":"'Data diagrams (noprint)'!WNK8","v":0},{"$f":"'Data diagrams (noprint)'!WNL8","v":0},{"$f":"'Data diagrams (noprint)'!WNM8","v":0},{"$f":"'Data diagrams (noprint)'!WNN8","v":0},{"$f":"'Data diagrams (noprint)'!WNO8","v":0},{"$f":"'Data diagrams (noprint)'!WNP8","v":0},{"$f":"'Data diagrams (noprint)'!WNQ8","v":0},{"$f":"'Data diagrams (noprint)'!WNR8","v":0},{"$f":"'Data diagrams (noprint)'!WNS8","v":0},{"$f":"'Data diagrams (noprint)'!WNT8","v":0},{"$f":"'Data diagrams (noprint)'!WNU8","v":0},{"$f":"'Data diagrams (noprint)'!WNV8","v":0},{"$f":"'Data diagrams (noprint)'!WNW8","v":0},{"$f":"'Data diagrams (noprint)'!WNX8","v":0},{"$f":"'Data diagrams (noprint)'!WNY8","v":0},{"$f":"'Data diagrams (noprint)'!WNZ8","v":0},{"$f":"'Data diagrams (noprint)'!WOA8","v":0},{"$f":"'Data diagrams (noprint)'!WOB8","v":0},{"$f":"'Data diagrams (noprint)'!WOC8","v":0},{"$f":"'Data diagrams (noprint)'!WOD8","v":0},{"$f":"'Data diagrams (noprint)'!WOE8","v":0},{"$f":"'Data diagrams (noprint)'!WOF8","v":0},{"$f":"'Data diagrams (noprint)'!WOG8","v":0},{"$f":"'Data diagrams (noprint)'!WOH8","v":0},{"$f":"'Data diagrams (noprint)'!WOI8","v":0},{"$f":"'Data diagrams (noprint)'!WOJ8","v":0},{"$f":"'Data diagrams (noprint)'!WOK8","v":0},{"$f":"'Data diagrams (noprint)'!WOL8","v":0},{"$f":"'Data diagrams (noprint)'!WOM8","v":0},{"$f":"'Data diagrams (noprint)'!WON8","v":0},{"$f":"'Data diagrams (noprint)'!WOO8","v":0},{"$f":"'Data diagrams (noprint)'!WOP8","v":0},{"$f":"'Data diagrams (noprint)'!WOQ8","v":0},{"$f":"'Data diagrams (noprint)'!WOR8","v":0},{"$f":"'Data diagrams (noprint)'!WOS8","v":0},{"$f":"'Data diagrams (noprint)'!WOT8","v":0},{"$f":"'Data diagrams (noprint)'!WOU8","v":0},{"$f":"'Data diagrams (noprint)'!WOV8","v":0},{"$f":"'Data diagrams (noprint)'!WOW8","v":0},{"$f":"'Data diagrams (noprint)'!WOX8","v":0},{"$f":"'Data diagrams (noprint)'!WOY8","v":0},{"$f":"'Data diagrams (noprint)'!WOZ8","v":0},{"$f":"'Data diagrams (noprint)'!WPA8","v":0},{"$f":"'Data diagrams (noprint)'!WPB8","v":0},{"$f":"'Data diagrams (noprint)'!WPC8","v":0},{"$f":"'Data diagrams (noprint)'!WPD8","v":0},{"$f":"'Data diagrams (noprint)'!WPE8","v":0},{"$f":"'Data diagrams (noprint)'!WPF8","v":0},{"$f":"'Data diagrams (noprint)'!WPG8","v":0},{"$f":"'Data diagrams (noprint)'!WPH8","v":0},{"$f":"'Data diagrams (noprint)'!WPI8","v":0},{"$f":"'Data diagrams (noprint)'!WPJ8","v":0},{"$f":"'Data diagrams (noprint)'!WPK8","v":0},{"$f":"'Data diagrams (noprint)'!WPL8","v":0},{"$f":"'Data diagrams (noprint)'!WPM8","v":0},{"$f":"'Data diagrams (noprint)'!WPN8","v":0},{"$f":"'Data diagrams (noprint)'!WPO8","v":0},{"$f":"'Data diagrams (noprint)'!WPP8","v":0},{"$f":"'Data diagrams (noprint)'!WPQ8","v":0},{"$f":"'Data diagrams (noprint)'!WPR8","v":0},{"$f":"'Data diagrams (noprint)'!WPS8","v":0},{"$f":"'Data diagrams (noprint)'!WPT8","v":0},{"$f":"'Data diagrams (noprint)'!WPU8","v":0},{"$f":"'Data diagrams (noprint)'!WPV8","v":0},{"$f":"'Data diagrams (noprint)'!WPW8","v":0},{"$f":"'Data diagrams (noprint)'!WPX8","v":0},{"$f":"'Data diagrams (noprint)'!WPY8","v":0},{"$f":"'Data diagrams (noprint)'!WPZ8","v":0},{"$f":"'Data diagrams (noprint)'!WQA8","v":0},{"$f":"'Data diagrams (noprint)'!WQB8","v":0},{"$f":"'Data diagrams (noprint)'!WQC8","v":0},{"$f":"'Data diagrams (noprint)'!WQD8","v":0},{"$f":"'Data diagrams (noprint)'!WQE8","v":0},{"$f":"'Data diagrams (noprint)'!WQF8","v":0},{"$f":"'Data diagrams (noprint)'!WQG8","v":0},{"$f":"'Data diagrams (noprint)'!WQH8","v":0},{"$f":"'Data diagrams (noprint)'!WQI8","v":0},{"$f":"'Data diagrams (noprint)'!WQJ8","v":0},{"$f":"'Data diagrams (noprint)'!WQK8","v":0},{"$f":"'Data diagrams (noprint)'!WQL8","v":0},{"$f":"'Data diagrams (noprint)'!WQM8","v":0},{"$f":"'Data diagrams (noprint)'!WQN8","v":0},{"$f":"'Data diagrams (noprint)'!WQO8","v":0},{"$f":"'Data diagrams (noprint)'!WQP8","v":0},{"$f":"'Data diagrams (noprint)'!WQQ8","v":0},{"$f":"'Data diagrams (noprint)'!WQR8","v":0},{"$f":"'Data diagrams (noprint)'!WQS8","v":0},{"$f":"'Data diagrams (noprint)'!WQT8","v":0},{"$f":"'Data diagrams (noprint)'!WQU8","v":0},{"$f":"'Data diagrams (noprint)'!WQV8","v":0},{"$f":"'Data diagrams (noprint)'!WQW8","v":0},{"$f":"'Data diagrams (noprint)'!WQX8","v":0},{"$f":"'Data diagrams (noprint)'!WQY8","v":0},{"$f":"'Data diagrams (noprint)'!WQZ8","v":0},{"$f":"'Data diagrams (noprint)'!WRA8","v":0},{"$f":"'Data diagrams (noprint)'!WRB8","v":0},{"$f":"'Data diagrams (noprint)'!WRC8","v":0},{"$f":"'Data diagrams (noprint)'!WRD8","v":0},{"$f":"'Data diagrams (noprint)'!WRE8","v":0},{"$f":"'Data diagrams (noprint)'!WRF8","v":0},{"$f":"'Data diagrams (noprint)'!WRG8","v":0},{"$f":"'Data diagrams (noprint)'!WRH8","v":0},{"$f":"'Data diagrams (noprint)'!WRI8","v":0},{"$f":"'Data diagrams (noprint)'!WRJ8","v":0},{"$f":"'Data diagrams (noprint)'!WRK8","v":0},{"$f":"'Data diagrams (noprint)'!WRL8","v":0},{"$f":"'Data diagrams (noprint)'!WRM8","v":0},{"$f":"'Data diagrams (noprint)'!WRN8","v":0},{"$f":"'Data diagrams (noprint)'!WRO8","v":0},{"$f":"'Data diagrams (noprint)'!WRP8","v":0},{"$f":"'Data diagrams (noprint)'!WRQ8","v":0},{"$f":"'Data diagrams (noprint)'!WRR8","v":0},{"$f":"'Data diagrams (noprint)'!WRS8","v":0},{"$f":"'Data diagrams (noprint)'!WRT8","v":0},{"$f":"'Data diagrams (noprint)'!WRU8","v":0},{"$f":"'Data diagrams (noprint)'!WRV8","v":0},{"$f":"'Data diagrams (noprint)'!WRW8","v":0},{"$f":"'Data diagrams (noprint)'!WRX8","v":0},{"$f":"'Data diagrams (noprint)'!WRY8","v":0},{"$f":"'Data diagrams (noprint)'!WRZ8","v":0},{"$f":"'Data diagrams (noprint)'!WSA8","v":0},{"$f":"'Data diagrams (noprint)'!WSB8","v":0},{"$f":"'Data diagrams (noprint)'!WSC8","v":0},{"$f":"'Data diagrams (noprint)'!WSD8","v":0},{"$f":"'Data diagrams (noprint)'!WSE8","v":0},{"$f":"'Data diagrams (noprint)'!WSF8","v":0},{"$f":"'Data diagrams (noprint)'!WSG8","v":0},{"$f":"'Data diagrams (noprint)'!WSH8","v":0},{"$f":"'Data diagrams (noprint)'!WSI8","v":0},{"$f":"'Data diagrams (noprint)'!WSJ8","v":0},{"$f":"'Data diagrams (noprint)'!WSK8","v":0},{"$f":"'Data diagrams (noprint)'!WSL8","v":0},{"$f":"'Data diagrams (noprint)'!WSM8","v":0},{"$f":"'Data diagrams (noprint)'!WSN8","v":0},{"$f":"'Data diagrams (noprint)'!WSO8","v":0},{"$f":"'Data diagrams (noprint)'!WSP8","v":0},{"$f":"'Data diagrams (noprint)'!WSQ8","v":0},{"$f":"'Data diagrams (noprint)'!WSR8","v":0},{"$f":"'Data diagrams (noprint)'!WSS8","v":0},{"$f":"'Data diagrams (noprint)'!WST8","v":0},{"$f":"'Data diagrams (noprint)'!WSU8","v":0},{"$f":"'Data diagrams (noprint)'!WSV8","v":0},{"$f":"'Data diagrams (noprint)'!WSW8","v":0},{"$f":"'Data diagrams (noprint)'!WSX8","v":0},{"$f":"'Data diagrams (noprint)'!WSY8","v":0},{"$f":"'Data diagrams (noprint)'!WSZ8","v":0},{"$f":"'Data diagrams (noprint)'!WTA8","v":0},{"$f":"'Data diagrams (noprint)'!WTB8","v":0},{"$f":"'Data diagrams (noprint)'!WTC8","v":0},{"$f":"'Data diagrams (noprint)'!WTD8","v":0},{"$f":"'Data diagrams (noprint)'!WTE8","v":0},{"$f":"'Data diagrams (noprint)'!WTF8","v":0},{"$f":"'Data diagrams (noprint)'!WTG8","v":0},{"$f":"'Data diagrams (noprint)'!WTH8","v":0},{"$f":"'Data diagrams (noprint)'!WTI8","v":0},{"$f":"'Data diagrams (noprint)'!WTJ8","v":0},{"$f":"'Data diagrams (noprint)'!WTK8","v":0},{"$f":"'Data diagrams (noprint)'!WTL8","v":0},{"$f":"'Data diagrams (noprint)'!WTM8","v":0},{"$f":"'Data diagrams (noprint)'!WTN8","v":0},{"$f":"'Data diagrams (noprint)'!WTO8","v":0},{"$f":"'Data diagrams (noprint)'!WTP8","v":0},{"$f":"'Data diagrams (noprint)'!WTQ8","v":0},{"$f":"'Data diagrams (noprint)'!WTR8","v":0},{"$f":"'Data diagrams (noprint)'!WTS8","v":0},{"$f":"'Data diagrams (noprint)'!WTT8","v":0},{"$f":"'Data diagrams (noprint)'!WTU8","v":0},{"$f":"'Data diagrams (noprint)'!WTV8","v":0},{"$f":"'Data diagrams (noprint)'!WTW8","v":0},{"$f":"'Data diagrams (noprint)'!WTX8","v":0},{"$f":"'Data diagrams (noprint)'!WTY8","v":0},{"$f":"'Data diagrams (noprint)'!WTZ8","v":0},{"$f":"'Data diagrams (noprint)'!WUA8","v":0},{"$f":"'Data diagrams (noprint)'!WUB8","v":0},{"$f":"'Data diagrams (noprint)'!WUC8","v":0},{"$f":"'Data diagrams (noprint)'!WUD8","v":0},{"$f":"'Data diagrams (noprint)'!WUE8","v":0},{"$f":"'Data diagrams (noprint)'!WUF8","v":0},{"$f":"'Data diagrams (noprint)'!WUG8","v":0},{"$f":"'Data diagrams (noprint)'!WUH8","v":0},{"$f":"'Data diagrams (noprint)'!WUI8","v":0},{"$f":"'Data diagrams (noprint)'!WUJ8","v":0},{"$f":"'Data diagrams (noprint)'!WUK8","v":0},{"$f":"'Data diagrams (noprint)'!WUL8","v":0},{"$f":"'Data diagrams (noprint)'!WUM8","v":0},{"$f":"'Data diagrams (noprint)'!WUN8","v":0},{"$f":"'Data diagrams (noprint)'!WUO8","v":0},{"$f":"'Data diagrams (noprint)'!WUP8","v":0},{"$f":"'Data diagrams (noprint)'!WUQ8","v":0},{"$f":"'Data diagrams (noprint)'!WUR8","v":0},{"$f":"'Data diagrams (noprint)'!WUS8","v":0},{"$f":"'Data diagrams (noprint)'!WUT8","v":0},{"$f":"'Data diagrams (noprint)'!WUU8","v":0},{"$f":"'Data diagrams (noprint)'!WUV8","v":0},{"$f":"'Data diagrams (noprint)'!WUW8","v":0},{"$f":"'Data diagrams (noprint)'!WUX8","v":0},{"$f":"'Data diagrams (noprint)'!WUY8","v":0},{"$f":"'Data diagrams (noprint)'!WUZ8","v":0},{"$f":"'Data diagrams (noprint)'!WVA8","v":0},{"$f":"'Data diagrams (noprint)'!WVB8","v":0},{"$f":"'Data diagrams (noprint)'!WVC8","v":0},{"$f":"'Data diagrams (noprint)'!WVD8","v":0},{"$f":"'Data diagrams (noprint)'!WVE8","v":0},{"$f":"'Data diagrams (noprint)'!WVF8","v":0},{"$f":"'Data diagrams (noprint)'!WVG8","v":0},{"$f":"'Data diagrams (noprint)'!WVH8","v":0},{"$f":"'Data diagrams (noprint)'!WVI8","v":0},{"$f":"'Data diagrams (noprint)'!WVJ8","v":0},{"$f":"'Data diagrams (noprint)'!WVK8","v":0},{"$f":"'Data diagrams (noprint)'!WVL8","v":0},{"$f":"'Data diagrams (noprint)'!WVM8","v":0},{"$f":"'Data diagrams (noprint)'!WVN8","v":0},{"$f":"'Data diagrams (noprint)'!WVO8","v":0},{"$f":"'Data diagrams (noprint)'!WVP8","v":0},{"$f":"'Data diagrams (noprint)'!WVQ8","v":0},{"$f":"'Data diagrams (noprint)'!WVR8","v":0},{"$f":"'Data diagrams (noprint)'!WVS8","v":0},{"$f":"'Data diagrams (noprint)'!WVT8","v":0},{"$f":"'Data diagrams (noprint)'!WVU8","v":0},{"$f":"'Data diagrams (noprint)'!WVV8","v":0},{"$f":"'Data diagrams (noprint)'!WVW8","v":0},{"$f":"'Data diagrams (noprint)'!WVX8","v":0},{"$f":"'Data diagrams (noprint)'!WVY8","v":0},{"$f":"'Data diagrams (noprint)'!WVZ8","v":0},{"$f":"'Data diagrams (noprint)'!WWA8","v":0},{"$f":"'Data diagrams (noprint)'!WWB8","v":0},{"$f":"'Data diagrams (noprint)'!WWC8","v":0},{"$f":"'Data diagrams (noprint)'!WWD8","v":0},{"$f":"'Data diagrams (noprint)'!WWE8","v":0},{"$f":"'Data diagrams (noprint)'!WWF8","v":0},{"$f":"'Data diagrams (noprint)'!WWG8","v":0},{"$f":"'Data diagrams (noprint)'!WWH8","v":0},{"$f":"'Data diagrams (noprint)'!WWI8","v":0},{"$f":"'Data diagrams (noprint)'!WWJ8","v":0},{"$f":"'Data diagrams (noprint)'!WWK8","v":0},{"$f":"'Data diagrams (noprint)'!WWL8","v":0},{"$f":"'Data diagrams (noprint)'!WWM8","v":0},{"$f":"'Data diagrams (noprint)'!WWN8","v":0},{"$f":"'Data diagrams (noprint)'!WWO8","v":0},{"$f":"'Data diagrams (noprint)'!WWP8","v":0},{"$f":"'Data diagrams (noprint)'!WWQ8","v":0},{"$f":"'Data diagrams (noprint)'!WWR8","v":0},{"$f":"'Data diagrams (noprint)'!WWS8","v":0},{"$f":"'Data diagrams (noprint)'!WWT8","v":0},{"$f":"'Data diagrams (noprint)'!WWU8","v":0},{"$f":"'Data diagrams (noprint)'!WWV8","v":0},{"$f":"'Data diagrams (noprint)'!WWW8","v":0},{"$f":"'Data diagrams (noprint)'!WWX8","v":0},{"$f":"'Data diagrams (noprint)'!WWY8","v":0},{"$f":"'Data diagrams (noprint)'!WWZ8","v":0},{"$f":"'Data diagrams (noprint)'!WXA8","v":0},{"$f":"'Data diagrams (noprint)'!WXB8","v":0},{"$f":"'Data diagrams (noprint)'!WXC8","v":0},{"$f":"'Data diagrams (noprint)'!WXD8","v":0},{"$f":"'Data diagrams (noprint)'!WXE8","v":0},{"$f":"'Data diagrams (noprint)'!WXF8","v":0},{"$f":"'Data diagrams (noprint)'!WXG8","v":0},{"$f":"'Data diagrams (noprint)'!WXH8","v":0},{"$f":"'Data diagrams (noprint)'!WXI8","v":0},{"$f":"'Data diagrams (noprint)'!WXJ8","v":0},{"$f":"'Data diagrams (noprint)'!WXK8","v":0},{"$f":"'Data diagrams (noprint)'!WXL8","v":0},{"$f":"'Data diagrams (noprint)'!WXM8","v":0},{"$f":"'Data diagrams (noprint)'!WXN8","v":0},{"$f":"'Data diagrams (noprint)'!WXO8","v":0},{"$f":"'Data diagrams (noprint)'!WXP8","v":0},{"$f":"'Data diagrams (noprint)'!WXQ8","v":0},{"$f":"'Data diagrams (noprint)'!WXR8","v":0},{"$f":"'Data diagrams (noprint)'!WXS8","v":0},{"$f":"'Data diagrams (noprint)'!WXT8","v":0},{"$f":"'Data diagrams (noprint)'!WXU8","v":0},{"$f":"'Data diagrams (noprint)'!WXV8","v":0},{"$f":"'Data diagrams (noprint)'!WXW8","v":0},{"$f":"'Data diagrams (noprint)'!WXX8","v":0},{"$f":"'Data diagrams (noprint)'!WXY8","v":0},{"$f":"'Data diagrams (noprint)'!WXZ8","v":0},{"$f":"'Data diagrams (noprint)'!WYA8","v":0},{"$f":"'Data diagrams (noprint)'!WYB8","v":0},{"$f":"'Data diagrams (noprint)'!WYC8","v":0},{"$f":"'Data diagrams (noprint)'!WYD8","v":0},{"$f":"'Data diagrams (noprint)'!WYE8","v":0},{"$f":"'Data diagrams (noprint)'!WYF8","v":0},{"$f":"'Data diagrams (noprint)'!WYG8","v":0},{"$f":"'Data diagrams (noprint)'!WYH8","v":0},{"$f":"'Data diagrams (noprint)'!WYI8","v":0},{"$f":"'Data diagrams (noprint)'!WYJ8","v":0},{"$f":"'Data diagrams (noprint)'!WYK8","v":0},{"$f":"'Data diagrams (noprint)'!WYL8","v":0},{"$f":"'Data diagrams (noprint)'!WYM8","v":0},{"$f":"'Data diagrams (noprint)'!WYN8","v":0},{"$f":"'Data diagrams (noprint)'!WYO8","v":0},{"$f":"'Data diagrams (noprint)'!WYP8","v":0},{"$f":"'Data diagrams (noprint)'!WYQ8","v":0},{"$f":"'Data diagrams (noprint)'!WYR8","v":0},{"$f":"'Data diagrams (noprint)'!WYS8","v":0},{"$f":"'Data diagrams (noprint)'!WYT8","v":0},{"$f":"'Data diagrams (noprint)'!WYU8","v":0},{"$f":"'Data diagrams (noprint)'!WYV8","v":0},{"$f":"'Data diagrams (noprint)'!WYW8","v":0},{"$f":"'Data diagrams (noprint)'!WYX8","v":0},{"$f":"'Data diagrams (noprint)'!WYY8","v":0},{"$f":"'Data diagrams (noprint)'!WYZ8","v":0},{"$f":"'Data diagrams (noprint)'!WZA8","v":0},{"$f":"'Data diagrams (noprint)'!WZB8","v":0},{"$f":"'Data diagrams (noprint)'!WZC8","v":0},{"$f":"'Data diagrams (noprint)'!WZD8","v":0},{"$f":"'Data diagrams (noprint)'!WZE8","v":0},{"$f":"'Data diagrams (noprint)'!WZF8","v":0},{"$f":"'Data diagrams (noprint)'!WZG8","v":0},{"$f":"'Data diagrams (noprint)'!WZH8","v":0},{"$f":"'Data diagrams (noprint)'!WZI8","v":0},{"$f":"'Data diagrams (noprint)'!WZJ8","v":0},{"$f":"'Data diagrams (noprint)'!WZK8","v":0},{"$f":"'Data diagrams (noprint)'!WZL8","v":0},{"$f":"'Data diagrams (noprint)'!WZM8","v":0},{"$f":"'Data diagrams (noprint)'!WZN8","v":0},{"$f":"'Data diagrams (noprint)'!WZO8","v":0},{"$f":"'Data diagrams (noprint)'!WZP8","v":0},{"$f":"'Data diagrams (noprint)'!WZQ8","v":0},{"$f":"'Data diagrams (noprint)'!WZR8","v":0},{"$f":"'Data diagrams (noprint)'!WZS8","v":0},{"$f":"'Data diagrams (noprint)'!WZT8","v":0},{"$f":"'Data diagrams (noprint)'!WZU8","v":0},{"$f":"'Data diagrams (noprint)'!WZV8","v":0},{"$f":"'Data diagrams (noprint)'!WZW8","v":0},{"$f":"'Data diagrams (noprint)'!WZX8","v":0},{"$f":"'Data diagrams (noprint)'!WZY8","v":0},{"$f":"'Data diagrams (noprint)'!WZZ8","v":0},{"$f":"'Data diagrams (noprint)'!XAA8","v":0},{"$f":"'Data diagrams (noprint)'!XAB8","v":0},{"$f":"'Data diagrams (noprint)'!XAC8","v":0},{"$f":"'Data diagrams (noprint)'!XAD8","v":0},{"$f":"'Data diagrams (noprint)'!XAE8","v":0},{"$f":"'Data diagrams (noprint)'!XAF8","v":0},{"$f":"'Data diagrams (noprint)'!XAG8","v":0},{"$f":"'Data diagrams (noprint)'!XAH8","v":0},{"$f":"'Data diagrams (noprint)'!XAI8","v":0},{"$f":"'Data diagrams (noprint)'!XAJ8","v":0},{"$f":"'Data diagrams (noprint)'!XAK8","v":0},{"$f":"'Data diagrams (noprint)'!XAL8","v":0},{"$f":"'Data diagrams (noprint)'!XAM8","v":0},{"$f":"'Data diagrams (noprint)'!XAN8","v":0},{"$f":"'Data diagrams (noprint)'!XAO8","v":0},{"$f":"'Data diagrams (noprint)'!XAP8","v":0},{"$f":"'Data diagrams (noprint)'!XAQ8","v":0},{"$f":"'Data diagrams (noprint)'!XAR8","v":0},{"$f":"'Data diagrams (noprint)'!XAS8","v":0},{"$f":"'Data diagrams (noprint)'!XAT8","v":0},{"$f":"'Data diagrams (noprint)'!XAU8","v":0},{"$f":"'Data diagrams (noprint)'!XAV8","v":0},{"$f":"'Data diagrams (noprint)'!XAW8","v":0},{"$f":"'Data diagrams (noprint)'!XAX8","v":0},{"$f":"'Data diagrams (noprint)'!XAY8","v":0},{"$f":"'Data diagrams (noprint)'!XAZ8","v":0},{"$f":"'Data diagrams (noprint)'!XBA8","v":0},{"$f":"'Data diagrams (noprint)'!XBB8","v":0},{"$f":"'Data diagrams (noprint)'!XBC8","v":0},{"$f":"'Data diagrams (noprint)'!XBD8","v":0},{"$f":"'Data diagrams (noprint)'!XBE8","v":0},{"$f":"'Data diagrams (noprint)'!XBF8","v":0},{"$f":"'Data diagrams (noprint)'!XBG8","v":0},{"$f":"'Data diagrams (noprint)'!XBH8","v":0},{"$f":"'Data diagrams (noprint)'!XBI8","v":0},{"$f":"'Data diagrams (noprint)'!XBJ8","v":0},{"$f":"'Data diagrams (noprint)'!XBK8","v":0},{"$f":"'Data diagrams (noprint)'!XBL8","v":0},{"$f":"'Data diagrams (noprint)'!XBM8","v":0},{"$f":"'Data diagrams (noprint)'!XBN8","v":0},{"$f":"'Data diagrams (noprint)'!XBO8","v":0},{"$f":"'Data diagrams (noprint)'!XBP8","v":0},{"$f":"'Data diagrams (noprint)'!XBQ8","v":0},{"$f":"'Data diagrams (noprint)'!XBR8","v":0},{"$f":"'Data diagrams (noprint)'!XBS8","v":0},{"$f":"'Data diagrams (noprint)'!XBT8","v":0},{"$f":"'Data diagrams (noprint)'!XBU8","v":0},{"$f":"'Data diagrams (noprint)'!XBV8","v":0},{"$f":"'Data diagrams (noprint)'!XBW8","v":0},{"$f":"'Data diagrams (noprint)'!XBX8","v":0},{"$f":"'Data diagrams (noprint)'!XBY8","v":0},{"$f":"'Data diagrams (noprint)'!XBZ8","v":0},{"$f":"'Data diagrams (noprint)'!XCA8","v":0},{"$f":"'Data diagrams (noprint)'!XCB8","v":0},{"$f":"'Data diagrams (noprint)'!XCC8","v":0},{"$f":"'Data diagrams (noprint)'!XCD8","v":0},{"$f":"'Data diagrams (noprint)'!XCE8","v":0},{"$f":"'Data diagrams (noprint)'!XCF8","v":0},{"$f":"'Data diagrams (noprint)'!XCG8","v":0},{"$f":"'Data diagrams (noprint)'!XCH8","v":0},{"$f":"'Data diagrams (noprint)'!XCI8","v":0},{"$f":"'Data diagrams (noprint)'!XCJ8","v":0},{"$f":"'Data diagrams (noprint)'!XCK8","v":0},{"$f":"'Data diagrams (noprint)'!XCL8","v":0},{"$f":"'Data diagrams (noprint)'!XCM8","v":0},{"$f":"'Data diagrams (noprint)'!XCN8","v":0},{"$f":"'Data diagrams (noprint)'!XCO8","v":0},{"$f":"'Data diagrams (noprint)'!XCP8","v":0},{"$f":"'Data diagrams (noprint)'!XCQ8","v":0},{"$f":"'Data diagrams (noprint)'!XCR8","v":0},{"$f":"'Data diagrams (noprint)'!XCS8","v":0},{"$f":"'Data diagrams (noprint)'!XCT8","v":0},{"$f":"'Data diagrams (noprint)'!XCU8","v":0},{"$f":"'Data diagrams (noprint)'!XCV8","v":0},{"$f":"'Data diagrams (noprint)'!XCW8","v":0},{"$f":"'Data diagrams (noprint)'!XCX8","v":0},{"$f":"'Data diagrams (noprint)'!XCY8","v":0},{"$f":"'Data diagrams (noprint)'!XCZ8","v":0},{"$f":"'Data diagrams (noprint)'!XDA8","v":0},{"$f":"'Data diagrams (noprint)'!XDB8","v":0},{"$f":"'Data diagrams (noprint)'!XDC8","v":0},{"$f":"'Data diagrams (noprint)'!XDD8","v":0},{"$f":"'Data diagrams (noprint)'!XDE8","v":0},{"$f":"'Data diagrams (noprint)'!XDF8","v":0},{"$f":"'Data diagrams (noprint)'!XDG8","v":0},{"$f":"'Data diagrams (noprint)'!XDH8","v":0},{"$f":"'Data diagrams (noprint)'!XDI8","v":0},{"$f":"'Data diagrams (noprint)'!XDJ8","v":0},{"$f":"'Data diagrams (noprint)'!XDK8","v":0},{"$f":"'Data diagrams (noprint)'!XDL8","v":0},{"$f":"'Data diagrams (noprint)'!XDM8","v":0},{"$f":"'Data diagrams (noprint)'!XDN8","v":0},{"$f":"'Data diagrams (noprint)'!XDO8","v":0},{"$f":"'Data diagrams (noprint)'!XDP8","v":0},{"$f":"'Data diagrams (noprint)'!XDQ8","v":0},{"$f":"'Data diagrams (noprint)'!XDR8","v":0},{"$f":"'Data diagrams (noprint)'!XDS8","v":0},{"$f":"'Data diagrams (noprint)'!XDT8","v":0},{"$f":"'Data diagrams (noprint)'!XDU8","v":0},{"$f":"'Data diagrams (noprint)'!XDV8","v":0},{"$f":"'Data diagrams (noprint)'!XDW8","v":0},{"$f":"'Data diagrams (noprint)'!XDX8","v":0},{"$f":"'Data diagrams (noprint)'!XDY8","v":0},{"$f":"'Data diagrams (noprint)'!XDZ8","v":0},{"$f":"'Data diagrams (noprint)'!XEA8","v":0},{"$f":"'Data diagrams (noprint)'!XEB8","v":0},{"$f":"'Data diagrams (noprint)'!XEC8","v":0},{"$f":"'Data diagrams (noprint)'!XED8","v":0},{"$f":"'Data diagrams (noprint)'!XEE8","v":0},{"$f":"'Data diagrams (noprint)'!XEF8","v":0},{"$f":"'Data diagrams (noprint)'!XEG8","v":0},{"$f":"'Data diagrams (noprint)'!XEH8","v":0},{"$f":"'Data diagrams (noprint)'!XEI8","v":0},{"$f":"'Data diagrams (noprint)'!XEJ8","v":0},{"$f":"'Data diagrams (noprint)'!XEK8","v":0},{"$f":"'Data diagrams (noprint)'!XEL8","v":0},{"$f":"'Data diagrams (noprint)'!XEM8","v":0},{"$f":"'Data diagrams (noprint)'!XEN8","v":0},{"$f":"'Data diagrams (noprint)'!XEO8","v":0},{"$f":"'Data diagrams (noprint)'!XEP8","v":0},{"$f":"'Data diagrams (noprint)'!XEQ8","v":0},{"$f":"'Data diagrams (noprint)'!XER8","v":0},{"$f":"'Data diagrams (noprint)'!XES8","v":0},{"$f":"'Data diagrams (noprint)'!XET8","v":0},{"$f":"'Data diagrams (noprint)'!XEU8","v":0},{"$f":"'Data diagrams (noprint)'!XEV8","v":0},{"$f":"'Data diagrams (noprint)'!XEW8","v":0},{"$f":"'Data diagrams (noprint)'!XEX8","v":0},{"$f":"'Data diagrams (noprint)'!XEY8","v":0},{"$f":"'Data diagrams (noprint)'!XEZ8","v":0},{"$f":"'Data diagrams (noprint)'!XFA8","v":0},{"$f":"'Data diagrams (noprint)'!XFB8","v":0},{"$f":"'Data diagrams (noprint)'!XFC8","v":0},{"$f":"'Data diagrams (noprint)'!XFD8","v":0}]
[null,{"$f":"'Data diagrams (noprint)'!B9","v":349},{"$f":"'Data diagrams (noprint)'!C9","v":270},{"$f":"'Data diagrams (noprint)'!D9","v":61}]
[{"$f":"Data!A10","v":"11. учебните програми на дисциплините, които изучавате"},{"$f":"Data!B10","v":" 1 = ДА "},{"$f":"Data!C10","v":"2 = ЧАСТИЧНО"},{"$f":"Data!D10","v":"3 = НЕ"}]
[null,{"$f":"Data!F10","v":351},{"$f":"Data!G10","v":258},{"$f":"Data!H10","v":72}]
[{"$f":"'Data diagrams (noprint)'!A50","v":"52. има възможност да получите образование по предпочитана специалност"},{"$f":"'Data diagrams (noprint)'!B50","v":" 1 = ДА"},{"$f":"'Data diagrams (noprint)'!C50","v":"2 = НЕ"}]
[null,{"$f":"'Data diagrams (noprint)'!B51","v":551},{"$f":"'Data diagrams (noprint)'!C51","v":130}]
[null,{"$f":"Data!B14","v":" 1 = ДА"},{"$f":"Data!C14","v":"2 = Във висока степен "},{"$f":"Data!D14","v":"3 = В известна степен"},{"$f":"Data!E14","v":" 4 = НЕ"}]
[{"$f":"Data!A14","v":"15. актуални и ориентирани към потребностите на практиката"},{"$f":"Data!F14","v":96},{"$f":"Data!G14","v":177},{"$f":"Data!H14","v":322},{"$f":"Data!I14","v":86}]
[{"$f":"Data!A16","v":"17. добро и дава възможност за самостоятелна работа"},{"$f":"Data!F16","v":103},{"$f":"Data!G16","v":118},{"$f":"Data!H16","v":266},{"$f":"Data!I16","v":194}]
[{"$f":"Data!A20","v":"21. скучни и безинтересни"},{"$f":"Data!F20","v":39},{"$f":"Data!G20","v":95},{"$f":"Data!H20","v":282},{"$f":"Data!I20","v":265}]
[null,{"$f":"Data!B18","v":" 1 = ДА"},{"$f":"Data!C18","v":"2 = Във висока степен "},{"$f":"Data!D18","v":"3 = В известна степен"},{"$f":"Data!E18","v":" 4 = НЕ"}]
[{"$f":"Data!A18","v":"19. съобразена по-скоро с интересите и възможностите на преподавателите, отколкото с тези на студентите"},{"$f":"Data!F18","v":284},{"$f":"Data!G18","v":115},{"$f":"Data!H18","v":170},{"$f":"Data!I18","v":112}]
[{"$f":"Data!A32","v":"33. преподавателите Ви са добре подготвени и познават новостите в научната област, в която работят"},{"$f":"Data!F32","v":306},{"$f":"Data!G32","v":223},{"$f":"Data!H32","v":137},{"$f":"Data!I32","v":15}]
[{"$f":"'Data diagrams (noprint)'!A46","v":"48. преподава на академично равнище"},{"$f":"'Data diagrams (noprint)'!B47","v":317},{"$f":"'Data diagrams (noprint)'!C47","v":207},{"$f":"'Data diagrams (noprint)'!D47","v":135},{"$f":"'Data diagrams (noprint)'!E47","v":22}]
[null,{"$f":"Data!B36","v":" 1 = ДА"},{"$f":"Data!C36","v":"2 = Във висока степен "},{"$f":"Data!D36","v":"3 = В известна степен"},{"$f":"Data!E36","v":" 4 = НЕ"}]
[{"$f":"Data!A36","v":"37. материалната база е добра"},{"$f":"Data!F36","v":177},{"$f":"Data!G36","v":198},{"$f":"Data!H36","v":200},{"$f":"Data!I36","v":106}]
[{"$f":"'Data diagrams (noprint)'!A26","v":"28. библиотеките в Университета разполага с необходимата Ви литература"},{"$f":"'Data diagrams (noprint)'!B27","v":122},{"$f":"'Data diagrams (noprint)'!C27","v":155},{"$f":"'Data diagrams (noprint)'!D27","v":229},{"$f":"'Data diagrams (noprint)'!E27","v":175}]
[{"$f":"Data!A38","v":"39. учебниците и учебно-помощните материали са достъпни и подпомагат обучението Ви"},{"$f":"Data!F38","v":113},{"$f":"Data!G38","v":127},{"$f":"Data!H38","v":297},{"$f":"Data!I38","v":144}]
[{"$f":"'Data diagrams (noprint)'!A36","v":"38. учебно-техническите средства са съвременни и подпомагат учебния процес"},{"$f":"'Data diagrams (noprint)'!B37","v":201},{"$f":"'Data diagrams (noprint)'!C37","v":167},{"$f":"'Data diagrams (noprint)'!D37","v":189},{"$f":"'Data diagrams (noprint)'!E37","v":124}]
[null,{"$f":"'Data diagrams (noprint)'!B40","v":" 1 = ДА"},{"$f":"'Data diagrams (noprint)'!C40","v":"2 = НЕ"}]
[{"$f":"'Data diagrams (noprint)'!A40","v":"42. програми за обмен на студенти"},{"$f":"'Data diagrams (noprint)'!B41","v":69},{"$f":"'Data diagrams (noprint)'!C41","v":611}]
[{"$f":"'Data diagrams (noprint)'!A42","v":"44. проекти на преподавателските екипи"},{"$f":"'Data diagrams (noprint)'!B43","v":48},{"$f":"'Data diagrams (noprint)'!C43","v":632}]
[{"$f":"'Data diagrams (noprint)'!A44","v":"46. научно-изследователска програма на Факултета"},{"$f":"'Data diagrams (noprint)'!B45+D36","v":188},{"$f":"'Data diagrams (noprint)'!C45+E36","v":493},{"$f":"'Data diagrams (noprint)'!D45","v":169},{"$f":"'Data diagrams (noprint)'!E45","v":447}]
["Ориентация"," 1 = ДА","2 = НЕ"]
["52. има възможност да получите образование по предпочитана специалност",{"$f":"Data!F51","v":551},{"$f":"Data!G51","v":130}]
["53. родителите Ви настояват да продължите образованието си",{"$f":"Data!F52","v":246},{"$f":"Data!G52","v":435}]
["54. приятелите и съучениците Ви учат тук",{"$f":"Data!F53","v":111},{"$f":"Data!G53","v":568}]
["55. е в района, в който сте роден(а) и живеете",{"$f":"Data!F54","v":302},{"$f":"Data!G54","v":374}]
["56. е висше училище с традиции и авторитет",{"$f":"Data!F55","v":547},{"$f":"Data!G55","v":129}]

{"sheet":"Сравнения","index":4,"n_rows":5,"n_cols":10,"rows_kept":5,"cut":false,"hidden":false,"merged":[]}
[null,"ДА'07"," ДА'11","ПОВЕЧЕ ДА'07","ПОВЕЧЕ ДА'11","ДОНЯКЪДЕ'07","ДОНЯКЪДЕ'11","НЕ'07","НЕ'11"]
[{"$f":"'Data diagrams (1)'!A29","v":"37. материалната база е добра"},109,{"$f":"'Data diagrams (1)'!B29","v":177},{"$f":"'Data diagrams (1)'!C29","v":198},202,169,{"$f":"'Data diagrams (1)'!D29","v":200},197,{"$f":"'Data diagrams (1)'!E29","v":106},{"$f":"SUM(B2:I2)/2","v":679}]
[{"$f":"'Data diagrams (1)'!A30","v":"28. библиотеките в Университета разполага с необходимата Ви литература"},100,{"$f":"'Data diagrams (1)'!B30","v":122},{"$f":"'Data diagrams (1)'!C30","v":155},175,204,{"$f":"'Data diagrams (1)'!D30","v":229},155,{"$f":"'Data diagrams (1)'!E30","v":175},{"$f":"SUM(B3:I3)/2","v":657.5}]
[{"$f":"'Data diagrams (1)'!A31","v":"39. учебниците и учебно-помощните материали са достъпни и подпомагат обучението Ви"},270,{"$f":"'Data diagrams (1)'!B31","v":113},{"$f":"'Data diagrams (1)'!C31","v":127},129,229,{"$f":"'Data diagrams (1)'!D31","v":297},144,{"$f":"'Data diagrams (1)'!E31","v":144},726.5]
[{"$f":"'Data diagrams (1)'!A32","v":"38. учебно-техническите средства са съвременни и подпомагат учебния процес"},201,269,{"$f":"'Data diagrams (1)'!C32","v":167},141,336,{"$f":"'Data diagrams (1)'!D32","v":189},124,{"$f":"'Data diagrams (1)'!E32","v":124},775.5]

{"sheet":"Data diagrams (noprint)","index":5,"n_rows":59,"n_cols":5,"rows_kept":59,"cut":false,"hidden":false,"merged":[]}
[]
[{"$f":"Data!A3","v":"4. Пол"},{"$f":"Data!B3","v":" 1 = МЪЖ"},{"$f":"Data!C3","v":"2 = ЖЕНА"},{"$f":"Data!D3","v":0},{"$f":"Data!E3","v":0}]
[null,{"$f":"Data!F3","v":184},{"$f":"Data!G3","v":497},{"$f":"Data!H3","v":0},{"$f":"Data!I3","v":0}]
[{"$f":"Data!A5","v":"6. Посещение на упражнения"},{"$f":"Data!B5","v":" 1 = Всички"},{"$f":"Data!C5","v":"2 = Голяма част "},{"$f":"Data!D5","v":"3 = Малка част"},{"$f":"Data!E5","v":" 4 = Нито едно"}]
[null,{"$f":"Data!F5","v":430},{"$f":"Data!G5","v":242},{"$f":"Data!H5","v":8},{"$f":"Data!I5","v":1}]
[{"$f":"Data!A7","v":"8. Успех от следването до момента"},{"$f":"Data!B7","v":" 1 = Отличен"},{"$f":"Data!C7","v":"2 = Много добър"},{"$f":"Data!D7","v":"3 = Добър"},{"$f":"Data!E7","v":"4 = Среден"}]
[null,{"$f":"Data!F7","v":56},{"$f":"Data!G7","v":319},{"$f":"Data!H7","v":241},{"$f":"Data!I7","v":65}]
[{"$f":"Data!A9","v":"10. учебния план, по който се обучавате"},{"$f":"Data!B9","v":" 1 = ДА "},{"$f":"Data!C9","v":"2 = ЧАСТИЧНО"},{"$f":"Data!D9","v":"3 = НЕ"},{"$f":"Data!E9","v":0}]
[null,{"$f":"Data!F9","v":349},{"$f":"Data!G9","v":270},{"$f":"Data!H9","v":61},{"$f":"Data!I9","v":1}]
[{"$f":"Data!A11","v":"12. на развитието общата Ви култура"},{"$f":"Data!B11","v":" 1 = ДА"},{"$f":"Data!C11","v":"2 = Във висока степен "},{"$f":"Data!D11","v":"3 = В известна степен"},{"$f":"Data!E11","v":" 4 = НЕ"}]
[null,{"$f":"Data!F11","v":344},{"$f":"Data!G11","v":191},{"$f":"Data!H11","v":135},{"$f":"Data!I11","v":11}]
[{"$f":"Data!A13","v":"14. актуални и отразяват постиженията на науката"},{"$f":"Data!B13","v":" 1 = ДА"},{"$f":"Data!C13","v":"2 = Във висока степен "},{"$f":"Data!D13","v":"3 = В известна степен"},{"$f":"Data!E13","v":" 4 = НЕ"}]
[null,{"$f":"Data!F13","v":122},{"$f":"Data!G13","v":232},{"$f":"Data!H13","v":269},{"$f":"Data!I13","v":58}]
[{"$f":"Data!A15","v":"16. анахронични и самоцелни"},{"$f":"Data!B15","v":" 1 = ДА"},{"$f":"Data!C15","v":"2 = Във висока степен "},{"$f":"Data!D15","v":"3 = В известна степен"},{"$f":"Data!E15","v":" 4 = НЕ"}]
[null,{"$f":"Data!F15","v":55},{"$f":"Data!G15","v":82},{"$f":"Data!H15","v":312},{"$f":"Data!I15","v":232}]
[{"$f":"Data!A17","v":"18. напрегнато и ограничава възможностите за самостоятелна работа"},{"$f":"Data!B17","v":" 1 = ДА"},{"$f":"Data!C17","v":"2 = Във висока степен "},{"$f":"Data!D17","v":"3 = В известна степен"},{"$f":"Data!E17","v":" 4 = НЕ"}]
[null,{"$f":"Data!F17","v":143},{"$f":"Data!G17","v":132},{"$f":"Data!H17","v":208},{"$f":"Data!I17","v":198}]
[{"$f":"Data!A19","v":"20. съдържателни и интересни"},{"$f":"Data!B19","v":" 1 = ДА"},{"$f":"Data!C19","v":"2 = Във висока степен "},{"$f":"Data!D19","v":"3 = В известна степен"},{"$f":"Data!E19","v":" 4 = НЕ"}]
[null,{"$f":"Data!F19","v":147},{"$f":"Data!G19","v":216},{"$f":"Data!H19","v":278},{"$f":"Data!I19","v":40}]
[{"$f":"Data!A21","v":"22. способност за творческо мислене"},{"$f":"Data!B21","v":" 1 = ДА"},{"$f":"Data!C21","v":"2 = Във висока степен "},{"$f":"Data!D21","v":"3 = В известна степен"},{"$f":"Data!E21","v":" 4 = НЕ"}]
[null,{"$f":"Data!F21","v":124},{"$f":"Data!G21","v":155},{"$f":"Data!H21","v":264},{"$f":"Data!I21","v":138}]
[{"$f":"Data!A23","v":"24. умения за работа в екип"},{"$f":"Data!B23","v":" 1 = ДА"},{"$f":"Data!C23","v":"2 = Във висока степен "},{"$f":"Data!D23","v":"3 = В известна степен"},{"$f":"Data!E23","v":" 4 = НЕ  "}]
[null,{"$f":"Data!F23","v":165},{"$f":"Data!G23","v":148},{"$f":"Data!H23","v":195},{"$f":"Data!I23","v":173}]
[{"$f":"Data!A25","v":"26. полезни и необходими"},{"$f":"Data!B25","v":" 1 = ДА"},{"$f":"Data!C25","v":"2 = Във висока степен "},{"$f":"Data!D25","v":"3 = В известна степен"},{"$f":"Data!E25","v":" 4 = НЕ"}]
[null,{"$f":"Data!F25","v":330},{"$f":"Data!G25","v":154},{"$f":"Data!H25","v":167},{"$f":"Data!I25","v":30}]
[{"$f":"Data!A27","v":"28. библиотеките в Университета разполага с необходимата Ви литература"},{"$f":"Data!B27","v":" 1 = ДА"},{"$f":"Data!C27","v":"2 = Във висока степен "},{"$f":"Data!D27","v":"3 = В известна степен"},{"$f":"Data!E27","v":" 4 = НЕ"}]
[null,{"$f":"Data!F27","v":122},{"$f":"Data!G27","v":155},{"$f":"Data!H27","v":229},{"$f":"Data!I27","v":175}]
[{"$f":"Data!A29","v":"30. административното обслужване е на добро равнище"},{"$f":"Data!B29","v":" 1 = ДА"},{"$f":"Data!C29","v":"2 = Във висока степен "},{"$f":"Data!D29","v":"3 = В известна степен"},{"$f":"Data!E29","v":" 4 = НЕ"}]
[null,{"$f":"Data!F29","v":105},{"$f":"Data!G29","v":83},{"$f":"Data!H29","v":202},{"$f":"Data!I29","v":291}]
[{"$f":"Data!A31","v":"32. социалните условия (стипендии, общежития. стол, почивна база) са добре решени"},{"$f":"Data!B31","v":" 1 = ДА"},{"$f":"Data!C31","v":"2 = Във висока степен "},{"$f":"Data!D31","v":"3 = В известна степен"},{"$f":"Data!E31","v":" 4 = НЕ"}]
[null,{"$f":"Data!F31","v":86},{"$f":"Data!G31","v":88},{"$f":"Data!H31","v":228},{"$f":"Data!I31","v":279}]
[{"$f":"Data!A33","v":"34. преподавателите Ви са толерантни, комуникативни и мотивирани в работата си със студентите"},{"$f":"Data!B33","v":" 1 = ДА"},{"$f":"Data!C33","v":"2 = Във висока степен "},{"$f":"Data!D33","v":"3 = В известна степен"},{"$f":"Data!E33","v":" 4 = НЕ"}]
[null,{"$f":"Data!F33","v":151},{"$f":"Data!G33","v":236},{"$f":"Data!H33","v":233},{"$f":"Data!I33","v":61}]
[{"$f":"Data!A35","v":"36. има корумпирани служители"},{"$f":"Data!B35","v":" 1 = ДА"},{"$f":"Data!C35","v":"2 = Във висока степен "},{"$f":"Data!D35","v":"3 = В известна степен"},{"$f":"Data!E35","v":" 4 = НЕ"}]
[null,{"$f":"Data!F35","v":199},{"$f":"Data!G35","v":56},{"$f":"Data!H35","v":214},{"$f":"Data!I35","v":212}]
[{"$f":"Data!A37","v":"38. учебно-техническите средства са съвременни и подпомагат учебния процес"},{"$f":"Data!B37","v":" 1 = ДА"},{"$f":"Data!C37","v":"2 = Във висока степен "},{"$f":"Data!D37","v":"3 = В известна степен"},{"$f":"Data!E37","v":" 4 = НЕ"}]
[null,{"$f":"Data!F37","v":201},{"$f":"Data!G37","v":167},{"$f":"Data!H37","v":189},{"$f":"Data!I37","v":124}]
[{"$f":"Data!A39","v":"40. публични лекции, срещи с представители на науката, политиката, бизнеса културата"},{"$f":"Data!B39","v":" 1 = ДА"},{"$f":"Data!C39","v":"2 = НЕ"},{"$f":"Data!D39","v":0},{"$f":"Data!E39","v":0}]
[null,{"$f":"Data!F39","v":257},{"$f":"Data!G39","v":419},{"$f":"Data!H39","v":0},{"$f":"Data!I39","v":5}]
[{"$f":"Data!A41","v":"42. програми за обмен на студенти"},{"$f":"Data!B41","v":" 1 = ДА"},{"$f":"Data!C41","v":"2 = НЕ"},{"$f":"Data!D41","v":0},{"$f":"Data!E41","v":0}]
[null,{"$f":"Data!F41","v":69},{"$f":"Data!G41","v":611},{"$f":"Data!H41","v":0},{"$f":"Data!I41","v":1}]
[{"$f":"Data!A43","v":"44. проекти на преподавателските екипи"},{"$f":"Data!B43","v":" 1 = ДА"},{"$f":"Data!C43","v":"2 = НЕ"},{"$f":"Data!D43","v":0},{"$f":"Data!E43","v":0}]
[null,{"$f":"Data!F43","v":48},{"$f":"Data!G43","v":632},{"$f":"Data!H43","v":0},{"$f":"Data!I43","v":1}]
[{"$f":"Data!A45","v":"46. научно-изследователска програма на Факултета"},{"$f":"Data!B45","v":" 1 = ДА"},{"$f":"Data!C45","v":"2 = Във висока степен "},{"$f":"Data!D45","v":"3 = В известна степен"},{"$f":"Data!E45","v":" 4 = НЕ"}]
[null,{"$f":"Data!F45","v":19},{"$f":"Data!G45","v":46},{"$f":"Data!H45","v":169},{"$f":"Data!I45","v":447}]
[{"$f":"Data!A47","v":"48. преподава на академично равнище"},{"$f":"Data!B47","v":" 1 = ДА"},{"$f":"Data!C47","v":"2 = Във висока степен "},{"$f":"Data!D47","v":"3 = В известна степен"},{"$f":"Data!E47","v":" 4 = НЕ"}]
[null,{"$f":"Data!F47","v":317},{"$f":"Data!G47","v":207},{"$f":"Data!H47","v":135},{"$f":"Data!I47","v":22}]
[{"$f":"Data!A49","v":"50. толерира творчеството, инициативата, самостоятелното мислене"},{"$f":"Data!B49","v":" 1 = ДА"},{"$f":"Data!C49","v":"2 = Във висока степен "},{"$f":"Data!D49","v":"3 = В известна степен"},{"$f":"Data!E49","v":" 4 = НЕ"}]
[null,{"$f":"Data!F49","v":114},{"$f":"Data!G49","v":162},{"$f":"Data!H49","v":274},{"$f":"Data!I49","v":131}]
[{"$f":"Data!A51","v":"52. има възможност да получите образование по предпочитана специалност"},{"$f":"Data!B51","v":" 1 = ДА"},{"$f":"Data!C51","v":"2 = НЕ"},{"$f":"Data!D51","v":0},{"$f":"Data!E51","v":0}]
[null,{"$f":"Data!F51","v":551},{"$f":"Data!G51","v":130},{"$f":"Data!H51","v":0},{"$f":"Data!I51","v":0}]
[{"$f":"Data!A53","v":"54. приятелите и съучениците Ви учат тук"},{"$f":"Data!B53","v":" 1 = ДА"},{"$f":"Data!C53","v":"2 = НЕ "},{"$f":"Data!D53","v":0},{"$f":"Data!E53","v":0}]
[null,{"$f":"Data!F53","v":111},{"$f":"Data!G53","v":568},{"$f":"Data!H53","v":0},{"$f":"Data!I53","v":1}]
[{"$f":"Data!A55","v":"56. е висше училище с традиции и авторитет"},{"$f":"Data!B55","v":" 1 = ДА"},{"$f":"Data!C55","v":"2 = НЕ"},{"$f":"Data!D55","v":0},{"$f":"Data!E55","v":0}]
[null,{"$f":"Data!F55","v":547},{"$f":"Data!G55","v":129},{"$f":"Data!H55","v":0},{"$f":"Data!I55","v":4}]
[{"$f":"Data!A57","v":"58. чували, че има корумпирани преподаватели и служители, но не сте се сблъсквали лично с корупция в Университета"},{"$f":"Data!B57","v":" 1 = ДА"},{"$f":"Data!C57","v":"2 = НЕ"},{"$f":"Data!D57","v":0},{"$f":"Data!E57","v":0}]
[null,{"$f":"Data!F57","v":529},{"$f":"Data!G57","v":148},{"$f":"Data!H57","v":4},{"$f":"Data!I57","v":0}]
[{"$f":"Data!A59","v":"60. сигурни, че няма корумпирани преподаватели и служители в ПУ"},{"$f":"Data!B59","v":" 1 = ДА"},{"$f":"Data!C59","v":"2 = НЕ"},{"$f":"Data!D59","v":0},{"$f":"Data!E59","v":0}]
[null,{"$f":"Data!F59","v":79},{"$f":"Data!G59","v":600},{"$f":"Data!H59","v":1},{"$f":"Data!I59","v":1}]

{"sheet":"Лист1","index":6,"n_rows":10,"n_cols":60,"rows_kept":10,"cut":false,"hidden":false,"merged":[]}
[]
["ВЪПРОСИ","3. Курс","4. Пол","5. Посещение на лекции","6. Посещение на упражнения","7. Ако не сте посещавали занятия, коя е причината за това","8. Успех от следването до момента","9. познавам квалификационната характеристика на специалността си","10. познавам учебния план, по който се обучавате","11. познавам учебните програми на дисциплините, които изучаваме","12.обучението помага на развитието на общата Ви култура","13. помага на професионалната Ви подготовка","14. лекциите и упражненията са актуални и отразяват постиженията на науката","15. те са актуални и ориентирани към потребностите на практиката","16. лекциите и упражненията са анахронични и самоцелни","17. обучението е добро и дава възможност за самостоятелна работа","18. то е напрегнато и ограничава възможностите за самостоятелна работа","19. учебната програма е съобразена по-скоро с интересите и възможностите на преподавателите, отколкото с тези на студентите","20. съдържателни и интересни","21. скучни и безинтересни","22. способност за творческо мислене","23. способност за вземане на решения","24. умения за работа в екип","25. комуникативни умения","26. полезни и необходими","27. самоцелни и безполезни","28. библиотеките в Университета разполага с необходимата Ви литература","29. услугите са достъпни за Вас","30. административното обслужване е на добро равнище","31. в Университета има условия за спорт","32. социалните условия (стипендии, общежития. стол, почивна база) са добре решени","33. преподавателите Ви са добре подготвени и познават новостите в научната област, в която работят","34. преподавателите Ви са толерантни, комуникативни и мотивирани в работата си със студентите","35. има корумпирани преподаватели","36. има корумпирани служители","37. материалната база е добра","38. учебно-техническите средства са съвременни и подпомагат учебния процес","39. учебниците и учебно-помощните материали са достъпни и подпомагат обучението Ви","40. публични лекции, срещи с представители на науката, политиката, бизнеса културата","41. студентски творчески инициативи","42. програми за обмен на студенти","43. дискусии, кръгли маси, конференции","44. проекти на преподавателските екипи","45. научните изследвания на вашите преподаватели","46. научно-изследователска програма на Факултета","47. научните издания на факултета","48. преподава на академично равнище","49. работи с добре подготвени и отдадени на работата си преподаватели","50. толерира творчеството, инициативата, самостоятелното мислене","51. уважават индивидуалните способности и насърчава индивидуалното развитие на студентите","52. има възможност да получите образование по предпочитана специалност","53. родителите Ви настояват да продължите образованието си","54. приятелите и съучениците Ви учат тук","55. е в района, в който сте роден(а) и живеете","56. е висше училище с традиции и авторитет","57. били потърпевш на корупционен натиск","58. чували, че има корумпирани преподаватели и служители, но не сте се сблъсквали лично с корупция в Университета","59. сигурни, че има корумпирани преподаватели и служители в ПУ","60. сигурни, че няма корумпирани преподаватели и служители в ПУ"]
[null," A = І"," A = МЪЖ"," A = Всички"," A = Всички"," A = Посещавал съм"," A = Отличен"," A = ДА "," A = ДА "," A = ДА "," A = ДА"," A = ДА"," A = ДА"," A = ДА"," A = ДА"," A = ДА"," A = ДА"," A = ДА"," A = ДА"," A = ДА"," A = ДА"," A = ДА"," A = ДА"," A = ДА"," A = ДА"," A = ДА"," A = ДА"," A = ДА"," A = ДА"," A = ДА"," A = ДА"," A = ДА"," A = ДА"," A = ДА"," A = ДА"," A = ДА"," A = ДА"," A = ДА"," A = ДА"," A = ДА"," A = ДА"," A = ДА"," A = ДА"," A = ДА"," A = ДА"," A = ДА"," A = ДА"," A = ДА"," A = ДА"," A = ДА"," A = ДА"," A = ДА"," A = ДА"," A = ДА"," A = ДА"," A = ДА"," A = ДА"," A = ДА"," A = ДА"]
[null,"B = ІІ","B = ЖЕНА","B = Голяма част ","B = Голяма част ","B = Работя и уча","B = Много добър","B = ЧАСТИЧНО","B = ЧАСТИЧНО","B = ЧАСТИЧНО","B = Във висока степен ","B = Във висока степен ","B = Във висока степен ","B = Във висока степен ","B = Във висока степен ","B = Във висока степен ","B = Във висока степен ","B = Във висока степен ","B = Във висока степен ","B = Във висока степен ","B = Във висока степен ","B = Във висока степен ","B = Във висока степен ","B = Във висока степен ","B = Във висока степен ","B = Във висока степен ","B = Във висока степен ","B = Във висока степен ","B = Във висока степен ","B = Във висока степен ","B = Във висока степен ","B = Във висока степен ","B = Във висока степен ","B = Във висока степен ","B = Във висока степен ","B = Във висока степен ","B = Във висока степен ","B = Във висока степен ","B = НЕ","B = НЕ","B = НЕ","B = НЕ","B = НЕ","B = Във висока степен ","B = Във висока степен ","B = Във висока степен ","B = Във висока степен ","B = Във висока степен ","B = Във висока степен ","B = Във висока степен ","B = НЕ","B = НЕ","B = НЕ ","B = НЕ ","B = НЕ","B = НЕ ","B = НЕ","B = НЕ","B = НЕ"]
[null,"C = ІІІ             D = ІV",null,"C = Малка част","C = Малка част","C = Безинтересни са","C = Добър","C = НЕ","C = НЕ","C = НЕ","C = В известна степен","C = В известна степен","C = В известна степен","C = В известна степен","C = В известна степен","C = В известна степен","C = В известна степен","C = В известна степен","C = В известна степен","C = В известна степен","C = В известна степен","C = В известна степен","C = В известна степен","C = В известна степен","C = В известна степен","C = В известна степен","C = В известна степен","C = В известна степен","C = В известна степен","C = В известна степен","C = В известна степен","C = В известна степен","C = В известна степен","C = В известна степен","C = В известна степен","C = В известна степен","C = В известна степен","C = В известна степен",null,null,null,null,null,"C = В известна степен","C = В известна степен","C = В известна степен","C = В известна степен","C = В известна степен","C = В известна степен","C = В известна степен"]
[null,"E = V",null," D = Нито една"," D = Нито едно","D = Мога да се подготвя сам","D = Среден",null,null,null," D = НЕ"," D = НЕ"," D = НЕ"," D = НЕ"," D = НЕ"," D = НЕ"," D = НЕ"," D = НЕ"," D = НЕ"," D = НЕ"," D = НЕ"," D = НЕ"," D = НЕ  "," D = НЕ"," D = НЕ"," D = НЕ"," D = НЕ"," D = НЕ"," D = НЕ"," D = НЕ"," D = НЕ"," D = НЕ"," D = НЕ"," D = НЕ"," D = НЕ"," D = НЕ"," D = НЕ"," D = НЕ",null,null,null,null,null," D = НЕ"," D = НЕ"," D = НЕ"," D = НЕ"," D = НЕ"," D = НЕ"," D = НЕ"]
[{"$f":"Анкета!A7","v":"AB1"},{"$f":"Анкета!B7","v":18},{"$f":"Анкета!C7","v":7},{"$f":"Анкета!D7","v":10},{"$f":"Анкета!E7","v":16},{"$f":"Анкета!F7","v":12},{"$f":"Анкета!G7","v":3},{"$f":"Анкета!H7","v":9},{"$f":"Анкета!I7","v":5},{"$f":"Анкета!J7","v":10},{"$f":"Анкета!K7","v":10},{"$f":"Анкета!L7","v":2},{"$f":"Анкета!M7","v":2},{"$f":"Анкета!N7","v":2},{"$f":"Анкета!O7","v":2},{"$f":"Анкета!P7","v":1},{"$f":"Анкета!Q7","v":11},{"$f":"Анкета!R7","v":12},{"$f":"Анкета!S7","v":5},{"$f":"Анкета!T7","v":0},{"$f":"Анкета!U7","v":2},{"$f":"Анкета!V7","v":2},{"$f":"Анкета!W7","v":6},{"$f":"Анкета!X7","v":7},{"$f":"Анкета!Y7","v":6},{"$f":"Анкета!Z7","v":1},{"$f":"Анкета!AA7","v":9},{"$f":"Анкета!AB7","v":10},{"$f":"Анкета!AC7","v":2},{"$f":"Анкета!AD7","v":3},{"$f":"Анкета!AE7","v":1},{"$f":"Анкета!AF7","v":13},{"$f":"Анкета!AG7","v":4},{"$f":"Анкета!AH7","v":7},{"$f":"Анкета!AI7","v":5},{"$f":"Анкета!AJ7","v":1},{"$f":"Анкета!AK7","v":0},{"$f":"Анкета!AL7","v":4},{"$f":"Анкета!AM7","v":4},{"$f":"Анкета!AN7","v":8},{"$f":"Анкета!AO7","v":6},{"$f":"Анкета!AP7","v":2},{"$f":"Анкета!AQ7","v":3},{"$f":"Анкета!AR7","v":1},{"$f":"Анкета!AS7","v":2},{"$f":"Анкета!AT7","v":3},{"$f":"Анкета!AU7","v":9},{"$f":"Анкета!AV7","v":6},{"$f":"Анкета!AW7","v":1},{"$f":"Анкета!AX7","v":5},{"$f":"Анкета!AY7","v":18},{"$f":"Анкета!AZ7","v":8},{"$f":"Анкета!BA7","v":5},{"$f":"Анкета!BB7","v":12},{"$f":"Анкета!BC7","v":14},{"$f":"Анкета!BD7","v":3},{"$f":"Анкета!BE7","v":16},{"$f":"Анкета!BF7","v":11},{"$f":"Анкета!BG7","v":2},{"$f":"Анкета!BH7","v":0}]
[{"$f":"Анкета!A8","v":"AB1"},{"$f":"Анкета!B8","v":0},{"$f":"Анкета!C8","v":14},{"$f":"Анкета!D8","v":8},{"$f":"Анкета!E8","v":5},{"$f":"Анкета!F8","v":1},{"$f":"Анкета!G8","v":9},{"$f":"Анкета!H8","v":9},{"$f":"Анкета!I8","v":13},{"$f":"Анкета!J8","v":6},{"$f":"Анкета!K8","v":5},{"$f":"Анкета!L8","v":7},{"$f":"Анкета!M8","v":7},{"$f":"Анкета!N8","v":3},{"$f":"Анкета!O8","v":5},{"$f":"Анкета!P8","v":1},{"$f":"Анкета!Q8","v":6},{"$f":"Анкета!R8","v":4},{"$f":"Анкета!S8","v":7},{"$f":"Анкета!T8","v":6},{"$f":"Анкета!U8","v":4},{"$f":"Анкета!V8","v":5},{"$f":"Анкета!W8","v":7},{"$f":"Анкета!X8","v":8},{"$f":"Анкета!Y8","v":7},{"$f":"Анкета!Z8","v":4},{"$f":"Анкета!AA8","v":3},{"$f":"Анкета!AB8","v":5},{"$f":"Анкета!AC8","v":4},{"$f":"Анкета!AD8","v":1},{"$f":"Анкета!AE8","v":4},{"$f":"Анкета!AF8","v":5},{"$f":"Анкета!AG8","v":10},{"$f":"Анкета!AH8","v":2},{"$f":"Анкета!AI8","v":3},{"$f":"Анкета!AJ8","v":5},{"$f":"Анкета!AK8","v":3},{"$f":"Анкета!AL8","v":7},{"$f":"Анкета!AM8","v":16},{"$f":"Анкета!AN8","v":13},{"$f":"Анкета!AO8","v":15},{"$f":"Анкета!AP8","v":18},{"$f":"Анкета!AQ8","v":18},{"$f":"Анкета!AR8","v":5},{"$f":"Анкета!AS8","v":3},{"$f":"Анкета!AT8","v":3},{"$f":"Анкета!AU8","v":5},{"$f":"Анкета!AV8","v":8},{"$f":"Анкета!AW8","v":8},{"$f":"Анкета!AX8","v":4},{"$f":"Анкета!AY8","v":3},{"$f":"Анкета!AZ8","v":13},{"$f":"Анкета!BA8","v":16},{"$f":"Анкета!BB8","v":8},{"$f":"Анкета!BC8","v":6},{"$f":"Анкета!BD8","v":17},{"$f":"Анкета!BE8","v":4},{"$f":"Анкета!BF8","v":9},{"$f":"Анкета!BG8","v":19},{"$f":"Анкета!BH8","v":0}]
[{"$f":"Анкета!A9","v":"AB1"},{"$f":"Анкета!B9","v":0},{"$f":"Анкета!C9","v":0},{"$f":"Анкета!D9","v":2},{"$f":"Анкета!E9","v":0},{"$f":"Анкета!F9","v":7},{"$f":"Анкета!G9","v":7},{"$f":"Анкета!H9","v":3},{"$f":"Анкета!I9","v":3},{"$f":"Анкета!J9","v":5},{"$f":"Анкета!K9","v":5},{"$f":"Анкета!L9","v":9},{"$f":"Анкета!M9","v":8},{"$f":"Анкета!N9","v":10},{"$f":"Анкета!O9","v":8},{"$f":"Анкета!P9","v":9},{"$f":"Анкета!Q9","v":2},{"$f":"Анкета!R9","v":4},{"$f":"Анкета!S9","v":9},{"$f":"Анкета!T9","v":7},{"$f":"Анкета!U9","v":10},{"$f":"Анкета!V9","v":11},{"$f":"Анкета!W9","v":2},{"$f":"Анкета!X9","v":4},{"$f":"Анкета!Y9","v":8},{"$f":"Анкета!Z9","v":7},{"$f":"Анкета!AA9","v":5},{"$f":"Анкета!AB9","v":4},{"$f":"Анкета!AC9","v":6},{"$f":"Анкета!AD9","v":11},{"$f":"Анкета!AE9","v":8},{"$f":"Анкета!AF9","v":2},{"$f":"Анкета!AG9","v":6},{"$f":"Анкета!AH9","v":6},{"$f":"Анкета!AI9","v":7},{"$f":"Анкета!AJ9","v":9},{"$f":"Анкета!AK9","v":11},{"$f":"Анкета!AL9","v":4},{"$f":"Анкета!AM9","v":0},{"$f":"Анкета!AN9","v":0},{"$f":"Анкета!AO9","v":0},{"$f":"Анкета!AP9","v":1},{"$f":"Анкета!AQ9","v":0},{"$f":"Анкета!AR9","v":6},{"$f":"Анкета!AS9","v":4},{"$f":"Анкета!AT9","v":8},{"$f":"Анкета!AU9","v":6},{"$f":"Анкета!AV9","v":6},{"$f":"Анкета!AW9","v":7},{"$f":"Анкета!AX9","v":6},{"$f":"Анкета!AY9","v":0},{"$f":"Анкета!AZ9","v":0},{"$f":"Анкета!BA9","v":0},{"$f":"Анкета!BB9","v":0},{"$f":"Анкета!BC9","v":0},{"$f":"Анкета!BD9","v":1},{"$f":"Анкета!BE9","v":1},{"$f":"Анкета!BF9","v":1},{"$f":"Анкета!BG9","v":0},{"$f":"Анкета!BH9","v":0}]
[{"$f":"Анкета!A10","v":"AB1"},{"$f":"Анкета!B10","v":3},{"$f":"Анкета!C10","v":0},{"$f":"Анкета!D10","v":1},{"$f":"Анкета!E10","v":0},{"$f":"Анкета!F10","v":1},{"$f":"Анкета!G10","v":2},{"$f":"Анкета!H10","v":0},{"$f":"Анкета!I10","v":0},{"$f":"Анкета!J10","v":0},{"$f":"Анкета!K10","v":1},{"$f":"Анкета!L10","v":3},{"$f":"Анкета!M10","v":4},{"$f":"Анкета!N10","v":6},{"$f":"Анкета!O10","v":6},{"$f":"Анкета!P10","v":10},{"$f":"Анкета!Q10","v":2},{"$f":"Анкета!R10","v":1},{"$f":"Анкета!S10","v":0},{"$f":"Анкета!T10","v":8},{"$f":"Анкета!U10","v":5},{"$f":"Анкета!V10","v":3},{"$f":"Анкета!W10","v":6},{"$f":"Анкета!X10","v":2},{"$f":"Анкета!Y10","v":0},{"$f":"Анкета!Z10","v":9},{"$f":"Анкета!AA10","v":4},{"$f":"Анкета!AB10","v":2},{"$f":"Анкета!AC10","v":9},{"$f":"Анкета!AD10","v":6},{"$f":"Анкета!AE10","v":8},{"$f":"Анкета!AF10","v":1},{"$f":"Анкета!AG10","v":1},{"$f":"Анкета!AH10","v":6},{"$f":"Анкета!AI10","v":6},{"$f":"Анкета!AJ10","v":6},{"$f":"Анкета!AK10","v":7},{"$f":"Анкета!AL10","v":6},{"$f":"Анкета!AM10","v":1},{"$f":"Анкета!AN10","v":0},{"$f":"Анкета!AO10","v":0},{"$f":"Анкета!AP10","v":0},{"$f":"Анкета!AQ10","v":0},{"$f":"Анкета!AR10","v":9},{"$f":"Анкета!AS10","v":12},{"$f":"Анкета!AT10","v":7},{"$f":"Анкета!AU10","v":1},{"$f":"Анкета!AV10","v":1},{"$f":"Анкета!AW10","v":5},{"$f":"Анкета!AX10","v":6},{"$f":"Анкета!AY10","v":0},{"$f":"Анкета!AZ10","v":0},{"$f":"Анкета!BA10","v":0},{"$f":"Анкета!BB10","v":1},{"$f":"Анкета!BC10","v":1},{"$f":"Анкета!BD10","v":0},{"$f":"Анкета!BE10","v":0},{"$f":"Анкета!BF10","v":0},{"$f":"Анкета!BG10","v":0},{"$f":"Анкета!BH10","v":0}]

{"sheet":"Лист2","index":7,"n_rows":22,"n_cols":60,"rows_kept":22,"cut":false,"hidden":false,"merged":[]}
[]
["ВЪПРОСИ","3. Курс","4. Пол","5. Посещение на лекции","6. Посещение на упражнения","7. Ако не сте посещавали занятия, коя е причината за това","8. Успех от следването до момента","9. познавам квалификационната характеристика на специалността си","10. познавам учебния план, по който се обучавате","11. познавам учебните програми на дисциплините, които изучаваме","12.обучението помага на развитието на общата Ви култура","13. помага на професионалната Ви подготовка","14. лекциите и упражненията са актуални и отразяват постиженията на науката","15. те са актуални и ориентирани към потребностите на практиката","16. лекциите и упражненията са анахронични и самоцелни","17. обучението е добро и дава възможност за самостоятелна работа","18. то е напрегнато и ограничава възможностите за самостоятелна работа","19. учебната програма е съобразена по-скоро с интересите и възможностите на преподавателите, отколкото с тези на студентите","20. съдържателни и интересни","21. скучни и безинтересни","22. способност за творческо мислене","23. способност за вземане на решения","24. умения за работа в екип","25. комуникативни умения","26. полезни и необходими","27. самоцелни и безполезни","28. библиотеките в Университета разполага с необходимата Ви литература","29. услугите са достъпни за Вас","30. административното обслужване е на добро равнище","31. в Университета има условия за спорт","32. социалните условия (стипендии, общежития. стол, почивна база) са добре решени","33. преподавателите Ви са добре подготвени и познават новостите в научната област, в която работят","34. преподавателите Ви са толерантни, комуникативни и мотивирани в работата си със студентите","35. има корумпирани преподаватели","36. има корумпирани служители","37. материалната база е добра","38. учебно-техническите средства са съвременни и подпомагат учебния процес","39. учебниците и учебно-помощните материали са достъпни и подпомагат обучението Ви","40. публични лекции, срещи с представители на науката, политиката, бизнеса културата","41. студентски творчески инициативи","42. програми за обмен на студенти","43. дискусии, кръгли маси, конференции","44. проекти на преподавателските екипи","45. научните изследвания на вашите преподаватели","46. научно-изследователска програма на Факултета","47. научните издания на факултета","48. преподава на академично равнище","49. работи с добре подготвени и отдадени на работата си преподаватели","50. толерира творчеството, инициативата, самостоятелното мислене","51. уважават индивидуалните способности и насърчава индивидуалното развитие на студентите","52. има възможност да получите образование по предпочитана специалност","53. родителите Ви настояват да продължите образованието си","54. приятелите и съучениците Ви учат тук","55. е в района, в който сте роден(а) и живеете","56. е висше училище с традиции и авторитет","57. били потърпевш на корупционен натиск","58. чували, че има корумпирани преподаватели и служители, но не сте се сблъсквали лично с корупция в Университета","59. сигурни, че има корумпирани преподаватели и служители в ПУ","60. сигурни, че няма корумпирани преподаватели и служители в ПУ"]
[null," A = І"," A = МЪЖ"," A = Всички"," A = Всички"," A = Посещавал съм"," A = Отличен"," A = ДА "," A = ДА "," A = ДА "," A = ДА"," A = ДА"," A = ДА"," A = ДА"," A = ДА"," A = ДА"," A = ДА"," A = ДА"," A = ДА"," A = ДА"," A = ДА"," A = ДА"," A = ДА"," A = ДА"," A = ДА"," A = ДА"," A = ДА"," A = ДА"," A = ДА"," A = ДА"," A = ДА"," A = ДА"," A = ДА"," A = ДА"," A = ДА"," A = ДА"," A = ДА"," A = ДА"," A = ДА"," A = ДА"," A = ДА"," A = ДА"," A = ДА"," A = ДА"," A = ДА"," A = ДА"," A = ДА"," A = ДА"," A = ДА"," A = ДА"," A = ДА"," A = ДА"," A = ДА"," A = ДА"," A = ДА"," A = ДА"," A = ДА"," A = ДА"," A = ДА"]
[null,"B = ІІ","B = ЖЕНА","B = Голяма част ","B = Голяма част ","B = Работя и уча","B = Много добър","B = ЧАСТИЧНО","B = ЧАСТИЧНО","B = ЧАСТИЧНО","B = Във висока степен ","B = Във висока степен ","B = Във висока степен ","B = Във висока степен ","B = Във висока степен ","B = Във висока степен ","B = Във висока степен ","B = Във висока степен ","B = Във висока степен ","B = Във висока степен ","B = Във висока степен ","B = Във висока степен ","B = Във висока степен ","B = Във висока степен ","B = Във висока степен ","B = Във висока степен ","B = Във висока степен ","B = Във висока степен ","B = Във висока степен ","B = Във висока степен ","B = Във висока степен ","B = Във висока степен ","B = Във висока степен ","B = Във висока степен ","B = Във висока степен ","B = Във висока степен ","B = Във висока степен ","B = Във висока степен ","B = НЕ","B = НЕ","B = НЕ","B = НЕ","B = НЕ","B = Във висока степен ","B = Във висока степен ","B = Във висока степен ","B = Във висока степен ","B = Във висока степен ","B = Във висока степен ","B = Във висока степен ","B = НЕ","B = НЕ","B = НЕ ","B = НЕ ","B = НЕ","B = НЕ ","B = НЕ","B = НЕ","B = НЕ"]
[null,"C = ІІІ             D = ІV",null,"C = Малка част","C = Малка част","C = Безинтересни са","C = Добър","C = НЕ","C = НЕ","C = НЕ","C = В известна степен","C = В известна степен","C = В известна степен","C = В известна степен","C = В известна степен","C = В известна степен","C = В известна степен","C = В известна степен","C = В известна степен","C = В известна степен","C = В известна степен","C = В известна степен","C = В известна степен","C = В известна степен","C = В известна степен","C = В известна степен","C = В известна степен","C = В известна степен","C = В известна степен","C = В известна степен","C = В известна степен","C = В известна степен","C = В известна степен","C = В известна степен","C = В известна степен","C = В известна степен","C = В известна степен","C = В известна степен",null,null,null,null,null,"C = В известна степен","C = В известна степен","C = В известна степен","C = В известна степен","C = В известна степен","C = В известна степен","C = В известна степен"]
[null,"E = V",null," D = Нито една"," D = Нито едно","D = Мога да се подготвя сам","D = Среден",null,null,null," D = НЕ"," D = НЕ"," D = НЕ"," D = НЕ"," D = НЕ"," D = НЕ"," D = НЕ"," D = НЕ"," D = НЕ"," D = НЕ"," D = НЕ"," D = НЕ"," D = НЕ  "," D = НЕ"," D = НЕ"," D = НЕ"," D = НЕ"," D = НЕ"," D = НЕ"," D = НЕ"," D = НЕ"," D = НЕ"," D = НЕ"," D = НЕ"," D = НЕ"," D = НЕ"," D = НЕ"," D = НЕ",null,null,null,null,null," D = НЕ"," D = НЕ"," D = НЕ"," D = НЕ"," D = НЕ"," D = НЕ"," D = НЕ"]
[{"$f":"Анкета!A11","v":"AF1"},{"$f":"Анкета!B11","v":54},{"$f":"Анкета!C11","v":17},{"$f":"Анкета!D11","v":16},{"$f":"Анкета!E11","v":30},{"$f":"Анкета!F11","v":37},{"$f":"Анкета!G11","v":11},{"$f":"Анкета!H11","v":25},{"$f":"Анкета!I11","v":20},{"$f":"Анкета!J11","v":16},{"$f":"Анкета!K11","v":17},{"$f":"Анкета!L11","v":15},{"$f":"Анкета!M11","v":3},{"$f":"Анкета!N11","v":6},{"$f":"Анкета!O11","v":2},{"$f":"Анкета!P11","v":12},{"$f":"Анкета!Q11","v":4},{"$f":"Анкета!R11","v":14},{"$f":"Анкета!S11","v":9},{"$f":"Анкета!T11","v":6},{"$f":"Анкета!U11","v":6},{"$f":"Анкета!V11","v":5},{"$f":"Анкета!W11","v":6},{"$f":"Анкета!X11","v":17},{"$f":"Анкета!Y11","v":22},{"$f":"Анкета!Z11","v":4},{"$f":"Анкета!AA11","v":12},{"$f":"Анкета!AB11","v":18},{"$f":"Анкета!AC11","v":7},{"$f":"Анкета!AD11","v":9},{"$f":"Анкета!AE11","v":7},{"$f":"Анкета!AF11","v":22},{"$f":"Анкета!AG11","v":11},{"$f":"Анкета!AH11","v":16},{"$f":"Анкета!AI11","v":17},{"$f":"Анкета!AJ11","v":4},{"$f":"Анкета!AK11","v":5},{"$f":"Анкета!AL11","v":5},{"$f":"Анкета!AM11","v":2},{"$f":"Анкета!AN11","v":4},{"$f":"Анкета!AO11","v":3},{"$f":"Анкета!AP11","v":5},{"$f":"Анкета!AQ11","v":2},{"$f":"Анкета!AR11","v":1},{"$f":"Анкета!AS11","v":1},{"$f":"Анкета!AT11","v":2},{"$f":"Анкета!AU11","v":22},{"$f":"Анкета!AV11","v":13},{"$f":"Анкета!AW11","v":6},{"$f":"Анкета!AX11","v":6},{"$f":"Анкета!AY11","v":46},{"$f":"Анкета!AZ11","v":16},{"$f":"Анкета!BA11","v":9},{"$f":"Анкета!BB11","v":22},{"$f":"Анкета!BC11","v":41},{"$f":"Анкета!BD11","v":2},{"$f":"Анкета!BE11","v":36},{"$f":"Анкета!BF11","v":23},{"$f":"Анкета!BG11","v":2},{"$f":"Анкета!BH11","v":0}]
[{"$f":"Анкета!A12","v":"AF1"},{"$f":"Анкета!B12","v":0},{"$f":"Анкета!C12","v":37},{"$f":"Анкета!D12","v":32},{"$f":"Анкета!E12","v":23},{"$f":"Анкета!F12","v":6},{"$f":"Анкета!G12","v":23},{"$f":"Анкета!H12","v":27},{"$f":"Анкета!I12","v":26},{"$f":"Анкета!J12","v":29},{"$f":"Анкета!K12","v":16},{"$f":"Анкета!L12","v":20},{"$f":"Анкета!M12","v":23},{"$f":"Анкета!N12","v":17},{"$f":"Анкета!O12","v":7},{"$f":"Анкета!P12","v":10},{"$f":"Анкета!Q12","v":8},{"$f":"Анкета!R12","v":13},{"$f":"Анкета!S12","v":14},{"$f":"Анкета!T12","v":9},{"$f":"Анкета!U12","v":15},{"$f":"Анкета!V12","v":12},{"$f":"Анкета!W12","v":9},{"$f":"Анкета!X12","v":8},{"$f":"Анкета!Y12","v":13},{"$f":"Анкета!Z12","v":4},{"$f":"Анкета!AA12","v":13},{"$f":"Анкета!AB12","v":14},{"$f":"Анкета!AC12","v":11},{"$f":"Анкета!AD12","v":2},{"$f":"Анкета!AE12","v":3},{"$f":"Анкета!AF12","v":18},{"$f":"Анкета!AG12","v":21},{"$f":"Анкета!AH12","v":8},{"$f":"Анкета!AI12","v":6},{"$f":"Анкета!AJ12","v":10},{"$f":"Анкета!AK12","v":8},{"$f":"Анкета!AL12","v":14},{"$f":"Анкета!AM12","v":52},{"$f":"Анкета!AN12","v":49},{"$f":"Анкета!AO12","v":50},{"$f":"Анкета!AP12","v":49},{"$f":"Анкета!AQ12","v":52},{"$f":"Анкета!AR12","v":6},{"$f":"Анкета!AS12","v":2},{"$f":"Анкета!AT12","v":3},{"$f":"Анкета!AU12","v":17},{"$f":"Анкета!AV12","v":22},{"$f":"Анкета!AW12","v":13},{"$f":"Анкета!AX12","v":11},{"$f":"Анкета!AY12","v":8},{"$f":"Анкета!AZ12","v":38},{"$f":"Анкета!BA12","v":44},{"$f":"Анкета!BB12","v":31},{"$f":"Анкета!BC12","v":12},{"$f":"Анкета!BD12","v":51},{"$f":"Анкета!BE12","v":17},{"$f":"Анкета!BF12","v":30},{"$f":"Анкета!BG12","v":51},{"$f":"Анкета!BH12","v":0}]
[{"$f":"Анкета!A13","v":"AF1"},{"$f":"Анкета!B13","v":0},{"$f":"Анкета!C13","v":0},{"$f":"Анкета!D13","v":6},{"$f":"Анкета!E13","v":1},{"$f":"Анкета!F13","v":8},{"$f":"Анкета!G13","v":12},{"$f":"Анкета!H13","v":2},{"$f":"Анкета!I13","v":8},{"$f":"Анкета!J13","v":9},{"$f":"Анкета!K13","v":19},{"$f":"Анкета!L13","v":16},{"$f":"Анкета!M13","v":25},{"$f":"Анкета!N13","v":27},{"$f":"Анкета!O13","v":28},{"$f":"Анкета!P13","v":21},{"$f":"Анкета!Q13","v":25},{"$f":"Анкета!R13","v":19},{"$f":"Анкета!S13","v":24},{"$f":"Анкета!T13","v":21},{"$f":"Анкета!U13","v":20},{"$f":"Анкета!V13","v":22},{"$f":"Анкета!W13","v":27},{"$f":"Анкета!X13","v":20},{"$f":"Анкета!Y13","v":16},{"$f":"Анкета!Z13","v":14},{"$f":"Анкета!AA13","v":16},{"$f":"Анкета!AB13","v":17},{"$f":"Анкета!AC13","v":15},{"$f":"Анкета!AD13","v":15},{"$f":"Анкета!AE13","v":22},{"$f":"Анкета!AF13","v":13},{"$f":"Анкета!AG13","v":18},{"$f":"Анкета!AH13","v":13},{"$f":"Анкета!AI13","v":14},{"$f":"Анкета!AJ13","v":27},{"$f":"Анкета!AK13","v":26},{"$f":"Анкета!AL13","v":25},{"$f":"Анкета!AM13","v":0},{"$f":"Анкета!AN13","v":0},{"$f":"Анкета!AO13","v":0},{"$f":"Анкета!AP13","v":0},{"$f":"Анкета!AQ13","v":0},{"$f":"Анкета!AR13","v":15},{"$f":"Анкета!AS13","v":11},{"$f":"Анкета!AT13","v":16},{"$f":"Анкета!AU13","v":14},{"$f":"Анкета!AV13","v":17},{"$f":"Анкета!AW13","v":26},{"$f":"Анкета!AX13","v":27},{"$f":"Анкета!AY13","v":0},{"$f":"Анкета!AZ13","v":0},{"$f":"Анкета!BA13","v":0},{"$f":"Анкета!BB13","v":1},{"$f":"Анкета!BC13","v":0},{"$f":"Анкета!BD13","v":1},{"$f":"Анкета!BE13","v":1},{"$f":"Анкета!BF13","v":1},{"$f":"Анкета!BG13","v":1},{"$f":"Анкета!BH13","v":0}]
[{"$f":"Анкета!A14","v":"AF1"},{"$f":"Анкета!B14","v":0},{"$f":"Анкета!C14","v":0},{"$f":"Анкета!D14","v":0},{"$f":"Анкета!E14","v":0},{"$f":"Анкета!F14","v":3},{"$f":"Анкета!G14","v":8},{"$f":"Анкета!H14","v":0},{"$f":"Анкета!I14","v":0},{"$f":"Анкета!J14","v":0},{"$f":"Анкета!K14","v":2},{"$f":"Анкета!L14","v":3},{"$f":"Анкета!M14","v":3},{"$f":"Анкета!N14","v":4},{"$f":"Анкета!O14","v":17},{"$f":"Анкета!P14","v":11},{"$f":"Анкета!Q14","v":17},{"$f":"Анкета!R14","v":8},{"$f":"Анкета!S14","v":7},{"$f":"Анкета!T14","v":18},{"$f":"Анкета!U14","v":13},{"$f":"Анкета!V14","v":15},{"$f":"Анкета!W14","v":12},{"$f":"Анкета!X14","v":9},{"$f":"Анкета!Y14","v":3},{"$f":"Анкета!Z14","v":32},{"$f":"Анкета!AA14","v":13},{"$f":"Анкета!AB14","v":5},{"$f":"Анкета!AC14","v":21},{"$f":"Анкета!AD14","v":28},{"$f":"Анкета!AE14","v":22},{"$f":"Анкета!AF14","v":1},{"$f":"Анкета!AG14","v":4},{"$f":"Анкета!AH14","v":17},{"$f":"Анкета!AI14","v":17},{"$f":"Анкета!AJ14","v":13},{"$f":"Анкета!AK14","v":15},{"$f":"Анкета!AL14","v":10},{"$f":"Анкета!AM14","v":0},{"$f":"Анкета!AN14","v":1},{"$f":"Анкета!AO14","v":1},{"$f":"Анкета!AP14","v":0},{"$f":"Анкета!AQ14","v":0},{"$f":"Анкета!AR14","v":32},{"$f":"Анкета!AS14","v":40},{"$f":"Анкета!AT14","v":33},{"$f":"Анкета!AU14","v":1},{"$f":"Анкета!AV14","v":2},{"$f":"Анкета!AW14","v":9},{"$f":"Анкета!AX14","v":10},{"$f":"Анкета!AY14","v":0},{"$f":"Анкета!AZ14","v":0},{"$f":"Анкета!BA14","v":1},{"$f":"Анкета!BB14","v":0},{"$f":"Анкета!BC14","v":1},{"$f":"Анкета!BD14","v":0},{"$f":"Анкета!BE14","v":0},{"$f":"Анкета!BF14","v":0},{"$f":"Анкета!BG14","v":0},{"$f":"Анкета!BH14","v":0}]
[{"$f":"Анкета!A15","v":"AF2"},{"$f":"Анкета!B15","v":0},{"$f":"Анкета!C15","v":5},{"$f":"Анкета!D15","v":8},{"$f":"Анкета!E15","v":11},{"$f":"Анкета!F15","v":12},{"$f":"Анкета!G15","v":2},{"$f":"Анкета!H15","v":10},{"$f":"Анкета!I15","v":8},{"$f":"Анкета!J15","v":11},{"$f":"Анкета!K15","v":10},{"$f":"Анкета!L15","v":11},{"$f":"Анкета!M15","v":3},{"$f":"Анкета!N15","v":5},{"$f":"Анкета!O15","v":0},{"$f":"Анкета!P15","v":5},{"$f":"Анкета!Q15","v":2},{"$f":"Анкета!R15","v":9},{"$f":"Анкета!S15","v":7},{"$f":"Анкета!T15","v":1},{"$f":"Анкета!U15","v":3},{"$f":"Анкета!V15","v":3},{"$f":"Анкета!W15","v":3},{"$f":"Анкета!X15","v":4},{"$f":"Анкета!Y15","v":12},{"$f":"Анкета!Z15","v":1},{"$f":"Анкета!AA15","v":5},{"$f":"Анкета!AB15","v":9},{"$f":"Анкета!AC15","v":6},{"$f":"Анкета!AD15","v":0},{"$f":"Анкета!AE15","v":5},{"$f":"Анкета!AF15","v":8},{"$f":"Анкета!AG15","v":4},{"$f":"Анкета!AH15","v":6},{"$f":"Анкета!AI15","v":4},{"$f":"Анкета!AJ15","v":2},{"$f":"Анкета!AK15","v":3},{"$f":"Анкета!AL15","v":3},{"$f":"Анкета!AM15","v":10},{"$f":"Анкета!AN15","v":5},{"$f":"Анкета!AO15","v":4},{"$f":"Анкета!AP15","v":3},{"$f":"Анкета!AQ15","v":0},{"$f":"Анкета!AR15","v":0},{"$f":"Анкета!AS15","v":0},{"$f":"Анкета!AT15","v":1},{"$f":"Анкета!AU15","v":10},{"$f":"Анкета!AV15","v":6},{"$f":"Анкета!AW15","v":2},{"$f":"Анкета!AX15","v":4},{"$f":"Анкета!AY15","v":19},{"$f":"Анкета!AZ15","v":11},{"$f":"Анкета!BA15","v":4},{"$f":"Анкета!BB15","v":13},{"$f":"Анкета!BC15","v":19},{"$f":"Анкета!BD15","v":0},{"$f":"Анкета!BE15","v":17},{"$f":"Анкета!BF15","v":9},{"$f":"Анкета!BG15","v":4},{"$f":"Анкета!BH15","v":0}]
[{"$f":"Анкета!A16","v":"AF2"},{"$f":"Анкета!B16","v":23},{"$f":"Анкета!C16","v":18},{"$f":"Анкета!D16","v":13},{"$f":"Анкета!E16","v":10},{"$f":"Анкета!F16","v":7},{"$f":"Анкета!G16","v":13},{"$f":"Анкета!H16","v":13},{"$f":"Анкета!I16","v":13},{"$f":"Анкета!J16","v":8},{"$f":"Анкета!K16","v":10},{"$f":"Анкета!L16","v":5},{"$f":"Анкета!M16","v":9},{"$f":"Анкета!N16","v":4},{"$f":"Анкета!O16","v":1},{"$f":"Анкета!P16","v":4},{"$f":"Анкета!Q16","v":4},{"$f":"Анкета!R16","v":3},{"$f":"Анкета!S16","v":6},{"$f":"Анкета!T16","v":3},{"$f":"Анкета!U16","v":3},{"$f":"Анкета!V16","v":7},{"$f":"Анкета!W16","v":5},{"$f":"Анкета!X16","v":4},{"$f":"Анкета!Y16","v":7},{"$f":"Анкета!Z16","v":2},{"$f":"Анкета!AA16","v":4},{"$f":"Анкета!AB16","v":4},{"$f":"Анкета!AC16","v":2},{"$f":"Анкета!AD16","v":0},{"$f":"Анкета!AE16","v":3},{"$f":"Анкета!AF16","v":7},{"$f":"Анкета!AG16","v":6},{"$f":"Анкета!AH16","v":2},{"$f":"Анкета!AI16","v":3},{"$f":"Анкета!AJ16","v":3},{"$f":"Анкета!AK16","v":1},{"$f":"Анкета!AL16","v":4},{"$f":"Анкета!AM16","v":12},{"$f":"Анкета!AN16","v":18},{"$f":"Анкета!AO16","v":19},{"$f":"Анкета!AP16","v":20},{"$f":"Анкета!AQ16","v":23},{"$f":"Анкета!AR16","v":6},{"$f":"Анкета!AS16","v":1},{"$f":"Анкета!AT16","v":1},{"$f":"Анкета!AU16","v":7},{"$f":"Анкета!AV16","v":7},{"$f":"Анкета!AW16","v":3},{"$f":"Анкета!AX16","v":2},{"$f":"Анкета!AY16","v":4},{"$f":"Анкета!AZ16","v":12},{"$f":"Анкета!BA16","v":19},{"$f":"Анкета!BB16","v":10},{"$f":"Анкета!BC16","v":4},{"$f":"Анкета!BD16","v":23},{"$f":"Анкета!BE16","v":6},{"$f":"Анкета!BF16","v":14},{"$f":"Анкета!BG16","v":19},{"$f":"Анкета!BH16","v":0}]
[{"$f":"Анкета!A17","v":"AF2"},{"$f":"Анкета!B17","v":0},{"$f":"Анкета!C17","v":0},{"$f":"Анкета!D17","v":2},{"$f":"Анкета!E17","v":2},{"$f":"Анкета!F17","v":2},{"$f":"Анкета!G17","v":8},{"$f":"Анкета!H17","v":0},{"$f":"Анкета!I17","v":2},{"$f":"Анкета!J17","v":4},{"$f":"Анкета!K17","v":3},{"$f":"Анкета!L17","v":7},{"$f":"Анкета!M17","v":11},{"$f":"Анкета!N17","v":14},{"$f":"Анкета!O17","v":11},{"$f":"Анкета!P17","v":8},{"$f":"Анкета!Q17","v":7},{"$f":"Анкета!R17","v":3},{"$f":"Анкета!S17","v":9},{"$f":"Анкета!T17","v":11},{"$f":"Анкета!U17","v":13},{"$f":"Анкета!V17","v":6},{"$f":"Анкета!W17","v":3},{"$f":"Анкета!X17","v":6},{"$f":"Анкета!Y17","v":4},{"$f":"Анкета!Z17","v":3},{"$f":"Анкета!AA17","v":10},{"$f":"Анкета!AB17","v":7},{"$f":"Анкета!AC17","v":3},{"$f":"Анкета!AD17","v":8},{"$f":"Анкета!AE17","v":7},{"$f":"Анкета!AF17","v":8},{"$f":"Анкета!AG17","v":10},{"$f":"Анкета!AH17","v":5},{"$f":"Анкета!AI17","v":9},{"$f":"Анкета!AJ17","v":11},{"$f":"Анкета!AK17","v":7},{"$f":"Анкета!AL17","v":8},{"$f":"Анкета!AM17","v":0},{"$f":"Анкета!AN17","v":0},{"$f":"Анкета!AO17","v":0},{"$f":"Анкета!AP17","v":0},{"$f":"Анкета!AQ17","v":0},{"$f":"Анкета!AR17","v":7},{"$f":"Анкета!AS17","v":4},{"$f":"Анкета!AT17","v":5},{"$f":"Анкета!AU17","v":4},{"$f":"Анкета!AV17","v":9},{"$f":"Анкета!AW17","v":11},{"$f":"Анкета!AX17","v":8},{"$f":"Анкета!AY17","v":0},{"$f":"Анкета!AZ17","v":0},{"$f":"Анкета!BA17","v":0},{"$f":"Анкета!BB17","v":0},{"$f":"Анкета!BC17","v":0},{"$f":"Анкета!BD17","v":0},{"$f":"Анкета!BE17","v":0},{"$f":"Анкета!BF17","v":0},{"$f":"Анкета!BG17","v":0},{"$f":"Анкета!BH17","v":0}]
[{"$f":"Анкета!A18","v":"AF2"},{"$f":"Анкета!B18","v":0},{"$f":"Анкета!C18","v":0},{"$f":"Анкета!D18","v":0},{"$f":"Анкета!E18","v":0},{"$f":"Анкета!F18","v":2},{"$f":"Анкета!G18","v":0},{"$f":"Анкета!H18","v":0},{"$f":"Анкета!I18","v":0},{"$f":"Анкета!J18","v":0},{"$f":"Анкета!K18","v":0},{"$f":"Анкета!L18","v":0},{"$f":"Анкета!M18","v":0},{"$f":"Анкета!N18","v":0},{"$f":"Анкета!O18","v":11},{"$f":"Анкета!P18","v":6},{"$f":"Анкета!Q18","v":10},{"$f":"Анкета!R18","v":8},{"$f":"Анкета!S18","v":1},{"$f":"Анкета!T18","v":8},{"$f":"Анкета!U18","v":4},{"$f":"Анкета!V18","v":7},{"$f":"Анкета!W18","v":12},{"$f":"Анкета!X18","v":9},{"$f":"Анкета!Y18","v":0},{"$f":"Анкета!Z18","v":17},{"$f":"Анкета!AA18","v":4},{"$f":"Анкета!AB18","v":3},{"$f":"Анкета!AC18","v":12},{"$f":"Анкета!AD18","v":15},{"$f":"Анкета!AE18","v":8},{"$f":"Анкета!AF18","v":0},{"$f":"Анкета!AG18","v":3},{"$f":"Анкета!AH18","v":10},{"$f":"Анкета!AI18","v":7},{"$f":"Анкета!AJ18","v":7},{"$f":"Анкета!AK18","v":12},{"$f":"Анкета!AL18","v":8},{"$f":"Анкета!AM18","v":1},{"$f":"Анкета!AN18","v":0},{"$f":"Анкета!AO18","v":0},{"$f":"Анкета!AP18","v":0},{"$f":"Анкета!AQ18","v":0},{"$f":"Анкета!AR18","v":10},{"$f":"Анкета!AS18","v":18},{"$f":"Анкета!AT18","v":16},{"$f":"Анкета!AU18","v":2},{"$f":"Анкета!AV18","v":1},{"$f":"Анкета!AW18","v":7},{"$f":"Анкета!AX18","v":9},{"$f":"Анкета!AY18","v":0},{"$f":"Анкета!AZ18","v":0},{"$f":"Анкета!BA18","v":0},{"$f":"Анкета!BB18","v":0},{"$f":"Анкета!BC18","v":0},{"$f":"Анкета!BD18","v":0},{"$f":"Анкета!BE18","v":0},{"$f":"Анкета!BF18","v":0},{"$f":"Анкета!BG18","v":0},{"$f":"Анкета!BH18","v":0}]
[{"$f":"Анкета!A19","v":"AF3"},{"$f":"Анкета!B19","v":0},{"$f":"Анкета!C19","v":4},{"$f":"Анкета!D19","v":4},{"$f":"Анкета!E19","v":6},{"$f":"Анкета!F19","v":9},{"$f":"Анкета!G19","v":1},{"$f":"Анкета!H19","v":10},{"$f":"Анкета!I19","v":9},{"$f":"Анкета!J19","v":10},{"$f":"Анкета!K19","v":8},{"$f":"Анкета!L19","v":4},{"$f":"Анкета!M19","v":3},{"$f":"Анкета!N19","v":2},{"$f":"Анкета!O19","v":0},{"$f":"Анкета!P19","v":3},{"$f":"Анкета!Q19","v":5},{"$f":"Анкета!R19","v":5},{"$f":"Анкета!S19","v":7},{"$f":"Анкета!T19","v":1},{"$f":"Анкета!U19","v":2},{"$f":"Анкета!V19","v":2},{"$f":"Анкета!W19","v":2},{"$f":"Анкета!X19","v":4},{"$f":"Анкета!Y19","v":9},{"$f":"Анкета!Z19","v":0},{"$f":"Анкета!AA19","v":4},{"$f":"Анкета!AB19","v":7},{"$f":"Анкета!AC19","v":1},{"$f":"Анкета!AD19","v":1},{"$f":"Анкета!AE19","v":1},{"$f":"Анкета!AF19","v":10},{"$f":"Анкета!AG19","v":1},{"$f":"Анкета!AH19","v":6},{"$f":"Анкета!AI19","v":6},{"$f":"Анкета!AJ19","v":0},{"$f":"Анкета!AK19","v":1},{"$f":"Анкета!AL19","v":2},{"$f":"Анкета!AM19","v":8},{"$f":"Анкета!AN19","v":2},{"$f":"Анкета!AO19","v":1},{"$f":"Анкета!AP19","v":0},{"$f":"Анкета!AQ19","v":0},{"$f":"Анкета!AR19","v":2},{"$f":"Анкета!AS19","v":1},{"$f":"Анкета!AT19","v":0},{"$f":"Анкета!AU19","v":7},{"$f":"Анкета!AV19","v":4},{"$f":"Анкета!AW19","v":3},{"$f":"Анкета!AX19","v":3},{"$f":"Анкета!AY19","v":14},{"$f":"Анкета!AZ19","v":4},{"$f":"Анкета!BA19","v":3},{"$f":"Анкета!BB19","v":5},{"$f":"Анкета!BC19","v":12},{"$f":"Анкета!BD19","v":0},{"$f":"Анкета!BE19","v":11},{"$f":"Анкета!BF19","v":6},{"$f":"Анкета!BG19","v":1},{"$f":"Анкета!BH19","v":0}]
[{"$f":"Анкета!A20","v":"AF3"},{"$f":"Анкета!B20","v":0},{"$f":"Анкета!C20","v":14},{"$f":"Анкета!D20","v":13},{"$f":"Анкета!E20","v":11},{"$f":"Анкета!F20","v":4},{"$f":"Анкета!G20","v":8},{"$f":"Анкета!H20","v":8},{"$f":"Анкета!I20","v":7},{"$f":"Анкета!J20","v":7},{"$f":"Анкета!K20","v":5},{"$f":"Анкета!L20","v":6},{"$f":"Анкета!M20","v":6},{"$f":"Анкета!N20","v":5},{"$f":"Анкета!O20","v":1},{"$f":"Анкета!P20","v":4},{"$f":"Анкета!Q20","v":1},{"$f":"Анкета!R20","v":2},{"$f":"Анкета!S20","v":5},{"$f":"Анкета!T20","v":1},{"$f":"Анкета!U20","v":3},{"$f":"Анкета!V20","v":3},{"$f":"Анкета!W20","v":5},{"$f":"Анкета!X20","v":4},{"$f":"Анкета!Y20","v":1},{"$f":"Анкета!Z20","v":2},{"$f":"Анкета!AA20","v":6},{"$f":"Анкета!AB20","v":3},{"$f":"Анкета!AC20","v":2},{"$f":"Анкета!AD20","v":2},{"$f":"Анкета!AE20","v":4},{"$f":"Анкета!AF20","v":7},{"$f":"Анкета!AG20","v":12},{"$f":"Анкета!AH20","v":1},{"$f":"Анкета!AI20","v":1},{"$f":"Анкета!AJ20","v":5},{"$f":"Анкета!AK20","v":3},{"$f":"Анкета!AL20","v":5},{"$f":"Анкета!AM20","v":10},{"$f":"Анкета!AN20","v":16},{"$f":"Анкета!AO20","v":17},{"$f":"Анкета!AP20","v":18},{"$f":"Анкета!AQ20","v":18},{"$f":"Анкета!AR20","v":3},{"$f":"Анкета!AS20","v":1},{"$f":"Анкета!AT20","v":5},{"$f":"Анкета!AU20","v":8},{"$f":"Анкета!AV20","v":8},{"$f":"Анкета!AW20","v":6},{"$f":"Анкета!AX20","v":2},{"$f":"Анкета!AY20","v":4},{"$f":"Анкета!AZ20","v":14},{"$f":"Анкета!BA20","v":15},{"$f":"Анкета!BB20","v":13},{"$f":"Анкета!BC20","v":6},{"$f":"Анкета!BD20","v":18},{"$f":"Анкета!BE20","v":7},{"$f":"Анкета!BF20","v":12},{"$f":"Анкета!BG20","v":17},{"$f":"Анкета!BH20","v":0}]
[{"$f":"Анкета!A21","v":"AF3"},{"$f":"Анкета!B21","v":18},{"$f":"Анкета!C21","v":0},{"$f":"Анкета!D21","v":1},{"$f":"Анкета!E21","v":1},{"$f":"Анкета!F21","v":4},{"$f":"Анкета!G21","v":9},{"$f":"Анкета!H21","v":0},{"$f":"Анкета!I21","v":1},{"$f":"Анкета!J21","v":1},{"$f":"Анкета!K21","v":5},{"$f":"Анкета!L21","v":7},{"$f":"Анкета!M21","v":8},{"$f":"Анкета!N21","v":7},{"$f":"Анкета!O21","v":10},{"$f":"Анкета!P21","v":5},{"$f":"Анкета!Q21","v":5},{"$f":"Анкета!R21","v":5},{"$f":"Анкета!S21","v":5},{"$f":"Анкета!T21","v":9},{"$f":"Анкета!U21","v":9},{"$f":"Анкета!V21","v":8},{"$f":"Анкета!W21","v":3},{"$f":"Анкета!X21","v":4},{"$f":"Анкета!Y21","v":7},{"$f":"Анкета!Z21","v":7},{"$f":"Анкета!AA21","v":4},{"$f":"Анкета!AB21","v":4},{"$f":"Анкета!AC21","v":6},{"$f":"Анкета!AD21","v":10},{"$f":"Анкета!AE21","v":6},{"$f":"Анкета!AF21","v":1},{"$f":"Анкета!AG21","v":4},{"$f":"Анкета!AH21","v":3},{"$f":"Анкета!AI21","v":3},{"$f":"Анкета!AJ21","v":10},{"$f":"Анкета!AK21","v":5},{"$f":"Анкета!AL21","v":7},{"$f":"Анкета!AM21","v":0},{"$f":"Анкета!AN21","v":0},{"$f":"Анкета!AO21","v":0},{"$f":"Анкета!AP21","v":0},{"$f":"Анкета!AQ21","v":0},{"$f":"Анкета!AR21","v":9},{"$f":"Анкета!AS21","v":5},{"$f":"Анкета!AT21","v":6},{"$f":"Анкета!AU21","v":3},{"$f":"Анкета!AV21","v":5},{"$f":"Анкета!AW21","v":7},{"$f":"Анкета!AX21","v":7},{"$f":"Анкета!AY21","v":0},{"$f":"Анкета!AZ21","v":0},{"$f":"Анкета!BA21","v":0},{"$f":"Анкета!BB21","v":0},{"$f":"Анкета!BC21","v":0},{"$f":"Анкета!BD21","v":0},{"$f":"Анкета!BE21","v":0},{"$f":"Анкета!BF21","v":0},{"$f":"Анкета!BG21","v":0},{"$f":"Анкета!BH21","v":0}]
[{"$f":"Анкета!A22","v":"AF3"},{"$f":"Анкета!B22","v":0},{"$f":"Анкета!C22","v":0},{"$f":"Анкета!D22","v":0},{"$f":"Анкета!E22","v":0},{"$f":"Анкета!F22","v":1},{"$f":"Анкета!G22","v":0},{"$f":"Анкета!H22","v":0},{"$f":"Анкета!I22","v":1},{"$f":"Анкета!J22","v":0},{"$f":"Анкета!K22","v":0},{"$f":"Анкета!L22","v":1},{"$f":"Анкета!M22","v":1},{"$f":"Анкета!N22","v":4},{"$f":"Анкета!O22","v":7},{"$f":"Анкета!P22","v":6},{"$f":"Анкета!Q22","v":7},{"$f":"Анкета!R22","v":6},{"$f":"Анкета!S22","v":1},{"$f":"Анкета!T22","v":7},{"$f":"Анкета!U22","v":4},{"$f":"Анкета!V22","v":5},{"$f":"Анкета!W22","v":8},{"$f":"Анкета!X22","v":6},{"$f":"Анкета!Y22","v":1},{"$f":"Анкета!Z22","v":9},{"$f":"Анкета!AA22","v":4},{"$f":"Анкета!AB22","v":4},{"$f":"Анкета!AC22","v":9},{"$f":"Анкета!AD22","v":5},{"$f":"Анкета!AE22","v":7},{"$f":"Анкета!AF22","v":0},{"$f":"Анкета!AG22","v":1},{"$f":"Анкета!AH22","v":8},{"$f":"Анкета!AI22","v":8},{"$f":"Анкета!AJ22","v":3},{"$f":"Анкета!AK22","v":9},{"$f":"Анкета!AL22","v":4},{"$f":"Анкета!AM22","v":0},{"$f":"Анкета!AN22","v":0},{"$f":"Анкета!AO22","v":0},{"$f":"Анкета!AP22","v":0},{"$f":"Анкета!AQ22","v":0},{"$f":"Анкета!AR22","v":4},{"$f":"Анкета!AS22","v":11},{"$f":"Анкета!AT22","v":7},{"$f":"Анкета!AU22","v":0},{"$f":"Анкета!AV22","v":1},{"$f":"Анкета!AW22","v":2},{"$f":"Анкета!AX22","v":6},{"$f":"Анкета!AY22","v":0},{"$f":"Анкета!AZ22","v":0},{"$f":"Анкета!BA22","v":0},{"$f":"Анкета!BB22","v":0},{"$f":"Анкета!BC22","v":0},{"$f":"Анкета!BD22","v":0},{"$f":"Анкета!BE22","v":0},{"$f":"Анкета!BF22","v":0},{"$f":"Анкета!BG22","v":0},{"$f":"Анкета!BH22","v":0}]
[{"$f":"Анкета!A23","v":"AF4"},{"$f":"Анкета!B23","v":0},{"$f":"Анкета!C23","v":2},{"$f":"Анкета!D23","v":5},{"$f":"Анкета!E23","v":11},{"$f":"Анкета!F23","v":8},{"$f":"Анкета!G23","v":5},{"$f":"Анкета!H23","v":13},{"$f":"Анкета!I23","v":6},{"$f":"Анкета!J23","v":5},{"$f":"Анкета!K23","v":8},{"$f":"Анкета!L23","v":4},{"$f":"Анкета!M23","v":1},{"$f":"Анкета!N23","v":1},{"$f":"Анкета!O23","v":1},{"$f":"Анкета!P23","v":0},{"$f":"Анкета!Q23","v":2},{"$f":"Анкета!R23","v":7},{"$f":"Анкета!S23","v":2},{"$f":"Анкета!T23","v":1},{"$f":"Анкета!U23","v":4},{"$f":"Анкета!V23","v":3},{"$f":"Анкета!W23","v":0},{"$f":"Анкета!X23","v":3},{"$f":"Анкета!Y23","v":4},{"$f":"Анкета!Z23","v":1},{"$f":"Анкета!AA23","v":6},{"$f":"Анкета!AB23","v":5},{"$f":"Анкета!AC23","v":1},{"$f":"Анкета!AD23","v":1},{"$f":"Анкета!AE23","v":2},{"$f":"Анкета!AF23","v":5},{"$f":"Анкета!AG23","v":2},{"$f":"Анкета!AH23","v":1},{"$f":"Анкета!AI23","v":2},{"$f":"Анкета!AJ23","v":0},{"$f":"Анкета!AK23","v":0},{"$f":"Анкета!AL23","v":1},{"$f":"Анкета!AM23","v":12},{"$f":"Анкета!AN23","v":3},{"$f":"Анкета!AO23","v":1},{"$f":"Анкета!AP23","v":5},{"$f":"Анкета!AQ23","v":5},{"$f":"Анкета!AR23","v":1},{"$f":"Анкета!AS23","v":0},{"$f":"Анкета!AT23","v":0},{"$f":"Анкета!AU23","v":11},{"$f":"Анкета!AV23","v":4},{"$f":"Анкета!AW23","v":4},{"$f":"Анкета!AX23","v":3},{"$f":"Анкета!AY23","v":15},{"$f":"Анкета!AZ23","v":5},{"$f":"Анкета!BA23","v":1},{"$f":"Анкета!BB23","v":8},{"$f":"Анкета!BC23","v":16},{"$f":"Анкета!BD23","v":0},{"$f":"Анкета!BE23","v":7},{"$f":"Анкета!BF23","v":2},{"$f":"Анкета!BG23","v":4},{"$f":"Анкета!BH23","v":0}]
[{"$f":"Анкета!A24","v":"AF4"},{"$f":"Анкета!B24","v":0},{"$f":"Анкета!C24","v":15},{"$f":"Анкета!D24","v":11},{"$f":"Анкета!E24","v":6},{"$f":"Анкета!F24","v":6},{"$f":"Анкета!G24","v":9},{"$f":"Анкета!H24","v":4},{"$f":"Анкета!I24","v":10},{"$f":"Анкета!J24","v":9},{"$f":"Анкета!K24","v":7},{"$f":"Анкета!L24","v":6},{"$f":"Анкета!M24","v":6},{"$f":"Анкета!N24","v":4},{"$f":"Анкета!O24","v":1},{"$f":"Анкета!P24","v":2},{"$f":"Анкета!Q24","v":4},{"$f":"Анкета!R24","v":3},{"$f":"Анкета!S24","v":5},{"$f":"Анкета!T24","v":1},{"$f":"Анкета!U24","v":4},{"$f":"Анкета!V24","v":4},{"$f":"Анкета!W24","v":6},{"$f":"Анкета!X24","v":2},{"$f":"Анкета!Y24","v":6},{"$f":"Анкета!Z24","v":1},{"$f":"Анкета!AA24","v":3},{"$f":"Анкета!AB24","v":3},{"$f":"Анкета!AC24","v":1},{"$f":"Анкета!AD24","v":1},{"$f":"Анкета!AE24","v":4},{"$f":"Анкета!AF24","v":6},{"$f":"Анкета!AG24","v":6},{"$f":"Анкета!AH24","v":0},{"$f":"Анкета!AI24","v":0},{"$f":"Анкета!AJ24","v":4},{"$f":"Анкета!AK24","v":3},{"$f":"Анкета!AL24","v":3},{"$f":"Анкета!AM24","v":5},{"$f":"Анкета!AN24","v":14},{"$f":"Анкета!AO24","v":16},{"$f":"Анкета!AP24","v":12},{"$f":"Анкета!AQ24","v":12},{"$f":"Анкета!AR24","v":1},{"$f":"Анкета!AS24","v":2},{"$f":"Анкета!AT24","v":1},{"$f":"Анкета!AU24","v":3},{"$f":"Анкета!AV24","v":7},{"$f":"Анкета!AW24","v":6},{"$f":"Анкета!AX24","v":6},{"$f":"Анкета!AY24","v":2},{"$f":"Анкета!AZ24","v":12},{"$f":"Анкета!BA24","v":16},{"$f":"Анкета!BB24","v":9},{"$f":"Анкета!BC24","v":1},{"$f":"Анкета!BD24","v":17},{"$f":"Анкета!BE24","v":10},{"$f":"Анкета!BF24","v":15},{"$f":"Анкета!BG24","v":13},{"$f":"Анкета!BH24","v":0}]
[{"$f":"Анкета!A25","v":"AF4"},{"$f":"Анкета!B25","v":0},{"$f":"Анкета!C25","v":0},{"$f":"Анкета!D25","v":1},{"$f":"Анкета!E25","v":0},{"$f":"Анкета!F25","v":2},{"$f":"Анкета!G25","v":3},{"$f":"Анкета!H25","v":0},{"$f":"Анкета!I25","v":1},{"$f":"Анкета!J25","v":3},{"$f":"Анкета!K25","v":2},{"$f":"Анкета!L25","v":5},{"$f":"Анкета!M25","v":10},{"$f":"Анкета!N25","v":7},{"$f":"Анкета!O25","v":12},{"$f":"Анкета!P25","v":13},{"$f":"Анкета!Q25","v":5},{"$f":"Анкета!R25","v":6},{"$f":"Анкета!S25","v":9},{"$f":"Анкета!T25","v":12},{"$f":"Анкета!U25","v":6},{"$f":"Анкета!V25","v":6},{"$f":"Анкета!W25","v":6},{"$f":"Анкета!X25","v":8},{"$f":"Анкета!Y25","v":6},{"$f":"Анкета!Z25","v":8},{"$f":"Анкета!AA25","v":6},{"$f":"Анкета!AB25","v":6},{"$f":"Анкета!AC25","v":5},{"$f":"Анкета!AD25","v":5},{"$f":"Анкета!AE25","v":6},{"$f":"Анкета!AF25","v":6},{"$f":"Анкета!AG25","v":8},{"$f":"Анкета!AH25","v":8},{"$f":"Анкета!AI25","v":9},{"$f":"Анкета!AJ25","v":8},{"$f":"Анкета!AK25","v":9},{"$f":"Анкета!AL25","v":6},{"$f":"Анкета!AM25","v":0},{"$f":"Анкета!AN25","v":0},{"$f":"Анкета!AO25","v":0},{"$f":"Анкета!AP25","v":0},{"$f":"Анкета!AQ25","v":0},{"$f":"Анкета!AR25","v":3},{"$f":"Анкета!AS25","v":4},{"$f":"Анкета!AT25","v":7},{"$f":"Анкета!AU25","v":3},{"$f":"Анкета!AV25","v":6},{"$f":"Анкета!AW25","v":5},{"$f":"Анкета!AX25","v":8},{"$f":"Анкета!AY25","v":0},{"$f":"Анкета!AZ25","v":0},{"$f":"Анкета!BA25","v":0},{"$f":"Анкета!BB25","v":0},{"$f":"Анкета!BC25","v":0},{"$f":"Анкета!BD25","v":0},{"$f":"Анкета!BE25","v":0},{"$f":"Анкета!BF25","v":0},{"$f":"Анкета!BG25","v":0},{"$f":"Анкета!BH25","v":0}]
[{"$f":"Анкета!A26","v":"AF4"},{"$f":"Анкета!B26","v":17},{"$f":"Анкета!C26","v":0},{"$f":"Анкета!D26","v":0},{"$f":"Анкета!E26","v":0},{"$f":"Анкета!F26","v":1},{"$f":"Анкета!G26","v":0},{"$f":"Анкета!H26","v":0},{"$f":"Анкета!I26","v":0},{"$f":"Анкета!J26","v":0},{"$f":"Анкета!K26","v":0},{"$f":"Анкета!L26","v":2},{"$f":"Анкета!M26","v":0},{"$f":"Анкета!N26","v":5},{"$f":"Анкета!O26","v":3},{"$f":"Анкета!P26","v":2},{"$f":"Анкета!Q26","v":6},{"$f":"Анкета!R26","v":1},{"$f":"Анкета!S26","v":1},{"$f":"Анкета!T26","v":3},{"$f":"Анкета!U26","v":3},{"$f":"Анкета!V26","v":4},{"$f":"Анкета!W26","v":5},{"$f":"Анкета!X26","v":4},{"$f":"Анкета!Y26","v":1},{"$f":"Анкета!Z26","v":7},{"$f":"Анкета!AA26","v":2},{"$f":"Анкета!AB26","v":3},{"$f":"Анкета!AC26","v":10},{"$f":"Анкета!AD26","v":10},{"$f":"Анкета!AE26","v":5},{"$f":"Анкета!AF26","v":0},{"$f":"Анкета!AG26","v":1},{"$f":"Анкета!AH26","v":8},{"$f":"Анкета!AI26","v":6},{"$f":"Анкета!AJ26","v":5},{"$f":"Анкета!AK26","v":5},{"$f":"Анкета!AL26","v":7},{"$f":"Анкета!AM26","v":0},{"$f":"Анкета!AN26","v":0},{"$f":"Анкета!AO26","v":0},{"$f":"Анкета!AP26","v":0},{"$f":"Анкета!AQ26","v":0},{"$f":"Анкета!AR26","v":12},{"$f":"Анкета!AS26","v":11},{"$f":"Анкета!AT26","v":9},{"$f":"Анкета!AU26","v":0},{"$f":"Анкета!AV26","v":0},{"$f":"Анкета!AW26","v":2},{"$f":"Анкета!AX26","v":0},{"$f":"Анкета!AY26","v":0},{"$f":"Анкета!AZ26","v":0},{"$f":"Анкета!BA26","v":0},{"$f":"Анкета!BB26","v":0},{"$f":"Анкета!BC26","v":0},{"$f":"Анкета!BD26","v":0},{"$f":"Анкета!BE26","v":0},{"$f":"Анкета!BF26","v":0},{"$f":"Анкета!BG26","v":0},{"$f":"Анкета!BH26","v":0}]

{"sheet":"Лист3","index":8,"n_rows":26,"n_cols":59,"rows_kept":26,"cut":false,"hidden":false,"merged":[]}
[]
["ВЪПРОСИ","3. Курс","4. Пол","5. Посещение на лекции","6. Посещение на упражнения","7. Ако не сте посещавали занятия, коя е причината за това","8. Успех от следването до момента","9. познавам квалификационната характеристика на специалността си","10. познавам учебния план, по който се обучавате","11. познавам учебните програми на дисциплините, които изучаваме","12.обучението помага на развитието на общата Ви култура","13. помага на професионалната Ви подготовка","14. лекциите и упражненията са актуални и отразяват постиженията на науката","15. те са актуални и ориентирани към потребностите на практиката","16. лекциите и упражненията са анахронични и самоцелни","17. обучението е добро и дава възможност за самостоятелна работа","18. то е напрегнато и ограничава възможностите за самостоятелна работа","19. учебната програма е съобразена по-скоро с интересите и възможностите на преподавателите, отколкото с тези на студентите","20. съдържателни и интересни","21. скучни и безинтересни","22. способност за творческо мислене","23. способност за вземане на решения","24. умения за работа в екип","25. комуникативни умения","26. полезни и необходими","27. самоцелни и безполезни","28. библиотеките в Университета разполага с необходимата Ви литература","29. услугите са достъпни за Вас","30. административното обслужване е на добро равнище","31. в Университета има условия за спорт","32. социалните условия (стипендии, общежития. стол, почивна база) са добре решени","33. преподавателите Ви са добре подготвени и познават новостите в научната област, в която работят","34. преподавателите Ви са толерантни, комуникативни и мотивирани в работата си със студентите","35. има корумпирани преподаватели","36. има корумпирани служители","37. материалната база е добра","38. учебно-техническите средства са съвременни и подпомагат учебния процес","39. учебниците и учебно-помощните материали са достъпни и подпомагат обучението Ви","40. публични лекции, срещи с представители на науката, политиката, бизнеса културата","41. студентски творчески инициативи","42. програми за обмен на студенти","43. дискусии, кръгли маси, конференции","44. проекти на преподавателските екипи","45. научните изследвания на вашите преподаватели","46. научно-изследователска програма на Факултета","47. научните издания на факултета","48. преподава на академично равнище","49. работи с добре подготвени и отдадени на работата си преподаватели","50. толерира творчеството, инициативата, самостоятелното мислене","51. уважават индивидуалните способности и насърчава индивидуалното развитие на студентите","52. има възможност да получите образование по предпочитана специалност","53. родителите Ви настояват да продължите образованието си","54. приятелите и съучениците Ви учат тук","55. е в района, в който сте роден(а) и живеете","56. е висше училище с традиции и авторитет","57. били потърпевш на корупционен натиск","58. чували, че има корумпирани преподаватели и служители, но не сте се сблъсквали лично с корупция в Университета","59. сигурни, че има корумпирани преподаватели и служители в ПУ","60. сигурни, че няма корумпирани преподаватели и служители в ПУ"]
[null," A = І"," A = МЪЖ"," A = Всички"," A = Всички"," A = Посещавал съм"," A = Отличен"," A = ДА "," A = ДА "," A = ДА "," A = ДА"," A = ДА"," A = ДА"," A = ДА"," A = ДА"," A = ДА"," A = ДА"," A = ДА"," A = ДА"," A = ДА"," A = ДА"," A = ДА"," A = ДА"," A = ДА"," A = ДА"," A = ДА"," A = ДА"," A = ДА"," A = ДА"," A = ДА"," A = ДА"," A = ДА"," A = ДА"," A = ДА"," A = ДА"," A = ДА"," A = ДА"," A = ДА"," A = ДА"," A = ДА"," A = ДА"," A = ДА"," A = ДА"," A = ДА"," A = ДА"," A = ДА"," A = ДА"," A = ДА"," A = ДА"," A = ДА"," A = ДА"," A = ДА"," A = ДА"," A = ДА"," A = ДА"," A = ДА"," A = ДА"," A = ДА"," A = ДА"]
[null,"B = ІІ","B = ЖЕНА","B = Голяма част ","B = Голяма част ","B = Работя и уча","B = Много добър","B = ЧАСТИЧНО","B = ЧАСТИЧНО","B = ЧАСТИЧНО","B = Във висока степен ","B = Във висока степен ","B = Във висока степен ","B = Във висока степен ","B = Във висока степен ","B = Във висока степен ","B = Във висока степен ","B = Във висока степен ","B = Във висока степен ","B = Във висока степен ","B = Във висока степен ","B = Във висока степен ","B = Във висока степен ","B = Във висока степен ","B = Във висока степен ","B = Във висока степен ","B = Във висока степен ","B = Във висока степен ","B = Във висока степен ","B = Във висока степен ","B = Във висока степен ","B = Във висока степен ","B = Във висока степен ","B = Във висока степен ","B = Във висока степен ","B = Във висока степен ","B = Във висока степен ","B = Във висока степен ","B = НЕ","B = НЕ","B = НЕ","B = НЕ","B = НЕ","B = Във висока степен ","B = Във висока степен ","B = Във висока степен ","B = Във висока степен ","B = Във висока степен ","B = Във висока степен ","B = Във висока степен ","B = НЕ","B = НЕ","B = НЕ ","B = НЕ ","B = НЕ","B = НЕ ","B = НЕ","B = НЕ","B = НЕ"]
[null,"C = ІІІ             D = ІV",null,"C = Малка част","C = Малка част","C = Безинтересни са","C = Добър","C = НЕ","C = НЕ","C = НЕ","C = В известна степен","C = В известна степен","C = В известна степен","C = В известна степен","C = В известна степен","C = В известна степен","C = В известна степен","C = В известна степен","C = В известна степен","C = В известна степен","C = В известна степен","C = В известна степен","C = В известна степен","C = В известна степен","C = В известна степен","C = В известна степен","C = В известна степен","C = В известна степен","C = В известна степен","C = В известна степен","C = В известна степен","C = В известна степен","C = В известна степен","C = В известна степен","C = В известна степен","C = В известна степен","C = В известна степен","C = В известна степен",null,null,null,null,null,"C = В известна степен","C = В известна степен","C = В известна степен","C = В известна степен","C = В известна степен","C = В известна степен","C = В известна степен"]
[null,"E = V",null," D = Нито една"," D = Нито едно","D = Мога да се подготвя сам","D = Среден",null,null,null," D = НЕ"," D = НЕ"," D = НЕ"," D = НЕ"," D = НЕ"," D = НЕ"," D = НЕ"," D = НЕ"," D = НЕ"," D = НЕ"," D = НЕ"," D = НЕ"," D = НЕ  "," D = НЕ"," D = НЕ"," D = НЕ"," D = НЕ"," D = НЕ"," D = НЕ"," D = НЕ"," D = НЕ"," D = НЕ"," D = НЕ"," D = НЕ"," D = НЕ"," D = НЕ"," D = НЕ"," D = НЕ",null,null,null,null,null," D = НЕ"," D = НЕ"," D = НЕ"," D = НЕ"," D = НЕ"," D = НЕ"," D = НЕ"]
["BALK1",{"$f":"COUNTIF('[1]Testee answer 2011'!D40:D64,\"A\")","v":25},{"$f":"COUNTIF('[1]Testee answer 2011'!E40:E64,\"A\")","v":11},{"$f":"COUNTIF('[1]Testee answer 2011'!F40:F64,\"A\")","v":8},{"$f":"COUNTIF('[1]Testee answer 2011'!G40:G64,\"A\")","v":16},{"$f":"COUNTIF('[1]Testee answer 2011'!H40:H64,\"A\")","v":17},{"$f":"COUNTIF('[1]Testee answer 2011'!I40:I64,\"A\")","v":6},{"$f":"COUNTIF('[1]Testee answer 2011'!J40:J64,\"A\")","v":14},{"$f":"COUNTIF('[1]Testee answer 2011'!K40:K64,\"A\")","v":9},{"$f":"COUNTIF('[1]Testee answer 2011'!L40:L64,\"A\")","v":9},{"$f":"COUNTIF('[1]Testee answer 2011'!M40:M64,\"A\")","v":11},{"$f":"COUNTIF('[1]Testee answer 2011'!N40:N64,\"A\")","v":10},{"$f":"COUNTIF('[1]Testee answer 2011'!O40:O64,\"A\")","v":1},{"$f":"COUNTIF('[1]Testee answer 2011'!P40:P64,\"A\")","v":2},{"$f":"COUNTIF('[1]Testee answer 2011'!Q40:Q64,\"A\")","v":1},{"$f":"COUNTIF('[1]Testee answer 2011'!R40:R64,\"A\")","v":5},{"$f":"COUNTIF('[1]Testee answer 2011'!S40:S64,\"A\")","v":3},{"$f":"COUNTIF('[1]Testee answer 2011'!T40:T64,\"A\")","v":9},{"$f":"COUNTIF('[1]Testee answer 2011'!U40:U64,\"A\")","v":9},{"$f":"COUNTIF('[1]Testee answer 2011'!V40:V64,\"A\")","v":2},{"$f":"COUNTIF('[1]Testee answer 2011'!W40:W64,\"A\")","v":5},{"$f":"COUNTIF('[1]Testee answer 2011'!X40:X64,\"A\")","v":5},{"$f":"COUNTIF('[1]Testee answer 2011'!Y40:Y64,\"A\")","v":6},{"$f":"COUNTIF('[1]Testee answer 2011'!Z40:Z64,\"A\")","v":9},{"$f":"COUNTIF('[1]Testee answer 2011'!AA40:AA64,\"A\")","v":10},{"$f":"COUNTIF('[1]Testee answer 2011'!AB40:AB64,\"A\")","v":2},{"$f":"COUNTIF('[1]Testee answer 2011'!AC40:AC64,\"A\")","v":6},{"$f":"COUNTIF('[1]Testee answer 2011'!AD40:AD64,\"A\")","v":9},{"$f":"COUNTIF('[1]Testee answer 2011'!AE40:AE64,\"A\")","v":3},{"$f":"COUNTIF('[1]Testee answer 2011'!AF40:AF64,\"A\")","v":6},{"$f":"COUNTIF('[1]Testee answer 2011'!AG40:AG64,\"A\")","v":3},{"$f":"COUNTIF('[1]Testee answer 2011'!AH40:AH64,\"A\")","v":15},{"$f":"COUNTIF('[1]Testee answer 2011'!AI40:AI64,\"A\")","v":4},{"$f":"COUNTIF('[1]Testee answer 2011'!AJ40:AJ64,\"A\")","v":8},{"$f":"COUNTIF('[1]Testee answer 2011'!AK40:AK64,\"A\")","v":11},{"$f":"COUNTIF('[1]Testee answer 2011'!AL40:AL64,\"A\")","v":3},{"$f":"COUNTIF('[1]Testee answer 2011'!AM40:AM64,\"A\")","v":1},{"$f":"COUNTIF('[1]Testee answer 2011'!AN40:AN64,\"A\")","v":3},{"$f":"COUNTIF('[1]Testee answer 2011'!AO40:AO64,\"A\")","v":4},{"$f":"COUNTIF('[1]Testee answer 2011'!AP40:AP64,\"A\")","v":5},{"$f":"COUNTIF('[1]Testee answer 2011'!AQ40:AQ64,\"A\")","v":0},{"$f":"COUNTIF('[1]Testee answer 2011'!AR40:AR64,\"A\")","v":3},{"$f":"COUNTIF('[1]Testee answer 2011'!AS40:AS64,\"A\")","v":0},{"$f":"COUNTIF('[1]Testee answer 2011'!AT40:AT64,\"A\")","v":1},{"$f":"COUNTIF('[1]Testee answer 2011'!AU40:AU64,\"A\")","v":0},{"$f":"COUNTIF('[1]Testee answer 2011'!AV40:AV64,\"A\")","v":1},{"$f":"COUNTIF('[1]Testee answer 2011'!AW40:AW64,\"A\")","v":12},{"$f":"COUNTIF('[1]Testee answer 2011'!AX40:AX64,\"A\")","v":10},{"$f":"COUNTIF('[1]Testee answer 2011'!AY40:AY64,\"A\")","v":4},{"$f":"COUNTIF('[1]Testee answer 2011'!AZ40:AZ64,\"A\")","v":5},{"$f":"COUNTIF('[1]Testee answer 2011'!BA40:BA64,\"A\")","v":22},{"$f":"COUNTIF('[1]Testee answer 2011'!BB40:BB64,\"A\")","v":7},{"$f":"COUNTIF('[1]Testee answer 2011'!BC40:BC64,\"A\")","v":7},{"$f":"COUNTIF('[1]Testee answer 2011'!BD40:BD64,\"A\")","v":13},{"$f":"COUNTIF('[1]Testee answer 2011'!BE40:BE64,\"A\")","v":22},{"$f":"COUNTIF('[1]Testee answer 2011'!BF40:BF64,\"A\")","v":1},{"$f":"COUNTIF('[1]Testee answer 2011'!BG40:BG64,\"A\")","v":17},{"$f":"COUNTIF('[1]Testee answer 2011'!BH40:BH64,\"A\")","v":14},{"$f":"COUNTIF('[1]Testee answer 2011'!BI40:BI64,\"A\")","v":3}]
["BALK1",{"$f":"COUNTIF('[1]Testee answer 2011'!D40:D64,\"B\")","v":0},{"$f":"COUNTIF('[1]Testee answer 2011'!E40:E64,\"B\")","v":14},{"$f":"COUNTIF('[1]Testee answer 2011'!F40:F64,\"B\")","v":15},{"$f":"COUNTIF('[1]Testee answer 2011'!G40:G64,\"B\")","v":9},{"$f":"COUNTIF('[1]Testee answer 2011'!H40:H64,\"B\")","v":2},{"$f":"COUNTIF('[1]Testee answer 2011'!I40:I64,\"B\")","v":9},{"$f":"COUNTIF('[1]Testee answer 2011'!J40:J64,\"B\")","v":11},{"$f":"COUNTIF('[1]Testee answer 2011'!K40:K64,\"B\")","v":10},{"$f":"COUNTIF('[1]Testee answer 2011'!L40:L64,\"B\")","v":14},{"$f":"COUNTIF('[1]Testee answer 2011'!M40:M64,\"B\")","v":7},{"$f":"COUNTIF('[1]Testee answer 2011'!N40:N64,\"B\")","v":8},{"$f":"COUNTIF('[1]Testee answer 2011'!O40:O64,\"B\")","v":10},{"$f":"COUNTIF('[1]Testee answer 2011'!P40:P64,\"B\")","v":10},{"$f":"COUNTIF('[1]Testee answer 2011'!Q40:Q64,\"B\")","v":2},{"$f":"COUNTIF('[1]Testee answer 2011'!R40:R64,\"B\")","v":3},{"$f":"COUNTIF('[1]Testee answer 2011'!S40:S64,\"B\")","v":5},{"$f":"COUNTIF('[1]Testee answer 2011'!T40:T64,\"B\")","v":5},{"$f":"COUNTIF('[1]Testee answer 2011'!U40:U64,\"B\")","v":3},{"$f":"COUNTIF('[1]Testee answer 2011'!V40:V64,\"B\")","v":5},{"$f":"COUNTIF('[1]Testee answer 2011'!W40:W64,\"B\")","v":10},{"$f":"COUNTIF('[1]Testee answer 2011'!X40:X64,\"B\")","v":8},{"$f":"COUNTIF('[1]Testee answer 2011'!Y40:Y64,\"B\")","v":6},{"$f":"COUNTIF('[1]Testee answer 2011'!Z40:Z64,\"B\")","v":5},{"$f":"COUNTIF('[1]Testee answer 2011'!AA40:AA64,\"B\")","v":5},{"$f":"COUNTIF('[1]Testee answer 2011'!AB40:AB64,\"B\")","v":1},{"$f":"COUNTIF('[1]Testee answer 2011'!AC40:AC64,\"B\")","v":5},{"$f":"COUNTIF('[1]Testee answer 2011'!AD40:AD64,\"B\")","v":6},{"$f":"COUNTIF('[1]Testee answer 2011'!AE40:AE64,\"B\")","v":5},{"$f":"COUNTIF('[1]Testee answer 2011'!AF40:AF64,\"B\")","v":0},{"$f":"COUNTIF('[1]Testee answer 2011'!AG40:AG64,\"B\")","v":3},{"$f":"COUNTIF('[1]Testee answer 2011'!AH40:AH64,\"B\")","v":5},{"$f":"COUNTIF('[1]Testee answer 2011'!AI40:AI64,\"B\")","v":11},{"$f":"COUNTIF('[1]Testee answer 2011'!AJ40:AJ64,\"B\")","v":4},{"$f":"COUNTIF('[1]Testee answer 2011'!AK40:AK64,\"B\")","v":3},{"$f":"COUNTIF('[1]Testee answer 2011'!AL40:AL64,\"B\")","v":4},{"$f":"COUNTIF('[1]Testee answer 2011'!AM40:AM64,\"B\")","v":4},{"$f":"COUNTIF('[1]Testee answer 2011'!AN40:AN64,\"B\")","v":5},{"$f":"COUNTIF('[1]Testee answer 2011'!AO40:AO64,\"B\")","v":21},{"$f":"COUNTIF('[1]Testee answer 2011'!AP40:AP64,\"B\")","v":20},{"$f":"COUNTIF('[1]Testee answer 2011'!AQ40:AQ64,\"B\")","v":25},{"$f":"COUNTIF('[1]Testee answer 2011'!AR40:AR64,\"B\")","v":22},{"$f":"COUNTIF('[1]Testee answer 2011'!AS40:AS64,\"B\")","v":25},{"$f":"COUNTIF('[1]Testee answer 2011'!AT40:AT64,\"B\")","v":5},{"$f":"COUNTIF('[1]Testee answer 2011'!AU40:AU64,\"B\")","v":2},{"$f":"COUNTIF('[1]Testee answer 2011'!AV40:AV64,\"B\")","v":2},{"$f":"COUNTIF('[1]Testee answer 2011'!AW40:AW64,\"B\")","v":7},{"$f":"COUNTIF('[1]Testee answer 2011'!AX40:AX64,\"B\")","v":8},{"$f":"COUNTIF('[1]Testee answer 2011'!AY40:AY64,\"B\")","v":8},{"$f":"COUNTIF('[1]Testee answer 2011'!AZ40:AZ64,\"B\")","v":5},{"$f":"COUNTIF('[1]Testee answer 2011'!BA40:BA64,\"B\")","v":3},{"$f":"COUNTIF('[1]Testee answer 2011'!BB40:BB64,\"B\")","v":18},{"$f":"COUNTIF('[1]Testee answer 2011'!BC40:BC64,\"B\")","v":18},{"$f":"COUNTIF('[1]Testee answer 2011'!BD40:BD64,\"B\")","v":12},{"$f":"COUNTIF('[1]Testee answer 2011'!BE40:BE64,\"B\")","v":3},{"$f":"COUNTIF('[1]Testee answer 2011'!BF40:BF64,\"B\")","v":24},{"$f":"COUNTIF('[1]Testee answer 2011'!BG40:BG64,\"B\")","v":8},{"$f":"COUNTIF('[1]Testee answer 2011'!BH40:BH64,\"B\")","v":11},{"$f":"COUNTIF('[1]Testee answer 2011'!BI40:BI64,\"B\")","v":22}]
["BALK1",{"$f":"COUNTIF('[1]Testee answer 2011'!D40:D64,\"C\")","v":0},{"$f":"COUNTIF('[1]Testee answer 2011'!E40:E64,\"C\")","v":0},{"$f":"COUNTIF('[1]Testee answer 2011'!F40:F64,\"C\")","v":2},{"$f":"COUNTIF('[1]Testee answer 2011'!G40:G64,\"C\")","v":0},{"$f":"COUNTIF('[1]Testee answer 2011'!H40:H64,\"C\")","v":6},{"$f":"COUNTIF('[1]Testee answer 2011'!I40:I64,\"C\")","v":6},{"$f":"COUNTIF('[1]Testee answer 2011'!J40:J64,\"C\")","v":0},{"$f":"COUNTIF('[1]Testee answer 2011'!K40:K64,\"C\")","v":6},{"$f":"COUNTIF('[1]Testee answer 2011'!L40:L64,\"C\")","v":2},{"$f":"COUNTIF('[1]Testee answer 2011'!M40:M64,\"C\")","v":7},{"$f":"COUNTIF('[1]Testee answer 2011'!N40:N64,\"C\")","v":6},{"$f":"COUNTIF('[1]Testee answer 2011'!O40:O64,\"C\")","v":14},{"$f":"COUNTIF('[1]Testee answer 2011'!P40:P64,\"C\")","v":12},{"$f":"COUNTIF('[1]Testee answer 2011'!Q40:Q64,\"C\")","v":15},{"$f":"COUNTIF('[1]Testee answer 2011'!R40:R64,\"C\")","v":12},{"$f":"COUNTIF('[1]Testee answer 2011'!S40:S64,\"C\")","v":10},{"$f":"COUNTIF('[1]Testee answer 2011'!T40:T64,\"C\")","v":9},{"$f":"COUNTIF('[1]Testee answer 2011'!U40:U64,\"C\")","v":10},{"$f":"COUNTIF('[1]Testee answer 2011'!V40:V64,\"C\")","v":7},{"$f":"COUNTIF('[1]Testee answer 2011'!W40:W64,\"C\")","v":4},{"$f":"COUNTIF('[1]Testee answer 2011'!X40:X64,\"C\")","v":5},{"$f":"COUNTIF('[1]Testee answer 2011'!Y40:Y64,\"C\")","v":9},{"$f":"COUNTIF('[1]Testee answer 2011'!Z40:Z64,\"C\")","v":7},{"$f":"COUNTIF('[1]Testee answer 2011'!AA40:AA64,\"C\")","v":8},{"$f":"COUNTIF('[1]Testee answer 2011'!AB40:AB64,\"C\")","v":8},{"$f":"COUNTIF('[1]Testee answer 2011'!AC40:AC64,\"C\")","v":5},{"$f":"COUNTIF('[1]Testee answer 2011'!AD40:AD64,\"C\")","v":8},{"$f":"COUNTIF('[1]Testee answer 2011'!AE40:AE64,\"C\")","v":9},{"$f":"COUNTIF('[1]Testee answer 2011'!AF40:AF64,\"C\")","v":6},{"$f":"COUNTIF('[1]Testee answer 2011'!AG40:AG64,\"C\")","v":11},{"$f":"COUNTIF('[1]Testee answer 2011'!AH40:AH64,\"C\")","v":5},{"$f":"COUNTIF('[1]Testee answer 2011'!AI40:AI64,\"C\")","v":7},{"$f":"COUNTIF('[1]Testee answer 2011'!AJ40:AJ64,\"C\")","v":7},{"$f":"COUNTIF('[1]Testee answer 2011'!AK40:AK64,\"C\")","v":6},{"$f":"COUNTIF('[1]Testee answer 2011'!AL40:AL64,\"C\")","v":14},{"$f":"COUNTIF('[1]Testee answer 2011'!AM40:AM64,\"C\")","v":16},{"$f":"COUNTIF('[1]Testee answer 2011'!AN40:AN64,\"C\")","v":11},{"$f":"COUNTIF('[1]Testee answer 2011'!AO40:AO64,\"C\")","v":0},{"$f":"COUNTIF('[1]Testee answer 2011'!AP40:AP64,\"C\")","v":0},{"$f":"COUNTIF('[1]Testee answer 2011'!AQ40:AQ64,\"C\")","v":0},{"$f":"COUNTIF('[1]Testee answer 2011'!AR40:AR64,\"C\")","v":0},{"$f":"COUNTIF('[1]Testee answer 2011'!AS40:AS64,\"C\")","v":0},{"$f":"COUNTIF('[1]Testee answer 2011'!AT40:AT64,\"C\")","v":6},{"$f":"COUNTIF('[1]Testee answer 2011'!AU40:AU64,\"C\")","v":7},{"$f":"COUNTIF('[1]Testee answer 2011'!AV40:AV64,\"C\")","v":6},{"$f":"COUNTIF('[1]Testee answer 2011'!AW40:AW64,\"C\")","v":5},{"$f":"COUNTIF('[1]Testee answer 2011'!AX40:AX64,\"C\")","v":7},{"$f":"COUNTIF('[1]Testee answer 2011'!AY40:AY64,\"C\")","v":8},{"$f":"COUNTIF('[1]Testee answer 2011'!AZ40:AZ64,\"C\")","v":12},{"$f":"COUNTIF('[1]Testee answer 2011'!BA40:BA64,\"C\")","v":0},{"$f":"COUNTIF('[1]Testee answer 2011'!BB40:BB64,\"C\")","v":0},{"$f":"COUNTIF('[1]Testee answer 2011'!BC40:BC64,\"C\")","v":0},{"$f":"COUNTIF('[1]Testee answer 2011'!BD40:BD64,\"C\")","v":0},{"$f":"COUNTIF('[1]Testee answer 2011'!BE40:BE64,\"C\")","v":0},{"$f":"COUNTIF('[1]Testee answer 2011'!BF40:BF64,\"C\")","v":0},{"$f":"COUNTIF('[1]Testee answer 2011'!BG40:BG64,\"C\")","v":0},{"$f":"COUNTIF('[1]Testee answer 2011'!BH40:BH64,\"C\")","v":0},{"$f":"COUNTIF('[1]Testee answer 2011'!BI40:BI64,\"C\")","v":0}]
["BALK1",{"$f":"COUNTIF('[1]Testee answer 2011'!D40:D64,\"D\")","v":0},{"$f":"COUNTIF('[1]Testee answer 2011'!E40:E64,\"D\")","v":0},{"$f":"COUNTIF('[1]Testee answer 2011'!F40:F64,\"D\")","v":0},{"$f":"COUNTIF('[1]Testee answer 2011'!G40:G64,\"D\")","v":0},{"$f":"COUNTIF('[1]Testee answer 2011'!H40:H64,\"D\")","v":0},{"$f":"COUNTIF('[1]Testee answer 2011'!I40:I64,\"D\")","v":4},{"$f":"COUNTIF('[1]Testee answer 2011'!J40:J64,\"D\")","v":0},{"$f":"COUNTIF('[1]Testee answer 2011'!K40:K64,\"D\")","v":0},{"$f":"COUNTIF('[1]Testee answer 2011'!L40:L64,\"D\")","v":0},{"$f":"COUNTIF('[1]Testee answer 2011'!M40:M64,\"D\")","v":0},{"$f":"COUNTIF('[1]Testee answer 2011'!N40:N64,\"D\")","v":1},{"$f":"COUNTIF('[1]Testee answer 2011'!O40:O64,\"D\")","v":0},{"$f":"COUNTIF('[1]Testee answer 2011'!P40:P64,\"D\")","v":1},{"$f":"COUNTIF('[1]Testee answer 2011'!Q40:Q64,\"D\")","v":7},{"$f":"COUNTIF('[1]Testee answer 2011'!R40:R64,\"D\")","v":5},{"$f":"COUNTIF('[1]Testee answer 2011'!S40:S64,\"D\")","v":7},{"$f":"COUNTIF('[1]Testee answer 2011'!T40:T64,\"D\")","v":2},{"$f":"COUNTIF('[1]Testee answer 2011'!U40:U64,\"D\")","v":3},{"$f":"COUNTIF('[1]Testee answer 2011'!V40:V64,\"D\")","v":11},{"$f":"COUNTIF('[1]Testee answer 2011'!W40:W64,\"D\")","v":6},{"$f":"COUNTIF('[1]Testee answer 2011'!X40:X64,\"D\")","v":7},{"$f":"COUNTIF('[1]Testee answer 2011'!Y40:Y64,\"D\")","v":4},{"$f":"COUNTIF('[1]Testee answer 2011'!Z40:Z64,\"D\")","v":4},{"$f":"COUNTIF('[1]Testee answer 2011'!AA40:AA64,\"D\")","v":2},{"$f":"COUNTIF('[1]Testee answer 2011'!AB40:AB64,\"D\")","v":14},{"$f":"COUNTIF('[1]Testee answer 2011'!AC40:AC64,\"D\")","v":9},{"$f":"COUNTIF('[1]Testee answer 2011'!AD40:AD64,\"D\")","v":2},{"$f":"COUNTIF('[1]Testee answer 2011'!AE40:AE64,\"D\")","v":8},{"$f":"COUNTIF('[1]Testee answer 2011'!AF40:AF64,\"D\")","v":13},{"$f":"COUNTIF('[1]Testee answer 2011'!AG40:AG64,\"D\")","v":8},{"$f":"COUNTIF('[1]Testee answer 2011'!AH40:AH64,\"D\")","v":0},{"$f":"COUNTIF('[1]Testee answer 2011'!AI40:AI64,\"D\")","v":3},{"$f":"COUNTIF('[1]Testee answer 2011'!AJ40:AJ64,\"D\")","v":6},{"$f":"COUNTIF('[1]Testee answer 2011'!AK40:AK64,\"D\")","v":5},{"$f":"COUNTIF('[1]Testee answer 2011'!AL40:AL64,\"D\")","v":4},{"$f":"COUNTIF('[1]Testee answer 2011'!AM40:AM64,\"D\")","v":4},{"$f":"COUNTIF('[1]Testee answer 2011'!AN40:AN64,\"D\")","v":6},{"$f":"COUNTIF('[1]Testee answer 2011'!AO40:AO64,\"D\")","v":0},{"$f":"COUNTIF('[1]Testee answer 2011'!AP40:AP64,\"D\")","v":0},{"$f":"COUNTIF('[1]Testee answer 2011'!AQ40:AQ64,\"D\")","v":0},{"$f":"COUNTIF('[1]Testee answer 2011'!AR40:AR64,\"D\")","v":0},{"$f":"COUNTIF('[1]Testee answer 2011'!AS40:AS64,\"D\")","v":0},{"$f":"COUNTIF('[1]Testee answer 2011'!AT40:AT64,\"D\")","v":13},{"$f":"COUNTIF('[1]Testee answer 2011'!AU40:AU64,\"D\")","v":16},{"$f":"COUNTIF('[1]Testee answer 2011'!AV40:AV64,\"D\")","v":16},{"$f":"COUNTIF('[1]Testee answer 2011'!AW40:AW64,\"D\")","v":1},{"$f":"COUNTIF('[1]Testee answer 2011'!AX40:AX64,\"D\")","v":0},{"$f":"COUNTIF('[1]Testee answer 2011'!AY40:AY64,\"D\")","v":5},{"$f":"COUNTIF('[1]Testee answer 2011'!AZ40:AZ64,\"D\")","v":3},{"$f":"COUNTIF('[1]Testee answer 2011'!BA40:BA64,\"D\")","v":0},{"$f":"COUNTIF('[1]Testee answer 2011'!BB40:BB64,\"D\")","v":0},{"$f":"COUNTIF('[1]Testee answer 2011'!BC40:BC64,\"D\")","v":0},{"$f":"COUNTIF('[1]Testee answer 2011'!BD40:BD64,\"D\")","v":0},{"$f":"COUNTIF('[1]Testee answer 2011'!BE40:BE64,\"D\")","v":0},{"$f":"COUNTIF('[1]Testee answer 2011'!BF40:BF64,\"D\")","v":0},{"$f":"COUNTIF('[1]Testee answer 2011'!BG40:BG64,\"D\")","v":0},{"$f":"COUNTIF('[1]Testee answer 2011'!BH40:BH64,\"D\")","v":0},{"$f":"COUNTIF('[1]Testee answer 2011'!BI40:BI64,\"D\")","v":0}]
["BALK2",{"$f":"COUNTIF('[1]Testee answer 2011'!D265:D279,\"A\")","v":0},{"$f":"COUNTIF('[1]Testee answer 2011'!E265:E279,\"A\")","v":2},{"$f":"COUNTIF('[1]Testee answer 2011'!F265:F279,\"A\")","v":5},{"$f":"COUNTIF('[1]Testee answer 2011'!G265:G279,\"A\")","v":8},{"$f":"COUNTIF('[1]Testee answer 2011'!H265:H279,\"A\")","v":9},{"$f":"COUNTIF('[1]Testee answer 2011'!I265:I279,\"A\")","v":0},{"$f":"COUNTIF('[1]Testee answer 2011'!J265:J279,\"A\")","v":6},{"$f":"COUNTIF('[1]Testee answer 2011'!K265:K279,\"A\")","v":5},{"$f":"COUNTIF('[1]Testee answer 2011'!L265:L279,\"A\")","v":8},{"$f":"COUNTIF('[1]Testee answer 2011'!M265:M279,\"A\")","v":7},{"$f":"COUNTIF('[1]Testee answer 2011'!N265:N279,\"A\")","v":7},{"$f":"COUNTIF('[1]Testee answer 2011'!O265:O279,\"A\")","v":2},{"$f":"COUNTIF('[1]Testee answer 2011'!P265:P279,\"A\")","v":2},{"$f":"COUNTIF('[1]Testee answer 2011'!Q265:Q279,\"A\")","v":0},{"$f":"COUNTIF('[1]Testee answer 2011'!R265:R279,\"A\")","v":4},{"$f":"COUNTIF('[1]Testee answer 2011'!S265:S279,\"A\")","v":1},{"$f":"COUNTIF('[1]Testee answer 2011'!T265:T279,\"A\")","v":7},{"$f":"COUNTIF('[1]Testee answer 2011'!U265:U279,\"A\")","v":5},{"$f":"COUNTIF('[1]Testee answer 2011'!V265:V279,\"A\")","v":0},{"$f":"COUNTIF('[1]Testee answer 2011'!W265:W279,\"A\")","v":3},{"$f":"COUNTIF('[1]Testee answer 2011'!X265:X279,\"A\")","v":2},{"$f":"COUNTIF('[1]Testee answer 2011'!Y265:Y279,\"A\")","v":3},{"$f":"COUNTIF('[1]Testee answer 2011'!Z265:Z279,\"A\")","v":2},{"$f":"COUNTIF('[1]Testee answer 2011'!AA265:AA279,\"A\")","v":9},{"$f":"COUNTIF('[1]Testee answer 2011'!AB265:AB279,\"A\")","v":1},{"$f":"COUNTIF('[1]Testee answer 2011'!AC265:AC279,\"A\")","v":4},{"$f":"COUNTIF('[1]Testee answer 2011'!AD265:AD279,\"A\")","v":8},{"$f":"COUNTIF('[1]Testee answer 2011'!AE265:AE279,\"A\")","v":5},{"$f":"COUNTIF('[1]Testee answer 2011'!AF265:AF279,\"A\")","v":0},{"$f":"COUNTIF('[1]Testee answer 2011'!AG265:AG279,\"A\")","v":4},{"$f":"COUNTIF('[1]Testee answer 2011'!AH265:AH279,\"A\")","v":5},{"$f":"COUNTIF('[1]Testee answer 2011'!AI265:AI279,\"A\")","v":3},{"$f":"COUNTIF('[1]Testee answer 2011'!AJ265:AJ279,\"A\")","v":4},{"$f":"COUNTIF('[1]Testee answer 2011'!AK265:AK279,\"A\")","v":3},{"$f":"COUNTIF('[1]Testee answer 2011'!AL265:AL279,\"A\")","v":2},{"$f":"COUNTIF('[1]Testee answer 2011'!AM265:AM279,\"A\")","v":3},{"$f":"COUNTIF('[1]Testee answer 2011'!AN265:AN279,\"A\")","v":2},{"$f":"COUNTIF('[1]Testee answer 2011'!AO265:AO279,\"A\")","v":5},{"$f":"COUNTIF('[1]Testee answer 2011'!AP265:AP279,\"A\")","v":3},{"$f":"COUNTIF('[1]Testee answer 2011'!AQ265:AQ279,\"A\")","v":3},{"$f":"COUNTIF('[1]Testee answer 2011'!AR265:AR279,\"A\")","v":1},{"$f":"COUNTIF('[1]Testee answer 2011'!AS265:AS279,\"A\")","v":0},{"$f":"COUNTIF('[1]Testee answer 2011'!AT265:AT279,\"A\")","v":0},{"$f":"COUNTIF('[1]Testee answer 2011'!AU265:AU279,\"A\")","v":0},{"$f":"COUNTIF('[1]Testee answer 2011'!AV265:AV279,\"A\")","v":0},{"$f":"COUNTIF('[1]Testee answer 2011'!AW265:AW279,\"A\")","v":8},{"$f":"COUNTIF('[1]Testee answer 2011'!AX265:AX279,\"A\")","v":4},{"$f":"COUNTIF('[1]Testee answer 2011'!AY265:AY279,\"A\")","v":2},{"$f":"COUNTIF('[1]Testee answer 2011'!AZ265:AZ279,\"A\")","v":3},{"$f":"COUNTIF('[1]Testee answer 2011'!BA265:BA279,\"A\")","v":11},{"$f":"COUNTIF('[1]Testee answer 2011'!BB265:BB279,\"A\")","v":7},{"$f":"COUNTIF('[1]Testee answer 2011'!BC265:BC279,\"A\")","v":1},{"$f":"COUNTIF('[1]Testee answer 2011'!BD265:BD279,\"A\")","v":9},{"$f":"COUNTIF('[1]Testee answer 2011'!BE265:BE279,\"A\")","v":11},{"$f":"COUNTIF('[1]Testee answer 2011'!BF265:BF279,\"A\")","v":0},{"$f":"COUNTIF('[1]Testee answer 2011'!BG265:BG279,\"A\")","v":12},{"$f":"COUNTIF('[1]Testee answer 2011'!BH265:BH279,\"A\")","v":5},{"$f":"COUNTIF('[1]Testee answer 2011'!BI265:BI279,\"A\")","v":3}]
["BALK2",{"$f":"COUNTIF('[1]Testee answer 2011'!D265:D279,\"B\")","v":15},{"$f":"COUNTIF('[1]Testee answer 2011'!E265:E279,\"B\")","v":13},{"$f":"COUNTIF('[1]Testee answer 2011'!F265:F279,\"B\")","v":9},{"$f":"COUNTIF('[1]Testee answer 2011'!G265:G279,\"B\")","v":7},{"$f":"COUNTIF('[1]Testee answer 2011'!H265:H279,\"B\")","v":4},{"$f":"COUNTIF('[1]Testee answer 2011'!I265:I279,\"B\")","v":10},{"$f":"COUNTIF('[1]Testee answer 2011'!J265:J279,\"B\")","v":9},{"$f":"COUNTIF('[1]Testee answer 2011'!K265:K279,\"B\")","v":8},{"$f":"COUNTIF('[1]Testee answer 2011'!L265:L279,\"B\")","v":5},{"$f":"COUNTIF('[1]Testee answer 2011'!M265:M279,\"B\")","v":6},{"$f":"COUNTIF('[1]Testee answer 2011'!N265:N279,\"B\")","v":3},{"$f":"COUNTIF('[1]Testee answer 2011'!O265:O279,\"B\")","v":4},{"$f":"COUNTIF('[1]Testee answer 2011'!P265:P279,\"B\")","v":4},{"$f":"COUNTIF('[1]Testee answer 2011'!Q265:Q279,\"B\")","v":1},{"$f":"COUNTIF('[1]Testee answer 2011'!R265:R279,\"B\")","v":3},{"$f":"COUNTIF('[1]Testee answer 2011'!S265:S279,\"B\")","v":2},{"$f":"COUNTIF('[1]Testee answer 2011'!T265:T279,\"B\")","v":1},{"$f":"COUNTIF('[1]Testee answer 2011'!U265:U279,\"B\")","v":3},{"$f":"COUNTIF('[1]Testee answer 2011'!V265:V279,\"B\")","v":1},{"$f":"COUNTIF('[1]Testee answer 2011'!W265:W279,\"B\")","v":1},{"$f":"COUNTIF('[1]Testee answer 2011'!X265:X279,\"B\")","v":4},{"$f":"COUNTIF('[1]Testee answer 2011'!Y265:Y279,\"B\")","v":2},{"$f":"COUNTIF('[1]Testee answer 2011'!Z265:Z279,\"B\")","v":2},{"$f":"COUNTIF('[1]Testee answer 2011'!AA265:AA279,\"B\")","v":4},{"$f":"COUNTIF('[1]Testee answer 2011'!AB265:AB279,\"B\")","v":1},{"$f":"COUNTIF('[1]Testee answer 2011'!AC265:AC279,\"B\")","v":2},{"$f":"COUNTIF('[1]Testee answer 2011'!AD265:AD279,\"B\")","v":2},{"$f":"COUNTIF('[1]Testee answer 2011'!AE265:AE279,\"B\")","v":1},{"$f":"COUNTIF('[1]Testee answer 2011'!AF265:AF279,\"B\")","v":0},{"$f":"COUNTIF('[1]Testee answer 2011'!AG265:AG279,\"B\")","v":2},{"$f":"COUNTIF('[1]Testee answer 2011'!AH265:AH279,\"B\")","v":4},{"$f":"COUNTIF('[1]Testee answer 2011'!AI265:AI279,\"B\")","v":2},{"$f":"COUNTIF('[1]Testee answer 2011'!AJ265:AJ279,\"B\")","v":0},{"$f":"COUNTIF('[1]Testee answer 2011'!AK265:AK279,\"B\")","v":1},{"$f":"COUNTIF('[1]Testee answer 2011'!AL265:AL279,\"B\")","v":3},{"$f":"COUNTIF('[1]Testee answer 2011'!AM265:AM279,\"B\")","v":1},{"$f":"COUNTIF('[1]Testee answer 2011'!AN265:AN279,\"B\")","v":2},{"$f":"COUNTIF('[1]Testee answer 2011'!AO265:AO279,\"B\")","v":9},{"$f":"COUNTIF('[1]Testee answer 2011'!AP265:AP279,\"B\")","v":12},{"$f":"COUNTIF('[1]Testee answer 2011'!AQ265:AQ279,\"B\")","v":12},{"$f":"COUNTIF('[1]Testee answer 2011'!AR265:AR279,\"B\")","v":14},{"$f":"COUNTIF('[1]Testee answer 2011'!AS265:AS279,\"B\")","v":15},{"$f":"COUNTIF('[1]Testee answer 2011'!AT265:AT279,\"B\")","v":5},{"$f":"COUNTIF('[1]Testee answer 2011'!AU265:AU279,\"B\")","v":1},{"$f":"COUNTIF('[1]Testee answer 2011'!AV265:AV279,\"B\")","v":0},{"$f":"COUNTIF('[1]Testee answer 2011'!AW265:AW279,\"B\")","v":4},{"$f":"COUNTIF('[1]Testee answer 2011'!AX265:AX279,\"B\")","v":6},{"$f":"COUNTIF('[1]Testee answer 2011'!AY265:AY279,\"B\")","v":1},{"$f":"COUNTIF('[1]Testee answer 2011'!AZ265:AZ279,\"B\")","v":1},{"$f":"COUNTIF('[1]Testee answer 2011'!BA265:BA279,\"B\")","v":4},{"$f":"COUNTIF('[1]Testee answer 2011'!BB265:BB279,\"B\")","v":8},{"$f":"COUNTIF('[1]Testee answer 2011'!BC265:BC279,\"B\")","v":14},{"$f":"COUNTIF('[1]Testee answer 2011'!BD265:BD279,\"B\")","v":6},{"$f":"COUNTIF('[1]Testee answer 2011'!BE265:BE279,\"B\")","v":4},{"$f":"COUNTIF('[1]Testee answer 2011'!BF265:BF279,\"B\")","v":15},{"$f":"COUNTIF('[1]Testee answer 2011'!BG265:BG279,\"B\")","v":3},{"$f":"COUNTIF('[1]Testee answer 2011'!BH265:BH279,\"B\")","v":10},{"$f":"COUNTIF('[1]Testee answer 2011'!BI265:BI279,\"B\")","v":12}]
["BALK2",{"$f":"COUNTIF('[1]Testee answer 2011'!D265:D279,\"C\")","v":0},{"$f":"COUNTIF('[1]Testee answer 2011'!E265:E279,\"C\")","v":0},{"$f":"COUNTIF('[1]Testee answer 2011'!F265:F279,\"C\")","v":1},{"$f":"COUNTIF('[1]Testee answer 2011'!G265:G279,\"C\")","v":0},{"$f":"COUNTIF('[1]Testee answer 2011'!H265:H279,\"C\")","v":1},{"$f":"COUNTIF('[1]Testee answer 2011'!I265:I279,\"C\")","v":5},{"$f":"COUNTIF('[1]Testee answer 2011'!J265:J279,\"C\")","v":0},{"$f":"COUNTIF('[1]Testee answer 2011'!K265:K279,\"C\")","v":2},{"$f":"COUNTIF('[1]Testee answer 2011'!L265:L279,\"C\")","v":2},{"$f":"COUNTIF('[1]Testee answer 2011'!M265:M279,\"C\")","v":2},{"$f":"COUNTIF('[1]Testee answer 2011'!N265:N279,\"C\")","v":5},{"$f":"COUNTIF('[1]Testee answer 2011'!O265:O279,\"C\")","v":9},{"$f":"COUNTIF('[1]Testee answer 2011'!P265:P279,\"C\")","v":9},{"$f":"COUNTIF('[1]Testee answer 2011'!Q265:Q279,\"C\")","v":6},{"$f":"COUNTIF('[1]Testee answer 2011'!R265:R279,\"C\")","v":5},{"$f":"COUNTIF('[1]Testee answer 2011'!S265:S279,\"C\")","v":5},{"$f":"COUNTIF('[1]Testee answer 2011'!T265:T279,\"C\")","v":2},{"$f":"COUNTIF('[1]Testee answer 2011'!U265:U279,\"C\")","v":7},{"$f":"COUNTIF('[1]Testee answer 2011'!V265:V279,\"C\")","v":8},{"$f":"COUNTIF('[1]Testee answer 2011'!W265:W279,\"C\")","v":9},{"$f":"COUNTIF('[1]Testee answer 2011'!X265:X279,\"C\")","v":5},{"$f":"COUNTIF('[1]Testee answer 2011'!Y265:Y279,\"C\")","v":1},{"$f":"COUNTIF('[1]Testee answer 2011'!Z265:Z279,\"C\")","v":4},{"$f":"COUNTIF('[1]Testee answer 2011'!AA265:AA279,\"C\")","v":2},{"$f":"COUNTIF('[1]Testee answer 2011'!AB265:AB279,\"C\")","v":1},{"$f":"COUNTIF('[1]Testee answer 2011'!AC265:AC279,\"C\")","v":6},{"$f":"COUNTIF('[1]Testee answer 2011'!AD265:AD279,\"C\")","v":4},{"$f":"COUNTIF('[1]Testee answer 2011'!AE265:AE279,\"C\")","v":2},{"$f":"COUNTIF('[1]Testee answer 2011'!AF265:AF279,\"C\")","v":2},{"$f":"COUNTIF('[1]Testee answer 2011'!AG265:AG279,\"C\")","v":4},{"$f":"COUNTIF('[1]Testee answer 2011'!AH265:AH279,\"C\")","v":6},{"$f":"COUNTIF('[1]Testee answer 2011'!AI265:AI279,\"C\")","v":8},{"$f":"COUNTIF('[1]Testee answer 2011'!AJ265:AJ279,\"C\")","v":5},{"$f":"COUNTIF('[1]Testee answer 2011'!AK265:AK279,\"C\")","v":6},{"$f":"COUNTIF('[1]Testee answer 2011'!AL265:AL279,\"C\")","v":5},{"$f":"COUNTIF('[1]Testee answer 2011'!AM265:AM279,\"C\")","v":2},{"$f":"COUNTIF('[1]Testee answer 2011'!AN265:AN279,\"C\")","v":6},{"$f":"COUNTIF('[1]Testee answer 2011'!AO265:AO279,\"C\")","v":0},{"$f":"COUNTIF('[1]Testee answer 2011'!AP265:AP279,\"C\")","v":0},{"$f":"COUNTIF('[1]Testee answer 2011'!AQ265:AQ279,\"C\")","v":0},{"$f":"COUNTIF('[1]Testee answer 2011'!AR265:AR279,\"C\")","v":0},{"$f":"COUNTIF('[1]Testee answer 2011'!AS265:AS279,\"C\")","v":0},{"$f":"COUNTIF('[1]Testee answer 2011'!AT265:AT279,\"C\")","v":3},{"$f":"COUNTIF('[1]Testee answer 2011'!AU265:AU279,\"C\")","v":3},{"$f":"COUNTIF('[1]Testee answer 2011'!AV265:AV279,\"C\")","v":3},{"$f":"COUNTIF('[1]Testee answer 2011'!AW265:AW279,\"C\")","v":2},{"$f":"COUNTIF('[1]Testee answer 2011'!AX265:AX279,\"C\")","v":4},{"$f":"COUNTIF('[1]Testee answer 2011'!AY265:AY279,\"C\")","v":8},{"$f":"COUNTIF('[1]Testee answer 2011'!AZ265:AZ279,\"C\")","v":4},{"$f":"COUNTIF('[1]Testee answer 2011'!BA265:BA279,\"C\")","v":0},{"$f":"COUNTIF('[1]Testee answer 2011'!BB265:BB279,\"C\")","v":0},{"$f":"COUNTIF('[1]Testee answer 2011'!BC265:BC279,\"C\")","v":0},{"$f":"COUNTIF('[1]Testee answer 2011'!BD265:BD279,\"C\")","v":0},{"$f":"COUNTIF('[1]Testee answer 2011'!BE265:BE279,\"C\")","v":0},{"$f":"COUNTIF('[1]Testee answer 2011'!BF265:BF279,\"C\")","v":0},{"$f":"COUNTIF('[1]Testee answer 2011'!BG265:BG279,\"C\")","v":0},{"$f":"COUNTIF('[1]Testee answer 2011'!BH265:BH279,\"C\")","v":0},{"$f":"COUNTIF('[1]Testee answer 2011'!BI265:BI279,\"C\")","v":0}]
["BALK2",{"$f":"COUNTIF('[1]Testee answer 2011'!D265:D279,\"D\")","v":0},{"$f":"COUNTIF('[1]Testee answer 2011'!E265:E279,\"D\")","v":0},{"$f":"COUNTIF('[1]Testee answer 2011'!F265:F279,\"D\")","v":0},{"$f":"COUNTIF('[1]Testee answer 2011'!G265:G279,\"D\")","v":0},{"$f":"COUNTIF('[1]Testee answer 2011'!H265:H279,\"D\")","v":1},{"$f":"COUNTIF('[1]Testee answer 2011'!I265:I279,\"D\")","v":0},{"$f":"COUNTIF('[1]Testee answer 2011'!J265:J279,\"D\")","v":0},{"$f":"COUNTIF('[1]Testee answer 2011'!K265:K279,\"D\")","v":0},{"$f":"COUNTIF('[1]Testee answer 2011'!L265:L279,\"D\")","v":0},{"$f":"COUNTIF('[1]Testee answer 2011'!M265:M279,\"D\")","v":0},{"$f":"COUNTIF('[1]Testee answer 2011'!N265:N279,\"D\")","v":0},{"$f":"COUNTIF('[1]Testee answer 2011'!O265:O279,\"D\")","v":0},{"$f":"COUNTIF('[1]Testee answer 2011'!P265:P279,\"D\")","v":0},{"$f":"COUNTIF('[1]Testee answer 2011'!Q265:Q279,\"D\")","v":8},{"$f":"COUNTIF('[1]Testee answer 2011'!R265:R279,\"D\")","v":3},{"$f":"COUNTIF('[1]Testee answer 2011'!S265:S279,\"D\")","v":7},{"$f":"COUNTIF('[1]Testee answer 2011'!T265:T279,\"D\")","v":5},{"$f":"COUNTIF('[1]Testee answer 2011'!U265:U279,\"D\")","v":0},{"$f":"COUNTIF('[1]Testee answer 2011'!V265:V279,\"D\")","v":6},{"$f":"COUNTIF('[1]Testee answer 2011'!W265:W279,\"D\")","v":2},{"$f":"COUNTIF('[1]Testee answer 2011'!X265:X279,\"D\")","v":4},{"$f":"COUNTIF('[1]Testee answer 2011'!Y265:Y279,\"D\")","v":9},{"$f":"COUNTIF('[1]Testee answer 2011'!Z265:Z279,\"D\")","v":7},{"$f":"COUNTIF('[1]Testee answer 2011'!AA265:AA279,\"D\")","v":0},{"$f":"COUNTIF('[1]Testee answer 2011'!AB265:AB279,\"D\")","v":12},{"$f":"COUNTIF('[1]Testee answer 2011'!AC265:AC279,\"D\")","v":3},{"$f":"COUNTIF('[1]Testee answer 2011'!AD265:AD279,\"D\")","v":1},{"$f":"COUNTIF('[1]Testee answer 2011'!AE265:AE279,\"D\")","v":7},{"$f":"COUNTIF('[1]Testee answer 2011'!AF265:AF279,\"D\")","v":13},{"$f":"COUNTIF('[1]Testee answer 2011'!AG265:AG279,\"D\")","v":5},{"$f":"COUNTIF('[1]Testee answer 2011'!AH265:AH279,\"D\")","v":0},{"$f":"COUNTIF('[1]Testee answer 2011'!AI265:AI279,\"D\")","v":2},{"$f":"COUNTIF('[1]Testee answer 2011'!AJ265:AJ279,\"D\")","v":6},{"$f":"COUNTIF('[1]Testee answer 2011'!AK265:AK279,\"D\")","v":5},{"$f":"COUNTIF('[1]Testee answer 2011'!AL265:AL279,\"D\")","v":5},{"$f":"COUNTIF('[1]Testee answer 2011'!AM265:AM279,\"D\")","v":9},{"$f":"COUNTIF('[1]Testee answer 2011'!AN265:AN279,\"D\")","v":5},{"$f":"COUNTIF('[1]Testee answer 2011'!AO265:AO279,\"D\")","v":1},{"$f":"COUNTIF('[1]Testee answer 2011'!AP265:AP279,\"D\")","v":0},{"$f":"COUNTIF('[1]Testee answer 2011'!AQ265:AQ279,\"D\")","v":0},{"$f":"COUNTIF('[1]Testee answer 2011'!AR265:AR279,\"D\")","v":0},{"$f":"COUNTIF('[1]Testee answer 2011'!AS265:AS279,\"D\")","v":0},{"$f":"COUNTIF('[1]Testee answer 2011'!AT265:AT279,\"D\")","v":7},{"$f":"COUNTIF('[1]Testee answer 2011'!AU265:AU279,\"D\")","v":11},{"$f":"COUNTIF('[1]Testee answer 2011'!AV265:AV279,\"D\")","v":12},{"$f":"COUNTIF('[1]Testee answer 2011'!AW265:AW279,\"D\")","v":1},{"$f":"COUNTIF('[1]Testee answer 2011'!AX265:AX279,\"D\")","v":1},{"$f":"COUNTIF('[1]Testee answer 2011'!AY265:AY279,\"D\")","v":4},{"$f":"COUNTIF('[1]Testee answer 2011'!AZ265:AZ279,\"D\")","v":7},{"$f":"COUNTIF('[1]Testee answer 2011'!BA265:BA279,\"D\")","v":0},{"$f":"COUNTIF('[1]Testee answer 2011'!BB265:BB279,\"D\")","v":0},{"$f":"COUNTIF('[1]Testee answer 2011'!BC265:BC279,\"D\")","v":0},{"$f":"COUNTIF('[1]Testee answer 2011'!BD265:BD279,\"D\")","v":0},{"$f":"COUNTIF('[1]Testee answer 2011'!BE265:BE279,\"D\")","v":0},{"$f":"COUNTIF('[1]Testee answer 2011'!BF265:BF279,\"D\")","v":0},{"$f":"COUNTIF('[1]Testee answer 2011'!BG265:BG279,\"D\")","v":0},{"$f":"COUNTIF('[1]Testee answer 2011'!BH265:BH279,\"D\")","v":0},{"$f":"COUNTIF('[1]Testee answer 2011'!BI265:BI279,\"D\")","v":0}]
["BALK3",{"$f":"COUNTIF('[1]Testee answer 2011'!D424:D436,\"A\")","v":0},{"$f":"COUNTIF('[1]Testee answer 2011'!E424:E436,\"A\")","v":1},{"$f":"COUNTIF('[1]Testee answer 2011'!F424:F436,\"A\")","v":3},{"$f":"COUNTIF('[1]Testee answer 2011'!G424:G436,\"A\")","v":6},{"$f":"COUNTIF('[1]Testee answer 2011'!H424:H436,\"A\")","v":9},{"$f":"COUNTIF('[1]Testee answer 2011'!I424:I436,\"A\")","v":0},{"$f":"COUNTIF('[1]Testee answer 2011'!J424:J436,\"A\")","v":7},{"$f":"COUNTIF('[1]Testee answer 2011'!K424:K436,\"A\")","v":9},{"$f":"COUNTIF('[1]Testee answer 2011'!L424:L436,\"A\")","v":7},{"$f":"COUNTIF('[1]Testee answer 2011'!M424:M436,\"A\")","v":7},{"$f":"COUNTIF('[1]Testee answer 2011'!N424:N436,\"A\")","v":5},{"$f":"COUNTIF('[1]Testee answer 2011'!O424:O436,\"A\")","v":4},{"$f":"COUNTIF('[1]Testee answer 2011'!P424:P436,\"A\")","v":4},{"$f":"COUNTIF('[1]Testee answer 2011'!Q424:Q436,\"A\")","v":3},{"$f":"COUNTIF('[1]Testee answer 2011'!R424:R436,\"A\")","v":1},{"$f":"COUNTIF('[1]Testee answer 2011'!S424:S436,\"A\")","v":3},{"$f":"COUNTIF('[1]Testee answer 2011'!T424:T436,\"A\")","v":6},{"$f":"COUNTIF('[1]Testee answer 2011'!U424:U436,\"A\")","v":3},{"$f":"COUNTIF('[1]Testee answer 2011'!V424:V436,\"A\")","v":2},{"$f":"COUNTIF('[1]Testee answer 2011'!W424:W436,\"A\")","v":4},{"$f":"COUNTIF('[1]Testee answer 2011'!X424:X436,\"A\")","v":3},{"$f":"COUNTIF('[1]Testee answer 2011'!Y424:Y436,\"A\")","v":3},{"$f":"COUNTIF('[1]Testee answer 2011'!Z424:Z436,\"A\")","v":4},{"$f":"COUNTIF('[1]Testee answer 2011'!AA424:AA436,\"A\")","v":6},{"$f":"COUNTIF('[1]Testee answer 2011'!AB424:AB436,\"A\")","v":2},{"$f":"COUNTIF('[1]Testee answer 2011'!AC424:AC436,\"A\")","v":0},{"$f":"COUNTIF('[1]Testee answer 2011'!AD424:AD436,\"A\")","v":5},{"$f":"COUNTIF('[1]Testee answer 2011'!AE424:AE436,\"A\")","v":1},{"$f":"COUNTIF('[1]Testee answer 2011'!AF424:AF436,\"A\")","v":1},{"$f":"COUNTIF('[1]Testee answer 2011'!AG424:AG436,\"A\")","v":2},{"$f":"COUNTIF('[1]Testee answer 2011'!AH424:AH436,\"A\")","v":7},{"$f":"COUNTIF('[1]Testee answer 2011'!AI424:AI436,\"A\")","v":3},{"$f":"COUNTIF('[1]Testee answer 2011'!AJ424:AJ436,\"A\")","v":3},{"$f":"COUNTIF('[1]Testee answer 2011'!AK424:AK436,\"A\")","v":3},{"$f":"COUNTIF('[1]Testee answer 2011'!AL424:AL436,\"A\")","v":1},{"$f":"COUNTIF('[1]Testee answer 2011'!AM424:AM436,\"A\")","v":2},{"$f":"COUNTIF('[1]Testee answer 2011'!AN424:AN436,\"A\")","v":2},{"$f":"COUNTIF('[1]Testee answer 2011'!AO424:AO436,\"A\")","v":2},{"$f":"COUNTIF('[1]Testee answer 2011'!AP424:AP436,\"A\")","v":1},{"$f":"COUNTIF('[1]Testee answer 2011'!AQ424:AQ436,\"A\")","v":1},{"$f":"COUNTIF('[1]Testee answer 2011'!AR424:AR436,\"A\")","v":0},{"$f":"COUNTIF('[1]Testee answer 2011'!AS424:AS436,\"A\")","v":0},{"$f":"COUNTIF('[1]Testee answer 2011'!AT424:AT436,\"A\")","v":1},{"$f":"COUNTIF('[1]Testee answer 2011'!AU424:AU436,\"A\")","v":0},{"$f":"COUNTIF('[1]Testee answer 2011'!AV424:AV436,\"A\")","v":0},{"$f":"COUNTIF('[1]Testee answer 2011'!AW424:AW436,\"A\")","v":6},{"$f":"COUNTIF('[1]Testee answer 2011'!AX424:AX436,\"A\")","v":5},{"$f":"COUNTIF('[1]Testee answer 2011'!AY424:AY436,\"A\")","v":4},{"$f":"COUNTIF('[1]Testee answer 2011'!AZ424:AZ436,\"A\")","v":5},{"$f":"COUNTIF('[1]Testee answer 2011'!BA424:BA436,\"A\")","v":12},{"$f":"COUNTIF('[1]Testee answer 2011'!BB424:BB436,\"A\")","v":5},{"$f":"COUNTIF('[1]Testee answer 2011'!BC424:BC436,\"A\")","v":1},{"$f":"COUNTIF('[1]Testee answer 2011'!BD424:BD436,\"A\")","v":4},{"$f":"COUNTIF('[1]Testee answer 2011'!BE424:BE436,\"A\")","v":10},{"$f":"COUNTIF('[1]Testee answer 2011'!BF424:BF436,\"A\")","v":1},{"$f":"COUNTIF('[1]Testee answer 2011'!BG424:BG436,\"A\")","v":7},{"$f":"COUNTIF('[1]Testee answer 2011'!BH424:BH436,\"A\")","v":3},{"$f":"COUNTIF('[1]Testee answer 2011'!BI424:BI436,\"A\")","v":0}]
["BALK3",{"$f":"COUNTIF('[1]Testee answer 2011'!D424:D436,\"B\")","v":0},{"$f":"COUNTIF('[1]Testee answer 2011'!E424:E436,\"B\")","v":12},{"$f":"COUNTIF('[1]Testee answer 2011'!F424:F436,\"B\")","v":9},{"$f":"COUNTIF('[1]Testee answer 2011'!G424:G436,\"B\")","v":7},{"$f":"COUNTIF('[1]Testee answer 2011'!H424:H436,\"B\")","v":1},{"$f":"COUNTIF('[1]Testee answer 2011'!I424:I436,\"B\")","v":8},{"$f":"COUNTIF('[1]Testee answer 2011'!J424:J436,\"B\")","v":4},{"$f":"COUNTIF('[1]Testee answer 2011'!K424:K436,\"B\")","v":4},{"$f":"COUNTIF('[1]Testee answer 2011'!L424:L436,\"B\")","v":5},{"$f":"COUNTIF('[1]Testee answer 2011'!M424:M436,\"B\")","v":5},{"$f":"COUNTIF('[1]Testee answer 2011'!N424:N436,\"B\")","v":5},{"$f":"COUNTIF('[1]Testee answer 2011'!O424:O436,\"B\")","v":4},{"$f":"COUNTIF('[1]Testee answer 2011'!P424:P436,\"B\")","v":4},{"$f":"COUNTIF('[1]Testee answer 2011'!Q424:Q436,\"B\")","v":1},{"$f":"COUNTIF('[1]Testee answer 2011'!R424:R436,\"B\")","v":1},{"$f":"COUNTIF('[1]Testee answer 2011'!S424:S436,\"B\")","v":1},{"$f":"COUNTIF('[1]Testee answer 2011'!T424:T436,\"B\")","v":2},{"$f":"COUNTIF('[1]Testee answer 2011'!U424:U436,\"B\")","v":4},{"$f":"COUNTIF('[1]Testee answer 2011'!V424:V436,\"B\")","v":1},{"$f":"COUNTIF('[1]Testee answer 2011'!W424:W436,\"B\")","v":1},{"$f":"COUNTIF('[1]Testee answer 2011'!X424:X436,\"B\")","v":2},{"$f":"COUNTIF('[1]Testee answer 2011'!Y424:Y436,\"B\")","v":1},{"$f":"COUNTIF('[1]Testee answer 2011'!Z424:Z436,\"B\")","v":2},{"$f":"COUNTIF('[1]Testee answer 2011'!AA424:AA436,\"B\")","v":3},{"$f":"COUNTIF('[1]Testee answer 2011'!AB424:AB436,\"B\")","v":0},{"$f":"COUNTIF('[1]Testee answer 2011'!AC424:AC436,\"B\")","v":4},{"$f":"COUNTIF('[1]Testee answer 2011'!AD424:AD436,\"B\")","v":1},{"$f":"COUNTIF('[1]Testee answer 2011'!AE424:AE436,\"B\")","v":1},{"$f":"COUNTIF('[1]Testee answer 2011'!AF424:AF436,\"B\")","v":1},{"$f":"COUNTIF('[1]Testee answer 2011'!AG424:AG436,\"B\")","v":0},{"$f":"COUNTIF('[1]Testee answer 2011'!AH424:AH436,\"B\")","v":2},{"$f":"COUNTIF('[1]Testee answer 2011'!AI424:AI436,\"B\")","v":4},{"$f":"COUNTIF('[1]Testee answer 2011'!AJ424:AJ436,\"B\")","v":0},{"$f":"COUNTIF('[1]Testee answer 2011'!AK424:AK436,\"B\")","v":0},{"$f":"COUNTIF('[1]Testee answer 2011'!AL424:AL436,\"B\")","v":1},{"$f":"COUNTIF('[1]Testee answer 2011'!AM424:AM436,\"B\")","v":1},{"$f":"COUNTIF('[1]Testee answer 2011'!AN424:AN436,\"B\")","v":3},{"$f":"COUNTIF('[1]Testee answer 2011'!AO424:AO436,\"B\")","v":11},{"$f":"COUNTIF('[1]Testee answer 2011'!AP424:AP436,\"B\")","v":12},{"$f":"COUNTIF('[1]Testee answer 2011'!AQ424:AQ436,\"B\")","v":12},{"$f":"COUNTIF('[1]Testee answer 2011'!AR424:AR436,\"B\")","v":13},{"$f":"COUNTIF('[1]Testee answer 2011'!AS424:AS436,\"B\")","v":13},{"$f":"COUNTIF('[1]Testee answer 2011'!AT424:AT436,\"B\")","v":3},{"$f":"COUNTIF('[1]Testee answer 2011'!AU424:AU436,\"B\")","v":3},{"$f":"COUNTIF('[1]Testee answer 2011'!AV424:AV436,\"B\")","v":1},{"$f":"COUNTIF('[1]Testee answer 2011'!AW424:AW436,\"B\")","v":5},{"$f":"COUNTIF('[1]Testee answer 2011'!AX424:AX436,\"B\")","v":4},{"$f":"COUNTIF('[1]Testee answer 2011'!AY424:AY436,\"B\")","v":1},{"$f":"COUNTIF('[1]Testee answer 2011'!AZ424:AZ436,\"B\")","v":0},{"$f":"COUNTIF('[1]Testee answer 2011'!BA424:BA436,\"B\")","v":1},{"$f":"COUNTIF('[1]Testee answer 2011'!BB424:BB436,\"B\")","v":8},{"$f":"COUNTIF('[1]Testee answer 2011'!BC424:BC436,\"B\")","v":12},{"$f":"COUNTIF('[1]Testee answer 2011'!BD424:BD436,\"B\")","v":9},{"$f":"COUNTIF('[1]Testee answer 2011'!BE424:BE436,\"B\")","v":3},{"$f":"COUNTIF('[1]Testee answer 2011'!BF424:BF436,\"B\")","v":12},{"$f":"COUNTIF('[1]Testee answer 2011'!BG424:BG436,\"B\")","v":6},{"$f":"COUNTIF('[1]Testee answer 2011'!BH424:BH436,\"B\")","v":10},{"$f":"COUNTIF('[1]Testee answer 2011'!BI424:BI436,\"B\")","v":13}]
["BALK3",{"$f":"COUNTIF('[1]Testee answer 2011'!D424:D436,\"C\")","v":13},{"$f":"COUNTIF('[1]Testee answer 2011'!E424:E436,\"C\")","v":0},{"$f":"COUNTIF('[1]Testee answer 2011'!F424:F436,\"C\")","v":1},{"$f":"COUNTIF('[1]Testee answer 2011'!G424:G436,\"C\")","v":0},{"$f":"COUNTIF('[1]Testee answer 2011'!H424:H436,\"C\")","v":3},{"$f":"COUNTIF('[1]Testee answer 2011'!I424:I436,\"C\")","v":5},{"$f":"COUNTIF('[1]Testee answer 2011'!J424:J436,\"C\")","v":2},{"$f":"COUNTIF('[1]Testee answer 2011'!K424:K436,\"C\")","v":0},{"$f":"COUNTIF('[1]Testee answer 2011'!L424:L436,\"C\")","v":1},{"$f":"COUNTIF('[1]Testee answer 2011'!M424:M436,\"C\")","v":1},{"$f":"COUNTIF('[1]Testee answer 2011'!N424:N436,\"C\")","v":2},{"$f":"COUNTIF('[1]Testee answer 2011'!O424:O436,\"C\")","v":3},{"$f":"COUNTIF('[1]Testee answer 2011'!P424:P436,\"C\")","v":4},{"$f":"COUNTIF('[1]Testee answer 2011'!Q424:Q436,\"C\")","v":4},{"$f":"COUNTIF('[1]Testee answer 2011'!R424:R436,\"C\")","v":8},{"$f":"COUNTIF('[1]Testee answer 2011'!S424:S436,\"C\")","v":8},{"$f":"COUNTIF('[1]Testee answer 2011'!T424:T436,\"C\")","v":2},{"$f":"COUNTIF('[1]Testee answer 2011'!U424:U436,\"C\")","v":3},{"$f":"COUNTIF('[1]Testee answer 2011'!V424:V436,\"C\")","v":4},{"$f":"COUNTIF('[1]Testee answer 2011'!W424:W436,\"C\")","v":6},{"$f":"COUNTIF('[1]Testee answer 2011'!X424:X436,\"C\")","v":5},{"$f":"COUNTIF('[1]Testee answer 2011'!Y424:Y436,\"C\")","v":5},{"$f":"COUNTIF('[1]Testee answer 2011'!Z424:Z436,\"C\")","v":4},{"$f":"COUNTIF('[1]Testee answer 2011'!AA424:AA436,\"C\")","v":2},{"$f":"COUNTIF('[1]Testee answer 2011'!AB424:AB436,\"C\")","v":4},{"$f":"COUNTIF('[1]Testee answer 2011'!AC424:AC436,\"C\")","v":1},{"$f":"COUNTIF('[1]Testee answer 2011'!AD424:AD436,\"C\")","v":2},{"$f":"COUNTIF('[1]Testee answer 2011'!AE424:AE436,\"C\")","v":3},{"$f":"COUNTIF('[1]Testee answer 2011'!AF424:AF436,\"C\")","v":2},{"$f":"COUNTIF('[1]Testee answer 2011'!AG424:AG436,\"C\")","v":5},{"$f":"COUNTIF('[1]Testee answer 2011'!AH424:AH436,\"C\")","v":3},{"$f":"COUNTIF('[1]Testee answer 2011'!AI424:AI436,\"C\")","v":5},{"$f":"COUNTIF('[1]Testee answer 2011'!AJ424:AJ436,\"C\")","v":3},{"$f":"COUNTIF('[1]Testee answer 2011'!AK424:AK436,\"C\")","v":3},{"$f":"COUNTIF('[1]Testee answer 2011'!AL424:AL436,\"C\")","v":5},{"$f":"COUNTIF('[1]Testee answer 2011'!AM424:AM436,\"C\")","v":4},{"$f":"COUNTIF('[1]Testee answer 2011'!AN424:AN436,\"C\")","v":3},{"$f":"COUNTIF('[1]Testee answer 2011'!AO424:AO436,\"C\")","v":0},{"$f":"COUNTIF('[1]Testee answer 2011'!AP424:AP436,\"C\")","v":0},{"$f":"COUNTIF('[1]Testee answer 2011'!AQ424:AQ436,\"C\")","v":0},{"$f":"COUNTIF('[1]Testee answer 2011'!AR424:AR436,\"C\")","v":0},{"$f":"COUNTIF('[1]Testee answer 2011'!AS424:AS436,\"C\")","v":0},{"$f":"COUNTIF('[1]Testee answer 2011'!AT424:AT436,\"C\")","v":7},{"$f":"COUNTIF('[1]Testee answer 2011'!AU424:AU436,\"C\")","v":3},{"$f":"COUNTIF('[1]Testee answer 2011'!AV424:AV436,\"C\")","v":7},{"$f":"COUNTIF('[1]Testee answer 2011'!AW424:AW436,\"C\")","v":1},{"$f":"COUNTIF('[1]Testee answer 2011'!AX424:AX436,\"C\")","v":3},{"$f":"COUNTIF('[1]Testee answer 2011'!AY424:AY436,\"C\")","v":5},{"$f":"COUNTIF('[1]Testee answer 2011'!AZ424:AZ436,\"C\")","v":3},{"$f":"COUNTIF('[1]Testee answer 2011'!BA424:BA436,\"C\")","v":0},{"$f":"COUNTIF('[1]Testee answer 2011'!BB424:BB436,\"C\")","v":0},{"$f":"COUNTIF('[1]Testee answer 2011'!BC424:BC436,\"C\")","v":0},{"$f":"COUNTIF('[1]Testee answer 2011'!BD424:BD436,\"C\")","v":0},{"$f":"COUNTIF('[1]Testee answer 2011'!BE424:BE436,\"C\")","v":0},{"$f":"COUNTIF('[1]Testee answer 2011'!BF424:BF436,\"C\")","v":0},{"$f":"COUNTIF('[1]Testee answer 2011'!BG424:BG436,\"C\")","v":0},{"$f":"COUNTIF('[1]Testee answer 2011'!BH424:BH436,\"C\")","v":0},{"$f":"COUNTIF('[1]Testee answer 2011'!BI424:BI436,\"C\")","v":0}]
["BALK3",{"$f":"COUNTIF('[1]Testee answer 2011'!D424:D436,\"D\")","v":0},{"$f":"COUNTIF('[1]Testee answer 2011'!E424:E436,\"D\")","v":0},{"$f":"COUNTIF('[1]Testee answer 2011'!F424:F436,\"D\")","v":0},{"$f":"COUNTIF('[1]Testee answer 2011'!G424:G436,\"D\")","v":0},{"$f":"COUNTIF('[1]Testee answer 2011'!H424:H436,\"D\")","v":0},{"$f":"COUNTIF('[1]Testee answer 2011'!I424:I436,\"D\")","v":0},{"$f":"COUNTIF('[1]Testee answer 2011'!J424:J436,\"D\")","v":0},{"$f":"COUNTIF('[1]Testee answer 2011'!K424:K436,\"D\")","v":0},{"$f":"COUNTIF('[1]Testee answer 2011'!L424:L436,\"D\")","v":0},{"$f":"COUNTIF('[1]Testee answer 2011'!M424:M436,\"D\")","v":0},{"$f":"COUNTIF('[1]Testee answer 2011'!N424:N436,\"D\")","v":1},{"$f":"COUNTIF('[1]Testee answer 2011'!O424:O436,\"D\")","v":2},{"$f":"COUNTIF('[1]Testee answer 2011'!P424:P436,\"D\")","v":1},{"$f":"COUNTIF('[1]Testee answer 2011'!Q424:Q436,\"D\")","v":5},{"$f":"COUNTIF('[1]Testee answer 2011'!R424:R436,\"D\")","v":3},{"$f":"COUNTIF('[1]Testee answer 2011'!S424:S436,\"D\")","v":1},{"$f":"COUNTIF('[1]Testee answer 2011'!T424:T436,\"D\")","v":3},{"$f":"COUNTIF('[1]Testee answer 2011'!U424:U436,\"D\")","v":3},{"$f":"COUNTIF('[1]Testee answer 2011'!V424:V436,\"D\")","v":6},{"$f":"COUNTIF('[1]Testee answer 2011'!W424:W436,\"D\")","v":2},{"$f":"COUNTIF('[1]Testee answer 2011'!X424:X436,\"D\")","v":3},{"$f":"COUNTIF('[1]Testee answer 2011'!Y424:Y436,\"D\")","v":4},{"$f":"COUNTIF('[1]Testee answer 2011'!Z424:Z436,\"D\")","v":3},{"$f":"COUNTIF('[1]Testee answer 2011'!AA424:AA436,\"D\")","v":2},{"$f":"COUNTIF('[1]Testee answer 2011'!AB424:AB436,\"D\")","v":7},{"$f":"COUNTIF('[1]Testee answer 2011'!AC424:AC436,\"D\")","v":8},{"$f":"COUNTIF('[1]Testee answer 2011'!AD424:AD436,\"D\")","v":5},{"$f":"COUNTIF('[1]Testee answer 2011'!AE424:AE436,\"D\")","v":8},{"$f":"COUNTIF('[1]Testee answer 2011'!AF424:AF436,\"D\")","v":9},{"$f":"COUNTIF('[1]Testee answer 2011'!AG424:AG436,\"D\")","v":6},{"$f":"COUNTIF('[1]Testee answer 2011'!AH424:AH436,\"D\")","v":1},{"$f":"COUNTIF('[1]Testee answer 2011'!AI424:AI436,\"D\")","v":1},{"$f":"COUNTIF('[1]Testee answer 2011'!AJ424:AJ436,\"D\")","v":7},{"$f":"COUNTIF('[1]Testee answer 2011'!AK424:AK436,\"D\")","v":7},{"$f":"COUNTIF('[1]Testee answer 2011'!AL424:AL436,\"D\")","v":6},{"$f":"COUNTIF('[1]Testee answer 2011'!AM424:AM436,\"D\")","v":6},{"$f":"COUNTIF('[1]Testee answer 2011'!AN424:AN436,\"D\")","v":5},{"$f":"COUNTIF('[1]Testee answer 2011'!AO424:AO436,\"D\")","v":0},{"$f":"COUNTIF('[1]Testee answer 2011'!AP424:AP436,\"D\")","v":0},{"$f":"COUNTIF('[1]Testee answer 2011'!AQ424:AQ436,\"D\")","v":0},{"$f":"COUNTIF('[1]Testee answer 2011'!AR424:AR436,\"D\")","v":0},{"$f":"COUNTIF('[1]Testee answer 2011'!AS424:AS436,\"D\")","v":0},{"$f":"COUNTIF('[1]Testee answer 2011'!AT424:AT436,\"D\")","v":2},{"$f":"COUNTIF('[1]Testee answer 2011'!AU424:AU436,\"D\")","v":7},{"$f":"COUNTIF('[1]Testee answer 2011'!AV424:AV436,\"D\")","v":5},{"$f":"COUNTIF('[1]Testee answer 2011'!AW424:AW436,\"D\")","v":1},{"$f":"COUNTIF('[1]Testee answer 2011'!AX424:AX436,\"D\")","v":1},{"$f":"COUNTIF('[1]Testee answer 2011'!AY424:AY436,\"D\")","v":3},{"$f":"COUNTIF('[1]Testee answer 2011'!AZ424:AZ436,\"D\")","v":5},{"$f":"COUNTIF('[1]Testee answer 2011'!BA424:BA436,\"D\")","v":0},{"$f":"COUNTIF('[1]Testee answer 2011'!BB424:BB436,\"D\")","v":0},{"$f":"COUNTIF('[1]Testee answer 2011'!BC424:BC436,\"D\")","v":0},{"$f":"COUNTIF('[1]Testee answer 2011'!BD424:BD436,\"D\")","v":0},{"$f":"COUNTIF('[1]Testee answer 2011'!BE424:BE436,\"D\")","v":0},{"$f":"COUNTIF('[1]Testee answer 2011'!BF424:BF436,\"D\")","v":0},{"$f":"COUNTIF('[1]Testee answer 2011'!BG424:BG436,\"D\")","v":0},{"$f":"COUNTIF('[1]Testee answer 2011'!BH424:BH436,\"D\")","v":0},{"$f":"COUNTIF('[1]Testee answer 2011'!BI424:BI436,\"D\")","v":0}]
["BALK4",{"$f":"COUNTIF('[1]Testee answer 2011'!D509:D513,\"A\")","v":0},{"$f":"COUNTIF('[1]Testee answer 2011'!E509:E513,\"A\")","v":2},{"$f":"COUNTIF('[1]Testee answer 2011'!F509:F513,\"A\")","v":1},{"$f":"COUNTIF('[1]Testee answer 2011'!G509:G513,\"A\")","v":4},{"$f":"COUNTIF('[1]Testee answer 2011'!H509:H513,\"A\")","v":2},{"$f":"COUNTIF('[1]Testee answer 2011'!I509:I513,\"A\")","v":0},{"$f":"COUNTIF('[1]Testee answer 2011'!J509:J513,\"A\")","v":4},{"$f":"COUNTIF('[1]Testee answer 2011'!K509:K513,\"A\")","v":3},{"$f":"COUNTIF('[1]Testee answer 2011'!L509:L513,\"A\")","v":4},{"$f":"COUNTIF('[1]Testee answer 2011'!M509:M513,\"A\")","v":3},{"$f":"COUNTIF('[1]Testee answer 2011'!N509:N513,\"A\")","v":3},{"$f":"COUNTIF('[1]Testee answer 2011'!O509:O513,\"A\")","v":0},{"$f":"COUNTIF('[1]Testee answer 2011'!P509:P513,\"A\")","v":2},{"$f":"COUNTIF('[1]Testee answer 2011'!Q509:Q513,\"A\")","v":0},{"$f":"COUNTIF('[1]Testee answer 2011'!R509:R513,\"A\")","v":1},{"$f":"COUNTIF('[1]Testee answer 2011'!S509:S513,\"A\")","v":0},{"$f":"COUNTIF('[1]Testee answer 2011'!T509:T513,\"A\")","v":2},{"$f":"COUNTIF('[1]Testee answer 2011'!U509:U513,\"A\")","v":2},{"$f":"COUNTIF('[1]Testee answer 2011'!V509:V513,\"A\")","v":0},{"$f":"COUNTIF('[1]Testee answer 2011'!W509:W513,\"A\")","v":4},{"$f":"COUNTIF('[1]Testee answer 2011'!X509:X513,\"A\")","v":3},{"$f":"COUNTIF('[1]Testee answer 2011'!Y509:Y513,\"A\")","v":1},{"$f":"COUNTIF('[1]Testee answer 2011'!Z509:Z513,\"A\")","v":2},{"$f":"COUNTIF('[1]Testee answer 2011'!AA509:AA513,\"A\")","v":2},{"$f":"COUNTIF('[1]Testee answer 2011'!AB509:AB513,\"A\")","v":0},{"$f":"COUNTIF('[1]Testee answer 2011'!AC509:AC513,\"A\")","v":1},{"$f":"COUNTIF('[1]Testee answer 2011'!AD509:AD513,\"A\")","v":1},{"$f":"COUNTIF('[1]Testee answer 2011'!AE509:AE513,\"A\")","v":2},{"$f":"COUNTIF('[1]Testee answer 2011'!AF509:AF513,\"A\")","v":1},{"$f":"COUNTIF('[1]Testee answer 2011'!AG509:AG513,\"A\")","v":1},{"$f":"COUNTIF('[1]Testee answer 2011'!AH509:AH513,\"A\")","v":3},{"$f":"COUNTIF('[1]Testee answer 2011'!AI509:AI513,\"A\")","v":2},{"$f":"COUNTIF('[1]Testee answer 2011'!AJ509:AJ513,\"A\")","v":0},{"$f":"COUNTIF('[1]Testee answer 2011'!AK509:AK513,\"A\")","v":0},{"$f":"COUNTIF('[1]Testee answer 2011'!AL509:AL513,\"A\")","v":1},{"$f":"COUNTIF('[1]Testee answer 2011'!AM509:AM513,\"A\")","v":1},{"$f":"COUNTIF('[1]Testee answer 2011'!AN509:AN513,\"A\")","v":1},{"$f":"COUNTIF('[1]Testee answer 2011'!AO509:AO513,\"A\")","v":2},{"$f":"COUNTIF('[1]Testee answer 2011'!AP509:AP513,\"A\")","v":3},{"$f":"COUNTIF('[1]Testee answer 2011'!AQ509:AQ513,\"A\")","v":0},{"$f":"COUNTIF('[1]Testee answer 2011'!AR509:AR513,\"A\")","v":1},{"$f":"COUNTIF('[1]Testee answer 2011'!AS509:AS513,\"A\")","v":1},{"$f":"COUNTIF('[1]Testee answer 2011'!AT509:AT513,\"A\")","v":1},{"$f":"COUNTIF('[1]Testee answer 2011'!AU509:AU513,\"A\")","v":0},{"$f":"COUNTIF('[1]Testee answer 2011'!AV509:AV513,\"A\")","v":0},{"$f":"COUNTIF('[1]Testee answer 2011'!AW509:AW513,\"A\")","v":3},{"$f":"COUNTIF('[1]Testee answer 2011'!AX509:AX513,\"A\")","v":3},{"$f":"COUNTIF('[1]Testee answer 2011'!AY509:AY513,\"A\")","v":2},{"$f":"COUNTIF('[1]Testee answer 2011'!AZ509:AZ513,\"A\")","v":1},{"$f":"COUNTIF('[1]Testee answer 2011'!BA509:BA513,\"A\")","v":4},{"$f":"COUNTIF('[1]Testee answer 2011'!BB509:BB513,\"A\")","v":0},{"$f":"COUNTIF('[1]Testee answer 2011'!BC509:BC513,\"A\")","v":1},{"$f":"COUNTIF('[1]Testee answer 2011'!BD509:BD513,\"A\")","v":3},{"$f":"COUNTIF('[1]Testee answer 2011'!BE509:BE513,\"A\")","v":5},{"$f":"COUNTIF('[1]Testee answer 2011'!BF509:BF513,\"A\")","v":0},{"$f":"COUNTIF('[1]Testee answer 2011'!BG509:BG513,\"A\")","v":2},{"$f":"COUNTIF('[1]Testee answer 2011'!BH509:BH513,\"A\")","v":1},{"$f":"COUNTIF('[1]Testee answer 2011'!BI509:BI513,\"A\")","v":2}]
["BALK4",{"$f":"COUNTIF('[1]Testee answer 2011'!D509:D513,\"B\")","v":0},{"$f":"COUNTIF('[1]Testee answer 2011'!E509:E513,\"B\")","v":3},{"$f":"COUNTIF('[1]Testee answer 2011'!F509:F513,\"B\")","v":4},{"$f":"COUNTIF('[1]Testee answer 2011'!G509:G513,\"B\")","v":1},{"$f":"COUNTIF('[1]Testee answer 2011'!H509:H513,\"B\")","v":3},{"$f":"COUNTIF('[1]Testee answer 2011'!I509:I513,\"B\")","v":3},{"$f":"COUNTIF('[1]Testee answer 2011'!J509:J513,\"B\")","v":1},{"$f":"COUNTIF('[1]Testee answer 2011'!K509:K513,\"B\")","v":2},{"$f":"COUNTIF('[1]Testee answer 2011'!L509:L513,\"B\")","v":0},{"$f":"COUNTIF('[1]Testee answer 2011'!M509:M513,\"B\")","v":2},{"$f":"COUNTIF('[1]Testee answer 2011'!N509:N513,\"B\")","v":2},{"$f":"COUNTIF('[1]Testee answer 2011'!O509:O513,\"B\")","v":4},{"$f":"COUNTIF('[1]Testee answer 2011'!P509:P513,\"B\")","v":2},{"$f":"COUNTIF('[1]Testee answer 2011'!Q509:Q513,\"B\")","v":1},{"$f":"COUNTIF('[1]Testee answer 2011'!R509:R513,\"B\")","v":0},{"$f":"COUNTIF('[1]Testee answer 2011'!S509:S513,\"B\")","v":3},{"$f":"COUNTIF('[1]Testee answer 2011'!T509:T513,\"B\")","v":0},{"$f":"COUNTIF('[1]Testee answer 2011'!U509:U513,\"B\")","v":3},{"$f":"COUNTIF('[1]Testee answer 2011'!V509:V513,\"B\")","v":0},{"$f":"COUNTIF('[1]Testee answer 2011'!W509:W513,\"B\")","v":1},{"$f":"COUNTIF('[1]Testee answer 2011'!X509:X513,\"B\")","v":2},{"$f":"COUNTIF('[1]Testee answer 2011'!Y509:Y513,\"B\")","v":3},{"$f":"COUNTIF('[1]Testee answer 2011'!Z509:Z513,\"B\")","v":2},{"$f":"COUNTIF('[1]Testee answer 2011'!AA509:AA513,\"B\")","v":3},{"$f":"COUNTIF('[1]Testee answer 2011'!AB509:AB513,\"B\")","v":0},{"$f":"COUNTIF('[1]Testee answer 2011'!AC509:AC513,\"B\")","v":3},{"$f":"COUNTIF('[1]Testee answer 2011'!AD509:AD513,\"B\")","v":2},{"$f":"COUNTIF('[1]Testee answer 2011'!AE509:AE513,\"B\")","v":0},{"$f":"COUNTIF('[1]Testee answer 2011'!AF509:AF513,\"B\")","v":2},{"$f":"COUNTIF('[1]Testee answer 2011'!AG509:AG513,\"B\")","v":2},{"$f":"COUNTIF('[1]Testee answer 2011'!AH509:AH513,\"B\")","v":2},{"$f":"COUNTIF('[1]Testee answer 2011'!AI509:AI513,\"B\")","v":2},{"$f":"COUNTIF('[1]Testee answer 2011'!AJ509:AJ513,\"B\")","v":0},{"$f":"COUNTIF('[1]Testee answer 2011'!AK509:AK513,\"B\")","v":0},{"$f":"COUNTIF('[1]Testee answer 2011'!AL509:AL513,\"B\")","v":3},{"$f":"COUNTIF('[1]Testee answer 2011'!AM509:AM513,\"B\")","v":2},{"$f":"COUNTIF('[1]Testee answer 2011'!AN509:AN513,\"B\")","v":2},{"$f":"COUNTIF('[1]Testee answer 2011'!AO509:AO513,\"B\")","v":3},{"$f":"COUNTIF('[1]Testee answer 2011'!AP509:AP513,\"B\")","v":2},{"$f":"COUNTIF('[1]Testee answer 2011'!AQ509:AQ513,\"B\")","v":5},{"$f":"COUNTIF('[1]Testee answer 2011'!AR509:AR513,\"B\")","v":4},{"$f":"COUNTIF('[1]Testee answer 2011'!AS509:AS513,\"B\")","v":4},{"$f":"COUNTIF('[1]Testee answer 2011'!AT509:AT513,\"B\")","v":0},{"$f":"COUNTIF('[1]Testee answer 2011'!AU509:AU513,\"B\")","v":1},{"$f":"COUNTIF('[1]Testee answer 2011'!AV509:AV513,\"B\")","v":1},{"$f":"COUNTIF('[1]Testee answer 2011'!AW509:AW513,\"B\")","v":1},{"$f":"COUNTIF('[1]Testee answer 2011'!AX509:AX513,\"B\")","v":2},{"$f":"COUNTIF('[1]Testee answer 2011'!AY509:AY513,\"B\")","v":1},{"$f":"COUNTIF('[1]Testee answer 2011'!AZ509:AZ513,\"B\")","v":3},{"$f":"COUNTIF('[1]Testee answer 2011'!BA509:BA513,\"B\")","v":1},{"$f":"COUNTIF('[1]Testee answer 2011'!BB509:BB513,\"B\")","v":5},{"$f":"COUNTIF('[1]Testee answer 2011'!BC509:BC513,\"B\")","v":4},{"$f":"COUNTIF('[1]Testee answer 2011'!BD509:BD513,\"B\")","v":2},{"$f":"COUNTIF('[1]Testee answer 2011'!BE509:BE513,\"B\")","v":0},{"$f":"COUNTIF('[1]Testee answer 2011'!BF509:BF513,\"B\")","v":5},{"$f":"COUNTIF('[1]Testee answer 2011'!BG509:BG513,\"B\")","v":3},{"$f":"COUNTIF('[1]Testee answer 2011'!BH509:BH513,\"B\")","v":4},{"$f":"COUNTIF('[1]Testee answer 2011'!BI509:BI513,\"B\")","v":3}]
["BALK4",{"$f":"COUNTIF('[1]Testee answer 2011'!D509:D513,\"C\")","v":0},{"$f":"COUNTIF('[1]Testee answer 2011'!E509:E513,\"C\")","v":0},{"$f":"COUNTIF('[1]Testee answer 2011'!F509:F513,\"C\")","v":0},{"$f":"COUNTIF('[1]Testee answer 2011'!G509:G513,\"C\")","v":0},{"$f":"COUNTIF('[1]Testee answer 2011'!H509:H513,\"C\")","v":0},{"$f":"COUNTIF('[1]Testee answer 2011'!I509:I513,\"C\")","v":2},{"$f":"COUNTIF('[1]Testee answer 2011'!J509:J513,\"C\")","v":0},{"$f":"COUNTIF('[1]Testee answer 2011'!K509:K513,\"C\")","v":0},{"$f":"COUNTIF('[1]Testee answer 2011'!L509:L513,\"C\")","v":1},{"$f":"COUNTIF('[1]Testee answer 2011'!M509:M513,\"C\")","v":0},{"$f":"COUNTIF('[1]Testee answer 2011'!N509:N513,\"C\")","v":0},{"$f":"COUNTIF('[1]Testee answer 2011'!O509:O513,\"C\")","v":1},{"$f":"COUNTIF('[1]Testee answer 2011'!P509:P513,\"C\")","v":1},{"$f":"COUNTIF('[1]Testee answer 2011'!Q509:Q513,\"C\")","v":2},{"$f":"COUNTIF('[1]Testee answer 2011'!R509:R513,\"C\")","v":4},{"$f":"COUNTIF('[1]Testee answer 2011'!S509:S513,\"C\")","v":1},{"$f":"COUNTIF('[1]Testee answer 2011'!T509:T513,\"C\")","v":2},{"$f":"COUNTIF('[1]Testee answer 2011'!U509:U513,\"C\")","v":0},{"$f":"COUNTIF('[1]Testee answer 2011'!V509:V513,\"C\")","v":2},{"$f":"COUNTIF('[1]Testee answer 2011'!W509:W513,\"C\")","v":0},{"$f":"COUNTIF('[1]Testee answer 2011'!X509:X513,\"C\")","v":0},{"$f":"COUNTIF('[1]Testee answer 2011'!Y509:Y513,\"C\")","v":1},{"$f":"COUNTIF('[1]Testee answer 2011'!Z509:Z513,\"C\")","v":1},{"$f":"COUNTIF('[1]Testee answer 2011'!AA509:AA513,\"C\")","v":0},{"$f":"COUNTIF('[1]Testee answer 2011'!AB509:AB513,\"C\")","v":2},{"$f":"COUNTIF('[1]Testee answer 2011'!AC509:AC513,\"C\")","v":1},{"$f":"COUNTIF('[1]Testee answer 2011'!AD509:AD513,\"C\")","v":2},{"$f":"COUNTIF('[1]Testee answer 2011'!AE509:AE513,\"C\")","v":1},{"$f":"COUNTIF('[1]Testee answer 2011'!AF509:AF513,\"C\")","v":1},{"$f":"COUNTIF('[1]Testee answer 2011'!AG509:AG513,\"C\")","v":2},{"$f":"COUNTIF('[1]Testee answer 2011'!AH509:AH513,\"C\")","v":0},{"$f":"COUNTIF('[1]Testee answer 2011'!AI509:AI513,\"C\")","v":0},{"$f":"COUNTIF('[1]Testee answer 2011'!AJ509:AJ513,\"C\")","v":3},{"$f":"COUNTIF('[1]Testee answer 2011'!AK509:AK513,\"C\")","v":3},{"$f":"COUNTIF('[1]Testee answer 2011'!AL509:AL513,\"C\")","v":1},{"$f":"COUNTIF('[1]Testee answer 2011'!AM509:AM513,\"C\")","v":2},{"$f":"COUNTIF('[1]Testee answer 2011'!AN509:AN513,\"C\")","v":1},{"$f":"COUNTIF('[1]Testee answer 2011'!AO509:AO513,\"C\")","v":0},{"$f":"COUNTIF('[1]Testee answer 2011'!AP509:AP513,\"C\")","v":0},{"$f":"COUNTIF('[1]Testee answer 2011'!AQ509:AQ513,\"C\")","v":0},{"$f":"COUNTIF('[1]Testee answer 2011'!AR509:AR513,\"C\")","v":0},{"$f":"COUNTIF('[1]Testee answer 2011'!AS509:AS513,\"C\")","v":0},{"$f":"COUNTIF('[1]Testee answer 2011'!AT509:AT513,\"C\")","v":1},{"$f":"COUNTIF('[1]Testee answer 2011'!AU509:AU513,\"C\")","v":1},{"$f":"COUNTIF('[1]Testee answer 2011'!AV509:AV513,\"C\")","v":1},{"$f":"COUNTIF('[1]Testee answer 2011'!AW509:AW513,\"C\")","v":1},{"$f":"COUNTIF('[1]Testee answer 2011'!AX509:AX513,\"C\")","v":0},{"$f":"COUNTIF('[1]Testee answer 2011'!AY509:AY513,\"C\")","v":2},{"$f":"COUNTIF('[1]Testee answer 2011'!AZ509:AZ513,\"C\")","v":1},{"$f":"COUNTIF('[1]Testee answer 2011'!BA509:BA513,\"C\")","v":0},{"$f":"COUNTIF('[1]Testee answer 2011'!BB509:BB513,\"C\")","v":0},{"$f":"COUNTIF('[1]Testee answer 2011'!BC509:BC513,\"C\")","v":0},{"$f":"COUNTIF('[1]Testee answer 2011'!BD509:BD513,\"C\")","v":0},{"$f":"COUNTIF('[1]Testee answer 2011'!BE509:BE513,\"C\")","v":0},{"$f":"COUNTIF('[1]Testee answer 2011'!BF509:BF513,\"C\")","v":0},{"$f":"COUNTIF('[1]Testee answer 2011'!BG509:BG513,\"C\")","v":0},{"$f":"COUNTIF('[1]Testee answer 2011'!BH509:BH513,\"C\")","v":0},{"$f":"COUNTIF('[1]Testee answer 2011'!BI509:BI513,\"C\")","v":0}]
["BALK4",{"$f":"COUNTIF('[1]Testee answer 2011'!D509:D513,\"D\")","v":5},{"$f":"COUNTIF('[1]Testee answer 2011'!E509:E513,\"D\")","v":0},{"$f":"COUNTIF('[1]Testee answer 2011'!F509:F513,\"D\")","v":0},{"$f":"COUNTIF('[1]Testee answer 2011'!G509:G513,\"D\")","v":0},{"$f":"COUNTIF('[1]Testee answer 2011'!H509:H513,\"D\")","v":0},{"$f":"COUNTIF('[1]Testee answer 2011'!I509:I513,\"D\")","v":0},{"$f":"COUNTIF('[1]Testee answer 2011'!J509:J513,\"D\")","v":0},{"$f":"COUNTIF('[1]Testee answer 2011'!K509:K513,\"D\")","v":0},{"$f":"COUNTIF('[1]Testee answer 2011'!L509:L513,\"D\")","v":0},{"$f":"COUNTIF('[1]Testee answer 2011'!M509:M513,\"D\")","v":0},{"$f":"COUNTIF('[1]Testee answer 2011'!N509:N513,\"D\")","v":0},{"$f":"COUNTIF('[1]Testee answer 2011'!O509:O513,\"D\")","v":0},{"$f":"COUNTIF('[1]Testee answer 2011'!P509:P513,\"D\")","v":0},{"$f":"COUNTIF('[1]Testee answer 2011'!Q509:Q513,\"D\")","v":2},{"$f":"COUNTIF('[1]Testee answer 2011'!R509:R513,\"D\")","v":0},{"$f":"COUNTIF('[1]Testee answer 2011'!S509:S513,\"D\")","v":1},{"$f":"COUNTIF('[1]Testee answer 2011'!T509:T513,\"D\")","v":1},{"$f":"COUNTIF('[1]Testee answer 2011'!U509:U513,\"D\")","v":0},{"$f":"COUNTIF('[1]Testee answer 2011'!V509:V513,\"D\")","v":3},{"$f":"COUNTIF('[1]Testee answer 2011'!W509:W513,\"D\")","v":0},{"$f":"COUNTIF('[1]Testee answer 2011'!X509:X513,\"D\")","v":0},{"$f":"COUNTIF('[1]Testee answer 2011'!Y509:Y513,\"D\")","v":0},{"$f":"COUNTIF('[1]Testee answer 2011'!Z509:Z513,\"D\")","v":0},{"$f":"COUNTIF('[1]Testee answer 2011'!AA509:AA513,\"D\")","v":0},{"$f":"COUNTIF('[1]Testee answer 2011'!AB509:AB513,\"D\")","v":3},{"$f":"COUNTIF('[1]Testee answer 2011'!AC509:AC513,\"D\")","v":0},{"$f":"COUNTIF('[1]Testee answer 2011'!AD509:AD513,\"D\")","v":0},{"$f":"COUNTIF('[1]Testee answer 2011'!AE509:AE513,\"D\")","v":2},{"$f":"COUNTIF('[1]Testee answer 2011'!AF509:AF513,\"D\")","v":1},{"$f":"COUNTIF('[1]Testee answer 2011'!AG509:AG513,\"D\")","v":0},{"$f":"COUNTIF('[1]Testee answer 2011'!AH509:AH513,\"D\")","v":0},{"$f":"COUNTIF('[1]Testee answer 2011'!AI509:AI513,\"D\")","v":1},{"$f":"COUNTIF('[1]Testee answer 2011'!AJ509:AJ513,\"D\")","v":2},{"$f":"COUNTIF('[1]Testee answer 2011'!AK509:AK513,\"D\")","v":2},{"$f":"COUNTIF('[1]Testee answer 2011'!AL509:AL513,\"D\")","v":0},{"$f":"COUNTIF('[1]Testee answer 2011'!AM509:AM513,\"D\")","v":0},{"$f":"COUNTIF('[1]Testee answer 2011'!AN509:AN513,\"D\")","v":1},{"$f":"COUNTIF('[1]Testee answer 2011'!AO509:AO513,\"D\")","v":0},{"$f":"COUNTIF('[1]Testee answer 2011'!AP509:AP513,\"D\")","v":0},{"$f":"COUNTIF('[1]Testee answer 2011'!AQ509:AQ513,\"D\")","v":0},{"$f":"COUNTIF('[1]Testee answer 2011'!AR509:AR513,\"D\")","v":0},{"$f":"COUNTIF('[1]Testee answer 2011'!AS509:AS513,\"D\")","v":0},{"$f":"COUNTIF('[1]Testee answer 2011'!AT509:AT513,\"D\")","v":3},{"$f":"COUNTIF('[1]Testee answer 2011'!AU509:AU513,\"D\")","v":3},{"$f":"COUNTIF('[1]Testee answer 2011'!AV509:AV513,\"D\")","v":3},{"$f":"COUNTIF('[1]Testee answer 2011'!AW509:AW513,\"D\")","v":0},{"$f":"COUNTIF('[1]Testee answer 2011'!AX509:AX513,\"D\")","v":0},{"$f":"COUNTIF('[1]Testee answer 2011'!AY509:AY513,\"D\")","v":0},{"$f":"COUNTIF('[1]Testee answer 2011'!AZ509:AZ513,\"D\")","v":0},{"$f":"COUNTIF('[1]Testee answer 2011'!BA509:BA513,\"D\")","v":0},{"$f":"COUNTIF('[1]Testee answer 2011'!BB509:BB513,\"D\")","v":0},{"$f":"COUNTIF('[1]Testee answer 2011'!BC509:BC513,\"D\")","v":0},{"$f":"COUNTIF('[1]Testee answer 2011'!BD509:BD513,\"D\")","v":0},{"$f":"COUNTIF('[1]Testee answer 2011'!BE509:BE513,\"D\")","v":0},{"$f":"COUNTIF('[1]Testee answer 2011'!BF509:BF513,\"D\")","v":0},{"$f":"COUNTIF('[1]Testee answer 2011'!BG509:BG513,\"D\")","v":0},{"$f":"COUNTIF('[1]Testee answer 2011'!BH509:BH513,\"D\")","v":0},{"$f":"COUNTIF('[1]Testee answer 2011'!BI509:BI513,\"D\")","v":0}]
["BALK5",{"$f":"COUNTIF('[1]Testee answer 2011'!D496:D500,\"A\")","v":0},{"$f":"COUNTIF('[1]Testee answer 2011'!E496:E500,\"A\")","v":0},{"$f":"COUNTIF('[1]Testee answer 2011'!F496:F500,\"A\")","v":2},{"$f":"COUNTIF('[1]Testee answer 2011'!G496:G500,\"A\")","v":3},{"$f":"COUNTIF('[1]Testee answer 2011'!H496:H500,\"A\")","v":3},{"$f":"COUNTIF('[1]Testee answer 2011'!I496:I500,\"A\")","v":1},{"$f":"COUNTIF('[1]Testee answer 2011'!J496:J500,\"A\")","v":0},{"$f":"COUNTIF('[1]Testee answer 2011'!K496:K500,\"A\")","v":3},{"$f":"COUNTIF('[1]Testee answer 2011'!L496:L500,\"A\")","v":2},{"$f":"COUNTIF('[1]Testee answer 2011'!M496:M500,\"A\")","v":1},{"$f":"COUNTIF('[1]Testee answer 2011'!N496:N500,\"A\")","v":1},{"$f":"COUNTIF('[1]Testee answer 2011'!O496:O500,\"A\")","v":0},{"$f":"COUNTIF('[1]Testee answer 2011'!P496:P500,\"A\")","v":1},{"$f":"COUNTIF('[1]Testee answer 2011'!Q496:Q500,\"A\")","v":0},{"$f":"COUNTIF('[1]Testee answer 2011'!R496:R500,\"A\")","v":0},{"$f":"COUNTIF('[1]Testee answer 2011'!S496:S500,\"A\")","v":0},{"$f":"COUNTIF('[1]Testee answer 2011'!T496:T500,\"A\")","v":1},{"$f":"COUNTIF('[1]Testee answer 2011'!U496:U500,\"A\")","v":0},{"$f":"COUNTIF('[1]Testee answer 2011'!V496:V500,\"A\")","v":0},{"$f":"COUNTIF('[1]Testee answer 2011'!W496:W500,\"A\")","v":0},{"$f":"COUNTIF('[1]Testee answer 2011'!X496:X500,\"A\")","v":1},{"$f":"COUNTIF('[1]Testee answer 2011'!Y496:Y500,\"A\")","v":1},{"$f":"COUNTIF('[1]Testee answer 2011'!Z496:Z500,\"A\")","v":1},{"$f":"COUNTIF('[1]Testee answer 2011'!AA496:AA500,\"A\")","v":2},{"$f":"COUNTIF('[1]Testee answer 2011'!AB496:AB500,\"A\")","v":0},{"$f":"COUNTIF('[1]Testee answer 2011'!AC496:AC500,\"A\")","v":1},{"$f":"COUNTIF('[1]Testee answer 2011'!AD496:AD500,\"A\")","v":0},{"$f":"COUNTIF('[1]Testee answer 2011'!AE496:AE500,\"A\")","v":1},{"$f":"COUNTIF('[1]Testee answer 2011'!AF496:AF500,\"A\")","v":0},{"$f":"COUNTIF('[1]Testee answer 2011'!AG496:AG500,\"A\")","v":1},{"$f":"COUNTIF('[1]Testee answer 2011'!AH496:AH500,\"A\")","v":0},{"$f":"COUNTIF('[1]Testee answer 2011'!AI496:AI500,\"A\")","v":1},{"$f":"COUNTIF('[1]Testee answer 2011'!AJ496:AJ500,\"A\")","v":0},{"$f":"COUNTIF('[1]Testee answer 2011'!AK496:AK500,\"A\")","v":2},{"$f":"COUNTIF('[1]Testee answer 2011'!AL496:AL500,\"A\")","v":0},{"$f":"COUNTIF('[1]Testee answer 2011'!AM496:AM500,\"A\")","v":0},{"$f":"COUNTIF('[1]Testee answer 2011'!AN496:AN500,\"A\")","v":2},{"$f":"COUNTIF('[1]Testee answer 2011'!AO496:AO500,\"A\")","v":0},{"$f":"COUNTIF('[1]Testee answer 2011'!AP496:AP500,\"A\")","v":2},{"$f":"COUNTIF('[1]Testee answer 2011'!AQ496:AQ500,\"A\")","v":2},{"$f":"COUNTIF('[1]Testee answer 2011'!AR496:AR500,\"A\")","v":1},{"$f":"COUNTIF('[1]Testee answer 2011'!AS496:AS500,\"A\")","v":0},{"$f":"COUNTIF('[1]Testee answer 2011'!AT496:AT500,\"A\")","v":1},{"$f":"COUNTIF('[1]Testee answer 2011'!AU496:AU500,\"A\")","v":0},{"$f":"COUNTIF('[1]Testee answer 2011'!AV496:AV500,\"A\")","v":1},{"$f":"COUNTIF('[1]Testee answer 2011'!AW496:AW500,\"A\")","v":1},{"$f":"COUNTIF('[1]Testee answer 2011'!AX496:AX500,\"A\")","v":2},{"$f":"COUNTIF('[1]Testee answer 2011'!AY496:AY500,\"A\")","v":1},{"$f":"COUNTIF('[1]Testee answer 2011'!AZ496:AZ500,\"A\")","v":1},{"$f":"COUNTIF('[1]Testee answer 2011'!BA496:BA500,\"A\")","v":5},{"$f":"COUNTIF('[1]Testee answer 2011'!BB496:BB500,\"A\")","v":2},{"$f":"COUNTIF('[1]Testee answer 2011'!BC496:BC500,\"A\")","v":0},{"$f":"COUNTIF('[1]Testee answer 2011'!BD496:BD500,\"A\")","v":0},{"$f":"COUNTIF('[1]Testee answer 2011'!BE496:BE500,\"A\")","v":4},{"$f":"COUNTIF('[1]Testee answer 2011'!BF496:BF500,\"A\")","v":0},{"$f":"COUNTIF('[1]Testee answer 2011'!BG496:BG500,\"A\")","v":5},{"$f":"COUNTIF('[1]Testee answer 2011'!BH496:BH500,\"A\")","v":3},{"$f":"COUNTIF('[1]Testee answer 2011'!BI496:BI500,\"A\")","v":0}]
["BALK5",{"$f":"COUNTIF('[1]Testee answer 2011'!D496:D500,\"B\")","v":0},{"$f":"COUNTIF('[1]Testee answer 2011'!E496:E500,\"B\")","v":5},{"$f":"COUNTIF('[1]Testee answer 2011'!F496:F500,\"B\")","v":3},{"$f":"COUNTIF('[1]Testee answer 2011'!G496:G500,\"B\")","v":2},{"$f":"COUNTIF('[1]Testee answer 2011'!H496:H500,\"B\")","v":0},{"$f":"COUNTIF('[1]Testee answer 2011'!I496:I500,\"B\")","v":3},{"$f":"COUNTIF('[1]Testee answer 2011'!J496:J500,\"B\")","v":5},{"$f":"COUNTIF('[1]Testee answer 2011'!K496:K500,\"B\")","v":1},{"$f":"COUNTIF('[1]Testee answer 2011'!L496:L500,\"B\")","v":3},{"$f":"COUNTIF('[1]Testee answer 2011'!M496:M500,\"B\")","v":3},{"$f":"COUNTIF('[1]Testee answer 2011'!N496:N500,\"B\")","v":2},{"$f":"COUNTIF('[1]Testee answer 2011'!O496:O500,\"B\")","v":2},{"$f":"COUNTIF('[1]Testee answer 2011'!P496:P500,\"B\")","v":1},{"$f":"COUNTIF('[1]Testee answer 2011'!Q496:Q500,\"B\")","v":1},{"$f":"COUNTIF('[1]Testee answer 2011'!R496:R500,\"B\")","v":2},{"$f":"COUNTIF('[1]Testee answer 2011'!S496:S500,\"B\")","v":1},{"$f":"COUNTIF('[1]Testee answer 2011'!T496:T500,\"B\")","v":1},{"$f":"COUNTIF('[1]Testee answer 2011'!U496:U500,\"B\")","v":2},{"$f":"COUNTIF('[1]Testee answer 2011'!V496:V500,\"B\")","v":0},{"$f":"COUNTIF('[1]Testee answer 2011'!W496:W500,\"B\")","v":2},{"$f":"COUNTIF('[1]Testee answer 2011'!X496:X500,\"B\")","v":0},{"$f":"COUNTIF('[1]Testee answer 2011'!Y496:Y500,\"B\")","v":1},{"$f":"COUNTIF('[1]Testee answer 2011'!Z496:Z500,\"B\")","v":0},{"$f":"COUNTIF('[1]Testee answer 2011'!AA496:AA500,\"B\")","v":1},{"$f":"COUNTIF('[1]Testee answer 2011'!AB496:AB500,\"B\")","v":0},{"$f":"COUNTIF('[1]Testee answer 2011'!AC496:AC500,\"B\")","v":0},{"$f":"COUNTIF('[1]Testee answer 2011'!AD496:AD500,\"B\")","v":1},{"$f":"COUNTIF('[1]Testee answer 2011'!AE496:AE500,\"B\")","v":0},{"$f":"COUNTIF('[1]Testee answer 2011'!AF496:AF500,\"B\")","v":0},{"$f":"COUNTIF('[1]Testee answer 2011'!AG496:AG500,\"B\")","v":0},{"$f":"COUNTIF('[1]Testee answer 2011'!AH496:AH500,\"B\")","v":4},{"$f":"COUNTIF('[1]Testee answer 2011'!AI496:AI500,\"B\")","v":3},{"$f":"COUNTIF('[1]Testee answer 2011'!AJ496:AJ500,\"B\")","v":0},{"$f":"COUNTIF('[1]Testee answer 2011'!AK496:AK500,\"B\")","v":2},{"$f":"COUNTIF('[1]Testee answer 2011'!AL496:AL500,\"B\")","v":0},{"$f":"COUNTIF('[1]Testee answer 2011'!AM496:AM500,\"B\")","v":0},{"$f":"COUNTIF('[1]Testee answer 2011'!AN496:AN500,\"B\")","v":1},{"$f":"COUNTIF('[1]Testee answer 2011'!AO496:AO500,\"B\")","v":5},{"$f":"COUNTIF('[1]Testee answer 2011'!AP496:AP500,\"B\")","v":3},{"$f":"COUNTIF('[1]Testee answer 2011'!AQ496:AQ500,\"B\")","v":3},{"$f":"COUNTIF('[1]Testee answer 2011'!AR496:AR500,\"B\")","v":4},{"$f":"COUNTIF('[1]Testee answer 2011'!AS496:AS500,\"B\")","v":5},{"$f":"COUNTIF('[1]Testee answer 2011'!AT496:AT500,\"B\")","v":0},{"$f":"COUNTIF('[1]Testee answer 2011'!AU496:AU500,\"B\")","v":0},{"$f":"COUNTIF('[1]Testee answer 2011'!AV496:AV500,\"B\")","v":1},{"$f":"COUNTIF('[1]Testee answer 2011'!AW496:AW500,\"B\")","v":2},{"$f":"COUNTIF('[1]Testee answer 2011'!AX496:AX500,\"B\")","v":2},{"$f":"COUNTIF('[1]Testee answer 2011'!AY496:AY500,\"B\")","v":1},{"$f":"COUNTIF('[1]Testee answer 2011'!AZ496:AZ500,\"B\")","v":2},{"$f":"COUNTIF('[1]Testee answer 2011'!BA496:BA500,\"B\")","v":0},{"$f":"COUNTIF('[1]Testee answer 2011'!BB496:BB500,\"B\")","v":3},{"$f":"COUNTIF('[1]Testee answer 2011'!BC496:BC500,\"B\")","v":5},{"$f":"COUNTIF('[1]Testee answer 2011'!BD496:BD500,\"B\")","v":5},{"$f":"COUNTIF('[1]Testee answer 2011'!BE496:BE500,\"B\")","v":1},{"$f":"COUNTIF('[1]Testee answer 2011'!BF496:BF500,\"B\")","v":5},{"$f":"COUNTIF('[1]Testee answer 2011'!BG496:BG500,\"B\")","v":0},{"$f":"COUNTIF('[1]Testee answer 2011'!BH496:BH500,\"B\")","v":2},{"$f":"COUNTIF('[1]Testee answer 2011'!BI496:BI500,\"B\")","v":5}]
["BALK5",{"$f":"COUNTIF('[1]Testee answer 2011'!D496:D500,\"C\")","v":5},{"$f":"COUNTIF('[1]Testee answer 2011'!E496:E500,\"C\")","v":0},{"$f":"COUNTIF('[1]Testee answer 2011'!F496:F500,\"C\")","v":0},{"$f":"COUNTIF('[1]Testee answer 2011'!G496:G500,\"C\")","v":0},{"$f":"COUNTIF('[1]Testee answer 2011'!H496:H500,\"C\")","v":1},{"$f":"COUNTIF('[1]Testee answer 2011'!I496:I500,\"C\")","v":1},{"$f":"COUNTIF('[1]Testee answer 2011'!J496:J500,\"C\")","v":0},{"$f":"COUNTIF('[1]Testee answer 2011'!K496:K500,\"C\")","v":1},{"$f":"COUNTIF('[1]Testee answer 2011'!L496:L500,\"C\")","v":0},{"$f":"COUNTIF('[1]Testee answer 2011'!M496:M500,\"C\")","v":1},{"$f":"COUNTIF('[1]Testee answer 2011'!N496:N500,\"C\")","v":2},{"$f":"COUNTIF('[1]Testee answer 2011'!O496:O500,\"C\")","v":3},{"$f":"COUNTIF('[1]Testee answer 2011'!P496:P500,\"C\")","v":2},{"$f":"COUNTIF('[1]Testee answer 2011'!Q496:Q500,\"C\")","v":1},{"$f":"COUNTIF('[1]Testee answer 2011'!R496:R500,\"C\")","v":2},{"$f":"COUNTIF('[1]Testee answer 2011'!S496:S500,\"C\")","v":1},{"$f":"COUNTIF('[1]Testee answer 2011'!T496:T500,\"C\")","v":0},{"$f":"COUNTIF('[1]Testee answer 2011'!U496:U500,\"C\")","v":2},{"$f":"COUNTIF('[1]Testee answer 2011'!V496:V500,\"C\")","v":4},{"$f":"COUNTIF('[1]Testee answer 2011'!W496:W500,\"C\")","v":2},{"$f":"COUNTIF('[1]Testee answer 2011'!X496:X500,\"C\")","v":3},{"$f":"COUNTIF('[1]Testee answer 2011'!Y496:Y500,\"C\")","v":2},{"$f":"COUNTIF('[1]Testee answer 2011'!Z496:Z500,\"C\")","v":4},{"$f":"COUNTIF('[1]Testee answer 2011'!AA496:AA500,\"C\")","v":2},{"$f":"COUNTIF('[1]Testee answer 2011'!AB496:AB500,\"C\")","v":1},{"$f":"COUNTIF('[1]Testee answer 2011'!AC496:AC500,\"C\")","v":2},{"$f":"COUNTIF('[1]Testee answer 2011'!AD496:AD500,\"C\")","v":3},{"$f":"COUNTIF('[1]Testee answer 2011'!AE496:AE500,\"C\")","v":2},{"$f":"COUNTIF('[1]Testee answer 2011'!AF496:AF500,\"C\")","v":1},{"$f":"COUNTIF('[1]Testee answer 2011'!AG496:AG500,\"C\")","v":1},{"$f":"COUNTIF('[1]Testee answer 2011'!AH496:AH500,\"C\")","v":1},{"$f":"COUNTIF('[1]Testee answer 2011'!AI496:AI500,\"C\")","v":1},{"$f":"COUNTIF('[1]Testee answer 2011'!AJ496:AJ500,\"C\")","v":3},{"$f":"COUNTIF('[1]Testee answer 2011'!AK496:AK500,\"C\")","v":1},{"$f":"COUNTIF('[1]Testee answer 2011'!AL496:AL500,\"C\")","v":2},{"$f":"COUNTIF('[1]Testee answer 2011'!AM496:AM500,\"C\")","v":2},{"$f":"COUNTIF('[1]Testee answer 2011'!AN496:AN500,\"C\")","v":1},{"$f":"COUNTIF('[1]Testee answer 2011'!AO496:AO500,\"C\")","v":0},{"$f":"COUNTIF('[1]Testee answer 2011'!AP496:AP500,\"C\")","v":0},{"$f":"COUNTIF('[1]Testee answer 2011'!AQ496:AQ500,\"C\")","v":0},{"$f":"COUNTIF('[1]Testee answer 2011'!AR496:AR500,\"C\")","v":0},{"$f":"COUNTIF('[1]Testee answer 2011'!AS496:AS500,\"C\")","v":0},{"$f":"COUNTIF('[1]Testee answer 2011'!AT496:AT500,\"C\")","v":2},{"$f":"COUNTIF('[1]Testee answer 2011'!AU496:AU500,\"C\")","v":0},{"$f":"COUNTIF('[1]Testee answer 2011'!AV496:AV500,\"C\")","v":2},{"$f":"COUNTIF('[1]Testee answer 2011'!AW496:AW500,\"C\")","v":1},{"$f":"COUNTIF('[1]Testee answer 2011'!AX496:AX500,\"C\")","v":1},{"$f":"COUNTIF('[1]Testee answer 2011'!AY496:AY500,\"C\")","v":2},{"$f":"COUNTIF('[1]Testee answer 2011'!AZ496:AZ500,\"C\")","v":1},{"$f":"COUNTIF('[1]Testee answer 2011'!BA496:BA500,\"C\")","v":0},{"$f":"COUNTIF('[1]Testee answer 2011'!BB496:BB500,\"C\")","v":0},{"$f":"COUNTIF('[1]Testee answer 2011'!BC496:BC500,\"C\")","v":0},{"$f":"COUNTIF('[1]Testee answer 2011'!BD496:BD500,\"C\")","v":0},{"$f":"COUNTIF('[1]Testee answer 2011'!BE496:BE500,\"C\")","v":0},{"$f":"COUNTIF('[1]Testee answer 2011'!BF496:BF500,\"C\")","v":0},{"$f":"COUNTIF('[1]Testee answer 2011'!BG496:BG500,\"C\")","v":0},{"$f":"COUNTIF('[1]Testee answer 2011'!BH496:BH500,\"C\")","v":0},{"$f":"COUNTIF('[1]Testee answer 2011'!BI496:BI500,\"C\")","v":0}]
["BALK5",{"$f":"COUNTIF('[1]Testee answer 2011'!D496:D500,\"D\")","v":0},{"$f":"COUNTIF('[1]Testee answer 2011'!E496:E500,\"D\")","v":0},{"$f":"COUNTIF('[1]Testee answer 2011'!F496:F500,\"D\")","v":0},{"$f":"COUNTIF('[1]Testee answer 2011'!G496:G500,\"D\")","v":0},{"$f":"COUNTIF('[1]Testee answer 2011'!H496:H500,\"D\")","v":1},{"$f":"COUNTIF('[1]Testee answer 2011'!I496:I500,\"D\")","v":0},{"$f":"COUNTIF('[1]Testee answer 2011'!J496:J500,\"D\")","v":0},{"$f":"COUNTIF('[1]Testee answer 2011'!K496:K500,\"D\")","v":0},{"$f":"COUNTIF('[1]Testee answer 2011'!L496:L500,\"D\")","v":0},{"$f":"COUNTIF('[1]Testee answer 2011'!M496:M500,\"D\")","v":0},{"$f":"COUNTIF('[1]Testee answer 2011'!N496:N500,\"D\")","v":0},{"$f":"COUNTIF('[1]Testee answer 2011'!O496:O500,\"D\")","v":0},{"$f":"COUNTIF('[1]Testee answer 2011'!P496:P500,\"D\")","v":1},{"$f":"COUNTIF('[1]Testee answer 2011'!Q496:Q500,\"D\")","v":3},{"$f":"COUNTIF('[1]Testee answer 2011'!R496:R500,\"D\")","v":1},{"$f":"COUNTIF('[1]Testee answer 2011'!S496:S500,\"D\")","v":3},{"$f":"COUNTIF('[1]Testee answer 2011'!T496:T500,\"D\")","v":3},{"$f":"COUNTIF('[1]Testee answer 2011'!U496:U500,\"D\")","v":1},{"$f":"COUNTIF('[1]Testee answer 2011'!V496:V500,\"D\")","v":1},{"$f":"COUNTIF('[1]Testee answer 2011'!W496:W500,\"D\")","v":1},{"$f":"COUNTIF('[1]Testee answer 2011'!X496:X500,\"D\")","v":1},{"$f":"COUNTIF('[1]Testee answer 2011'!Y496:Y500,\"D\")","v":1},{"$f":"COUNTIF('[1]Testee answer 2011'!Z496:Z500,\"D\")","v":0},{"$f":"COUNTIF('[1]Testee answer 2011'!AA496:AA500,\"D\")","v":0},{"$f":"COUNTIF('[1]Testee answer 2011'!AB496:AB500,\"D\")","v":4},{"$f":"COUNTIF('[1]Testee answer 2011'!AC496:AC500,\"D\")","v":2},{"$f":"COUNTIF('[1]Testee answer 2011'!AD496:AD500,\"D\")","v":1},{"$f":"COUNTIF('[1]Testee answer 2011'!AE496:AE500,\"D\")","v":2},{"$f":"COUNTIF('[1]Testee answer 2011'!AF496:AF500,\"D\")","v":4},{"$f":"COUNTIF('[1]Testee answer 2011'!AG496:AG500,\"D\")","v":3},{"$f":"COUNTIF('[1]Testee answer 2011'!AH496:AH500,\"D\")","v":0},{"$f":"COUNTIF('[1]Testee answer 2011'!AI496:AI500,\"D\")","v":0},{"$f":"COUNTIF('[1]Testee answer 2011'!AJ496:AJ500,\"D\")","v":2},{"$f":"COUNTIF('[1]Testee answer 2011'!AK496:AK500,\"D\")","v":0},{"$f":"COUNTIF('[1]Testee answer 2011'!AL496:AL500,\"D\")","v":3},{"$f":"COUNTIF('[1]Testee answer 2011'!AM496:AM500,\"D\")","v":3},{"$f":"COUNTIF('[1]Testee answer 2011'!AN496:AN500,\"D\")","v":1},{"$f":"COUNTIF('[1]Testee answer 2011'!AO496:AO500,\"D\")","v":0},{"$f":"COUNTIF('[1]Testee answer 2011'!AP496:AP500,\"D\")","v":0},{"$f":"COUNTIF('[1]Testee answer 2011'!AQ496:AQ500,\"D\")","v":0},{"$f":"COUNTIF('[1]Testee answer 2011'!AR496:AR500,\"D\")","v":0},{"$f":"COUNTIF('[1]Testee answer 2011'!AS496:AS500,\"D\")","v":0},{"$f":"COUNTIF('[1]Testee answer 2011'!AT496:AT500,\"D\")","v":2},{"$f":"COUNTIF('[1]Testee answer 2011'!AU496:AU500,\"D\")","v":5},{"$f":"COUNTIF('[1]Testee answer 2011'!AV496:AV500,\"D\")","v":1},{"$f":"COUNTIF('[1]Testee answer 2011'!AW496:AW500,\"D\")","v":1},{"$f":"COUNTIF('[1]Testee answer 2011'!AX496:AX500,\"D\")","v":0},{"$f":"COUNTIF('[1]Testee answer 2011'!AY496:AY500,\"D\")","v":1},{"$f":"COUNTIF('[1]Testee answer 2011'!AZ496:AZ500,\"D\")","v":1},{"$f":"COUNTIF('[1]Testee answer 2011'!BA496:BA500,\"D\")","v":0},{"$f":"COUNTIF('[1]Testee answer 2011'!BB496:BB500,\"D\")","v":0},{"$f":"COUNTIF('[1]Testee answer 2011'!BC496:BC500,\"D\")","v":0},{"$f":"COUNTIF('[1]Testee answer 2011'!BD496:BD500,\"D\")","v":0},{"$f":"COUNTIF('[1]Testee answer 2011'!BE496:BE500,\"D\")","v":0},{"$f":"COUNTIF('[1]Testee answer 2011'!BF496:BF500,\"D\")","v":0},{"$f":"COUNTIF('[1]Testee answer 2011'!BG496:BG500,\"D\")","v":0},{"$f":"COUNTIF('[1]Testee answer 2011'!BH496:BH500,\"D\")","v":0},{"$f":"COUNTIF('[1]Testee answer 2011'!BI496:BI500,\"D\")","v":0}]

{"sheet":"Лист4","index":9,"n_rows":22,"n_cols":60,"rows_kept":22,"cut":false,"hidden":false,"merged":[]}
[]
["ВЪПРОСИ","3. Курс","4. Пол","5. Посещение на лекции","6. Посещение на упражнения","7. Ако не сте посещавали занятия, коя е причината за това","8. Успех от следването до момента","9. познавам квалификационната характеристика на специалността си","10. познавам учебния план, по който се обучавате","11. познавам учебните програми на дисциплините, които изучаваме","12.обучението помага на развитието на общата Ви култура","13. помага на професионалната Ви подготовка","14. лекциите и упражненията са актуални и отразяват постиженията на науката","15. те са актуални и ориентирани към потребностите на практиката","16. лекциите и упражненията са анахронични и самоцелни","17. обучението е добро и дава възможност за самостоятелна работа","18. то е напрегнато и ограничава възможностите за самостоятелна работа","19. учебната програма е съобразена по-скоро с интересите и възможностите на преподавателите, отколкото с тези на студентите","20. съдържателни и интересни","21. скучни и безинтересни","22. способност за творческо мислене","23. способност за вземане на решения","24. умения за работа в екип","25. комуникативни умения","26. полезни и необходими","27. самоцелни и безполезни","28. библиотеките в Университета разполага с необходимата Ви литература","29. услугите са достъпни за Вас","30. административното обслужване е на добро равнище","31. в Университета има условия за спорт","32. социалните условия (стипендии, общежития. стол, почивна база) са добре решени","33. преподавателите Ви са добре подготвени и познават новостите в научната област, в която работят","34. преподавателите Ви са толерантни, комуникативни и мотивирани в работата си със студентите","35. има корумпирани преподаватели","36. има корумпирани служители","37. материалната база е добра","38. учебно-техническите средства са съвременни и подпомагат учебния процес","39. учебниците и учебно-помощните материали са достъпни и подпомагат обучението Ви","40. публични лекции, срещи с представители на науката, политиката, бизнеса културата","41. студентски творчески инициативи","42. програми за обмен на студенти","43. дискусии, кръгли маси, конференции","44. проекти на преподавателските екипи","45. научните изследвания на вашите преподаватели","46. научно-изследователска програма на Факултета","47. научните издания на факултета","48. преподава на академично равнище","49. работи с добре подготвени и отдадени на работата си преподаватели","50. толерира творчеството, инициативата, самостоятелното мислене","51. уважават индивидуалните способности и насърчава индивидуалното развитие на студентите","52. има възможност да получите образование по предпочитана специалност","53. родителите Ви настояват да продължите образованието си","54. приятелите и съучениците Ви учат тук","55. е в района, в който сте роден(а) и живеете","56. е висше училище с традиции и авторитет","57. били потърпевш на корупционен натиск","58. чували, че има корумпирани преподаватели и служители, но не сте се сблъсквали лично с корупция в Университета","59. сигурни, че има корумпирани преподаватели и служители в ПУ","60. сигурни, че няма корумпирани преподаватели и служители в ПУ"]
[null," A = І"," A = МЪЖ"," A = Всички"," A = Всички"," A = Посещавал съм"," A = Отличен"," A = ДА "," A = ДА "," A = ДА "," A = ДА"," A = ДА"," A = ДА"," A = ДА"," A = ДА"," A = ДА"," A = ДА"," A = ДА"," A = ДА"," A = ДА"," A = ДА"," A = ДА"," A = ДА"," A = ДА"," A = ДА"," A = ДА"," A = ДА"," A = ДА"," A = ДА"," A = ДА"," A = ДА"," A = ДА"," A = ДА"," A = ДА"," A = ДА"," A = ДА"," A = ДА"," A = ДА"," A = ДА"," A = ДА"," A = ДА"," A = ДА"," A = ДА"," A = ДА"," A = ДА"," A = ДА"," A = ДА"," A = ДА"," A = ДА"," A = ДА"," A = ДА"," A = ДА"," A = ДА"," A = ДА"," A = ДА"," A = ДА"," A = ДА"," A = ДА"," A = ДА"]
[null,"B = ІІ","B = ЖЕНА","B = Голяма част ","B = Голяма част ","B = Работя и уча","B = Много добър","B = ЧАСТИЧНО","B = ЧАСТИЧНО","B = ЧАСТИЧНО","B = Във висока степен ","B = Във висока степен ","B = Във висока степен ","B = Във висока степен ","B = Във висока степен ","B = Във висока степен ","B = Във висока степен ","B = Във висока степен ","B = Във висока степен ","B = Във висока степен ","B = Във висока степен ","B = Във висока степен ","B = Във висока степен ","B = Във висока степен ","B = Във висока степен ","B = Във висока степен ","B = Във висока степен ","B = Във висока степен ","B = Във висока степен ","B = Във висока степен ","B = Във висока степен ","B = Във висока степен ","B = Във висока степен ","B = Във висока степен ","B = Във висока степен ","B = Във висока степен ","B = Във висока степен ","B = Във висока степен ","B = НЕ","B = НЕ","B = НЕ","B = НЕ","B = НЕ","B = Във висока степен ","B = Във висока степен ","B = Във висока степен ","B = Във висока степен ","B = Във висока степен ","B = Във висока степен ","B = Във висока степен ","B = НЕ","B = НЕ","B = НЕ ","B = НЕ ","B = НЕ","B = НЕ ","B = НЕ","B = НЕ","B = НЕ"]
[null,"C = ІІІ             D = ІV",null,"C = Малка част","C = Малка част","C = Безинтересни са","C = Добър","C = НЕ","C = НЕ","C = НЕ","C = В известна степен","C = В известна степен","C = В известна степен","C = В известна степен","C = В известна степен","C = В известна степен","C = В известна степен","C = В известна степен","C = В известна степен","C = В известна степен","C = В известна степен","C = В известна степен","C = В известна степен","C = В известна степен","C = В известна степен","C = В известна степен","C = В известна степен","C = В известна степен","C = В известна степен","C = В известна степен","C = В известна степен","C = В известна степен","C = В известна степен","C = В известна степен","C = В известна степен","C = В известна степен","C = В известна степен","C = В известна степен",null,null,null,null,null,"C = В известна степен","C = В известна степен","C = В известна степен","C = В известна степен","C = В известна степен","C = В известна степен","C = В известна степен"]
[null,"E = V",null," D = Нито една"," D = Нито едно","D = Мога да се подготвя сам","D = Среден",null,null,null," D = НЕ"," D = НЕ"," D = НЕ"," D = НЕ"," D = НЕ"," D = НЕ"," D = НЕ"," D = НЕ"," D = НЕ"," D = НЕ"," D = НЕ"," D = НЕ"," D = НЕ  "," D = НЕ"," D = НЕ"," D = НЕ"," D = НЕ"," D = НЕ"," D = НЕ"," D = НЕ"," D = НЕ"," D = НЕ"," D = НЕ"," D = НЕ"," D = НЕ"," D = НЕ"," D = НЕ"," D = НЕ",null,null,null,null,null," D = НЕ"," D = НЕ"," D = НЕ"," D = НЕ"," D = НЕ"," D = НЕ"," D = НЕ"]
[{"$f":"Анкета!A47","v":"BF1"},{"$f":"Анкета!B47","v":40},{"$f":"Анкета!C47","v":13},{"$f":"Анкета!D47","v":7},{"$f":"Анкета!E47","v":23},{"$f":"Анкета!F47","v":20},{"$f":"Анкета!G47","v":0},{"$f":"Анкета!H47","v":24},{"$f":"Анкета!I47","v":19},{"$f":"Анкета!J47","v":20},{"$f":"Анкета!K47","v":22},{"$f":"Анкета!L47","v":9},{"$f":"Анкета!M47","v":8},{"$f":"Анкета!N47","v":2},{"$f":"Анкета!O47","v":2},{"$f":"Анкета!P47","v":8},{"$f":"Анкета!Q47","v":3},{"$f":"Анкета!R47","v":9},{"$f":"Анкета!S47","v":7},{"$f":"Анкета!T47","v":1},{"$f":"Анкета!U47","v":6},{"$f":"Анкета!V47","v":4},{"$f":"Анкета!W47","v":3},{"$f":"Анкета!X47","v":9},{"$f":"Анкета!Y47","v":23},{"$f":"Анкета!Z47","v":2},{"$f":"Анкета!AA47","v":3},{"$f":"Анкета!AB47","v":16},{"$f":"Анкета!AC47","v":7},{"$f":"Анкета!AD47","v":2},{"$f":"Анкета!AE47","v":5},{"$f":"Анкета!AF47","v":19},{"$f":"Анкета!AG47","v":10},{"$f":"Анкета!AH47","v":11},{"$f":"Анкета!AI47","v":6},{"$f":"Анкета!AJ47","v":3},{"$f":"Анкета!AK47","v":3},{"$f":"Анкета!AL47","v":7},{"$f":"Анкета!AM47","v":11},{"$f":"Анкета!AN47","v":9},{"$f":"Анкета!AO47","v":4},{"$f":"Анкета!AP47","v":2},{"$f":"Анкета!AQ47","v":1},{"$f":"Анкета!AR47","v":2},{"$f":"Анкета!AS47","v":2},{"$f":"Анкета!AT47","v":2},{"$f":"Анкета!AU47","v":15},{"$f":"Анкета!AV47","v":15},{"$f":"Анкета!AW47","v":8},{"$f":"Анкета!AX47","v":7},{"$f":"Анкета!AY47","v":36},{"$f":"Анкета!AZ47","v":15},{"$f":"Анкета!BA47","v":10},{"$f":"Анкета!BB47","v":14},{"$f":"Анкета!BC47","v":34},{"$f":"Анкета!BD47","v":0},{"$f":"Анкета!BE47","v":31},{"$f":"Анкета!BF47","v":14},{"$f":"Анкета!BG47","v":4},{"$f":"Анкета!BH47","v":0}]
[{"$f":"Анкета!A48","v":"BF1"},{"$f":"Анкета!B48","v":0},{"$f":"Анкета!C48","v":27},{"$f":"Анкета!D48","v":26},{"$f":"Анкета!E48","v":16},{"$f":"Анкета!F48","v":13},{"$f":"Анкета!G48","v":14},{"$f":"Анкета!H48","v":12},{"$f":"Анкета!I48","v":19},{"$f":"Анкета!J48","v":18},{"$f":"Анкета!K48","v":13},{"$f":"Анкета!L48","v":17},{"$f":"Анкета!M48","v":15},{"$f":"Анкета!N48","v":15},{"$f":"Анкета!O48","v":4},{"$f":"Анкета!P48","v":15},{"$f":"Анкета!Q48","v":9},{"$f":"Анкета!R48","v":3},{"$f":"Анкета!S48","v":12},{"$f":"Анкета!T48","v":4},{"$f":"Анкета!U48","v":14},{"$f":"Анкета!V48","v":8},{"$f":"Анкета!W48","v":4},{"$f":"Анкета!X48","v":9},{"$f":"Анкета!Y48","v":8},{"$f":"Анкета!Z48","v":0},{"$f":"Анкета!AA48","v":14},{"$f":"Анкета!AB48","v":5},{"$f":"Анкета!AC48","v":8},{"$f":"Анкета!AD48","v":4},{"$f":"Анкета!AE48","v":8},{"$f":"Анкета!AF48","v":14},{"$f":"Анкета!AG48","v":15},{"$f":"Анкета!AH48","v":3},{"$f":"Анкета!AI48","v":4},{"$f":"Анкета!AJ48","v":10},{"$f":"Анкета!AK48","v":4},{"$f":"Анкета!AL48","v":12},{"$f":"Анкета!AM48","v":29},{"$f":"Анкета!AN48","v":31},{"$f":"Анкета!AO48","v":36},{"$f":"Анкета!AP48","v":38},{"$f":"Анкета!AQ48","v":39},{"$f":"Анкета!AR48","v":9},{"$f":"Анкета!AS48","v":2},{"$f":"Анкета!AT48","v":1},{"$f":"Анкета!AU48","v":16},{"$f":"Анкета!AV48","v":15},{"$f":"Анкета!AW48","v":10},{"$f":"Анкета!AX48","v":9},{"$f":"Анкета!AY48","v":4},{"$f":"Анкета!AZ48","v":25},{"$f":"Анкета!BA48","v":30},{"$f":"Анкета!BB48","v":26},{"$f":"Анкета!BC48","v":6},{"$f":"Анкета!BD48","v":40},{"$f":"Анкета!BE48","v":9},{"$f":"Анкета!BF48","v":26},{"$f":"Анкета!BG48","v":36},{"$f":"Анкета!BH48","v":0}]
[{"$f":"Анкета!A49","v":"BF1"},{"$f":"Анкета!B49","v":0},{"$f":"Анкета!C49","v":0},{"$f":"Анкета!D49","v":7},{"$f":"Анкета!E49","v":1},{"$f":"Анкета!F49","v":4},{"$f":"Анкета!G49","v":19},{"$f":"Анкета!H49","v":4},{"$f":"Анкета!I49","v":2},{"$f":"Анкета!J49","v":2},{"$f":"Анкета!K49","v":5},{"$f":"Анкета!L49","v":14},{"$f":"Анкета!M49","v":14},{"$f":"Анкета!N49","v":19},{"$f":"Анкета!O49","v":18},{"$f":"Анкета!P49","v":7},{"$f":"Анкета!Q49","v":12},{"$f":"Анкета!R49","v":16},{"$f":"Анкета!S49","v":20},{"$f":"Анкета!T49","v":13},{"$f":"Анкета!U49","v":14},{"$f":"Анкета!V49","v":22},{"$f":"Анкета!W49","v":24},{"$f":"Анкета!X49","v":18},{"$f":"Анкета!Y49","v":9},{"$f":"Анкета!Z49","v":6},{"$f":"Анкета!AA49","v":17},{"$f":"Анкета!AB49","v":17},{"$f":"Анкета!AC49","v":16},{"$f":"Анкета!AD49","v":16},{"$f":"Анкета!AE49","v":18},{"$f":"Анкета!AF49","v":6},{"$f":"Анкета!AG49","v":10},{"$f":"Анкета!AH49","v":10},{"$f":"Анкета!AI49","v":14},{"$f":"Анкета!AJ49","v":22},{"$f":"Анкета!AK49","v":21},{"$f":"Анкета!AL49","v":12},{"$f":"Анкета!AM49","v":0},{"$f":"Анкета!AN49","v":0},{"$f":"Анкета!AO49","v":0},{"$f":"Анкета!AP49","v":0},{"$f":"Анкета!AQ49","v":0},{"$f":"Анкета!AR49","v":11},{"$f":"Анкета!AS49","v":10},{"$f":"Анкета!AT49","v":16},{"$f":"Анкета!AU49","v":7},{"$f":"Анкета!AV49","v":10},{"$f":"Анкета!AW49","v":16},{"$f":"Анкета!AX49","v":10},{"$f":"Анкета!AY49","v":0},{"$f":"Анкета!AZ49","v":0},{"$f":"Анкета!BA49","v":0},{"$f":"Анкета!BB49","v":0},{"$f":"Анкета!BC49","v":0},{"$f":"Анкета!BD49","v":0},{"$f":"Анкета!BE49","v":0},{"$f":"Анкета!BF49","v":0},{"$f":"Анкета!BG49","v":0},{"$f":"Анкета!BH49","v":0}]
[{"$f":"Анкета!A50","v":"BF1"},{"$f":"Анкета!B50","v":0},{"$f":"Анкета!C50","v":0},{"$f":"Анкета!D50","v":0},{"$f":"Анкета!E50","v":0},{"$f":"Анкета!F50","v":3},{"$f":"Анкета!G50","v":7},{"$f":"Анкета!H50","v":0},{"$f":"Анкета!I50","v":0},{"$f":"Анкета!J50","v":0},{"$f":"Анкета!K50","v":0},{"$f":"Анкета!L50","v":0},{"$f":"Анкета!M50","v":3},{"$f":"Анкета!N50","v":4},{"$f":"Анкета!O50","v":16},{"$f":"Анкета!P50","v":10},{"$f":"Анкета!Q50","v":16},{"$f":"Анкета!R50","v":12},{"$f":"Анкета!S50","v":1},{"$f":"Анкета!T50","v":22},{"$f":"Анкета!U50","v":6},{"$f":"Анкета!V50","v":6},{"$f":"Анкета!W50","v":9},{"$f":"Анкета!X50","v":4},{"$f":"Анкета!Y50","v":0},{"$f":"Анкета!Z50","v":32},{"$f":"Анкета!AA50","v":6},{"$f":"Анкета!AB50","v":2},{"$f":"Анкета!AC50","v":9},{"$f":"Анкета!AD50","v":18},{"$f":"Анкета!AE50","v":9},{"$f":"Анкета!AF50","v":1},{"$f":"Анкета!AG50","v":5},{"$f":"Анкета!AH50","v":16},{"$f":"Анкета!AI50","v":16},{"$f":"Анкета!AJ50","v":5},{"$f":"Анкета!AK50","v":12},{"$f":"Анкета!AL50","v":9},{"$f":"Анкета!AM50","v":0},{"$f":"Анкета!AN50","v":0},{"$f":"Анкета!AO50","v":0},{"$f":"Анкета!AP50","v":0},{"$f":"Анкета!AQ50","v":0},{"$f":"Анкета!AR50","v":18},{"$f":"Анкета!AS50","v":26},{"$f":"Анкета!AT50","v":21},{"$f":"Анкета!AU50","v":2},{"$f":"Анкета!AV50","v":0},{"$f":"Анкета!AW50","v":6},{"$f":"Анкета!AX50","v":14},{"$f":"Анкета!AY50","v":0},{"$f":"Анкета!AZ50","v":0},{"$f":"Анкета!BA50","v":0},{"$f":"Анкета!BB50","v":0},{"$f":"Анкета!BC50","v":0},{"$f":"Анкета!BD50","v":0},{"$f":"Анкета!BE50","v":0},{"$f":"Анкета!BF50","v":0},{"$f":"Анкета!BG50","v":0},{"$f":"Анкета!BH50","v":0}]
[{"$f":"Анкета!A51","v":"BF2"},{"$f":"Анкета!B51","v":0},{"$f":"Анкета!C51","v":5},{"$f":"Анкета!D51","v":9},{"$f":"Анкета!E51","v":13},{"$f":"Анкета!F51","v":19},{"$f":"Анкета!G51","v":1},{"$f":"Анкета!H51","v":12},{"$f":"Анкета!I51","v":15},{"$f":"Анкета!J51","v":18},{"$f":"Анкета!K51","v":16},{"$f":"Анкета!L51","v":9},{"$f":"Анкета!M51","v":2},{"$f":"Анкета!N51","v":3},{"$f":"Анкета!O51","v":2},{"$f":"Анкета!P51","v":5},{"$f":"Анкета!Q51","v":6},{"$f":"Анкета!R51","v":10},{"$f":"Анкета!S51","v":6},{"$f":"Анкета!T51","v":1},{"$f":"Анкета!U51","v":2},{"$f":"Анкета!V51","v":3},{"$f":"Анкета!W51","v":8},{"$f":"Анкета!X51","v":8},{"$f":"Анкета!Y51","v":16},{"$f":"Анкета!Z51","v":3},{"$f":"Анкета!AA51","v":5},{"$f":"Анкета!AB51","v":12},{"$f":"Анкета!AC51","v":5},{"$f":"Анкета!AD51","v":0},{"$f":"Анкета!AE51","v":3},{"$f":"Анкета!AF51","v":9},{"$f":"Анкета!AG51","v":6},{"$f":"Анкета!AH51","v":10},{"$f":"Анкета!AI51","v":9},{"$f":"Анкета!AJ51","v":1},{"$f":"Анкета!AK51","v":5},{"$f":"Анкета!AL51","v":6},{"$f":"Анкета!AM51","v":7},{"$f":"Анкета!AN51","v":4},{"$f":"Анкета!AO51","v":2},{"$f":"Анкета!AP51","v":6},{"$f":"Анкета!AQ51","v":1},{"$f":"Анкета!AR51","v":0},{"$f":"Анкета!AS51","v":0},{"$f":"Анкета!AT51","v":2},{"$f":"Анкета!AU51","v":14},{"$f":"Анкета!AV51","v":5},{"$f":"Анкета!AW51","v":3},{"$f":"Анкета!AX51","v":3},{"$f":"Анкета!AY51","v":21},{"$f":"Анкета!AZ51","v":15},{"$f":"Анкета!BA51","v":4},{"$f":"Анкета!BB51","v":16},{"$f":"Анкета!BC51","v":23},{"$f":"Анкета!BD51","v":0},{"$f":"Анкета!BE51","v":24},{"$f":"Анкета!BF51","v":12},{"$f":"Анкета!BG51","v":3},{"$f":"Анкета!BH51","v":0}]
[{"$f":"Анкета!A52","v":"BF2"},{"$f":"Анкета!B52","v":25},{"$f":"Анкета!C52","v":23},{"$f":"Анкета!D52","v":17},{"$f":"Анкета!E52","v":14},{"$f":"Анкета!F52","v":5},{"$f":"Анкета!G52","v":13},{"$f":"Анкета!H52","v":15},{"$f":"Анкета!I52","v":11},{"$f":"Анкета!J52","v":5},{"$f":"Анкета!K52","v":8},{"$f":"Анкета!L52","v":6},{"$f":"Анкета!M52","v":12},{"$f":"Анкета!N52","v":7},{"$f":"Анкета!O52","v":2},{"$f":"Анкета!P52","v":5},{"$f":"Анкета!Q52","v":3},{"$f":"Анкета!R52","v":8},{"$f":"Анкета!S52","v":10},{"$f":"Анкета!T52","v":4},{"$f":"Анкета!U52","v":8},{"$f":"Анкета!V52","v":6},{"$f":"Анкета!W52","v":3},{"$f":"Анкета!X52","v":4},{"$f":"Анкета!Y52","v":5},{"$f":"Анкета!Z52","v":2},{"$f":"Анкета!AA52","v":11},{"$f":"Анкета!AB52","v":7},{"$f":"Анкета!AC52","v":3},{"$f":"Анкета!AD52","v":1},{"$f":"Анкета!AE52","v":4},{"$f":"Анкета!AF52","v":10},{"$f":"Анкета!AG52","v":4},{"$f":"Анкета!AH52","v":2},{"$f":"Анкета!AI52","v":3},{"$f":"Анкета!AJ52","v":7},{"$f":"Анкета!AK52","v":1},{"$f":"Анкета!AL52","v":4},{"$f":"Анкета!AM52","v":21},{"$f":"Анкета!AN52","v":24},{"$f":"Анкета!AO52","v":26},{"$f":"Анкета!AP52","v":22},{"$f":"Анкета!AQ52","v":27},{"$f":"Анкета!AR52","v":7},{"$f":"Анкета!AS52","v":1},{"$f":"Анкета!AT52","v":2},{"$f":"Анкета!AU52","v":7},{"$f":"Анкета!AV52","v":9},{"$f":"Анкета!AW52","v":7},{"$f":"Анкета!AX52","v":5},{"$f":"Анкета!AY52","v":7},{"$f":"Анкета!AZ52","v":13},{"$f":"Анкета!BA52","v":24},{"$f":"Анкета!BB52","v":12},{"$f":"Анкета!BC52","v":5},{"$f":"Анкета!BD52","v":28},{"$f":"Анкета!BE52","v":4},{"$f":"Анкета!BF52","v":16},{"$f":"Анкета!BG52","v":25},{"$f":"Анкета!BH52","v":0}]
[{"$f":"Анкета!A53","v":"BF2"},{"$f":"Анкета!B53","v":3},{"$f":"Анкета!C53","v":0},{"$f":"Анкета!D53","v":2},{"$f":"Анкета!E53","v":1},{"$f":"Анкета!F53","v":1},{"$f":"Анкета!G53","v":13},{"$f":"Анкета!H53","v":1},{"$f":"Анкета!I53","v":2},{"$f":"Анкета!J53","v":5},{"$f":"Анкета!K53","v":4},{"$f":"Анкета!L53","v":12},{"$f":"Анкета!M53","v":13},{"$f":"Анкета!N53","v":16},{"$f":"Анкета!O53","v":16},{"$f":"Анкета!P53","v":9},{"$f":"Анкета!Q53","v":9},{"$f":"Анкета!R53","v":4},{"$f":"Анкета!S53","v":11},{"$f":"Анкета!T53","v":13},{"$f":"Анкета!U53","v":11},{"$f":"Анкета!V53","v":11},{"$f":"Анкета!W53","v":6},{"$f":"Анкета!X53","v":7},{"$f":"Анкета!Y53","v":5},{"$f":"Анкета!Z53","v":3},{"$f":"Анкета!AA53","v":8},{"$f":"Анкета!AB53","v":5},{"$f":"Анкета!AC53","v":8},{"$f":"Анкета!AD53","v":5},{"$f":"Анкета!AE53","v":6},{"$f":"Анкета!AF53","v":9},{"$f":"Анкета!AG53","v":14},{"$f":"Анкета!AH53","v":7},{"$f":"Анкета!AI53","v":7},{"$f":"Анкета!AJ53","v":7},{"$f":"Анкета!AK53","v":10},{"$f":"Анкета!AL53","v":9},{"$f":"Анкета!AM53","v":0},{"$f":"Анкета!AN53","v":0},{"$f":"Анкета!AO53","v":0},{"$f":"Анкета!AP53","v":0},{"$f":"Анкета!AQ53","v":0},{"$f":"Анкета!AR53","v":12},{"$f":"Анкета!AS53","v":7},{"$f":"Анкета!AT53","v":9},{"$f":"Анкета!AU53","v":5},{"$f":"Анкета!AV53","v":12},{"$f":"Анкета!AW53","v":10},{"$f":"Анкета!AX53","v":7},{"$f":"Анкета!AY53","v":0},{"$f":"Анкета!AZ53","v":0},{"$f":"Анкета!BA53","v":0},{"$f":"Анкета!BB53","v":0},{"$f":"Анкета!BC53","v":0},{"$f":"Анкета!BD53","v":0},{"$f":"Анкета!BE53","v":0},{"$f":"Анкета!BF53","v":0},{"$f":"Анкета!BG53","v":0},{"$f":"Анкета!BH53","v":0}]
[{"$f":"Анкета!A54","v":"BF2"},{"$f":"Анкета!B54","v":0},{"$f":"Анкета!C54","v":0},{"$f":"Анкета!D54","v":0},{"$f":"Анкета!E54","v":0},{"$f":"Анкета!F54","v":3},{"$f":"Анкета!G54","v":1},{"$f":"Анкета!H54","v":0},{"$f":"Анкета!I54","v":0},{"$f":"Анкета!J54","v":0},{"$f":"Анкета!K54","v":0},{"$f":"Анкета!L54","v":1},{"$f":"Анкета!M54","v":1},{"$f":"Анкета!N54","v":2},{"$f":"Анкета!O54","v":8},{"$f":"Анкета!P54","v":9},{"$f":"Анкета!Q54","v":10},{"$f":"Анкета!R54","v":6},{"$f":"Анкета!S54","v":1},{"$f":"Анкета!T54","v":10},{"$f":"Анкета!U54","v":7},{"$f":"Анкета!V54","v":8},{"$f":"Анкета!W54","v":11},{"$f":"Анкета!X54","v":9},{"$f":"Анкета!Y54","v":2},{"$f":"Анкета!Z54","v":20},{"$f":"Анкета!AA54","v":4},{"$f":"Анкета!AB54","v":4},{"$f":"Анкета!AC54","v":12},{"$f":"Анкета!AD54","v":22},{"$f":"Анкета!AE54","v":15},{"$f":"Анкета!AF54","v":0},{"$f":"Анкета!AG54","v":4},{"$f":"Анкета!AH54","v":9},{"$f":"Анкета!AI54","v":9},{"$f":"Анкета!AJ54","v":13},{"$f":"Анкета!AK54","v":12},{"$f":"Анкета!AL54","v":9},{"$f":"Анкета!AM54","v":0},{"$f":"Анкета!AN54","v":0},{"$f":"Анкета!AO54","v":0},{"$f":"Анкета!AP54","v":0},{"$f":"Анкета!AQ54","v":0},{"$f":"Анкета!AR54","v":9},{"$f":"Анкета!AS54","v":20},{"$f":"Анкета!AT54","v":15},{"$f":"Анкета!AU54","v":2},{"$f":"Анкета!AV54","v":2},{"$f":"Анкета!AW54","v":8},{"$f":"Анкета!AX54","v":13},{"$f":"Анкета!AY54","v":0},{"$f":"Анкета!AZ54","v":0},{"$f":"Анкета!BA54","v":0},{"$f":"Анкета!BB54","v":0},{"$f":"Анкета!BC54","v":0},{"$f":"Анкета!BD54","v":0},{"$f":"Анкета!BE54","v":0},{"$f":"Анкета!BF54","v":0},{"$f":"Анкета!BG54","v":0},{"$f":"Анкета!BH54","v":0}]
[{"$f":"Анкета!A55","v":"BF3"},{"$f":"Анкета!B55","v":0},{"$f":"Анкета!C55","v":1},{"$f":"Анкета!D55","v":5},{"$f":"Анкета!E55","v":13},{"$f":"Анкета!F55","v":10},{"$f":"Анкета!G55","v":0},{"$f":"Анкета!H55","v":17},{"$f":"Анкета!I55","v":17},{"$f":"Анкета!J55","v":11},{"$f":"Анкета!K55","v":12},{"$f":"Анкета!L55","v":7},{"$f":"Анкета!M55","v":6},{"$f":"Анкета!N55","v":5},{"$f":"Анкета!O55","v":4},{"$f":"Анкета!P55","v":2},{"$f":"Анкета!Q55","v":6},{"$f":"Анкета!R55","v":14},{"$f":"Анкета!S55","v":4},{"$f":"Анкета!T55","v":2},{"$f":"Анкета!U55","v":5},{"$f":"Анкета!V55","v":3},{"$f":"Анкета!W55","v":3},{"$f":"Анкета!X55","v":6},{"$f":"Анкета!Y55","v":10},{"$f":"Анкета!Z55","v":2},{"$f":"Анкета!AA55","v":4},{"$f":"Анкета!AB55","v":7},{"$f":"Анкета!AC55","v":3},{"$f":"Анкета!AD55","v":1},{"$f":"Анкета!AE55","v":4},{"$f":"Анкета!AF55","v":10},{"$f":"Анкета!AG55","v":3},{"$f":"Анкета!AH55","v":9},{"$f":"Анкета!AI55","v":8},{"$f":"Анкета!AJ55","v":1},{"$f":"Анкета!AK55","v":1},{"$f":"Анкета!AL55","v":1},{"$f":"Анкета!AM55","v":12},{"$f":"Анкета!AN55","v":4},{"$f":"Анкета!AO55","v":4},{"$f":"Анкета!AP55","v":4},{"$f":"Анкета!AQ55","v":3},{"$f":"Анкета!AR55","v":2},{"$f":"Анкета!AS55","v":0},{"$f":"Анкета!AT55","v":1},{"$f":"Анкета!AU55","v":10},{"$f":"Анкета!AV55","v":4},{"$f":"Анкета!AW55","v":4},{"$f":"Анкета!AX55","v":4},{"$f":"Анкета!AY55","v":20},{"$f":"Анкета!AZ55","v":7},{"$f":"Анкета!BA55","v":3},{"$f":"Анкета!BB55","v":9},{"$f":"Анкета!BC55","v":18},{"$f":"Анкета!BD55","v":6},{"$f":"Анкета!BE55","v":16},{"$f":"Анкета!BF55","v":11},{"$f":"Анкета!BG55","v":0},{"$f":"Анкета!BH55","v":0}]
[{"$f":"Анкета!A56","v":"BF3"},{"$f":"Анкета!B56","v":0},{"$f":"Анкета!C56","v":20},{"$f":"Анкета!D56","v":14},{"$f":"Анкета!E56","v":8},{"$f":"Анкета!F56","v":5},{"$f":"Анкета!G56","v":15},{"$f":"Анкета!H56","v":3},{"$f":"Анкета!I56","v":4},{"$f":"Анкета!J56","v":9},{"$f":"Анкета!K56","v":6},{"$f":"Анкета!L56","v":10},{"$f":"Анкета!M56","v":8},{"$f":"Анкета!N56","v":3},{"$f":"Анкета!O56","v":1},{"$f":"Анкета!P56","v":3},{"$f":"Анкета!Q56","v":1},{"$f":"Анкета!R56","v":3},{"$f":"Анкета!S56","v":9},{"$f":"Анкета!T56","v":1},{"$f":"Анкета!U56","v":3},{"$f":"Анкета!V56","v":2},{"$f":"Анкета!W56","v":5},{"$f":"Анкета!X56","v":6},{"$f":"Анкета!Y56","v":3},{"$f":"Анкета!Z56","v":1},{"$f":"Анкета!AA56","v":4},{"$f":"Анкета!AB56","v":2},{"$f":"Анкета!AC56","v":1},{"$f":"Анкета!AD56","v":1},{"$f":"Анкета!AE56","v":0},{"$f":"Анкета!AF56","v":5},{"$f":"Анкета!AG56","v":3},{"$f":"Анкета!AH56","v":1},{"$f":"Анкета!AI56","v":1},{"$f":"Анкета!AJ56","v":4},{"$f":"Анкета!AK56","v":3},{"$f":"Анкета!AL56","v":6},{"$f":"Анкета!AM56","v":9},{"$f":"Анкета!AN56","v":17},{"$f":"Анкета!AO56","v":17},{"$f":"Анкета!AP56","v":17},{"$f":"Анкета!AQ56","v":18},{"$f":"Анкета!AR56","v":2},{"$f":"Анкета!AS56","v":3},{"$f":"Анкета!AT56","v":0},{"$f":"Анкета!AU56","v":7},{"$f":"Анкета!AV56","v":6},{"$f":"Анкета!AW56","v":2},{"$f":"Анкета!AX56","v":1},{"$f":"Анкета!AY56","v":1},{"$f":"Анкета!AZ56","v":14},{"$f":"Анкета!BA56","v":18},{"$f":"Анкета!BB56","v":12},{"$f":"Анкета!BC56","v":3},{"$f":"Анкета!BD56","v":15},{"$f":"Анкета!BE56","v":5},{"$f":"Анкета!BF56","v":10},{"$f":"Анкета!BG56","v":21},{"$f":"Анкета!BH56","v":0}]
[{"$f":"Анкета!A57","v":"BF3"},{"$f":"Анкета!B57","v":18},{"$f":"Анкета!C57","v":0},{"$f":"Анкета!D57","v":2},{"$f":"Анкета!E57","v":0},{"$f":"Анкета!F57","v":5},{"$f":"Анкета!G57","v":6},{"$f":"Анкета!H57","v":1},{"$f":"Анкета!I57","v":0},{"$f":"Анкета!J57","v":1},{"$f":"Анкета!K57","v":3},{"$f":"Анкета!L57","v":2},{"$f":"Анкета!M57","v":5},{"$f":"Анкета!N57","v":12},{"$f":"Анкета!O57","v":9},{"$f":"Анкета!P57","v":11},{"$f":"Анкета!Q57","v":10},{"$f":"Анкета!R57","v":2},{"$f":"Анкета!S57","v":6},{"$f":"Анкета!T57","v":10},{"$f":"Анкета!U57","v":9},{"$f":"Анкета!V57","v":11},{"$f":"Анкета!W57","v":7},{"$f":"Анкета!X57","v":7},{"$f":"Анкета!Y57","v":6},{"$f":"Анкета!Z57","v":8},{"$f":"Анкета!AA57","v":2},{"$f":"Анкета!AB57","v":6},{"$f":"Анкета!AC57","v":2},{"$f":"Анкета!AD57","v":6},{"$f":"Анкета!AE57","v":10},{"$f":"Анкета!AF57","v":4},{"$f":"Анкета!AG57","v":12},{"$f":"Анкета!AH57","v":4},{"$f":"Анкета!AI57","v":5},{"$f":"Анкета!AJ57","v":9},{"$f":"Анкета!AK57","v":7},{"$f":"Анкета!AL57","v":6},{"$f":"Анкета!AM57","v":0},{"$f":"Анкета!AN57","v":0},{"$f":"Анкета!AO57","v":0},{"$f":"Анкета!AP57","v":0},{"$f":"Анкета!AQ57","v":0},{"$f":"Анкета!AR57","v":11},{"$f":"Анкета!AS57","v":2},{"$f":"Анкета!AT57","v":7},{"$f":"Анкета!AU57","v":3},{"$f":"Анкета!AV57","v":10},{"$f":"Анкета!AW57","v":10},{"$f":"Анкета!AX57","v":9},{"$f":"Анкета!AY57","v":0},{"$f":"Анкета!AZ57","v":0},{"$f":"Анкета!BA57","v":0},{"$f":"Анкета!BB57","v":0},{"$f":"Анкета!BC57","v":0},{"$f":"Анкета!BD57","v":0},{"$f":"Анкета!BE57","v":0},{"$f":"Анкета!BF57","v":0},{"$f":"Анкета!BG57","v":0},{"$f":"Анкета!BH57","v":0}]
[{"$f":"Анкета!A58","v":"BF3"},{"$f":"Анкета!B58","v":0},{"$f":"Анкета!C58","v":0},{"$f":"Анкета!D58","v":0},{"$f":"Анкета!E58","v":0},{"$f":"Анкета!F58","v":0},{"$f":"Анкета!G58","v":0},{"$f":"Анкета!H58","v":0},{"$f":"Анкета!I58","v":0},{"$f":"Анкета!J58","v":0},{"$f":"Анкета!K58","v":1},{"$f":"Анкета!L58","v":1},{"$f":"Анкета!M58","v":2},{"$f":"Анкета!N58","v":2},{"$f":"Анкета!O58","v":1},{"$f":"Анкета!P58","v":2},{"$f":"Анкета!Q58","v":2},{"$f":"Анкета!R58","v":1},{"$f":"Анкета!S58","v":3},{"$f":"Анкета!T58","v":0},{"$f":"Анкета!U58","v":1},{"$f":"Анкета!V58","v":2},{"$f":"Анкета!W58","v":1},{"$f":"Анкета!X58","v":0},{"$f":"Анкета!Y58","v":1},{"$f":"Анкета!Z58","v":2},{"$f":"Анкета!AA58","v":1},{"$f":"Анкета!AB58","v":1},{"$f":"Анкета!AC58","v":4},{"$f":"Анкета!AD58","v":4},{"$f":"Анкета!AE58","v":4},{"$f":"Анкета!AF58","v":0},{"$f":"Анкета!AG58","v":0},{"$f":"Анкета!AH58","v":1},{"$f":"Анкета!AI58","v":2},{"$f":"Анкета!AJ58","v":4},{"$f":"Анкета!AK58","v":4},{"$f":"Анкета!AL58","v":2},{"$f":"Анкета!AM58","v":0},{"$f":"Анкета!AN58","v":0},{"$f":"Анкета!AO58","v":0},{"$f":"Анкета!AP58","v":0},{"$f":"Анкета!AQ58","v":0},{"$f":"Анкета!AR58","v":2},{"$f":"Анкета!AS58","v":3},{"$f":"Анкета!AT58","v":2},{"$f":"Анкета!AU58","v":1},{"$f":"Анкета!AV58","v":0},{"$f":"Анкета!AW58","v":3},{"$f":"Анкета!AX58","v":2},{"$f":"Анкета!AY58","v":0},{"$f":"Анкета!AZ58","v":0},{"$f":"Анкета!BA58","v":0},{"$f":"Анкета!BB58","v":0},{"$f":"Анкета!BC58","v":0},{"$f":"Анкета!BD58","v":0},{"$f":"Анкета!BE58","v":0},{"$f":"Анкета!BF58","v":0},{"$f":"Анкета!BG58","v":0},{"$f":"Анкета!BH58","v":0}]
[{"$f":"Анкета!A59","v":"BF4"},{"$f":"Анкета!B59","v":0},{"$f":"Анкета!C59","v":3},{"$f":"Анкета!D59","v":2},{"$f":"Анкета!E59","v":17},{"$f":"Анкета!F59","v":9},{"$f":"Анкета!G59","v":3},{"$f":"Анкета!H59","v":14},{"$f":"Анкета!I59","v":10},{"$f":"Анкета!J59","v":9},{"$f":"Анкета!K59","v":11},{"$f":"Анкета!L59","v":3},{"$f":"Анкета!M59","v":5},{"$f":"Анкета!N59","v":3},{"$f":"Анкета!O59","v":0},{"$f":"Анкета!P59","v":3},{"$f":"Анкета!Q59","v":6},{"$f":"Анкета!R59","v":13},{"$f":"Анкета!S59","v":6},{"$f":"Анкета!T59","v":4},{"$f":"Анкета!U59","v":7},{"$f":"Анкета!V59","v":4},{"$f":"Анкета!W59","v":4},{"$f":"Анкета!X59","v":5},{"$f":"Анкета!Y59","v":12},{"$f":"Анкета!Z59","v":1},{"$f":"Анкета!AA59","v":1},{"$f":"Анкета!AB59","v":6},{"$f":"Анкета!AC59","v":6},{"$f":"Анкета!AD59","v":0},{"$f":"Анкета!AE59","v":2},{"$f":"Анкета!AF59","v":6},{"$f":"Анкета!AG59","v":4},{"$f":"Анкета!AH59","v":4},{"$f":"Анкета!AI59","v":6},{"$f":"Анкета!AJ59","v":3},{"$f":"Анкета!AK59","v":0},{"$f":"Анкета!AL59","v":2},{"$f":"Анкета!AM59","v":15},{"$f":"Анкета!AN59","v":3},{"$f":"Анкета!AO59","v":1},{"$f":"Анкета!AP59","v":3},{"$f":"Анкета!AQ59","v":2},{"$f":"Анкета!AR59","v":1},{"$f":"Анкета!AS59","v":0},{"$f":"Анкета!AT59","v":0},{"$f":"Анкета!AU59","v":10},{"$f":"Анкета!AV59","v":8},{"$f":"Анкета!AW59","v":3},{"$f":"Анкета!AX59","v":2},{"$f":"Анкета!AY59","v":15},{"$f":"Анкета!AZ59","v":6},{"$f":"Анкета!BA59","v":4},{"$f":"Анкета!BB59","v":10},{"$f":"Анкета!BC59","v":17},{"$f":"Анкета!BD59","v":2},{"$f":"Анкета!BE59","v":21},{"$f":"Анкета!BF59","v":10},{"$f":"Анкета!BG59","v":5},{"$f":"Анкета!BH59","v":0}]
[{"$f":"Анкета!A60","v":"BF4"},{"$f":"Анкета!B60","v":0},{"$f":"Анкета!C60","v":19},{"$f":"Анкета!D60","v":17},{"$f":"Анкета!E60","v":5},{"$f":"Анкета!F60","v":5},{"$f":"Анкета!G60","v":12},{"$f":"Анкета!H60","v":7},{"$f":"Анкета!I60","v":8},{"$f":"Анкета!J60","v":10},{"$f":"Анкета!K60","v":6},{"$f":"Анкета!L60","v":5},{"$f":"Анкета!M60","v":5},{"$f":"Анкета!N60","v":4},{"$f":"Анкета!O60","v":2},{"$f":"Анкета!P60","v":2},{"$f":"Анкета!Q60","v":7},{"$f":"Анкета!R60","v":3},{"$f":"Анкета!S60","v":5},{"$f":"Анкета!T60","v":3},{"$f":"Анкета!U60","v":4},{"$f":"Анкета!V60","v":4},{"$f":"Анкета!W60","v":3},{"$f":"Анкета!X60","v":6},{"$f":"Анкета!Y60","v":6},{"$f":"Анкета!Z60","v":1},{"$f":"Анкета!AA60","v":3},{"$f":"Анкета!AB60","v":2},{"$f":"Анкета!AC60","v":1},{"$f":"Анкета!AD60","v":0},{"$f":"Анкета!AE60","v":1},{"$f":"Анкета!AF60","v":9},{"$f":"Анкета!AG60","v":7},{"$f":"Анкета!AH60","v":0},{"$f":"Анкета!AI60","v":1},{"$f":"Анкета!AJ60","v":1},{"$f":"Анкета!AK60","v":0},{"$f":"Анкета!AL60","v":0},{"$f":"Анкета!AM60","v":7},{"$f":"Анкета!AN60","v":19},{"$f":"Анкета!AO60","v":21},{"$f":"Анкета!AP60","v":19},{"$f":"Анкета!AQ60","v":20},{"$f":"Анкета!AR60","v":2},{"$f":"Анкета!AS60","v":1},{"$f":"Анкета!AT60","v":1},{"$f":"Анкета!AU60","v":5},{"$f":"Анкета!AV60","v":6},{"$f":"Анкета!AW60","v":3},{"$f":"Анкета!AX60","v":1},{"$f":"Анкета!AY60","v":7},{"$f":"Анкета!AZ60","v":16},{"$f":"Анкета!BA60","v":18},{"$f":"Анкета!BB60","v":12},{"$f":"Анкета!BC60","v":5},{"$f":"Анкета!BD60","v":20},{"$f":"Анкета!BE60","v":1},{"$f":"Анкета!BF60","v":12},{"$f":"Анкета!BG60","v":17},{"$f":"Анкета!BH60","v":0}]
[{"$f":"Анкета!A61","v":"BF4"},{"$f":"Анкета!B61","v":0},{"$f":"Анкета!C61","v":0},{"$f":"Анкета!D61","v":3},{"$f":"Анкета!E61","v":0},{"$f":"Анкета!F61","v":6},{"$f":"Анкета!G61","v":5},{"$f":"Анкета!H61","v":1},{"$f":"Анкета!I61","v":4},{"$f":"Анкета!J61","v":3},{"$f":"Анкета!K61","v":4},{"$f":"Анкета!L61","v":12},{"$f":"Анкета!M61","v":7},{"$f":"Анкета!N61","v":9},{"$f":"Анкета!O61","v":9},{"$f":"Анкета!P61","v":5},{"$f":"Анкета!Q61","v":2},{"$f":"Анкета!R61","v":5},{"$f":"Анкета!S61","v":10},{"$f":"Анкета!T61","v":8},{"$f":"Анкета!U61","v":4},{"$f":"Анкета!V61","v":9},{"$f":"Анкета!W61","v":7},{"$f":"Анкета!X61","v":7},{"$f":"Анкета!Y61","v":3},{"$f":"Анкета!Z61","v":4},{"$f":"Анкета!AA61","v":7},{"$f":"Анкета!AB61","v":5},{"$f":"Анкета!AC61","v":3},{"$f":"Анкета!AD61","v":0},{"$f":"Анкета!AE61","v":3},{"$f":"Анкета!AF61","v":6},{"$f":"Анкета!AG61","v":9},{"$f":"Анкета!AH61","v":6},{"$f":"Анкета!AI61","v":7},{"$f":"Анкета!AJ61","v":1},{"$f":"Анкета!AK61","v":4},{"$f":"Анкета!AL61","v":15},{"$f":"Анкета!AM61","v":0},{"$f":"Анкета!AN61","v":0},{"$f":"Анкета!AO61","v":0},{"$f":"Анкета!AP61","v":0},{"$f":"Анкета!AQ61","v":0},{"$f":"Анкета!AR61","v":15},{"$f":"Анкета!AS61","v":4},{"$f":"Анкета!AT61","v":12},{"$f":"Анкета!AU61","v":5},{"$f":"Анкета!AV61","v":6},{"$f":"Анкета!AW61","v":10},{"$f":"Анкета!AX61","v":12},{"$f":"Анкета!AY61","v":0},{"$f":"Анкета!AZ61","v":0},{"$f":"Анкета!BA61","v":0},{"$f":"Анкета!BB61","v":0},{"$f":"Анкета!BC61","v":0},{"$f":"Анкета!BD61","v":0},{"$f":"Анкета!BE61","v":0},{"$f":"Анкета!BF61","v":0},{"$f":"Анкета!BG61","v":0},{"$f":"Анкета!BH61","v":0}]
[{"$f":"Анкета!A62","v":"BF4"},{"$f":"Анкета!B62","v":22},{"$f":"Анкета!C62","v":0},{"$f":"Анкета!D62","v":0},{"$f":"Анкета!E62","v":0},{"$f":"Анкета!F62","v":2},{"$f":"Анкета!G62","v":2},{"$f":"Анкета!H62","v":0},{"$f":"Анкета!I62","v":0},{"$f":"Анкета!J62","v":0},{"$f":"Анкета!K62","v":1},{"$f":"Анкета!L62","v":2},{"$f":"Анкета!M62","v":5},{"$f":"Анкета!N62","v":6},{"$f":"Анкета!O62","v":11},{"$f":"Анкета!P62","v":12},{"$f":"Анкета!Q62","v":7},{"$f":"Анкета!R62","v":1},{"$f":"Анкета!S62","v":1},{"$f":"Анкета!T62","v":7},{"$f":"Анкета!U62","v":7},{"$f":"Анкета!V62","v":5},{"$f":"Анкета!W62","v":8},{"$f":"Анкета!X62","v":4},{"$f":"Анкета!Y62","v":1},{"$f":"Анкета!Z62","v":16},{"$f":"Анкета!AA62","v":11},{"$f":"Анкета!AB62","v":9},{"$f":"Анкета!AC62","v":12},{"$f":"Анкета!AD62","v":22},{"$f":"Анкета!AE62","v":16},{"$f":"Анкета!AF62","v":1},{"$f":"Анкета!AG62","v":2},{"$f":"Анкета!AH62","v":12},{"$f":"Анкета!AI62","v":8},{"$f":"Анкета!AJ62","v":17},{"$f":"Анкета!AK62","v":18},{"$f":"Анкета!AL62","v":5},{"$f":"Анкета!AM62","v":0},{"$f":"Анкета!AN62","v":0},{"$f":"Анкета!AO62","v":0},{"$f":"Анкета!AP62","v":0},{"$f":"Анкета!AQ62","v":0},{"$f":"Анкета!AR62","v":4},{"$f":"Анкета!AS62","v":17},{"$f":"Анкета!AT62","v":9},{"$f":"Анкета!AU62","v":2},{"$f":"Анкета!AV62","v":2},{"$f":"Анкета!AW62","v":6},{"$f":"Анкета!AX62","v":7},{"$f":"Анкета!AY62","v":0},{"$f":"Анкета!AZ62","v":0},{"$f":"Анкета!BA62","v":0},{"$f":"Анкета!BB62","v":0},{"$f":"Анкета!BC62","v":0},{"$f":"Анкета!BD62","v":0},{"$f":"Анкета!BE62","v":0},{"$f":"Анкета!BF62","v":0},{"$f":"Анкета!BG62","v":0},{"$f":"Анкета!BH62","v":0}]

{"sheet":"Лист5","index":10,"n_rows":22,"n_cols":60,"rows_kept":22,"cut":false,"hidden":false,"merged":[]}
[]
["ВЪПРОСИ","3. Курс","4. Пол","5. Посещение на лекции","6. Посещение на упражнения","7. Ако не сте посещавали занятия, коя е причината за това","8. Успех от следването до момента","9. познавам квалификационната характеристика на специалността си","10. познавам учебния план, по който се обучавате","11. познавам учебните програми на дисциплините, които изучаваме","12.обучението помага на развитието на общата Ви култура","13. помага на професионалната Ви подготовка","14. лекциите и упражненията са актуални и отразяват постиженията на науката","15. те са актуални и ориентирани към потребностите на практиката","16. лекциите и упражненията са анахронични и самоцелни","17. обучението е добро и дава възможност за самостоятелна работа","18. то е напрегнато и ограничава възможностите за самостоятелна работа","19. учебната програма е съобразена по-скоро с интересите и възможностите на преподавателите, отколкото с тези на студентите","20. съдържателни и интересни","21. скучни и безинтересни","22. способност за творческо мислене","23. способност за вземане на решения","24. умения за работа в екип","25. комуникативни умения","26. полезни и необходими","27. самоцелни и безполезни","28. библиотеките в Университета разполага с необходимата Ви литература","29. услугите са достъпни за Вас","30. административното обслужване е на добро равнище","31. в Университета има условия за спорт","32. социалните условия (стипендии, общежития. стол, почивна база) са добре решени","33. преподавателите Ви са добре подготвени и познават новостите в научната област, в която работят","34. преподавателите Ви са толерантни, комуникативни и мотивирани в работата си със студентите","35. има корумпирани преподаватели","36. има корумпирани служители","37. материалната база е добра","38. учебно-техническите средства са съвременни и подпомагат учебния процес","39. учебниците и учебно-помощните материали са достъпни и подпомагат обучението Ви","40. публични лекции, срещи с представители на науката, политиката, бизнеса културата","41. студентски творчески инициативи","42. програми за обмен на студенти","43. дискусии, кръгли маси, конференции","44. проекти на преподавателските екипи","45. научните изследвания на вашите преподаватели","46. научно-изследователска програма на Факултета","47. научните издания на факултета","48. преподава на академично равнище","49. работи с добре подготвени и отдадени на работата си преподаватели","50. толерира творчеството, инициативата, самостоятелното мислене","51. уважават индивидуалните способности и насърчава индивидуалното развитие на студентите","52. има възможност да получите образование по предпочитана специалност","53. родителите Ви настояват да продължите образованието си","54. приятелите и съучениците Ви учат тук","55. е в района, в който сте роден(а) и живеете","56. е висше училище с традиции и авторитет","57. били потърпевш на корупционен натиск","58. чували, че има корумпирани преподаватели и служители, но не сте се сблъсквали лично с корупция в Университета","59. сигурни, че има корумпирани преподаватели и служители в ПУ","60. сигурни, че няма корумпирани преподаватели и служители в ПУ"]
[null," A = І"," A = МЪЖ"," A = Всички"," A = Всички"," A = Посещавал съм"," A = Отличен"," A = ДА "," A = ДА "," A = ДА "," A = ДА"," A = ДА"," A = ДА"," A = ДА"," A = ДА"," A = ДА"," A = ДА"," A = ДА"," A = ДА"," A = ДА"," A = ДА"," A = ДА"," A = ДА"," A = ДА"," A = ДА"," A = ДА"," A = ДА"," A = ДА"," A = ДА"," A = ДА"," A = ДА"," A = ДА"," A = ДА"," A = ДА"," A = ДА"," A = ДА"," A = ДА"," A = ДА"," A = ДА"," A = ДА"," A = ДА"," A = ДА"," A = ДА"," A = ДА"," A = ДА"," A = ДА"," A = ДА"," A = ДА"," A = ДА"," A = ДА"," A = ДА"," A = ДА"," A = ДА"," A = ДА"," A = ДА"," A = ДА"," A = ДА"," A = ДА"," A = ДА"]
[null,"B = ІІ","B = ЖЕНА","B = Голяма част ","B = Голяма част ","B = Работя и уча","B = Много добър","B = ЧАСТИЧНО","B = ЧАСТИЧНО","B = ЧАСТИЧНО","B = Във висока степен ","B = Във висока степен ","B = Във висока степен ","B = Във висока степен ","B = Във висока степен ","B = Във висока степен ","B = Във висока степен ","B = Във висока степен ","B = Във висока степен ","B = Във висока степен ","B = Във висока степен ","B = Във висока степен ","B = Във висока степен ","B = Във висока степен ","B = Във висока степен ","B = Във висока степен ","B = Във висока степен ","B = Във висока степен ","B = Във висока степен ","B = Във висока степен ","B = Във висока степен ","B = Във висока степен ","B = Във висока степен ","B = Във висока степен ","B = Във висока степен ","B = Във висока степен ","B = Във висока степен ","B = Във висока степен ","B = НЕ","B = НЕ","B = НЕ","B = НЕ","B = НЕ","B = Във висока степен ","B = Във висока степен ","B = Във висока степен ","B = Във висока степен ","B = Във висока степен ","B = Във висока степен ","B = Във висока степен ","B = НЕ","B = НЕ","B = НЕ ","B = НЕ ","B = НЕ","B = НЕ ","B = НЕ","B = НЕ","B = НЕ"]
[null,"C = ІІІ             D = ІV",null,"C = Малка част","C = Малка част","C = Безинтересни са","C = Добър","C = НЕ","C = НЕ","C = НЕ","C = В известна степен","C = В известна степен","C = В известна степен","C = В известна степен","C = В известна степен","C = В известна степен","C = В известна степен","C = В известна степен","C = В известна степен","C = В известна степен","C = В известна степен","C = В известна степен","C = В известна степен","C = В известна степен","C = В известна степен","C = В известна степен","C = В известна степен","C = В известна степен","C = В известна степен","C = В известна степен","C = В известна степен","C = В известна степен","C = В известна степен","C = В известна степен","C = В известна степен","C = В известна степен","C = В известна степен","C = В известна степен",null,null,null,null,null,"C = В известна степен","C = В известна степен","C = В известна степен","C = В известна степен","C = В известна степен","C = В известна степен","C = В известна степен"]
[null,"E = V",null," D = Нито една"," D = Нито едно","D = Мога да се подготвя сам","D = Среден",null,null,null," D = НЕ"," D = НЕ"," D = НЕ"," D = НЕ"," D = НЕ"," D = НЕ"," D = НЕ"," D = НЕ"," D = НЕ"," D = НЕ"," D = НЕ"," D = НЕ"," D = НЕ  "," D = НЕ"," D = НЕ"," D = НЕ"," D = НЕ"," D = НЕ"," D = НЕ"," D = НЕ"," D = НЕ"," D = НЕ"," D = НЕ"," D = НЕ"," D = НЕ"," D = НЕ"," D = НЕ"," D = НЕ",null,null,null,null,null," D = НЕ"," D = НЕ"," D = НЕ"," D = НЕ"," D = НЕ"," D = НЕ"," D = НЕ"]
[{"$f":"Анкета!A63","v":"LIT1"},{"$f":"Анкета!B63","v":23},{"$f":"Анкета!C63","v":7},{"$f":"Анкета!D63","v":3},{"$f":"Анкета!E63","v":14},{"$f":"Анкета!F63","v":11},{"$f":"Анкета!G63","v":1},{"$f":"Анкета!H63","v":10},{"$f":"Анкета!I63","v":8},{"$f":"Анкета!J63","v":10},{"$f":"Анкета!K63","v":10},{"$f":"Анкета!L63","v":4},{"$f":"Анкета!M63","v":2},{"$f":"Анкета!N63","v":2},{"$f":"Анкета!O63","v":0},{"$f":"Анкета!P63","v":3},{"$f":"Анкета!Q63","v":6},{"$f":"Анкета!R63","v":10},{"$f":"Анкета!S63","v":5},{"$f":"Анкета!T63","v":1},{"$f":"Анкета!U63","v":2},{"$f":"Анкета!V63","v":4},{"$f":"Анкета!W63","v":4},{"$f":"Анкета!X63","v":6},{"$f":"Анкета!Y63","v":10},{"$f":"Анкета!Z63","v":1},{"$f":"Анкета!AA63","v":3},{"$f":"Анкета!AB63","v":3},{"$f":"Анкета!AC63","v":2},{"$f":"Анкета!AD63","v":1},{"$f":"Анкета!AE63","v":2},{"$f":"Анкета!AF63","v":10},{"$f":"Анкета!AG63","v":4},{"$f":"Анкета!AH63","v":9},{"$f":"Анкета!AI63","v":6},{"$f":"Анкета!AJ63","v":2},{"$f":"Анкета!AK63","v":1},{"$f":"Анкета!AL63","v":0},{"$f":"Анкета!AM63","v":9},{"$f":"Анкета!AN63","v":2},{"$f":"Анкета!AO63","v":0},{"$f":"Анкета!AP63","v":2},{"$f":"Анкета!AQ63","v":0},{"$f":"Анкета!AR63","v":1},{"$f":"Анкета!AS63","v":0},{"$f":"Анкета!AT63","v":0},{"$f":"Анкета!AU63","v":10},{"$f":"Анкета!AV63","v":9},{"$f":"Анкета!AW63","v":5},{"$f":"Анкета!AX63","v":2},{"$f":"Анкета!AY63","v":17},{"$f":"Анкета!AZ63","v":11},{"$f":"Анкета!BA63","v":3},{"$f":"Анкета!BB63","v":7},{"$f":"Анкета!BC63","v":17},{"$f":"Анкета!BD63","v":0},{"$f":"Анкета!BE63","v":17},{"$f":"Анкета!BF63","v":12},{"$f":"Анкета!BG63","v":3},{"$f":"Анкета!BH63","v":0}]
[{"$f":"Анкета!A64","v":"LIT1"},{"$f":"Анкета!B64","v":0},{"$f":"Анкета!C64","v":16},{"$f":"Анкета!D64","v":16},{"$f":"Анкета!E64","v":7},{"$f":"Анкета!F64","v":6},{"$f":"Анкета!G64","v":5},{"$f":"Анкета!H64","v":13},{"$f":"Анкета!I64","v":14},{"$f":"Анкета!J64","v":11},{"$f":"Анкета!K64","v":5},{"$f":"Анкета!L64","v":8},{"$f":"Анкета!M64","v":6},{"$f":"Анкета!N64","v":6},{"$f":"Анкета!O64","v":7},{"$f":"Анкета!P64","v":5},{"$f":"Анкета!Q64","v":6},{"$f":"Анкета!R64","v":2},{"$f":"Анкета!S64","v":7},{"$f":"Анкета!T64","v":3},{"$f":"Анкета!U64","v":4},{"$f":"Анкета!V64","v":5},{"$f":"Анкета!W64","v":4},{"$f":"Анкета!X64","v":5},{"$f":"Анкета!Y64","v":6},{"$f":"Анкета!Z64","v":0},{"$f":"Анкета!AA64","v":6},{"$f":"Анкета!AB64","v":9},{"$f":"Анкета!AC64","v":7},{"$f":"Анкета!AD64","v":1},{"$f":"Анкета!AE64","v":4},{"$f":"Анкета!AF64","v":8},{"$f":"Анкета!AG64","v":7},{"$f":"Анкета!AH64","v":0},{"$f":"Анкета!AI64","v":0},{"$f":"Анкета!AJ64","v":3},{"$f":"Анкета!AK64","v":3},{"$f":"Анкета!AL64","v":6},{"$f":"Анкета!AM64","v":14},{"$f":"Анкета!AN64","v":21},{"$f":"Анкета!AO64","v":23},{"$f":"Анкета!AP64","v":21},{"$f":"Анкета!AQ64","v":23},{"$f":"Анкета!AR64","v":2},{"$f":"Анкета!AS64","v":2},{"$f":"Анкета!AT64","v":2},{"$f":"Анкета!AU64","v":7},{"$f":"Анкета!AV64","v":8},{"$f":"Анкета!AW64","v":2},{"$f":"Анкета!AX64","v":4},{"$f":"Анкета!AY64","v":6},{"$f":"Анкета!AZ64","v":12},{"$f":"Анкета!BA64","v":20},{"$f":"Анкета!BB64","v":16},{"$f":"Анкета!BC64","v":6},{"$f":"Анкета!BD64","v":23},{"$f":"Анкета!BE64","v":6},{"$f":"Анкета!BF64","v":11},{"$f":"Анкета!BG64","v":20},{"$f":"Анкета!BH64","v":0}]
[{"$f":"Анкета!A65","v":"LIT1"},{"$f":"Анкета!B65","v":0},{"$f":"Анкета!C65","v":0},{"$f":"Анкета!D65","v":3},{"$f":"Анкета!E65","v":1},{"$f":"Анкета!F65","v":5},{"$f":"Анкета!G65","v":8},{"$f":"Анкета!H65","v":0},{"$f":"Анкета!I65","v":1},{"$f":"Анкета!J65","v":2},{"$f":"Анкета!K65","v":8},{"$f":"Анкета!L65","v":9},{"$f":"Анкета!M65","v":10},{"$f":"Анкета!N65","v":12},{"$f":"Анкета!O65","v":9},{"$f":"Анкета!P65","v":9},{"$f":"Анкета!Q65","v":4},{"$f":"Анкета!R65","v":6},{"$f":"Анкета!S65","v":10},{"$f":"Анкета!T65","v":14},{"$f":"Анкета!U65","v":11},{"$f":"Анкета!V65","v":6},{"$f":"Анкета!W65","v":9},{"$f":"Анкета!X65","v":11},{"$f":"Анкета!Y65","v":7},{"$f":"Анкета!Z65","v":3},{"$f":"Анкета!AA65","v":7},{"$f":"Анкета!AB65","v":10},{"$f":"Анкета!AC65","v":5},{"$f":"Анкета!AD65","v":7},{"$f":"Анкета!AE65","v":7},{"$f":"Анкета!AF65","v":5},{"$f":"Анкета!AG65","v":10},{"$f":"Анкета!AH65","v":7},{"$f":"Анкета!AI65","v":10},{"$f":"Анкета!AJ65","v":12},{"$f":"Анкета!AK65","v":13},{"$f":"Анкета!AL65","v":11},{"$f":"Анкета!AM65","v":0},{"$f":"Анкета!AN65","v":0},{"$f":"Анкета!AO65","v":0},{"$f":"Анкета!AP65","v":0},{"$f":"Анкета!AQ65","v":0},{"$f":"Анкета!AR65","v":8},{"$f":"Анкета!AS65","v":3},{"$f":"Анкета!AT65","v":7},{"$f":"Анкета!AU65","v":5},{"$f":"Анкета!AV65","v":6},{"$f":"Анкета!AW65","v":12},{"$f":"Анкета!AX65","v":8},{"$f":"Анкета!AY65","v":0},{"$f":"Анкета!AZ65","v":0},{"$f":"Анкета!BA65","v":0},{"$f":"Анкета!BB65","v":0},{"$f":"Анкета!BC65","v":0},{"$f":"Анкета!BD65","v":0},{"$f":"Анкета!BE65","v":0},{"$f":"Анкета!BF65","v":0},{"$f":"Анкета!BG65","v":0},{"$f":"Анкета!BH65","v":0}]
[{"$f":"Анкета!A66","v":"LIT1"},{"$f":"Анкета!B66","v":0},{"$f":"Анкета!C66","v":0},{"$f":"Анкета!D66","v":1},{"$f":"Анкета!E66","v":1},{"$f":"Анкета!F66","v":1},{"$f":"Анкета!G66","v":9},{"$f":"Анкета!H66","v":0},{"$f":"Анкета!I66","v":0},{"$f":"Анкета!J66","v":0},{"$f":"Анкета!K66","v":0},{"$f":"Анкета!L66","v":2},{"$f":"Анкета!M66","v":5},{"$f":"Анкета!N66","v":3},{"$f":"Анкета!O66","v":7},{"$f":"Анкета!P66","v":6},{"$f":"Анкета!Q66","v":7},{"$f":"Анкета!R66","v":5},{"$f":"Анкета!S66","v":1},{"$f":"Анкета!T66","v":5},{"$f":"Анкета!U66","v":6},{"$f":"Анкета!V66","v":8},{"$f":"Анкета!W66","v":6},{"$f":"Анкета!X66","v":1},{"$f":"Анкета!Y66","v":0},{"$f":"Анкета!Z66","v":19},{"$f":"Анкета!AA66","v":7},{"$f":"Анкета!AB66","v":1},{"$f":"Анкета!AC66","v":9},{"$f":"Анкета!AD66","v":14},{"$f":"Анкета!AE66","v":10},{"$f":"Анкета!AF66","v":0},{"$f":"Анкета!AG66","v":2},{"$f":"Анкета!AH66","v":7},{"$f":"Анкета!AI66","v":7},{"$f":"Анкета!AJ66","v":6},{"$f":"Анкета!AK66","v":6},{"$f":"Анкета!AL66","v":6},{"$f":"Анкета!AM66","v":0},{"$f":"Анкета!AN66","v":0},{"$f":"Анкета!AO66","v":0},{"$f":"Анкета!AP66","v":0},{"$f":"Анкета!AQ66","v":0},{"$f":"Анкета!AR66","v":12},{"$f":"Анкета!AS66","v":18},{"$f":"Анкета!AT66","v":14},{"$f":"Анкета!AU66","v":1},{"$f":"Анкета!AV66","v":0},{"$f":"Анкета!AW66","v":4},{"$f":"Анкета!AX66","v":9},{"$f":"Анкета!AY66","v":0},{"$f":"Анкета!AZ66","v":0},{"$f":"Анкета!BA66","v":0},{"$f":"Анкета!BB66","v":0},{"$f":"Анкета!BC66","v":0},{"$f":"Анкета!BD66","v":0},{"$f":"Анкета!BE66","v":0},{"$f":"Анкета!BF66","v":0},{"$f":"Анкета!BG66","v":0},{"$f":"Анкета!BH66","v":0}]
[{"$f":"Анкета!A67","v":"LIT2"},{"$f":"Анкета!B67","v":3},{"$f":"Анкета!C67","v":7},{"$f":"Анкета!D67","v":4},{"$f":"Анкета!E67","v":10},{"$f":"Анкета!F67","v":12},{"$f":"Анкета!G67","v":1},{"$f":"Анкета!H67","v":10},{"$f":"Анкета!I67","v":14},{"$f":"Анкета!J67","v":10},{"$f":"Анкета!K67","v":11},{"$f":"Анкета!L67","v":4},{"$f":"Анкета!M67","v":4},{"$f":"Анкета!N67","v":2},{"$f":"Анкета!O67","v":1},{"$f":"Анкета!P67","v":3},{"$f":"Анкета!Q67","v":4},{"$f":"Анкета!R67","v":7},{"$f":"Анкета!S67","v":3},{"$f":"Анкета!T67","v":0},{"$f":"Анкета!U67","v":2},{"$f":"Анкета!V67","v":2},{"$f":"Анкета!W67","v":4},{"$f":"Анкета!X67","v":5},{"$f":"Анкета!Y67","v":12},{"$f":"Анкета!Z67","v":0},{"$f":"Анкета!AA67","v":5},{"$f":"Анкета!AB67","v":7},{"$f":"Анкета!AC67","v":2},{"$f":"Анкета!AD67","v":0},{"$f":"Анкета!AE67","v":1},{"$f":"Анкета!AF67","v":9},{"$f":"Анкета!AG67","v":5},{"$f":"Анкета!AH67","v":4},{"$f":"Анкета!AI67","v":3},{"$f":"Анкета!AJ67","v":0},{"$f":"Анкета!AK67","v":0},{"$f":"Анкета!AL67","v":3},{"$f":"Анкета!AM67","v":9},{"$f":"Анкета!AN67","v":0},{"$f":"Анкета!AO67","v":0},{"$f":"Анкета!AP67","v":1},{"$f":"Анкета!AQ67","v":1},{"$f":"Анкета!AR67","v":0},{"$f":"Анкета!AS67","v":0},{"$f":"Анкета!AT67","v":1},{"$f":"Анкета!AU67","v":7},{"$f":"Анкета!AV67","v":6},{"$f":"Анкета!AW67","v":0},{"$f":"Анкета!AX67","v":1},{"$f":"Анкета!AY67","v":16},{"$f":"Анкета!AZ67","v":4},{"$f":"Анкета!BA67","v":2},{"$f":"Анкета!BB67","v":4},{"$f":"Анкета!BC67","v":18},{"$f":"Анкета!BD67","v":1},{"$f":"Анкета!BE67","v":17},{"$f":"Анкета!BF67","v":11},{"$f":"Анкета!BG67","v":2},{"$f":"Анкета!BH67","v":0}]
[{"$f":"Анкета!A68","v":"LIT2"},{"$f":"Анкета!B68","v":17},{"$f":"Анкета!C68","v":13},{"$f":"Анкета!D68","v":14},{"$f":"Анкета!E68","v":10},{"$f":"Анкета!F68","v":3},{"$f":"Анкета!G68","v":9},{"$f":"Анкета!H68","v":10},{"$f":"Анкета!I68","v":6},{"$f":"Анкета!J68","v":10},{"$f":"Анкета!K68","v":6},{"$f":"Анкета!L68","v":10},{"$f":"Анкета!M68","v":8},{"$f":"Анкета!N68","v":8},{"$f":"Анкета!O68","v":2},{"$f":"Анкета!P68","v":3},{"$f":"Анкета!Q68","v":2},{"$f":"Анкета!R68","v":4},{"$f":"Анкета!S68","v":7},{"$f":"Анкета!T68","v":7},{"$f":"Анкета!U68","v":5},{"$f":"Анкета!V68","v":7},{"$f":"Анкета!W68","v":9},{"$f":"Анкета!X68","v":9},{"$f":"Анкета!Y68","v":4},{"$f":"Анкета!Z68","v":1},{"$f":"Анкета!AA68","v":8},{"$f":"Анкета!AB68","v":3},{"$f":"Анкета!AC68","v":2},{"$f":"Анкета!AD68","v":4},{"$f":"Анкета!AE68","v":5},{"$f":"Анкета!AF68","v":11},{"$f":"Анкета!AG68","v":10},{"$f":"Анкета!AH68","v":4},{"$f":"Анкета!AI68","v":2},{"$f":"Анкета!AJ68","v":7},{"$f":"Анкета!AK68","v":4},{"$f":"Анкета!AL68","v":4},{"$f":"Анкета!AM68","v":11},{"$f":"Анкета!AN68","v":20},{"$f":"Анкета!AO68","v":20},{"$f":"Анкета!AP68","v":19},{"$f":"Анкета!AQ68","v":19},{"$f":"Анкета!AR68","v":0},{"$f":"Анкета!AS68","v":0},{"$f":"Анкета!AT68","v":0},{"$f":"Анкета!AU68","v":11},{"$f":"Анкета!AV68","v":8},{"$f":"Анкета!AW68","v":7},{"$f":"Анкета!AX68","v":5},{"$f":"Анкета!AY68","v":4},{"$f":"Анкета!AZ68","v":16},{"$f":"Анкета!BA68","v":18},{"$f":"Анкета!BB68","v":16},{"$f":"Анкета!BC68","v":2},{"$f":"Анкета!BD68","v":19},{"$f":"Анкета!BE68","v":3},{"$f":"Анкета!BF68","v":9},{"$f":"Анкета!BG68","v":18},{"$f":"Анкета!BH68","v":0}]
[{"$f":"Анкета!A69","v":"LIT2"},{"$f":"Анкета!B69","v":0},{"$f":"Анкета!C69","v":0},{"$f":"Анкета!D69","v":2},{"$f":"Анкета!E69","v":0},{"$f":"Анкета!F69","v":3},{"$f":"Анкета!G69","v":9},{"$f":"Анкета!H69","v":0},{"$f":"Анкета!I69","v":0},{"$f":"Анкета!J69","v":0},{"$f":"Анкета!K69","v":3},{"$f":"Анкета!L69","v":6},{"$f":"Анкета!M69","v":7},{"$f":"Анкета!N69","v":10},{"$f":"Анкета!O69","v":8},{"$f":"Анкета!P69","v":11},{"$f":"Анкета!Q69","v":9},{"$f":"Анкета!R69","v":6},{"$f":"Анкета!S69","v":9},{"$f":"Анкета!T69","v":6},{"$f":"Анкета!U69","v":11},{"$f":"Анкета!V69","v":11},{"$f":"Анкета!W69","v":3},{"$f":"Анкета!X69","v":4},{"$f":"Анкета!Y69","v":3},{"$f":"Анкета!Z69","v":4},{"$f":"Анкета!AA69","v":6},{"$f":"Анкета!AB69","v":9},{"$f":"Анкета!AC69","v":5},{"$f":"Анкета!AD69","v":7},{"$f":"Анкета!AE69","v":9},{"$f":"Анкета!AF69","v":0},{"$f":"Анкета!AG69","v":3},{"$f":"Анкета!AH69","v":8},{"$f":"Анкета!AI69","v":11},{"$f":"Анкета!AJ69","v":9},{"$f":"Анкета!AK69","v":12},{"$f":"Анкета!AL69","v":12},{"$f":"Анкета!AM69","v":0},{"$f":"Анкета!AN69","v":0},{"$f":"Анкета!AO69","v":0},{"$f":"Анкета!AP69","v":0},{"$f":"Анкета!AQ69","v":0},{"$f":"Анкета!AR69","v":9},{"$f":"Анкета!AS69","v":4},{"$f":"Анкета!AT69","v":9},{"$f":"Анкета!AU69","v":2},{"$f":"Анкета!AV69","v":6},{"$f":"Анкета!AW69","v":12},{"$f":"Анкета!AX69","v":10},{"$f":"Анкета!AY69","v":0},{"$f":"Анкета!AZ69","v":0},{"$f":"Анкета!BA69","v":0},{"$f":"Анкета!BB69","v":0},{"$f":"Анкета!BC69","v":0},{"$f":"Анкета!BD69","v":0},{"$f":"Анкета!BE69","v":0},{"$f":"Анкета!BF69","v":0},{"$f":"Анкета!BG69","v":0},{"$f":"Анкета!BH69","v":0}]
[{"$f":"Анкета!A70","v":"LIT2"},{"$f":"Анкета!B70","v":0},{"$f":"Анкета!C70","v":0},{"$f":"Анкета!D70","v":0},{"$f":"Анкета!E70","v":0},{"$f":"Анкета!F70","v":2},{"$f":"Анкета!G70","v":1},{"$f":"Анкета!H70","v":0},{"$f":"Анкета!I70","v":0},{"$f":"Анкета!J70","v":0},{"$f":"Анкета!K70","v":0},{"$f":"Анкета!L70","v":0},{"$f":"Анкета!M70","v":1},{"$f":"Анкета!N70","v":0},{"$f":"Анкета!O70","v":9},{"$f":"Анкета!P70","v":3},{"$f":"Анкета!Q70","v":5},{"$f":"Анкета!R70","v":3},{"$f":"Анкета!S70","v":1},{"$f":"Анкета!T70","v":7},{"$f":"Анкета!U70","v":2},{"$f":"Анкета!V70","v":0},{"$f":"Анкета!W70","v":4},{"$f":"Анкета!X70","v":2},{"$f":"Анкета!Y70","v":1},{"$f":"Анкета!Z70","v":15},{"$f":"Анкета!AA70","v":1},{"$f":"Анкета!AB70","v":1},{"$f":"Анкета!AC70","v":11},{"$f":"Анкета!AD70","v":9},{"$f":"Анкета!AE70","v":5},{"$f":"Анкета!AF70","v":0},{"$f":"Анкета!AG70","v":2},{"$f":"Анкета!AH70","v":4},{"$f":"Анкета!AI70","v":4},{"$f":"Анкета!AJ70","v":4},{"$f":"Анкета!AK70","v":4},{"$f":"Анкета!AL70","v":1},{"$f":"Анкета!AM70","v":0},{"$f":"Анкета!AN70","v":0},{"$f":"Анкета!AO70","v":0},{"$f":"Анкета!AP70","v":0},{"$f":"Анкета!AQ70","v":0},{"$f":"Анкета!AR70","v":11},{"$f":"Анкета!AS70","v":16},{"$f":"Анкета!AT70","v":10},{"$f":"Анкета!AU70","v":0},{"$f":"Анкета!AV70","v":0},{"$f":"Анкета!AW70","v":1},{"$f":"Анкета!AX70","v":4},{"$f":"Анкета!AY70","v":0},{"$f":"Анкета!AZ70","v":0},{"$f":"Анкета!BA70","v":0},{"$f":"Анкета!BB70","v":0},{"$f":"Анкета!BC70","v":0},{"$f":"Анкета!BD70","v":0},{"$f":"Анкета!BE70","v":0},{"$f":"Анкета!BF70","v":0},{"$f":"Анкета!BG70","v":0},{"$f":"Анкета!BH70","v":0}]
[{"$f":"Анкета!A71","v":"LIT3"},{"$f":"Анкета!B71","v":0},{"$f":"Анкета!C71","v":4},{"$f":"Анкета!D71","v":7},{"$f":"Анкета!E71","v":12},{"$f":"Анкета!F71","v":14},{"$f":"Анкета!G71","v":4},{"$f":"Анкета!H71","v":7},{"$f":"Анкета!I71","v":13},{"$f":"Анкета!J71","v":9},{"$f":"Анкета!K71","v":4},{"$f":"Анкета!L71","v":3},{"$f":"Анкета!M71","v":3},{"$f":"Анкета!N71","v":2},{"$f":"Анкета!O71","v":1},{"$f":"Анкета!P71","v":3},{"$f":"Анкета!Q71","v":5},{"$f":"Анкета!R71","v":7},{"$f":"Анкета!S71","v":2},{"$f":"Анкета!T71","v":2},{"$f":"Анкета!U71","v":0},{"$f":"Анкета!V71","v":1},{"$f":"Анкета!W71","v":3},{"$f":"Анкета!X71","v":3},{"$f":"Анкета!Y71","v":10},{"$f":"Анкета!Z71","v":0},{"$f":"Анкета!AA71","v":0},{"$f":"Анкета!AB71","v":4},{"$f":"Анкета!AC71","v":1},{"$f":"Анкета!AD71","v":3},{"$f":"Анкета!AE71","v":2},{"$f":"Анкета!AF71","v":7},{"$f":"Анкета!AG71","v":5},{"$f":"Анкета!AH71","v":2},{"$f":"Анкета!AI71","v":3},{"$f":"Анкета!AJ71","v":0},{"$f":"Анкета!AK71","v":0},{"$f":"Анкета!AL71","v":3},{"$f":"Анкета!AM71","v":9},{"$f":"Анкета!AN71","v":9},{"$f":"Анкета!AO71","v":5},{"$f":"Анкета!AP71","v":8},{"$f":"Анкета!AQ71","v":3},{"$f":"Анкета!AR71","v":4},{"$f":"Анкета!AS71","v":1},{"$f":"Анкета!AT71","v":1},{"$f":"Анкета!AU71","v":6},{"$f":"Анкета!AV71","v":2},{"$f":"Анкета!AW71","v":2},{"$f":"Анкета!AX71","v":3},{"$f":"Анкета!AY71","v":14},{"$f":"Анкета!AZ71","v":4},{"$f":"Анкета!BA71","v":1},{"$f":"Анкета!BB71","v":7},{"$f":"Анкета!BC71","v":14},{"$f":"Анкета!BD71","v":2},{"$f":"Анкета!BE71","v":11},{"$f":"Анкета!BF71","v":8},{"$f":"Анкета!BG71","v":3},{"$f":"Анкета!BH71","v":0}]
[{"$f":"Анкета!A72","v":"LIT3"},{"$f":"Анкета!B72","v":0},{"$f":"Анкета!C72","v":12},{"$f":"Анкета!D72","v":8},{"$f":"Анкета!E72","v":4},{"$f":"Анкета!F72","v":1},{"$f":"Анкета!G72","v":8},{"$f":"Анкета!H72","v":8},{"$f":"Анкета!I72","v":2},{"$f":"Анкета!J72","v":7},{"$f":"Анкета!K72","v":7},{"$f":"Анкета!L72","v":3},{"$f":"Анкета!M72","v":3},{"$f":"Анкета!N72","v":2},{"$f":"Анкета!O72","v":2},{"$f":"Анкета!P72","v":0},{"$f":"Анкета!Q72","v":5},{"$f":"Анкета!R72","v":4},{"$f":"Анкета!S72","v":6},{"$f":"Анкета!T72","v":2},{"$f":"Анкета!U72","v":6},{"$f":"Анкета!V72","v":4},{"$f":"Анкета!W72","v":3},{"$f":"Анкета!X72","v":4},{"$f":"Анкета!Y72","v":4},{"$f":"Анкета!Z72","v":0},{"$f":"Анкета!AA72","v":2},{"$f":"Анкета!AB72","v":2},{"$f":"Анкета!AC72","v":1},{"$f":"Анкета!AD72","v":0},{"$f":"Анкета!AE72","v":3},{"$f":"Анкета!AF72","v":6},{"$f":"Анкета!AG72","v":5},{"$f":"Анкета!AH72","v":1},{"$f":"Анкета!AI72","v":1},{"$f":"Анкета!AJ72","v":2},{"$f":"Анкета!AK72","v":1},{"$f":"Анкета!AL72","v":1},{"$f":"Анкета!AM72","v":7},{"$f":"Анкета!AN72","v":7},{"$f":"Анкета!AO72","v":11},{"$f":"Анкета!AP72","v":8},{"$f":"Анкета!AQ72","v":13},{"$f":"Анкета!AR72","v":2},{"$f":"Анкета!AS72","v":0},{"$f":"Анкета!AT72","v":0},{"$f":"Анкета!AU72","v":7},{"$f":"Анкета!AV72","v":11},{"$f":"Анкета!AW72","v":5},{"$f":"Анкета!AX72","v":5},{"$f":"Анкета!AY72","v":2},{"$f":"Анкета!AZ72","v":12},{"$f":"Анкета!BA72","v":15},{"$f":"Анкета!BB72","v":9},{"$f":"Анкета!BC72","v":2},{"$f":"Анкета!BD72","v":14},{"$f":"Анкета!BE72","v":5},{"$f":"Анкета!BF72","v":8},{"$f":"Анкета!BG72","v":13},{"$f":"Анкета!BH72","v":0}]
[{"$f":"Анкета!A73","v":"LIT3"},{"$f":"Анкета!B73","v":16},{"$f":"Анкета!C73","v":0},{"$f":"Анкета!D73","v":1},{"$f":"Анкета!E73","v":0},{"$f":"Анкета!F73","v":1},{"$f":"Анкета!G73","v":4},{"$f":"Анкета!H73","v":1},{"$f":"Анкета!I73","v":1},{"$f":"Анкета!J73","v":0},{"$f":"Анкета!K73","v":4},{"$f":"Анкета!L73","v":10},{"$f":"Анкета!M73","v":9},{"$f":"Анкета!N73","v":9},{"$f":"Анкета!O73","v":8},{"$f":"Анкета!P73","v":9},{"$f":"Анкета!Q73","v":2},{"$f":"Анкета!R73","v":4},{"$f":"Анкета!S73","v":7},{"$f":"Анкета!T73","v":6},{"$f":"Анкета!U73","v":5},{"$f":"Анкета!V73","v":6},{"$f":"Анкета!W73","v":4},{"$f":"Анкета!X73","v":5},{"$f":"Анкета!Y73","v":2},{"$f":"Анкета!Z73","v":3},{"$f":"Анкета!AA73","v":6},{"$f":"Анкета!AB73","v":4},{"$f":"Анкета!AC73","v":7},{"$f":"Анкета!AD73","v":2},{"$f":"Анкета!AE73","v":2},{"$f":"Анкета!AF73","v":3},{"$f":"Анкета!AG73","v":5},{"$f":"Анкета!AH73","v":9},{"$f":"Анкета!AI73","v":9},{"$f":"Анкета!AJ73","v":6},{"$f":"Анкета!AK73","v":7},{"$f":"Анкета!AL73","v":5},{"$f":"Анкета!AM73","v":0},{"$f":"Анкета!AN73","v":0},{"$f":"Анкета!AO73","v":0},{"$f":"Анкета!AP73","v":0},{"$f":"Анкета!AQ73","v":0},{"$f":"Анкета!AR73","v":7},{"$f":"Анкета!AS73","v":8},{"$f":"Анкета!AT73","v":8},{"$f":"Анкета!AU73","v":3},{"$f":"Анкета!AV73","v":2},{"$f":"Анкета!AW73","v":7},{"$f":"Анкета!AX73","v":2},{"$f":"Анкета!AY73","v":0},{"$f":"Анкета!AZ73","v":0},{"$f":"Анкета!BA73","v":0},{"$f":"Анкета!BB73","v":0},{"$f":"Анкета!BC73","v":0},{"$f":"Анкета!BD73","v":0},{"$f":"Анкета!BE73","v":0},{"$f":"Анкета!BF73","v":0},{"$f":"Анкета!BG73","v":0},{"$f":"Анкета!BH73","v":0}]
[{"$f":"Анкета!A74","v":"LIT3"},{"$f":"Анкета!B74","v":0},{"$f":"Анкета!C74","v":0},{"$f":"Анкета!D74","v":0},{"$f":"Анкета!E74","v":0},{"$f":"Анкета!F74","v":0},{"$f":"Анкета!G74","v":0},{"$f":"Анкета!H74","v":0},{"$f":"Анкета!I74","v":0},{"$f":"Анкета!J74","v":0},{"$f":"Анкета!K74","v":1},{"$f":"Анкета!L74","v":0},{"$f":"Анкета!M74","v":1},{"$f":"Анкета!N74","v":3},{"$f":"Анкета!O74","v":5},{"$f":"Анкета!P74","v":4},{"$f":"Анкета!Q74","v":4},{"$f":"Анкета!R74","v":1},{"$f":"Анкета!S74","v":1},{"$f":"Анкета!T74","v":6},{"$f":"Анкета!U74","v":5},{"$f":"Анкета!V74","v":5},{"$f":"Анкета!W74","v":6},{"$f":"Анкета!X74","v":4},{"$f":"Анкета!Y74","v":0},{"$f":"Анкета!Z74","v":13},{"$f":"Анкета!AA74","v":8},{"$f":"Анкета!AB74","v":6},{"$f":"Анкета!AC74","v":7},{"$f":"Анкета!AD74","v":11},{"$f":"Анкета!AE74","v":9},{"$f":"Анкета!AF74","v":0},{"$f":"Анкета!AG74","v":1},{"$f":"Анкета!AH74","v":4},{"$f":"Анкета!AI74","v":3},{"$f":"Анкета!AJ74","v":8},{"$f":"Анкета!AK74","v":8},{"$f":"Анкета!AL74","v":7},{"$f":"Анкета!AM74","v":0},{"$f":"Анкета!AN74","v":0},{"$f":"Анкета!AO74","v":0},{"$f":"Анкета!AP74","v":0},{"$f":"Анкета!AQ74","v":0},{"$f":"Анкета!AR74","v":3},{"$f":"Анкета!AS74","v":7},{"$f":"Анкета!AT74","v":7},{"$f":"Анкета!AU74","v":0},{"$f":"Анкета!AV74","v":1},{"$f":"Анкета!AW74","v":2},{"$f":"Анкета!AX74","v":6},{"$f":"Анкета!AY74","v":0},{"$f":"Анкета!AZ74","v":0},{"$f":"Анкета!BA74","v":0},{"$f":"Анкета!BB74","v":0},{"$f":"Анкета!BC74","v":0},{"$f":"Анкета!BD74","v":0},{"$f":"Анкета!BE74","v":0},{"$f":"Анкета!BF74","v":0},{"$f":"Анкета!BG74","v":0},{"$f":"Анкета!BH74","v":0}]
[{"$f":"Анкета!A75","v":"LIT4"},{"$f":"Анкета!B75","v":0},{"$f":"Анкета!C75","v":1},{"$f":"Анкета!D75","v":3},{"$f":"Анкета!E75","v":5},{"$f":"Анкета!F75","v":5},{"$f":"Анкета!G75","v":0},{"$f":"Анкета!H75","v":8},{"$f":"Анкета!I75","v":6},{"$f":"Анкета!J75","v":7},{"$f":"Анкета!K75","v":6},{"$f":"Анкета!L75","v":2},{"$f":"Анкета!M75","v":3},{"$f":"Анкета!N75","v":0},{"$f":"Анкета!O75","v":0},{"$f":"Анкета!P75","v":0},{"$f":"Анкета!Q75","v":3},{"$f":"Анкета!R75","v":5},{"$f":"Анкета!S75","v":2},{"$f":"Анкета!T75","v":0},{"$f":"Анкета!U75","v":3},{"$f":"Анкета!V75","v":1},{"$f":"Анкета!W75","v":2},{"$f":"Анкета!X75","v":3},{"$f":"Анкета!Y75","v":6},{"$f":"Анкета!Z75","v":0},{"$f":"Анкета!AA75","v":0},{"$f":"Анкета!AB75","v":6},{"$f":"Анкета!AC75","v":1},{"$f":"Анкета!AD75","v":0},{"$f":"Анкета!AE75","v":0},{"$f":"Анкета!AF75","v":4},{"$f":"Анкета!AG75","v":2},{"$f":"Анкета!AH75","v":3},{"$f":"Анкета!AI75","v":3},{"$f":"Анкета!AJ75","v":0},{"$f":"Анкета!AK75","v":0},{"$f":"Анкета!AL75","v":1},{"$f":"Анкета!AM75","v":5},{"$f":"Анкета!AN75","v":2},{"$f":"Анкета!AO75","v":0},{"$f":"Анкета!AP75","v":2},{"$f":"Анкета!AQ75","v":0},{"$f":"Анкета!AR75","v":0},{"$f":"Анкета!AS75","v":0},{"$f":"Анкета!AT75","v":1},{"$f":"Анкета!AU75","v":5},{"$f":"Анкета!AV75","v":4},{"$f":"Анкета!AW75","v":1},{"$f":"Анкета!AX75","v":2},{"$f":"Анкета!AY75","v":5},{"$f":"Анкета!AZ75","v":4},{"$f":"Анкета!BA75","v":2},{"$f":"Анкета!BB75","v":7},{"$f":"Анкета!BC75","v":9},{"$f":"Анкета!BD75","v":0},{"$f":"Анкета!BE75","v":7},{"$f":"Анкета!BF75","v":8},{"$f":"Анкета!BG75","v":0},{"$f":"Анкета!BH75","v":0}]
[{"$f":"Анкета!A76","v":"LIT4"},{"$f":"Анкета!B76","v":0},{"$f":"Анкета!C76","v":9},{"$f":"Анкета!D76","v":6},{"$f":"Анкета!E76","v":5},{"$f":"Анкета!F76","v":1},{"$f":"Анкета!G76","v":6},{"$f":"Анкета!H76","v":2},{"$f":"Анкета!I76","v":4},{"$f":"Анкета!J76","v":3},{"$f":"Анкета!K76","v":2},{"$f":"Анкета!L76","v":4},{"$f":"Анкета!M76","v":3},{"$f":"Анкета!N76","v":2},{"$f":"Анкета!O76","v":0},{"$f":"Анкета!P76","v":1},{"$f":"Анкета!Q76","v":1},{"$f":"Анкета!R76","v":4},{"$f":"Анкета!S76","v":2},{"$f":"Анкета!T76","v":2},{"$f":"Анкета!U76","v":1},{"$f":"Анкета!V76","v":0},{"$f":"Анкета!W76","v":2},{"$f":"Анкета!X76","v":3},{"$f":"Анкета!Y76","v":1},{"$f":"Анкета!Z76","v":1},{"$f":"Анкета!AA76","v":1},{"$f":"Анкета!AB76","v":0},{"$f":"Анкета!AC76","v":3},{"$f":"Анкета!AD76","v":0},{"$f":"Анкета!AE76","v":0},{"$f":"Анкета!AF76","v":1},{"$f":"Анкета!AG76","v":1},{"$f":"Анкета!AH76","v":1},{"$f":"Анкета!AI76","v":2},{"$f":"Анкета!AJ76","v":1},{"$f":"Анкета!AK76","v":0},{"$f":"Анкета!AL76","v":0},{"$f":"Анкета!AM76","v":5},{"$f":"Анкета!AN76","v":8},{"$f":"Анкета!AO76","v":10},{"$f":"Анкета!AP76","v":8},{"$f":"Анкета!AQ76","v":10},{"$f":"Анкета!AR76","v":1},{"$f":"Анкета!AS76","v":1},{"$f":"Анкета!AT76","v":2},{"$f":"Анкета!AU76","v":2},{"$f":"Анкета!AV76","v":3},{"$f":"Анкета!AW76","v":1},{"$f":"Анкета!AX76","v":1},{"$f":"Анкета!AY76","v":5},{"$f":"Анкета!AZ76","v":6},{"$f":"Анкета!BA76","v":8},{"$f":"Анкета!BB76","v":3},{"$f":"Анкета!BC76","v":1},{"$f":"Анкета!BD76","v":10},{"$f":"Анкета!BE76","v":3},{"$f":"Анкета!BF76","v":2},{"$f":"Анкета!BG76","v":10},{"$f":"Анкета!BH76","v":0}]
[{"$f":"Анкета!A77","v":"LIT4"},{"$f":"Анкета!B77","v":0},{"$f":"Анкета!C77","v":0},{"$f":"Анкета!D77","v":1},{"$f":"Анкета!E77","v":0},{"$f":"Анкета!F77","v":4},{"$f":"Анкета!G77","v":4},{"$f":"Анкета!H77","v":0},{"$f":"Анкета!I77","v":0},{"$f":"Анкета!J77","v":0},{"$f":"Анкета!K77","v":2},{"$f":"Анкета!L77","v":4},{"$f":"Анкета!M77","v":3},{"$f":"Анкета!N77","v":7},{"$f":"Анкета!O77","v":3},{"$f":"Анкета!P77","v":5},{"$f":"Анкета!Q77","v":3},{"$f":"Анкета!R77","v":0},{"$f":"Анкета!S77","v":5},{"$f":"Анкета!T77","v":3},{"$f":"Анкета!U77","v":4},{"$f":"Анкета!V77","v":7},{"$f":"Анкета!W77","v":3},{"$f":"Анкета!X77","v":2},{"$f":"Анкета!Y77","v":2},{"$f":"Анкета!Z77","v":1},{"$f":"Анкета!AA77","v":7},{"$f":"Анкета!AB77","v":2},{"$f":"Анкета!AC77","v":3},{"$f":"Анкета!AD77","v":0},{"$f":"Анкета!AE77","v":3},{"$f":"Анкета!AF77","v":5},{"$f":"Анкета!AG77","v":6},{"$f":"Анкета!AH77","v":4},{"$f":"Анкета!AI77","v":3},{"$f":"Анкета!AJ77","v":4},{"$f":"Анкета!AK77","v":4},{"$f":"Анкета!AL77","v":7},{"$f":"Анкета!AM77","v":0},{"$f":"Анкета!AN77","v":0},{"$f":"Анкета!AO77","v":0},{"$f":"Анкета!AP77","v":0},{"$f":"Анкета!AQ77","v":0},{"$f":"Анкета!AR77","v":6},{"$f":"Анкета!AS77","v":2},{"$f":"Анкета!AT77","v":2},{"$f":"Анкета!AU77","v":3},{"$f":"Анкета!AV77","v":3},{"$f":"Анкета!AW77","v":4},{"$f":"Анкета!AX77","v":4},{"$f":"Анкета!AY77","v":0},{"$f":"Анкета!AZ77","v":0},{"$f":"Анкета!BA77","v":0},{"$f":"Анкета!BB77","v":0},{"$f":"Анкета!BC77","v":0},{"$f":"Анкета!BD77","v":0},{"$f":"Анкета!BE77","v":0},{"$f":"Анкета!BF77","v":0},{"$f":"Анкета!BG77","v":0},{"$f":"Анкета!BH77","v":0}]
[{"$f":"Анкета!A78","v":"LIT4"},{"$f":"Анкета!B78","v":10},{"$f":"Анкета!C78","v":0},{"$f":"Анкета!D78","v":0},{"$f":"Анкета!E78","v":0},{"$f":"Анкета!F78","v":0},{"$f":"Анкета!G78","v":0},{"$f":"Анкета!H78","v":0},{"$f":"Анкета!I78","v":0},{"$f":"Анкета!J78","v":0},{"$f":"Анкета!K78","v":0},{"$f":"Анкета!L78","v":0},{"$f":"Анкета!M78","v":1},{"$f":"Анкета!N78","v":1},{"$f":"Анкета!O78","v":7},{"$f":"Анкета!P78","v":4},{"$f":"Анкета!Q78","v":3},{"$f":"Анкета!R78","v":1},{"$f":"Анкета!S78","v":1},{"$f":"Анкета!T78","v":5},{"$f":"Анкета!U78","v":2},{"$f":"Анкета!V78","v":2},{"$f":"Анкета!W78","v":3},{"$f":"Анкета!X78","v":2},{"$f":"Анкета!Y78","v":1},{"$f":"Анкета!Z78","v":8},{"$f":"Анкета!AA78","v":2},{"$f":"Анкета!AB78","v":2},{"$f":"Анкета!AC78","v":3},{"$f":"Анкета!AD78","v":10},{"$f":"Анкета!AE78","v":7},{"$f":"Анкета!AF78","v":0},{"$f":"Анкета!AG78","v":1},{"$f":"Анкета!AH78","v":2},{"$f":"Анкета!AI78","v":2},{"$f":"Анкета!AJ78","v":5},{"$f":"Анкета!AK78","v":6},{"$f":"Анкета!AL78","v":2},{"$f":"Анкета!AM78","v":0},{"$f":"Анкета!AN78","v":0},{"$f":"Анкета!AO78","v":0},{"$f":"Анкета!AP78","v":0},{"$f":"Анкета!AQ78","v":0},{"$f":"Анкета!AR78","v":3},{"$f":"Анкета!AS78","v":7},{"$f":"Анкета!AT78","v":5},{"$f":"Анкета!AU78","v":0},{"$f":"Анкета!AV78","v":0},{"$f":"Анкета!AW78","v":4},{"$f":"Анкета!AX78","v":3},{"$f":"Анкета!AY78","v":0},{"$f":"Анкета!AZ78","v":0},{"$f":"Анкета!BA78","v":0},{"$f":"Анкета!BB78","v":0},{"$f":"Анкета!BC78","v":0},{"$f":"Анкета!BD78","v":0},{"$f":"Анкета!BE78","v":0},{"$f":"Анкета!BF78","v":0},{"$f":"Анкета!BG78","v":0},{"$f":"Анкета!BH78","v":0}]

{"sheet":"Лист6","index":11,"n_rows":18,"n_cols":60,"rows_kept":18,"cut":false,"hidden":false,"merged":[]}
[]
["ВЪПРОСИ","3. Курс","4. Пол","5. Посещение на лекции","6. Посещение на упражнения","7. Ако не сте посещавали занятия, коя е причината за това","8. Успех от следването до момента","9. познавам квалификационната характеристика на специалността си","10. познавам учебния план, по който се обучавате","11. познавам учебните програми на дисциплините, които изучаваме","12.обучението помага на развитието на общата Ви култура","13. помага на професионалната Ви подготовка","14. лекциите и упражненията са актуални и отразяват постиженията на науката","15. те са актуални и ориентирани към потребностите на практиката","16. лекциите и упражненията са анахронични и самоцелни","17. обучението е добро и дава възможност за самостоятелна работа","18. то е напрегнато и ограничава възможностите за самостоятелна работа","19. учебната програма е съобразена по-скоро с интересите и възможностите на преподавателите, отколкото с тези на студентите","20. съдържателни и интересни","21. скучни и безинтересни","22. способност за творческо мислене","23. способност за вземане на решения","24. умения за работа в екип","25. комуникативни умения","26. полезни и необходими","27. самоцелни и безполезни","28. библиотеките в Университета разполага с необходимата Ви литература","29. услугите са достъпни за Вас","30. административното обслужване е на добро равнище","31. в Университета има условия за спорт","32. социалните условия (стипендии, общежития. стол, почивна база) са добре решени","33. преподавателите Ви са добре подготвени и познават новостите в научната област, в която работят","34. преподавателите Ви са толерантни, комуникативни и мотивирани в работата си със студентите","35. има корумпирани преподаватели","36. има корумпирани служители","37. материалната база е добра","38. учебно-техническите средства са съвременни и подпомагат учебния процес","39. учебниците и учебно-помощните материали са достъпни и подпомагат обучението Ви","40. публични лекции, срещи с представители на науката, политиката, бизнеса културата","41. студентски творчески инициативи","42. програми за обмен на студенти","43. дискусии, кръгли маси, конференции","44. проекти на преподавателските екипи","45. научните изследвания на вашите преподаватели","46. научно-изследователска програма на Факултета","47. научните издания на факултета","48. преподава на академично равнище","49. работи с добре подготвени и отдадени на работата си преподаватели","50. толерира творчеството, инициативата, самостоятелното мислене","51. уважават индивидуалните способности и насърчава индивидуалното развитие на студентите","52. има възможност да получите образование по предпочитана специалност","53. родителите Ви настояват да продължите образованието си","54. приятелите и съучениците Ви учат тук","55. е в района, в който сте роден(а) и живеете","56. е висше училище с традиции и авторитет","57. били потърпевш на корупционен натиск","58. чували, че има корумпирани преподаватели и служители, но не сте се сблъсквали лично с корупция в Университета","59. сигурни, че има корумпирани преподаватели и служители в ПУ","60. сигурни, че няма корумпирани преподаватели и служители в ПУ"]
[null," A = І"," A = МЪЖ"," A = Всички"," A = Всички"," A = Посещавал съм"," A = Отличен"," A = ДА "," A = ДА "," A = ДА "," A = ДА"," A = ДА"," A = ДА"," A = ДА"," A = ДА"," A = ДА"," A = ДА"," A = ДА"," A = ДА"," A = ДА"," A = ДА"," A = ДА"," A = ДА"," A = ДА"," A = ДА"," A = ДА"," A = ДА"," A = ДА"," A = ДА"," A = ДА"," A = ДА"," A = ДА"," A = ДА"," A = ДА"," A = ДА"," A = ДА"," A = ДА"," A = ДА"," A = ДА"," A = ДА"," A = ДА"," A = ДА"," A = ДА"," A = ДА"," A = ДА"," A = ДА"," A = ДА"," A = ДА"," A = ДА"," A = ДА"," A = ДА"," A = ДА"," A = ДА"," A = ДА"," A = ДА"," A = ДА"," A = ДА"," A = ДА"," A = ДА"]
[null,"B = ІІ","B = ЖЕНА","B = Голяма част ","B = Голяма част ","B = Работя и уча","B = Много добър","B = ЧАСТИЧНО","B = ЧАСТИЧНО","B = ЧАСТИЧНО","B = Във висока степен ","B = Във висока степен ","B = Във висока степен ","B = Във висока степен ","B = Във висока степен ","B = Във висока степен ","B = Във висока степен ","B = Във висока степен ","B = Във висока степен ","B = Във висока степен ","B = Във висока степен ","B = Във висока степен ","B = Във висока степен ","B = Във висока степен ","B = Във висока степен ","B = Във висока степен ","B = Във висока степен ","B = Във висока степен ","B = Във висока степен ","B = Във висока степен ","B = Във висока степен ","B = Във висока степен ","B = Във висока степен ","B = Във висока степен ","B = Във висока степен ","B = Във висока степен ","B = Във висока степен ","B = Във висока степен ","B = НЕ","B = НЕ","B = НЕ","B = НЕ","B = НЕ","B = Във висока степен ","B = Във висока степен ","B = Във висока степен ","B = Във висока степен ","B = Във висока степен ","B = Във висока степен ","B = Във висока степен ","B = НЕ","B = НЕ","B = НЕ ","B = НЕ ","B = НЕ","B = НЕ ","B = НЕ","B = НЕ","B = НЕ"]
[null,"C = ІІІ             D = ІV",null,"C = Малка част","C = Малка част","C = Безинтересни са","C = Добър","C = НЕ","C = НЕ","C = НЕ","C = В известна степен","C = В известна степен","C = В известна степен","C = В известна степен","C = В известна степен","C = В известна степен","C = В известна степен","C = В известна степен","C = В известна степен","C = В известна степен","C = В известна степен","C = В известна степен","C = В известна степен","C = В известна степен","C = В известна степен","C = В известна степен","C = В известна степен","C = В известна степен","C = В известна степен","C = В известна степен","C = В известна степен","C = В известна степен","C = В известна степен","C = В известна степен","C = В известна степен","C = В известна степен","C = В известна степен","C = В известна степен",null,null,null,null,null,"C = В известна степен","C = В известна степен","C = В известна степен","C = В известна степен","C = В известна степен","C = В известна степен","C = В известна степен"]
[null,"E = V",null," D = Нито една"," D = Нито едно","D = Мога да се подготвя сам","D = Среден",null,null,null," D = НЕ"," D = НЕ"," D = НЕ"," D = НЕ"," D = НЕ"," D = НЕ"," D = НЕ"," D = НЕ"," D = НЕ"," D = НЕ"," D = НЕ"," D = НЕ"," D = НЕ  "," D = НЕ"," D = НЕ"," D = НЕ"," D = НЕ"," D = НЕ"," D = НЕ"," D = НЕ"," D = НЕ"," D = НЕ"," D = НЕ"," D = НЕ"," D = НЕ"," D = НЕ"," D = НЕ"," D = НЕ",null,null,null,null,null," D = НЕ"," D = НЕ"," D = НЕ"," D = НЕ"," D = НЕ"," D = НЕ"," D = НЕ"]
[{"$f":"Анкета!A79","v":"PLEng1"},{"$f":"Анкета!B79","v":14},{"$f":"Анкета!C79","v":7},{"$f":"Анкета!D79","v":4},{"$f":"Анкета!E79","v":9},{"$f":"Анкета!F79","v":6},{"$f":"Анкета!G79","v":1},{"$f":"Анкета!H79","v":7},{"$f":"Анкета!I79","v":9},{"$f":"Анкета!J79","v":9},{"$f":"Анкета!K79","v":8},{"$f":"Анкета!L79","v":4},{"$f":"Анкета!M79","v":2},{"$f":"Анкета!N79","v":0},{"$f":"Анкета!O79","v":3},{"$f":"Анкета!P79","v":2},{"$f":"Анкета!Q79","v":2},{"$f":"Анкета!R79","v":3},{"$f":"Анкета!S79","v":7},{"$f":"Анкета!T79","v":0},{"$f":"Анкета!U79","v":5},{"$f":"Анкета!V79","v":3},{"$f":"Анкета!W79","v":10},{"$f":"Анкета!X79","v":11},{"$f":"Анкета!Y79","v":3},{"$f":"Анкета!Z79","v":0},{"$f":"Анкета!AA79","v":4},{"$f":"Анкета!AB79","v":8},{"$f":"Анкета!AC79","v":3},{"$f":"Анкета!AD79","v":0},{"$f":"Анкета!AE79","v":2},{"$f":"Анкета!AF79","v":8},{"$f":"Анкета!AG79","v":5},{"$f":"Анкета!AH79","v":2},{"$f":"Анкета!AI79","v":3},{"$f":"Анкета!AJ79","v":1},{"$f":"Анкета!AK79","v":3},{"$f":"Анкета!AL79","v":4},{"$f":"Анкета!AM79","v":1},{"$f":"Анкета!AN79","v":4},{"$f":"Анкета!AO79","v":1},{"$f":"Анкета!AP79","v":1},{"$f":"Анкета!AQ79","v":2},{"$f":"Анкета!AR79","v":1},{"$f":"Анкета!AS79","v":0},{"$f":"Анкета!AT79","v":1},{"$f":"Анкета!AU79","v":8},{"$f":"Анкета!AV79","v":7},{"$f":"Анкета!AW79","v":4},{"$f":"Анкета!AX79","v":3},{"$f":"Анкета!AY79","v":9},{"$f":"Анкета!AZ79","v":5},{"$f":"Анкета!BA79","v":2},{"$f":"Анкета!BB79","v":7},{"$f":"Анкета!BC79","v":11},{"$f":"Анкета!BD79","v":0},{"$f":"Анкета!BE79","v":14},{"$f":"Анкета!BF79","v":2},{"$f":"Анкета!BG79","v":3},{"$f":"Анкета!BH79","v":0}]
[{"$f":"Анкета!A80","v":"PLEng1"},{"$f":"Анкета!B80","v":0},{"$f":"Анкета!C80","v":7},{"$f":"Анкета!D80","v":8},{"$f":"Анкета!E80","v":5},{"$f":"Анкета!F80","v":4},{"$f":"Анкета!G80","v":4},{"$f":"Анкета!H80","v":6},{"$f":"Анкета!I80","v":4},{"$f":"Анкета!J80","v":4},{"$f":"Анкета!K80","v":3},{"$f":"Анкета!L80","v":4},{"$f":"Анкета!M80","v":4},{"$f":"Анкета!N80","v":9},{"$f":"Анкета!O80","v":3},{"$f":"Анкета!P80","v":5},{"$f":"Анкета!Q80","v":4},{"$f":"Анкета!R80","v":0},{"$f":"Анкета!S80","v":4},{"$f":"Анкета!T80","v":0},{"$f":"Анкета!U80","v":5},{"$f":"Анкета!V80","v":3},{"$f":"Анкета!W80","v":2},{"$f":"Анкета!X80","v":1},{"$f":"Анкета!Y80","v":5},{"$f":"Анкета!Z80","v":0},{"$f":"Анкета!AA80","v":4},{"$f":"Анкета!AB80","v":3},{"$f":"Анкета!AC80","v":0},{"$f":"Анкета!AD80","v":2},{"$f":"Анкета!AE80","v":1},{"$f":"Анкета!AF80","v":5},{"$f":"Анкета!AG80","v":8},{"$f":"Анкета!AH80","v":1},{"$f":"Анкета!AI80","v":2},{"$f":"Анкета!AJ80","v":4},{"$f":"Анкета!AK80","v":4},{"$f":"Анкета!AL80","v":3},{"$f":"Анкета!AM80","v":13},{"$f":"Анкета!AN80","v":10},{"$f":"Анкета!AO80","v":13},{"$f":"Анкета!AP80","v":13},{"$f":"Анкета!AQ80","v":12},{"$f":"Анкета!AR80","v":0},{"$f":"Анкета!AS80","v":0},{"$f":"Анкета!AT80","v":1},{"$f":"Анкета!AU80","v":4},{"$f":"Анкета!AV80","v":5},{"$f":"Анкета!AW80","v":8},{"$f":"Анкета!AX80","v":4},{"$f":"Анкета!AY80","v":5},{"$f":"Анкета!AZ80","v":9},{"$f":"Анкета!BA80","v":12},{"$f":"Анкета!BB80","v":7},{"$f":"Анкета!BC80","v":3},{"$f":"Анкета!BD80","v":14},{"$f":"Анкета!BE80","v":0},{"$f":"Анкета!BF80","v":12},{"$f":"Анкета!BG80","v":11},{"$f":"Анкета!BH80","v":0}]
[{"$f":"Анкета!A81","v":"PLEng1"},{"$f":"Анкета!B81","v":0},{"$f":"Анкета!C81","v":0},{"$f":"Анкета!D81","v":2},{"$f":"Анкета!E81","v":0},{"$f":"Анкета!F81","v":1},{"$f":"Анкета!G81","v":7},{"$f":"Анкета!H81","v":1},{"$f":"Анкета!I81","v":1},{"$f":"Анкета!J81","v":1},{"$f":"Анкета!K81","v":3},{"$f":"Анкета!L81","v":6},{"$f":"Анкета!M81","v":8},{"$f":"Анкета!N81","v":5},{"$f":"Анкета!O81","v":3},{"$f":"Анкета!P81","v":4},{"$f":"Анкета!Q81","v":1},{"$f":"Анкета!R81","v":7},{"$f":"Анкета!S81","v":3},{"$f":"Анкета!T81","v":3},{"$f":"Анкета!U81","v":2},{"$f":"Анкета!V81","v":4},{"$f":"Анкета!W81","v":1},{"$f":"Анкета!X81","v":2},{"$f":"Анкета!Y81","v":6},{"$f":"Анкета!Z81","v":7},{"$f":"Анкета!AA81","v":4},{"$f":"Анкета!AB81","v":2},{"$f":"Анкета!AC81","v":3},{"$f":"Анкета!AD81","v":3},{"$f":"Анкета!AE81","v":4},{"$f":"Анкета!AF81","v":1},{"$f":"Анкета!AG81","v":1},{"$f":"Анкета!AH81","v":3},{"$f":"Анкета!AI81","v":3},{"$f":"Анкета!AJ81","v":3},{"$f":"Анкета!AK81","v":6},{"$f":"Анкета!AL81","v":6},{"$f":"Анкета!AM81","v":0},{"$f":"Анкета!AN81","v":0},{"$f":"Анкета!AO81","v":0},{"$f":"Анкета!AP81","v":0},{"$f":"Анкета!AQ81","v":0},{"$f":"Анкета!AR81","v":5},{"$f":"Анкета!AS81","v":3},{"$f":"Анкета!AT81","v":7},{"$f":"Анкета!AU81","v":2},{"$f":"Анкета!AV81","v":2},{"$f":"Анкета!AW81","v":2},{"$f":"Анкета!AX81","v":5},{"$f":"Анкета!AY81","v":0},{"$f":"Анкета!AZ81","v":0},{"$f":"Анкета!BA81","v":0},{"$f":"Анкета!BB81","v":0},{"$f":"Анкета!BC81","v":0},{"$f":"Анкета!BD81","v":0},{"$f":"Анкета!BE81","v":0},{"$f":"Анкета!BF81","v":0},{"$f":"Анкета!BG81","v":0},{"$f":"Анкета!BH81","v":0}]
[{"$f":"Анкета!A82","v":"PLEng1"},{"$f":"Анкета!B82","v":0},{"$f":"Анкета!C82","v":0},{"$f":"Анкета!D82","v":0},{"$f":"Анкета!E82","v":0},{"$f":"Анкета!F82","v":3},{"$f":"Анкета!G82","v":2},{"$f":"Анкета!H82","v":0},{"$f":"Анкета!I82","v":0},{"$f":"Анкета!J82","v":0},{"$f":"Анкета!K82","v":0},{"$f":"Анкета!L82","v":0},{"$f":"Анкета!M82","v":0},{"$f":"Анкета!N82","v":0},{"$f":"Анкета!O82","v":5},{"$f":"Анкета!P82","v":3},{"$f":"Анкета!Q82","v":7},{"$f":"Анкета!R82","v":4},{"$f":"Анкета!S82","v":0},{"$f":"Анкета!T82","v":11},{"$f":"Анкета!U82","v":2},{"$f":"Анкета!V82","v":4},{"$f":"Анкета!W82","v":1},{"$f":"Анкета!X82","v":0},{"$f":"Анкета!Y82","v":0},{"$f":"Анкета!Z82","v":7},{"$f":"Анкета!AA82","v":2},{"$f":"Анкета!AB82","v":1},{"$f":"Анкета!AC82","v":8},{"$f":"Анкета!AD82","v":9},{"$f":"Анкета!AE82","v":7},{"$f":"Анкета!AF82","v":0},{"$f":"Анкета!AG82","v":0},{"$f":"Анкета!AH82","v":8},{"$f":"Анкета!AI82","v":6},{"$f":"Анкета!AJ82","v":6},{"$f":"Анкета!AK82","v":1},{"$f":"Анкета!AL82","v":1},{"$f":"Анкета!AM82","v":0},{"$f":"Анкета!AN82","v":0},{"$f":"Анкета!AO82","v":0},{"$f":"Анкета!AP82","v":0},{"$f":"Анкета!AQ82","v":0},{"$f":"Анкета!AR82","v":8},{"$f":"Анкета!AS82","v":11},{"$f":"Анкета!AT82","v":5},{"$f":"Анкета!AU82","v":0},{"$f":"Анкета!AV82","v":0},{"$f":"Анкета!AW82","v":0},{"$f":"Анкета!AX82","v":2},{"$f":"Анкета!AY82","v":0},{"$f":"Анкета!AZ82","v":0},{"$f":"Анкета!BA82","v":0},{"$f":"Анкета!BB82","v":0},{"$f":"Анкета!BC82","v":0},{"$f":"Анкета!BD82","v":0},{"$f":"Анкета!BE82","v":0},{"$f":"Анкета!BF82","v":0},{"$f":"Анкета!BG82","v":0},{"$f":"Анкета!BH82","v":0}]
[{"$f":"Анкета!A83","v":"PLEng2"},{"$f":"Анкета!B83","v":0},{"$f":"Анкета!C83","v":6},{"$f":"Анкета!D83","v":3},{"$f":"Анкета!E83","v":7},{"$f":"Анкета!F83","v":7},{"$f":"Анкета!G83","v":1},{"$f":"Анкета!H83","v":7},{"$f":"Анкета!I83","v":9},{"$f":"Анкета!J83","v":6},{"$f":"Анкета!K83","v":5},{"$f":"Анкета!L83","v":5},{"$f":"Анкета!M83","v":5},{"$f":"Анкета!N83","v":3},{"$f":"Анкета!O83","v":1},{"$f":"Анкета!P83","v":2},{"$f":"Анкета!Q83","v":4},{"$f":"Анкета!R83","v":6},{"$f":"Анкета!S83","v":5},{"$f":"Анкета!T83","v":0},{"$f":"Анкета!U83","v":3},{"$f":"Анкета!V83","v":1},{"$f":"Анкета!W83","v":3},{"$f":"Анкета!X83","v":3},{"$f":"Анкета!Y83","v":8},{"$f":"Анкета!Z83","v":0},{"$f":"Анкета!AA83","v":4},{"$f":"Анкета!AB83","v":3},{"$f":"Анкета!AC83","v":4},{"$f":"Анкета!AD83","v":0},{"$f":"Анкета!AE83","v":4},{"$f":"Анкета!AF83","v":7},{"$f":"Анкета!AG83","v":5},{"$f":"Анкета!AH83","v":2},{"$f":"Анкета!AI83","v":2},{"$f":"Анкета!AJ83","v":1},{"$f":"Анкета!AK83","v":1},{"$f":"Анкета!AL83","v":2},{"$f":"Анкета!AM83","v":8},{"$f":"Анкета!AN83","v":2},{"$f":"Анкета!AO83","v":1},{"$f":"Анкета!AP83","v":1},{"$f":"Анкета!AQ83","v":1},{"$f":"Анкета!AR83","v":0},{"$f":"Анкета!AS83","v":0},{"$f":"Анкета!AT83","v":0},{"$f":"Анкета!AU83","v":6},{"$f":"Анкета!AV83","v":4},{"$f":"Анкета!AW83","v":2},{"$f":"Анкета!AX83","v":2},{"$f":"Анкета!AY83","v":12},{"$f":"Анкета!AZ83","v":1},{"$f":"Анкета!BA83","v":2},{"$f":"Анкета!BB83","v":3},{"$f":"Анкета!BC83","v":12},{"$f":"Анкета!BD83","v":1},{"$f":"Анкета!BE83","v":10},{"$f":"Анкета!BF83","v":9},{"$f":"Анкета!BG83","v":2},{"$f":"Анкета!BH83","v":0}]
[{"$f":"Анкета!A84","v":"PLEng2"},{"$f":"Анкета!B84","v":14},{"$f":"Анкета!C84","v":8},{"$f":"Анкета!D84","v":9},{"$f":"Анкета!E84","v":7},{"$f":"Анкета!F84","v":4},{"$f":"Анкета!G84","v":6},{"$f":"Анкета!H84","v":7},{"$f":"Анкета!I84","v":5},{"$f":"Анкета!J84","v":8},{"$f":"Анкета!K84","v":6},{"$f":"Анкета!L84","v":8},{"$f":"Анкета!M84","v":4},{"$f":"Анкета!N84","v":7},{"$f":"Анкета!O84","v":1},{"$f":"Анкета!P84","v":1},{"$f":"Анкета!Q84","v":0},{"$f":"Анкета!R84","v":3},{"$f":"Анкета!S84","v":2},{"$f":"Анкета!T84","v":6},{"$f":"Анкета!U84","v":2},{"$f":"Анкета!V84","v":7},{"$f":"Анкета!W84","v":6},{"$f":"Анкета!X84","v":8},{"$f":"Анкета!Y84","v":2},{"$f":"Анкета!Z84","v":1},{"$f":"Анкета!AA84","v":5},{"$f":"Анкета!AB84","v":3},{"$f":"Анкета!AC84","v":1},{"$f":"Анкета!AD84","v":3},{"$f":"Анкета!AE84","v":2},{"$f":"Анкета!AF84","v":7},{"$f":"Анкета!AG84","v":6},{"$f":"Анкета!AH84","v":3},{"$f":"Анкета!AI84","v":2},{"$f":"Анкета!AJ84","v":3},{"$f":"Анкета!AK84","v":3},{"$f":"Анкета!AL84","v":2},{"$f":"Анкета!AM84","v":6},{"$f":"Анкета!AN84","v":12},{"$f":"Анкета!AO84","v":13},{"$f":"Анкета!AP84","v":13},{"$f":"Анкета!AQ84","v":13},{"$f":"Анкета!AR84","v":0},{"$f":"Анкета!AS84","v":0},{"$f":"Анкета!AT84","v":0},{"$f":"Анкета!AU84","v":7},{"$f":"Анкета!AV84","v":7},{"$f":"Анкета!AW84","v":2},{"$f":"Анкета!AX84","v":1},{"$f":"Анкета!AY84","v":2},{"$f":"Анкета!AZ84","v":13},{"$f":"Анкета!BA84","v":12},{"$f":"Анкета!BB84","v":11},{"$f":"Анкета!BC84","v":2},{"$f":"Анкета!BD84","v":13},{"$f":"Анкета!BE84","v":4},{"$f":"Анкета!BF84","v":5},{"$f":"Анкета!BG84","v":12},{"$f":"Анкета!BH84","v":0}]
[{"$f":"Анкета!A85","v":"PLEng2"},{"$f":"Анкета!B85","v":0},{"$f":"Анкета!C85","v":0},{"$f":"Анкета!D85","v":2},{"$f":"Анкета!E85","v":0},{"$f":"Анкета!F85","v":2},{"$f":"Анкета!G85","v":6},{"$f":"Анкета!H85","v":0},{"$f":"Анкета!I85","v":0},{"$f":"Анкета!J85","v":0},{"$f":"Анкета!K85","v":3},{"$f":"Анкета!L85","v":1},{"$f":"Анкета!M85","v":5},{"$f":"Анкета!N85","v":4},{"$f":"Анкета!O85","v":7},{"$f":"Анкета!P85","v":8},{"$f":"Анкета!Q85","v":6},{"$f":"Анкета!R85","v":3},{"$f":"Анкета!S85","v":6},{"$f":"Анкета!T85","v":1},{"$f":"Анкета!U85","v":8},{"$f":"Анкета!V85","v":6},{"$f":"Анкета!W85","v":1},{"$f":"Анкета!X85","v":2},{"$f":"Анкета!Y85","v":3},{"$f":"Анкета!Z85","v":2},{"$f":"Анкета!AA85","v":4},{"$f":"Анкета!AB85","v":8},{"$f":"Анкета!AC85","v":3},{"$f":"Анкета!AD85","v":4},{"$f":"Анкета!AE85","v":5},{"$f":"Анкета!AF85","v":0},{"$f":"Анкета!AG85","v":2},{"$f":"Анкета!AH85","v":3},{"$f":"Анкета!AI85","v":6},{"$f":"Анкета!AJ85","v":9},{"$f":"Анкета!AK85","v":8},{"$f":"Анкета!AL85","v":9},{"$f":"Анкета!AM85","v":0},{"$f":"Анкета!AN85","v":0},{"$f":"Анкета!AO85","v":0},{"$f":"Анкета!AP85","v":0},{"$f":"Анкета!AQ85","v":0},{"$f":"Анкета!AR85","v":3},{"$f":"Анкета!AS85","v":3},{"$f":"Анкета!AT85","v":5},{"$f":"Анкета!AU85","v":1},{"$f":"Анкета!AV85","v":3},{"$f":"Анкета!AW85","v":9},{"$f":"Анкета!AX85","v":8},{"$f":"Анкета!AY85","v":0},{"$f":"Анкета!AZ85","v":0},{"$f":"Анкета!BA85","v":0},{"$f":"Анкета!BB85","v":0},{"$f":"Анкета!BC85","v":0},{"$f":"Анкета!BD85","v":0},{"$f":"Анкета!BE85","v":0},{"$f":"Анкета!BF85","v":0},{"$f":"Анкета!BG85","v":0},{"$f":"Анкета!BH85","v":0}]
[{"$f":"Анкета!A86","v":"PLEng2"},{"$f":"Анкета!B86","v":0},{"$f":"Анкета!C86","v":0},{"$f":"Анкета!D86","v":0},{"$f":"Анкета!E86","v":0},{"$f":"Анкета!F86","v":1},{"$f":"Анкета!G86","v":1},{"$f":"Анкета!H86","v":0},{"$f":"Анкета!I86","v":0},{"$f":"Анкета!J86","v":0},{"$f":"Анкета!K86","v":0},{"$f":"Анкета!L86","v":0},{"$f":"Анкета!M86","v":0},{"$f":"Анкета!N86","v":0},{"$f":"Анкета!O86","v":5},{"$f":"Анкета!P86","v":3},{"$f":"Анкета!Q86","v":4},{"$f":"Анкета!R86","v":2},{"$f":"Анкета!S86","v":1},{"$f":"Анкета!T86","v":7},{"$f":"Анкета!U86","v":1},{"$f":"Анкета!V86","v":0},{"$f":"Анкета!W86","v":4},{"$f":"Анкета!X86","v":1},{"$f":"Анкета!Y86","v":1},{"$f":"Анкета!Z86","v":11},{"$f":"Анкета!AA86","v":1},{"$f":"Анкета!AB86","v":0},{"$f":"Анкета!AC86","v":6},{"$f":"Анкета!AD86","v":7},{"$f":"Анкета!AE86","v":3},{"$f":"Анкета!AF86","v":0},{"$f":"Анкета!AG86","v":1},{"$f":"Анкета!AH86","v":6},{"$f":"Анкета!AI86","v":4},{"$f":"Анкета!AJ86","v":1},{"$f":"Анкета!AK86","v":2},{"$f":"Анкета!AL86","v":1},{"$f":"Анкета!AM86","v":0},{"$f":"Анкета!AN86","v":0},{"$f":"Анкета!AO86","v":0},{"$f":"Анкета!AP86","v":0},{"$f":"Анкета!AQ86","v":0},{"$f":"Анкета!AR86","v":11},{"$f":"Анкета!AS86","v":11},{"$f":"Анкета!AT86","v":9},{"$f":"Анкета!AU86","v":0},{"$f":"Анкета!AV86","v":0},{"$f":"Анкета!AW86","v":1},{"$f":"Анкета!AX86","v":3},{"$f":"Анкета!AY86","v":0},{"$f":"Анкета!AZ86","v":0},{"$f":"Анкета!BA86","v":0},{"$f":"Анкета!BB86","v":0},{"$f":"Анкета!BC86","v":0},{"$f":"Анкета!BD86","v":0},{"$f":"Анкета!BE86","v":0},{"$f":"Анкета!BF86","v":0},{"$f":"Анкета!BG86","v":0},{"$f":"Анкета!BH86","v":0}]
[{"$f":"Анкета!A87","v":"PLEng3"},{"$f":"Анкета!B87","v":0},{"$f":"Анкета!C87","v":1},{"$f":"Анкета!D87","v":2},{"$f":"Анкета!E87","v":8},{"$f":"Анкета!F87","v":8},{"$f":"Анкета!G87","v":0},{"$f":"Анкета!H87","v":10},{"$f":"Анкета!I87","v":10},{"$f":"Анкета!J87","v":7},{"$f":"Анкета!K87","v":9},{"$f":"Анкета!L87","v":6},{"$f":"Анкета!M87","v":5},{"$f":"Анкета!N87","v":5},{"$f":"Анкета!O87","v":3},{"$f":"Анкета!P87","v":1},{"$f":"Анкета!Q87","v":4},{"$f":"Анкета!R87","v":10},{"$f":"Анкета!S87","v":3},{"$f":"Анкета!T87","v":2},{"$f":"Анкета!U87","v":4},{"$f":"Анкета!V87","v":2},{"$f":"Анкета!W87","v":2},{"$f":"Анкета!X87","v":5},{"$f":"Анкета!Y87","v":6},{"$f":"Анкета!Z87","v":2},{"$f":"Анкета!AA87","v":0},{"$f":"Анкета!AB87","v":5},{"$f":"Анкета!AC87","v":1},{"$f":"Анкета!AD87","v":1},{"$f":"Анкета!AE87","v":3},{"$f":"Анкета!AF87","v":7},{"$f":"Анкета!AG87","v":3},{"$f":"Анкета!AH87","v":5},{"$f":"Анкета!AI87","v":4},{"$f":"Анкета!AJ87","v":1},{"$f":"Анкета!AK87","v":1},{"$f":"Анкета!AL87","v":1},{"$f":"Анкета!AM87","v":5},{"$f":"Анкета!AN87","v":2},{"$f":"Анкета!AO87","v":2},{"$f":"Анкета!AP87","v":1},{"$f":"Анкета!AQ87","v":0},{"$f":"Анкета!AR87","v":2},{"$f":"Анкета!AS87","v":0},{"$f":"Анкета!AT87","v":0},{"$f":"Анкета!AU87","v":7},{"$f":"Анкета!AV87","v":5},{"$f":"Анкета!AW87","v":4},{"$f":"Анкета!AX87","v":5},{"$f":"Анкета!AY87","v":14},{"$f":"Анкета!AZ87","v":6},{"$f":"Анкета!BA87","v":3},{"$f":"Анкета!BB87","v":6},{"$f":"Анкета!BC87","v":11},{"$f":"Анкета!BD87","v":3},{"$f":"Анкета!BE87","v":11},{"$f":"Анкета!BF87","v":6},{"$f":"Анкета!BG87","v":0},{"$f":"Анкета!BH87","v":0}]
[{"$f":"Анкета!A88","v":"PLEng3"},{"$f":"Анкета!B88","v":0},{"$f":"Анкета!C88","v":14},{"$f":"Анкета!D88","v":12},{"$f":"Анкета!E88","v":7},{"$f":"Анкета!F88","v":2},{"$f":"Анкета!G88","v":10},{"$f":"Анкета!H88","v":3},{"$f":"Анкета!I88","v":5},{"$f":"Анкета!J88","v":7},{"$f":"Анкета!K88","v":4},{"$f":"Анкета!L88","v":6},{"$f":"Анкета!M88","v":5},{"$f":"Анкета!N88","v":3},{"$f":"Анкета!O88","v":1},{"$f":"Анкета!P88","v":1},{"$f":"Анкета!Q88","v":1},{"$f":"Анкета!R88","v":2},{"$f":"Анкета!S88","v":5},{"$f":"Анкета!T88","v":1},{"$f":"Анкета!U88","v":1},{"$f":"Анкета!V88","v":2},{"$f":"Анкета!W88","v":3},{"$f":"Анкета!X88","v":2},{"$f":"Анкета!Y88","v":4},{"$f":"Анкета!Z88","v":1},{"$f":"Анкета!AA88","v":4},{"$f":"Анкета!AB88","v":2},{"$f":"Анкета!AC88","v":1},{"$f":"Анкета!AD88","v":1},{"$f":"Анкета!AE88","v":0},{"$f":"Анкета!AF88","v":4},{"$f":"Анкета!AG88","v":3},{"$f":"Анкета!AH88","v":1},{"$f":"Анкета!AI88","v":1},{"$f":"Анкета!AJ88","v":2},{"$f":"Анкета!AK88","v":2},{"$f":"Анкета!AL88","v":5},{"$f":"Анкета!AM88","v":10},{"$f":"Анкета!AN88","v":13},{"$f":"Анкета!AO88","v":13},{"$f":"Анкета!AP88","v":14},{"$f":"Анкета!AQ88","v":15},{"$f":"Анкета!AR88","v":2},{"$f":"Анкета!AS88","v":2},{"$f":"Анкета!AT88","v":0},{"$f":"Анкета!AU88","v":4},{"$f":"Анкета!AV88","v":4},{"$f":"Анкета!AW88","v":1},{"$f":"Анкета!AX88","v":0},{"$f":"Анкета!AY88","v":1},{"$f":"Анкета!AZ88","v":9},{"$f":"Анкета!BA88","v":12},{"$f":"Анкета!BB88","v":9},{"$f":"Анкета!BC88","v":4},{"$f":"Анкета!BD88","v":12},{"$f":"Анкета!BE88","v":4},{"$f":"Анкета!BF88","v":9},{"$f":"Анкета!BG88","v":15},{"$f":"Анкета!BH88","v":0}]
[{"$f":"Анкета!A89","v":"PLEng3"},{"$f":"Анкета!B89","v":15},{"$f":"Анкета!C89","v":0},{"$f":"Анкета!D89","v":1},{"$f":"Анкета!E89","v":0},{"$f":"Анкета!F89","v":4},{"$f":"Анкета!G89","v":5},{"$f":"Анкета!H89","v":2},{"$f":"Анкета!I89","v":0},{"$f":"Анкета!J89","v":1},{"$f":"Анкета!K89","v":2},{"$f":"Анкета!L89","v":2},{"$f":"Анкета!M89","v":3},{"$f":"Анкета!N89","v":6},{"$f":"Анкета!O89","v":6},{"$f":"Анкета!P89","v":9},{"$f":"Анкета!Q89","v":10},{"$f":"Анкета!R89","v":1},{"$f":"Анкета!S89","v":4},{"$f":"Анкета!T89","v":6},{"$f":"Анкета!U89","v":8},{"$f":"Анкета!V89","v":8},{"$f":"Анкета!W89","v":6},{"$f":"Анкета!X89","v":6},{"$f":"Анкета!Y89","v":3},{"$f":"Анкета!Z89","v":3},{"$f":"Анкета!AA89","v":1},{"$f":"Анкета!AB89","v":3},{"$f":"Анкета!AC89","v":1},{"$f":"Анкета!AD89","v":1},{"$f":"Анкета!AE89","v":6},{"$f":"Анкета!AF89","v":3},{"$f":"Анкета!AG89","v":7},{"$f":"Анкета!AH89","v":3},{"$f":"Анкета!AI89","v":4},{"$f":"Анкета!AJ89","v":7},{"$f":"Анкета!AK89","v":6},{"$f":"Анкета!AL89","v":4},{"$f":"Анкета!AM89","v":0},{"$f":"Анкета!AN89","v":0},{"$f":"Анкета!AO89","v":0},{"$f":"Анкета!AP89","v":0},{"$f":"Анкета!AQ89","v":0},{"$f":"Анкета!AR89","v":7},{"$f":"Анкета!AS89","v":2},{"$f":"Анкета!AT89","v":7},{"$f":"Анкета!AU89","v":3},{"$f":"Анкета!AV89","v":5},{"$f":"Анкета!AW89","v":6},{"$f":"Анкета!AX89","v":5},{"$f":"Анкета!AY89","v":0},{"$f":"Анкета!AZ89","v":0},{"$f":"Анкета!BA89","v":0},{"$f":"Анкета!BB89","v":0},{"$f":"Анкета!BC89","v":0},{"$f":"Анкета!BD89","v":0},{"$f":"Анкета!BE89","v":0},{"$f":"Анкета!BF89","v":0},{"$f":"Анкета!BG89","v":0},{"$f":"Анкета!BH89","v":0}]
[{"$f":"Анкета!A90","v":"PLEng3"},{"$f":"Анкета!B90","v":0},{"$f":"Анкета!C90","v":0},{"$f":"Анкета!D90","v":0},{"$f":"Анкета!E90","v":0},{"$f":"Анкета!F90","v":1},{"$f":"Анкета!G90","v":0},{"$f":"Анкета!H90","v":0},{"$f":"Анкета!I90","v":0},{"$f":"Анкета!J90","v":0},{"$f":"Анкета!K90","v":0},{"$f":"Анкета!L90","v":1},{"$f":"Анкета!M90","v":2},{"$f":"Анкета!N90","v":1},{"$f":"Анкета!O90","v":5},{"$f":"Анкета!P90","v":4},{"$f":"Анкета!Q90","v":0},{"$f":"Анкета!R90","v":2},{"$f":"Анкета!S90","v":3},{"$f":"Анкета!T90","v":6},{"$f":"Анкета!U90","v":2},{"$f":"Анкета!V90","v":3},{"$f":"Анкета!W90","v":4},{"$f":"Анкета!X90","v":2},{"$f":"Анкета!Y90","v":2},{"$f":"Анкета!Z90","v":9},{"$f":"Анкета!AA90","v":10},{"$f":"Анкета!AB90","v":5},{"$f":"Анкета!AC90","v":12},{"$f":"Анкета!AD90","v":12},{"$f":"Анкета!AE90","v":6},{"$f":"Анкета!AF90","v":1},{"$f":"Анкета!AG90","v":2},{"$f":"Анкета!AH90","v":6},{"$f":"Анкета!AI90","v":6},{"$f":"Анкета!AJ90","v":5},{"$f":"Анкета!AK90","v":6},{"$f":"Анкета!AL90","v":5},{"$f":"Анкета!AM90","v":0},{"$f":"Анкета!AN90","v":0},{"$f":"Анкета!AO90","v":0},{"$f":"Анкета!AP90","v":0},{"$f":"Анкета!AQ90","v":0},{"$f":"Анкета!AR90","v":4},{"$f":"Анкета!AS90","v":11},{"$f":"Анкета!AT90","v":8},{"$f":"Анкета!AU90","v":1},{"$f":"Анкета!AV90","v":1},{"$f":"Анкета!AW90","v":4},{"$f":"Анкета!AX90","v":5},{"$f":"Анкета!AY90","v":0},{"$f":"Анкета!AZ90","v":0},{"$f":"Анкета!BA90","v":0},{"$f":"Анкета!BB90","v":0},{"$f":"Анкета!BC90","v":0},{"$f":"Анкета!BD90","v":0},{"$f":"Анкета!BE90","v":0},{"$f":"Анкета!BF90","v":0},{"$f":"Анкета!BG90","v":0},{"$f":"Анкета!BH90","v":0}]

{"sheet":"Лист7","index":12,"n_rows":22,"n_cols":60,"rows_kept":22,"cut":false,"hidden":false,"merged":[]}
[]
["ВЪПРОСИ","3. Курс","4. Пол","5. Посещение на лекции","6. Посещение на упражнения","7. Ако не сте посещавали занятия, коя е причината за това","8. Успех от следването до момента","9. познавам квалификационната характеристика на специалността си","10. познавам учебния план, по който се обучавате","11. познавам учебните програми на дисциплините, които изучаваме","12.обучението помага на развитието на общата Ви култура","13. помага на професионалната Ви подготовка","14. лекциите и упражненията са актуални и отразяват постиженията на науката","15. те са актуални и ориентирани към потребностите на практиката","16. лекциите и упражненията са анахронични и самоцелни","17. обучението е добро и дава възможност за самостоятелна работа","18. то е напрегнато и ограничава възможностите за самостоятелна работа","19. учебната програма е съобразена по-скоро с интересите и възможностите на преподавателите, отколкото с тези на студентите","20. съдържателни и интересни","21. скучни и безинтересни","22. способност за творческо мислене","23. способност за вземане на решения","24. умения за работа в екип","25. комуникативни умения","26. полезни и необходими","27. самоцелни и безполезни","28. библиотеките в Университета разполага с необходимата Ви литература","29. услугите са достъпни за Вас","30. административното обслужване е на добро равнище","31. в Университета има условия за спорт","32. социалните условия (стипендии, общежития. стол, почивна база) са добре решени","33. преподавателите Ви са добре подготвени и познават новостите в научната област, в която работят","34. преподавателите Ви са толерантни, комуникативни и мотивирани в работата си със студентите","35. има корумпирани преподаватели","36. има корумпирани служители","37. материалната база е добра","38. учебно-техническите средства са съвременни и подпомагат учебния процес","39. учебниците и учебно-помощните материали са достъпни и подпомагат обучението Ви","40. публични лекции, срещи с представители на науката, политиката, бизнеса културата","41. студентски творчески инициативи","42. програми за обмен на студенти","43. дискусии, кръгли маси, конференции","44. проекти на преподавателските екипи","45. научните изследвания на вашите преподаватели","46. научно-изследователска програма на Факултета","47. научните издания на факултета","48. преподава на академично равнище","49. работи с добре подготвени и отдадени на работата си преподаватели","50. толерира творчеството, инициативата, самостоятелното мислене","51. уважават индивидуалните способности и насърчава индивидуалното развитие на студентите","52. има възможност да получите образование по предпочитана специалност","53. родителите Ви настояват да продължите образованието си","54. приятелите и съучениците Ви учат тук","55. е в района, в който сте роден(а) и живеете","56. е висше училище с традиции и авторитет","57. били потърпевш на корупционен натиск","58. чували, че има корумпирани преподаватели и служители, но не сте се сблъсквали лично с корупция в Университета","59. сигурни, че има корумпирани преподаватели и служители в ПУ","60. сигурни, че няма корумпирани преподаватели и служители в ПУ"]
[null," A = І"," A = МЪЖ"," A = Всички"," A = Всички"," A = Посещавал съм"," A = Отличен"," A = ДА "," A = ДА "," A = ДА "," A = ДА"," A = ДА"," A = ДА"," A = ДА"," A = ДА"," A = ДА"," A = ДА"," A = ДА"," A = ДА"," A = ДА"," A = ДА"," A = ДА"," A = ДА"," A = ДА"," A = ДА"," A = ДА"," A = ДА"," A = ДА"," A = ДА"," A = ДА"," A = ДА"," A = ДА"," A = ДА"," A = ДА"," A = ДА"," A = ДА"," A = ДА"," A = ДА"," A = ДА"," A = ДА"," A = ДА"," A = ДА"," A = ДА"," A = ДА"," A = ДА"," A = ДА"," A = ДА"," A = ДА"," A = ДА"," A = ДА"," A = ДА"," A = ДА"," A = ДА"," A = ДА"," A = ДА"," A = ДА"," A = ДА"," A = ДА"," A = ДА"]
[null,"B = ІІ","B = ЖЕНА","B = Голяма част ","B = Голяма част ","B = Работя и уча","B = Много добър","B = ЧАСТИЧНО","B = ЧАСТИЧНО","B = ЧАСТИЧНО","B = Във висока степен ","B = Във висока степен ","B = Във висока степен ","B = Във висока степен ","B = Във висока степен ","B = Във висока степен ","B = Във висока степен ","B = Във висока степен ","B = Във висока степен ","B = Във висока степен ","B = Във висока степен ","B = Във висока степен ","B = Във висока степен ","B = Във висока степен ","B = Във висока степен ","B = Във висока степен ","B = Във висока степен ","B = Във висока степен ","B = Във висока степен ","B = Във висока степен ","B = Във висока степен ","B = Във висока степен ","B = Във висока степен ","B = Във висока степен ","B = Във висока степен ","B = Във висока степен ","B = Във висока степен ","B = Във висока степен ","B = НЕ","B = НЕ","B = НЕ","B = НЕ","B = НЕ","B = Във висока степен ","B = Във висока степен ","B = Във висока степен ","B = Във висока степен ","B = Във висока степен ","B = Във висока степен ","B = Във висока степен ","B = НЕ","B = НЕ","B = НЕ ","B = НЕ ","B = НЕ","B = НЕ ","B = НЕ","B = НЕ","B = НЕ"]
[null,"C = ІІІ             D = ІV",null,"C = Малка част","C = Малка част","C = Безинтересни са","C = Добър","C = НЕ","C = НЕ","C = НЕ","C = В известна степен","C = В известна степен","C = В известна степен","C = В известна степен","C = В известна степен","C = В известна степен","C = В известна степен","C = В известна степен","C = В известна степен","C = В известна степен","C = В известна степен","C = В известна степен","C = В известна степен","C = В известна степен","C = В известна степен","C = В известна степен","C = В известна степен","C = В известна степен","C = В известна степен","C = В известна степен","C = В известна степен","C = В известна степен","C = В известна степен","C = В известна степен","C = В известна степен","C = В известна степен","C = В известна степен","C = В известна степен",null,null,null,null,null,"C = В известна степен","C = В известна степен","C = В известна степен","C = В известна степен","C = В известна степен","C = В известна степен","C = В известна степен"]
[null,"E = V",null," D = Нито една"," D = Нито едно","D = Мога да се подготвя сам","D = Среден",null,null,null," D = НЕ"," D = НЕ"," D = НЕ"," D = НЕ"," D = НЕ"," D = НЕ"," D = НЕ"," D = НЕ"," D = НЕ"," D = НЕ"," D = НЕ"," D = НЕ"," D = НЕ  "," D = НЕ"," D = НЕ"," D = НЕ"," D = НЕ"," D = НЕ"," D = НЕ"," D = НЕ"," D = НЕ"," D = НЕ"," D = НЕ"," D = НЕ"," D = НЕ"," D = НЕ"," D = НЕ"," D = НЕ",null,null,null,null,null," D = НЕ"," D = НЕ"," D = НЕ"," D = НЕ"," D = НЕ"," D = НЕ"," D = НЕ"]
[{"$f":"Анкета!A91","v":"PLNem1"},{"$f":"Анкета!B91","v":5},{"$f":"Анкета!C91","v":6},{"$f":"Анкета!D91","v":4},{"$f":"Анкета!E91","v":9},{"$f":"Анкета!F91","v":6},{"$f":"Анкета!G91","v":1},{"$f":"Анкета!H91","v":6},{"$f":"Анкета!I91","v":7},{"$f":"Анкета!J91","v":7},{"$f":"Анкета!K91","v":7},{"$f":"Анкета!L91","v":4},{"$f":"Анкета!M91","v":2},{"$f":"Анкета!N91","v":0},{"$f":"Анкета!O91","v":3},{"$f":"Анкета!P91","v":2},{"$f":"Анкета!Q91","v":1},{"$f":"Анкета!R91","v":1},{"$f":"Анкета!S91","v":5},{"$f":"Анкета!T91","v":0},{"$f":"Анкета!U91","v":4},{"$f":"Анкета!V91","v":2},{"$f":"Анкета!W91","v":9},{"$f":"Анкета!X91","v":10},{"$f":"Анкета!Y91","v":1},{"$f":"Анкета!Z91","v":0},{"$f":"Анкета!AA91","v":4},{"$f":"Анкета!AB91","v":7},{"$f":"Анкета!AC91","v":3},{"$f":"Анкета!AD91","v":0},{"$f":"Анкета!AE91","v":2},{"$f":"Анкета!AF91","v":7},{"$f":"Анкета!AG91","v":5},{"$f":"Анкета!AH91","v":1},{"$f":"Анкета!AI91","v":2},{"$f":"Анкета!AJ91","v":1},{"$f":"Анкета!AK91","v":3},{"$f":"Анкета!AL91","v":4},{"$f":"Анкета!AM91","v":1},{"$f":"Анкета!AN91","v":3},{"$f":"Анкета!AO91","v":1},{"$f":"Анкета!AP91","v":1},{"$f":"Анкета!AQ91","v":1},{"$f":"Анкета!AR91","v":1},{"$f":"Анкета!AS91","v":0},{"$f":"Анкета!AT91","v":1},{"$f":"Анкета!AU91","v":7},{"$f":"Анкета!AV91","v":5},{"$f":"Анкета!AW91","v":3},{"$f":"Анкета!AX91","v":2},{"$f":"Анкета!AY91","v":7},{"$f":"Анкета!AZ91","v":3},{"$f":"Анкета!BA91","v":0},{"$f":"Анкета!BB91","v":6},{"$f":"Анкета!BC91","v":9},{"$f":"Анкета!BD91","v":0},{"$f":"Анкета!BE91","v":12},{"$f":"Анкета!BF91","v":1},{"$f":"Анкета!BG91","v":3},{"$f":"Анкета!BH91","v":0}]
[{"$f":"Анкета!A92","v":"PLNem1"},{"$f":"Анкета!B92","v":4},{"$f":"Анкета!C92","v":6},{"$f":"Анкета!D92","v":6},{"$f":"Анкета!E92","v":3},{"$f":"Анкета!F92","v":3},{"$f":"Анкета!G92","v":4},{"$f":"Анкета!H92","v":5},{"$f":"Анкета!I92","v":4},{"$f":"Анкета!J92","v":4},{"$f":"Анкета!K92","v":2},{"$f":"Анкета!L92","v":3},{"$f":"Анкета!M92","v":3},{"$f":"Анкета!N92","v":7},{"$f":"Анкета!O92","v":2},{"$f":"Анкета!P92","v":5},{"$f":"Анкета!Q92","v":3},{"$f":"Анкета!R92","v":0},{"$f":"Анкета!S92","v":4},{"$f":"Анкета!T92","v":0},{"$f":"Анкета!U92","v":5},{"$f":"Анкета!V92","v":3},{"$f":"Анкета!W92","v":1},{"$f":"Анкета!X92","v":0},{"$f":"Анкета!Y92","v":5},{"$f":"Анкета!Z92","v":0},{"$f":"Анкета!AA92","v":4},{"$f":"Анкета!AB92","v":3},{"$f":"Анкета!AC92","v":0},{"$f":"Анкета!AD92","v":1},{"$f":"Анкета!AE92","v":0},{"$f":"Анкета!AF92","v":4},{"$f":"Анкета!AG92","v":6},{"$f":"Анкета!AH92","v":1},{"$f":"Анкета!AI92","v":2},{"$f":"Анкета!AJ92","v":3},{"$f":"Анкета!AK92","v":3},{"$f":"Анкета!AL92","v":2},{"$f":"Анкета!AM92","v":11},{"$f":"Анкета!AN92","v":9},{"$f":"Анкета!AO92","v":11},{"$f":"Анкета!AP92","v":11},{"$f":"Анкета!AQ92","v":11},{"$f":"Анкета!AR92","v":0},{"$f":"Анкета!AS92","v":0},{"$f":"Анкета!AT92","v":1},{"$f":"Анкета!AU92","v":3},{"$f":"Анкета!AV92","v":5},{"$f":"Анкета!AW92","v":7},{"$f":"Анкета!AX92","v":4},{"$f":"Анкета!AY92","v":5},{"$f":"Анкета!AZ92","v":9},{"$f":"Анкета!BA92","v":12},{"$f":"Анкета!BB92","v":6},{"$f":"Анкета!BC92","v":3},{"$f":"Анкета!BD92","v":12},{"$f":"Анкета!BE92","v":0},{"$f":"Анкета!BF92","v":11},{"$f":"Анкета!BG92","v":9},{"$f":"Анкета!BH92","v":0}]
[{"$f":"Анкета!A93","v":"PLNem1"},{"$f":"Анкета!B93","v":0},{"$f":"Анкета!C93","v":0},{"$f":"Анкета!D93","v":2},{"$f":"Анкета!E93","v":0},{"$f":"Анкета!F93","v":1},{"$f":"Анкета!G93","v":5},{"$f":"Анкета!H93","v":1},{"$f":"Анкета!I93","v":1},{"$f":"Анкета!J93","v":1},{"$f":"Анкета!K93","v":3},{"$f":"Анкета!L93","v":5},{"$f":"Анкета!M93","v":7},{"$f":"Анкета!N93","v":5},{"$f":"Анкета!O93","v":2},{"$f":"Анкета!P93","v":3},{"$f":"Анкета!Q93","v":1},{"$f":"Анкета!R93","v":7},{"$f":"Анкета!S93","v":3},{"$f":"Анкета!T93","v":2},{"$f":"Анкета!U93","v":1},{"$f":"Анкета!V93","v":3},{"$f":"Анкета!W93","v":1},{"$f":"Анкета!X93","v":2},{"$f":"Анкета!Y93","v":6},{"$f":"Анкета!Z93","v":6},{"$f":"Анкета!AA93","v":2},{"$f":"Анкета!AB93","v":1},{"$f":"Анкета!AC93","v":1},{"$f":"Анкета!AD93","v":2},{"$f":"Анкета!AE93","v":3},{"$f":"Анкета!AF93","v":1},{"$f":"Анкета!AG93","v":1},{"$f":"Анкета!AH93","v":3},{"$f":"Анкета!AI93","v":3},{"$f":"Анкета!AJ93","v":3},{"$f":"Анкета!AK93","v":6},{"$f":"Анкета!AL93","v":5},{"$f":"Анкета!AM93","v":0},{"$f":"Анкета!AN93","v":0},{"$f":"Анкета!AO93","v":0},{"$f":"Анкета!AP93","v":0},{"$f":"Анкета!AQ93","v":0},{"$f":"Анкета!AR93","v":3},{"$f":"Анкета!AS93","v":1},{"$f":"Анкета!AT93","v":5},{"$f":"Анкета!AU93","v":2},{"$f":"Анкета!AV93","v":2},{"$f":"Анкета!AW93","v":2},{"$f":"Анкета!AX93","v":4},{"$f":"Анкета!AY93","v":0},{"$f":"Анкета!AZ93","v":0},{"$f":"Анкета!BA93","v":0},{"$f":"Анкета!BB93","v":0},{"$f":"Анкета!BC93","v":0},{"$f":"Анкета!BD93","v":0},{"$f":"Анкета!BE93","v":0},{"$f":"Анкета!BF93","v":0},{"$f":"Анкета!BG93","v":0},{"$f":"Анкета!BH93","v":0}]
[{"$f":"Анкета!A94","v":"PLNem1"},{"$f":"Анкета!B94","v":0},{"$f":"Анкета!C94","v":0},{"$f":"Анкета!D94","v":0},{"$f":"Анкета!E94","v":0},{"$f":"Анкета!F94","v":0},{"$f":"Анкета!G94","v":0},{"$f":"Анкета!H94","v":0},{"$f":"Анкета!I94","v":0},{"$f":"Анкета!J94","v":0},{"$f":"Анкета!K94","v":0},{"$f":"Анкета!L94","v":0},{"$f":"Анкета!M94","v":0},{"$f":"Анкета!N94","v":0},{"$f":"Анкета!O94","v":1},{"$f":"Анкета!P94","v":0},{"$f":"Анкета!Q94","v":0},{"$f":"Анкета!R94","v":1},{"$f":"Анкета!S94","v":0},{"$f":"Анкета!T94","v":1},{"$f":"Анкета!U94","v":0},{"$f":"Анкета!V94","v":0},{"$f":"Анкета!W94","v":0},{"$f":"Анкета!X94","v":0},{"$f":"Анкета!Y94","v":0},{"$f":"Анкета!Z94","v":1},{"$f":"Анкета!AA94","v":0},{"$f":"Анкета!AB94","v":0},{"$f":"Анкета!AC94","v":1},{"$f":"Анкета!AD94","v":1},{"$f":"Анкета!AE94","v":1},{"$f":"Анкета!AF94","v":0},{"$f":"Анкета!AG94","v":0},{"$f":"Анкета!AH94","v":1},{"$f":"Анкета!AI94","v":1},{"$f":"Анкета!AJ94","v":1},{"$f":"Анкета!AK94","v":0},{"$f":"Анкета!AL94","v":1},{"$f":"Анкета!AM94","v":0},{"$f":"Анкета!AN94","v":0},{"$f":"Анкета!AO94","v":0},{"$f":"Анкета!AP94","v":0},{"$f":"Анкета!AQ94","v":0},{"$f":"Анкета!AR94","v":0},{"$f":"Анкета!AS94","v":1},{"$f":"Анкета!AT94","v":0},{"$f":"Анкета!AU94","v":0},{"$f":"Анкета!AV94","v":0},{"$f":"Анкета!AW94","v":0},{"$f":"Анкета!AX94","v":0},{"$f":"Анкета!AY94","v":0},{"$f":"Анкета!AZ94","v":0},{"$f":"Анкета!BA94","v":0},{"$f":"Анкета!BB94","v":0},{"$f":"Анкета!BC94","v":0},{"$f":"Анкета!BD94","v":0},{"$f":"Анкета!BE94","v":0},{"$f":"Анкета!BF94","v":0},{"$f":"Анкета!BG94","v":0},{"$f":"Анкета!BH94","v":0}]
[{"$f":"Анкета!A95","v":"PLNem2"},{"$f":"Анкета!B95","v":0},{"$f":"Анкета!C95","v":1},{"$f":"Анкета!D95","v":3},{"$f":"Анкета!E95","v":3},{"$f":"Анкета!F95","v":3},{"$f":"Анкета!G95","v":0},{"$f":"Анкета!H95","v":4},{"$f":"Анкета!I95","v":0},{"$f":"Анкета!J95","v":3},{"$f":"Анкета!K95","v":4},{"$f":"Анкета!L95","v":3},{"$f":"Анкета!M95","v":1},{"$f":"Анкета!N95","v":1},{"$f":"Анкета!O95","v":1},{"$f":"Анкета!P95","v":1},{"$f":"Анкета!Q95","v":0},{"$f":"Анкета!R95","v":2},{"$f":"Анкета!S95","v":3},{"$f":"Анкета!T95","v":1},{"$f":"Анкета!U95","v":0},{"$f":"Анкета!V95","v":2},{"$f":"Анкета!W95","v":0},{"$f":"Анкета!X95","v":2},{"$f":"Анкета!Y95","v":2},{"$f":"Анкета!Z95","v":0},{"$f":"Анкета!AA95","v":0},{"$f":"Анкета!AB95","v":2},{"$f":"Анкета!AC95","v":1},{"$f":"Анкета!AD95","v":1},{"$f":"Анкета!AE95","v":2},{"$f":"Анкета!AF95","v":3},{"$f":"Анкета!AG95","v":2},{"$f":"Анкета!AH95","v":1},{"$f":"Анкета!AI95","v":1},{"$f":"Анкета!AJ95","v":0},{"$f":"Анкета!AK95","v":0},{"$f":"Анкета!AL95","v":1},{"$f":"Анкета!AM95","v":3},{"$f":"Анкета!AN95","v":0},{"$f":"Анкета!AO95","v":0},{"$f":"Анкета!AP95","v":0},{"$f":"Анкета!AQ95","v":0},{"$f":"Анкета!AR95","v":0},{"$f":"Анкета!AS95","v":0},{"$f":"Анкета!AT95","v":1},{"$f":"Анкета!AU95","v":4},{"$f":"Анкета!AV95","v":3},{"$f":"Анкета!AW95","v":2},{"$f":"Анкета!AX95","v":3},{"$f":"Анкета!AY95","v":4},{"$f":"Анкета!AZ95","v":1},{"$f":"Анкета!BA95","v":0},{"$f":"Анкета!BB95","v":3},{"$f":"Анкета!BC95","v":3},{"$f":"Анкета!BD95","v":0},{"$f":"Анкета!BE95","v":5},{"$f":"Анкета!BF95","v":1},{"$f":"Анкета!BG95","v":0},{"$f":"Анкета!BH95","v":0}]
[{"$f":"Анкета!A96","v":"PLNem2"},{"$f":"Анкета!B96","v":1},{"$f":"Анкета!C96","v":4},{"$f":"Анкета!D96","v":2},{"$f":"Анкета!E96","v":2},{"$f":"Анкета!F96","v":1},{"$f":"Анкета!G96","v":3},{"$f":"Анкета!H96","v":1},{"$f":"Анкета!I96","v":5},{"$f":"Анкета!J96","v":2},{"$f":"Анкета!K96","v":1},{"$f":"Анкета!L96","v":2},{"$f":"Анкета!M96","v":2},{"$f":"Анкета!N96","v":2},{"$f":"Анкета!O96","v":1},{"$f":"Анкета!P96","v":2},{"$f":"Анкета!Q96","v":1},{"$f":"Анкета!R96","v":2},{"$f":"Анкета!S96","v":1},{"$f":"Анкета!T96","v":0},{"$f":"Анкета!U96","v":2},{"$f":"Анкета!V96","v":1},{"$f":"Анкета!W96","v":1},{"$f":"Анкета!X96","v":0},{"$f":"Анкета!Y96","v":1},{"$f":"Анкета!Z96","v":1},{"$f":"Анкета!AA96","v":1},{"$f":"Анкета!AB96","v":0},{"$f":"Анкета!AC96","v":2},{"$f":"Анкета!AD96","v":0},{"$f":"Анкета!AE96","v":1},{"$f":"Анкета!AF96","v":1},{"$f":"Анкета!AG96","v":2},{"$f":"Анкета!AH96","v":0},{"$f":"Анкета!AI96","v":0},{"$f":"Анкета!AJ96","v":2},{"$f":"Анкета!AK96","v":0},{"$f":"Анкета!AL96","v":1},{"$f":"Анкета!AM96","v":2},{"$f":"Анкета!AN96","v":5},{"$f":"Анкета!AO96","v":5},{"$f":"Анкета!AP96","v":5},{"$f":"Анкета!AQ96","v":5},{"$f":"Анкета!AR96","v":1},{"$f":"Анкета!AS96","v":0},{"$f":"Анкета!AT96","v":2},{"$f":"Анкета!AU96","v":1},{"$f":"Анкета!AV96","v":2},{"$f":"Анкета!AW96","v":1},{"$f":"Анкета!AX96","v":1},{"$f":"Анкета!AY96","v":1},{"$f":"Анкета!AZ96","v":4},{"$f":"Анкета!BA96","v":5},{"$f":"Анкета!BB96","v":2},{"$f":"Анкета!BC96","v":2},{"$f":"Анкета!BD96","v":5},{"$f":"Анкета!BE96","v":0},{"$f":"Анкета!BF96","v":4},{"$f":"Анкета!BG96","v":5},{"$f":"Анкета!BH96","v":0}]
[{"$f":"Анкета!A97","v":"PLNem2"},{"$f":"Анкета!B97","v":4},{"$f":"Анкета!C97","v":0},{"$f":"Анкета!D97","v":0},{"$f":"Анкета!E97","v":0},{"$f":"Анкета!F97","v":1},{"$f":"Анкета!G97","v":2},{"$f":"Анкета!H97","v":0},{"$f":"Анкета!I97","v":0},{"$f":"Анкета!J97","v":0},{"$f":"Анкета!K97","v":0},{"$f":"Анкета!L97","v":0},{"$f":"Анкета!M97","v":2},{"$f":"Анкета!N97","v":2},{"$f":"Анкета!O97","v":2},{"$f":"Анкета!P97","v":2},{"$f":"Анкета!Q97","v":4},{"$f":"Анкета!R97","v":0},{"$f":"Анкета!S97","v":0},{"$f":"Анкета!T97","v":0},{"$f":"Анкета!U97","v":2},{"$f":"Анкета!V97","v":1},{"$f":"Анкета!W97","v":3},{"$f":"Анкета!X97","v":3},{"$f":"Анкета!Y97","v":2},{"$f":"Анкета!Z97","v":1},{"$f":"Анкета!AA97","v":2},{"$f":"Анкета!AB97","v":2},{"$f":"Анкета!AC97","v":1},{"$f":"Анкета!AD97","v":1},{"$f":"Анкета!AE97","v":2},{"$f":"Анкета!AF97","v":1},{"$f":"Анкета!AG97","v":1},{"$f":"Анкета!AH97","v":1},{"$f":"Анкета!AI97","v":2},{"$f":"Анкета!AJ97","v":3},{"$f":"Анкета!AK97","v":4},{"$f":"Анкета!AL97","v":3},{"$f":"Анкета!AM97","v":0},{"$f":"Анкета!AN97","v":0},{"$f":"Анкета!AO97","v":0},{"$f":"Анкета!AP97","v":0},{"$f":"Анкета!AQ97","v":0},{"$f":"Анкета!AR97","v":4},{"$f":"Анкета!AS97","v":0},{"$f":"Анкета!AT97","v":0},{"$f":"Анкета!AU97","v":0},{"$f":"Анкета!AV97","v":0},{"$f":"Анкета!AW97","v":1},{"$f":"Анкета!AX97","v":0},{"$f":"Анкета!AY97","v":0},{"$f":"Анкета!AZ97","v":0},{"$f":"Анкета!BA97","v":0},{"$f":"Анкета!BB97","v":0},{"$f":"Анкета!BC97","v":0},{"$f":"Анкета!BD97","v":0},{"$f":"Анкета!BE97","v":0},{"$f":"Анкета!BF97","v":0},{"$f":"Анкета!BG97","v":0},{"$f":"Анкета!BH97","v":0}]
[{"$f":"Анкета!A98","v":"PLNem2"},{"$f":"Анкета!B98","v":0},{"$f":"Анкета!C98","v":0},{"$f":"Анкета!D98","v":0},{"$f":"Анкета!E98","v":0},{"$f":"Анкета!F98","v":0},{"$f":"Анкета!G98","v":0},{"$f":"Анкета!H98","v":0},{"$f":"Анкета!I98","v":0},{"$f":"Анкета!J98","v":0},{"$f":"Анкета!K98","v":0},{"$f":"Анкета!L98","v":0},{"$f":"Анкета!M98","v":0},{"$f":"Анкета!N98","v":0},{"$f":"Анкета!O98","v":1},{"$f":"Анкета!P98","v":0},{"$f":"Анкета!Q98","v":0},{"$f":"Анкета!R98","v":1},{"$f":"Анкета!S98","v":1},{"$f":"Анкета!T98","v":4},{"$f":"Анкета!U98","v":1},{"$f":"Анкета!V98","v":1},{"$f":"Анкета!W98","v":1},{"$f":"Анкета!X98","v":0},{"$f":"Анкета!Y98","v":0},{"$f":"Анкета!Z98","v":3},{"$f":"Анкета!AA98","v":2},{"$f":"Анкета!AB98","v":1},{"$f":"Анкета!AC98","v":1},{"$f":"Анкета!AD98","v":3},{"$f":"Анкета!AE98","v":0},{"$f":"Анкета!AF98","v":0},{"$f":"Анкета!AG98","v":0},{"$f":"Анкета!AH98","v":3},{"$f":"Анкета!AI98","v":2},{"$f":"Анкета!AJ98","v":0},{"$f":"Анкета!AK98","v":1},{"$f":"Анкета!AL98","v":0},{"$f":"Анкета!AM98","v":0},{"$f":"Анкета!AN98","v":0},{"$f":"Анкета!AO98","v":0},{"$f":"Анкета!AP98","v":0},{"$f":"Анкета!AQ98","v":0},{"$f":"Анкета!AR98","v":0},{"$f":"Анкета!AS98","v":5},{"$f":"Анкета!AT98","v":2},{"$f":"Анкета!AU98","v":0},{"$f":"Анкета!AV98","v":0},{"$f":"Анкета!AW98","v":1},{"$f":"Анкета!AX98","v":1},{"$f":"Анкета!AY98","v":0},{"$f":"Анкета!AZ98","v":0},{"$f":"Анкета!BA98","v":0},{"$f":"Анкета!BB98","v":0},{"$f":"Анкета!BC98","v":0},{"$f":"Анкета!BD98","v":0},{"$f":"Анкета!BE98","v":0},{"$f":"Анкета!BF98","v":0},{"$f":"Анкета!BG98","v":0},{"$f":"Анкета!BH98","v":0}]
[{"$f":"Анкета!A99","v":"PLNem3"},{"$f":"Анкета!B99","v":0},{"$f":"Анкета!C99","v":2},{"$f":"Анкета!D99","v":0},{"$f":"Анкета!E99","v":2},{"$f":"Анкета!F99","v":1},{"$f":"Анкета!G99","v":0},{"$f":"Анкета!H99","v":5},{"$f":"Анкета!I99","v":2},{"$f":"Анкета!J99","v":5},{"$f":"Анкета!K99","v":3},{"$f":"Анкета!L99","v":1},{"$f":"Анкета!M99","v":0},{"$f":"Анкета!N99","v":1},{"$f":"Анкета!O99","v":0},{"$f":"Анкета!P99","v":1},{"$f":"Анкета!Q99","v":1},{"$f":"Анкета!R99","v":3},{"$f":"Анкета!S99","v":2},{"$f":"Анкета!T99","v":0},{"$f":"Анкета!U99","v":1},{"$f":"Анкета!V99","v":0},{"$f":"Анкета!W99","v":2},{"$f":"Анкета!X99","v":1},{"$f":"Анкета!Y99","v":4},{"$f":"Анкета!Z99","v":0},{"$f":"Анкета!AA99","v":0},{"$f":"Анкета!AB99","v":3},{"$f":"Анкета!AC99","v":2},{"$f":"Анкета!AD99","v":0},{"$f":"Анкета!AE99","v":0},{"$f":"Анкета!AF99","v":3},{"$f":"Анкета!AG99","v":1},{"$f":"Анкета!AH99","v":1},{"$f":"Анкета!AI99","v":1},{"$f":"Анкета!AJ99","v":0},{"$f":"Анкета!AK99","v":1},{"$f":"Анкета!AL99","v":3},{"$f":"Анкета!AM99","v":5},{"$f":"Анкета!AN99","v":1},{"$f":"Анкета!AO99","v":0},{"$f":"Анкета!AP99","v":2},{"$f":"Анкета!AQ99","v":2},{"$f":"Анкета!AR99","v":1},{"$f":"Анкета!AS99","v":0},{"$f":"Анкета!AT99","v":2},{"$f":"Анкета!AU99","v":3},{"$f":"Анкета!AV99","v":2},{"$f":"Анкета!AW99","v":0},{"$f":"Анкета!AX99","v":1},{"$f":"Анкета!AY99","v":5},{"$f":"Анкета!AZ99","v":4},{"$f":"Анкета!BA99","v":5},{"$f":"Анкета!BB99","v":6},{"$f":"Анкета!BC99","v":4},{"$f":"Анкета!BD99","v":0},{"$f":"Анкета!BE99","v":5},{"$f":"Анкета!BF99","v":2},{"$f":"Анкета!BG99","v":0},{"$f":"Анкета!BH99","v":0}]
[{"$f":"Анкета!A100","v":"PLNem3"},{"$f":"Анкета!B100","v":0},{"$f":"Анкета!C100","v":4},{"$f":"Анкета!D100","v":6},{"$f":"Анкета!E100","v":4},{"$f":"Анкета!F100","v":0},{"$f":"Анкета!G100","v":3},{"$f":"Анкета!H100","v":1},{"$f":"Анкета!I100","v":4},{"$f":"Анкета!J100","v":0},{"$f":"Анкета!K100","v":2},{"$f":"Анкета!L100","v":5},{"$f":"Анкета!M100","v":4},{"$f":"Анкета!N100","v":2},{"$f":"Анкета!O100","v":1},{"$f":"Анкета!P100","v":3},{"$f":"Анкета!Q100","v":0},{"$f":"Анкета!R100","v":1},{"$f":"Анкета!S100","v":2},{"$f":"Анкета!T100","v":2},{"$f":"Анкета!U100","v":1},{"$f":"Анкета!V100","v":2},{"$f":"Анкета!W100","v":0},{"$f":"Анкета!X100","v":4},{"$f":"Анкета!Y100","v":0},{"$f":"Анкета!Z100","v":1},{"$f":"Анкета!AA100","v":3},{"$f":"Анкета!AB100","v":1},{"$f":"Анкета!AC100","v":1},{"$f":"Анкета!AD100","v":0},{"$f":"Анкета!AE100","v":1},{"$f":"Анкета!AF100","v":2},{"$f":"Анкета!AG100","v":2},{"$f":"Анкета!AH100","v":0},{"$f":"Анкета!AI100","v":2},{"$f":"Анкета!AJ100","v":3},{"$f":"Анкета!AK100","v":0},{"$f":"Анкета!AL100","v":1},{"$f":"Анкета!AM100","v":1},{"$f":"Анкета!AN100","v":5},{"$f":"Анкета!AO100","v":6},{"$f":"Анкета!AP100","v":4},{"$f":"Анкета!AQ100","v":4},{"$f":"Анкета!AR100","v":1},{"$f":"Анкета!AS100","v":2},{"$f":"Анкета!AT100","v":1},{"$f":"Анкета!AU100","v":1},{"$f":"Анкета!AV100","v":3},{"$f":"Анкета!AW100","v":1},{"$f":"Анкета!AX100","v":1},{"$f":"Анкета!AY100","v":1},{"$f":"Анкета!AZ100","v":2},{"$f":"Анкета!BA100","v":1},{"$f":"Анкета!BB100","v":0},{"$f":"Анкета!BC100","v":2},{"$f":"Анкета!BD100","v":6},{"$f":"Анкета!BE100","v":1},{"$f":"Анкета!BF100","v":4},{"$f":"Анкета!BG100","v":6},{"$f":"Анкета!BH100","v":0}]
[{"$f":"Анкета!A101","v":"PLNem3"},{"$f":"Анкета!B101","v":2},{"$f":"Анкета!C101","v":0},{"$f":"Анкета!D101","v":0},{"$f":"Анкета!E101","v":0},{"$f":"Анкета!F101","v":3},{"$f":"Анкета!G101","v":3},{"$f":"Анкета!H101","v":0},{"$f":"Анкета!I101","v":0},{"$f":"Анкета!J101","v":1},{"$f":"Анкета!K101","v":1},{"$f":"Анкета!L101","v":0},{"$f":"Анкета!M101","v":2},{"$f":"Анкета!N101","v":2},{"$f":"Анкета!O101","v":3},{"$f":"Анкета!P101","v":1},{"$f":"Анкета!Q101","v":4},{"$f":"Анкета!R101","v":1},{"$f":"Анкета!S101","v":2},{"$f":"Анкета!T101","v":2},{"$f":"Анкета!U101","v":3},{"$f":"Анкета!V101","v":2},{"$f":"Анкета!W101","v":3},{"$f":"Анкета!X101","v":1},{"$f":"Анкета!Y101","v":2},{"$f":"Анкета!Z101","v":1},{"$f":"Анкета!AA101","v":2},{"$f":"Анкета!AB101","v":1},{"$f":"Анкета!AC101","v":1},{"$f":"Анкета!AD101","v":3},{"$f":"Анкета!AE101","v":3},{"$f":"Анкета!AF101","v":1},{"$f":"Анкета!AG101","v":1},{"$f":"Анкета!AH101","v":2},{"$f":"Анкета!AI101","v":1},{"$f":"Анкета!AJ101","v":1},{"$f":"Анкета!AK101","v":3},{"$f":"Анкета!AL101","v":2},{"$f":"Анкета!AM101","v":0},{"$f":"Анкета!AN101","v":0},{"$f":"Анкета!AO101","v":0},{"$f":"Анкета!AP101","v":0},{"$f":"Анкета!AQ101","v":0},{"$f":"Анкета!AR101","v":2},{"$f":"Анкета!AS101","v":2},{"$f":"Анкета!AT101","v":2},{"$f":"Анкета!AU101","v":2},{"$f":"Анкета!AV101","v":1},{"$f":"Анкета!AW101","v":5},{"$f":"Анкета!AX101","v":3},{"$f":"Анкета!AY101","v":0},{"$f":"Анкета!AZ101","v":0},{"$f":"Анкета!BA101","v":0},{"$f":"Анкета!BB101","v":0},{"$f":"Анкета!BC101","v":0},{"$f":"Анкета!BD101","v":0},{"$f":"Анкета!BE101","v":0},{"$f":"Анкета!BF101","v":0},{"$f":"Анкета!BG101","v":0},{"$f":"Анкета!BH101","v":0}]
[{"$f":"Анкета!A102","v":"PLNem3"},{"$f":"Анкета!B102","v":4},{"$f":"Анкета!C102","v":0},{"$f":"Анкета!D102","v":0},{"$f":"Анкета!E102","v":0},{"$f":"Анкета!F102","v":2},{"$f":"Анкета!G102","v":0},{"$f":"Анкета!H102","v":0},{"$f":"Анкета!I102","v":0},{"$f":"Анкета!J102","v":0},{"$f":"Анкета!K102","v":0},{"$f":"Анкета!L102","v":0},{"$f":"Анкета!M102","v":0},{"$f":"Анкета!N102","v":1},{"$f":"Анкета!O102","v":2},{"$f":"Анкета!P102","v":1},{"$f":"Анкета!Q102","v":1},{"$f":"Анкета!R102","v":1},{"$f":"Анкета!S102","v":0},{"$f":"Анкета!T102","v":2},{"$f":"Анкета!U102","v":1},{"$f":"Анкета!V102","v":2},{"$f":"Анкета!W102","v":1},{"$f":"Анкета!X102","v":0},{"$f":"Анкета!Y102","v":0},{"$f":"Анкета!Z102","v":4},{"$f":"Анкета!AA102","v":1},{"$f":"Анкета!AB102","v":1},{"$f":"Анкета!AC102","v":2},{"$f":"Анкета!AD102","v":3},{"$f":"Анкета!AE102","v":2},{"$f":"Анкета!AF102","v":0},{"$f":"Анкета!AG102","v":2},{"$f":"Анкета!AH102","v":3},{"$f":"Анкета!AI102","v":2},{"$f":"Анкета!AJ102","v":2},{"$f":"Анкета!AK102","v":2},{"$f":"Анкета!AL102","v":0},{"$f":"Анкета!AM102","v":0},{"$f":"Анкета!AN102","v":0},{"$f":"Анкета!AO102","v":0},{"$f":"Анкета!AP102","v":0},{"$f":"Анкета!AQ102","v":0},{"$f":"Анкета!AR102","v":2},{"$f":"Анкета!AS102","v":2},{"$f":"Анкета!AT102","v":1},{"$f":"Анкета!AU102","v":0},{"$f":"Анкета!AV102","v":0},{"$f":"Анкета!AW102","v":0},{"$f":"Анкета!AX102","v":1},{"$f":"Анкета!AY102","v":0},{"$f":"Анкета!AZ102","v":0},{"$f":"Анкета!BA102","v":0},{"$f":"Анкета!BB102","v":0},{"$f":"Анкета!BC102","v":0},{"$f":"Анкета!BD102","v":0},{"$f":"Анкета!BE102","v":0},{"$f":"Анкета!BF102","v":0},{"$f":"Анкета!BG102","v":0},{"$f":"Анкета!BH102","v":0}]
[{"$f":"Анкета!A103","v":"PLNem4"},{"$f":"Анкета!B103","v":4},{"$f":"Анкета!C103","v":2},{"$f":"Анкета!D103","v":0},{"$f":"Анкета!E103","v":2},{"$f":"Анкета!F103","v":1},{"$f":"Анкета!G103","v":0},{"$f":"Анкета!H103","v":3},{"$f":"Анкета!I103","v":1},{"$f":"Анкета!J103","v":1},{"$f":"Анкета!K103","v":4},{"$f":"Анкета!L103","v":2},{"$f":"Анкета!M103","v":1},{"$f":"Анкета!N103","v":0},{"$f":"Анкета!O103","v":0},{"$f":"Анкета!P103","v":0},{"$f":"Анкета!Q103","v":1},{"$f":"Анкета!R103","v":2},{"$f":"Анкета!S103","v":0},{"$f":"Анкета!T103","v":0},{"$f":"Анкета!U103","v":1},{"$f":"Анкета!V103","v":1},{"$f":"Анкета!W103","v":2},{"$f":"Анкета!X103","v":2},{"$f":"Анкета!Y103","v":2},{"$f":"Анкета!Z103","v":1},{"$f":"Анкета!AA103","v":2},{"$f":"Анкета!AB103","v":3},{"$f":"Анкета!AC103","v":1},{"$f":"Анкета!AD103","v":1},{"$f":"Анкета!AE103","v":1},{"$f":"Анкета!AF103","v":1},{"$f":"Анкета!AG103","v":0},{"$f":"Анкета!AH103","v":2},{"$f":"Анкета!AI103","v":2},{"$f":"Анкета!AJ103","v":1},{"$f":"Анкета!AK103","v":1},{"$f":"Анкета!AL103","v":1},{"$f":"Анкета!AM103","v":1},{"$f":"Анкета!AN103","v":1},{"$f":"Анкета!AO103","v":1},{"$f":"Анкета!AP103","v":0},{"$f":"Анкета!AQ103","v":1},{"$f":"Анкета!AR103","v":0},{"$f":"Анкета!AS103","v":0},{"$f":"Анкета!AT103","v":0},{"$f":"Анкета!AU103","v":1},{"$f":"Анкета!AV103","v":1},{"$f":"Анкета!AW103","v":1},{"$f":"Анкета!AX103","v":1},{"$f":"Анкета!AY103","v":3},{"$f":"Анкета!AZ103","v":1},{"$f":"Анкета!BA103","v":1},{"$f":"Анкета!BB103","v":1},{"$f":"Анкета!BC103","v":3},{"$f":"Анкета!BD103","v":0},{"$f":"Анкета!BE103","v":4},{"$f":"Анкета!BF103","v":3},{"$f":"Анкета!BG103","v":0},{"$f":"Анкета!BH103","v":0}]
[{"$f":"Анкета!A104","v":"PLNem4"},{"$f":"Анкета!B104","v":0},{"$f":"Анкета!C104","v":2},{"$f":"Анкета!D104","v":4},{"$f":"Анкета!E104","v":1},{"$f":"Анкета!F104","v":2},{"$f":"Анкета!G104","v":1},{"$f":"Анкета!H104","v":1},{"$f":"Анкета!I104","v":3},{"$f":"Анкета!J104","v":3},{"$f":"Анкета!K104","v":0},{"$f":"Анкета!L104","v":1},{"$f":"Анкета!M104","v":0},{"$f":"Анкета!N104","v":1},{"$f":"Анкета!O104","v":0},{"$f":"Анкета!P104","v":2},{"$f":"Анкета!Q104","v":2},{"$f":"Анкета!R104","v":1},{"$f":"Анкета!S104","v":2},{"$f":"Анкета!T104","v":1},{"$f":"Анкета!U104","v":0},{"$f":"Анкета!V104","v":0},{"$f":"Анкета!W104","v":0},{"$f":"Анкета!X104","v":1},{"$f":"Анкета!Y104","v":0},{"$f":"Анкета!Z104","v":0},{"$f":"Анкета!AA104","v":0},{"$f":"Анкета!AB104","v":0},{"$f":"Анкета!AC104","v":0},{"$f":"Анкета!AD104","v":0},{"$f":"Анкета!AE104","v":0},{"$f":"Анкета!AF104","v":3},{"$f":"Анкета!AG104","v":2},{"$f":"Анкета!AH104","v":0},{"$f":"Анкета!AI104","v":0},{"$f":"Анкета!AJ104","v":0},{"$f":"Анкета!AK104","v":0},{"$f":"Анкета!AL104","v":0},{"$f":"Анкета!AM104","v":3},{"$f":"Анкета!AN104","v":3},{"$f":"Анкета!AO104","v":3},{"$f":"Анкета!AP104","v":4},{"$f":"Анкета!AQ104","v":3},{"$f":"Анкета!AR104","v":1},{"$f":"Анкета!AS104","v":1},{"$f":"Анкета!AT104","v":1},{"$f":"Анкета!AU104","v":2},{"$f":"Анкета!AV104","v":1},{"$f":"Анкета!AW104","v":1},{"$f":"Анкета!AX104","v":1},{"$f":"Анкета!AY104","v":1},{"$f":"Анкета!AZ104","v":3},{"$f":"Анкета!BA104","v":3},{"$f":"Анкета!BB104","v":3},{"$f":"Анкета!BC104","v":1},{"$f":"Анкета!BD104","v":4},{"$f":"Анкета!BE104","v":0},{"$f":"Анкета!BF104","v":1},{"$f":"Анкета!BG104","v":4},{"$f":"Анкета!BH104","v":0}]
[{"$f":"Анкета!A105","v":"PLNem4"},{"$f":"Анкета!B105","v":0},{"$f":"Анкета!C105","v":0},{"$f":"Анкета!D105","v":0},{"$f":"Анкета!E105","v":1},{"$f":"Анкета!F105","v":1},{"$f":"Анкета!G105","v":3},{"$f":"Анкета!H105","v":0},{"$f":"Анкета!I105","v":0},{"$f":"Анкета!J105","v":0},{"$f":"Анкета!K105","v":0},{"$f":"Анкета!L105","v":1},{"$f":"Анкета!M105","v":2},{"$f":"Анкета!N105","v":3},{"$f":"Анкета!O105","v":2},{"$f":"Анкета!P105","v":1},{"$f":"Анкета!Q105","v":1},{"$f":"Анкета!R105","v":1},{"$f":"Анкета!S105","v":2},{"$f":"Анкета!T105","v":3},{"$f":"Анкета!U105","v":2},{"$f":"Анкета!V105","v":2},{"$f":"Анкета!W105","v":1},{"$f":"Анкета!X105","v":1},{"$f":"Анкета!Y105","v":2},{"$f":"Анкета!Z105","v":1},{"$f":"Анкета!AA105","v":1},{"$f":"Анкета!AB105","v":0},{"$f":"Анкета!AC105","v":1},{"$f":"Анкета!AD105","v":0},{"$f":"Анкета!AE105","v":2},{"$f":"Анкета!AF105","v":0},{"$f":"Анкета!AG105","v":2},{"$f":"Анкета!AH105","v":2},{"$f":"Анкета!AI105","v":2},{"$f":"Анкета!AJ105","v":1},{"$f":"Анкета!AK105","v":1},{"$f":"Анкета!AL105","v":3},{"$f":"Анкета!AM105","v":0},{"$f":"Анкета!AN105","v":0},{"$f":"Анкета!AO105","v":0},{"$f":"Анкета!AP105","v":0},{"$f":"Анкета!AQ105","v":0},{"$f":"Анкета!AR105","v":2},{"$f":"Анкета!AS105","v":0},{"$f":"Анкета!AT105","v":0},{"$f":"Анкета!AU105","v":1},{"$f":"Анкета!AV105","v":2},{"$f":"Анкета!AW105","v":2},{"$f":"Анкета!AX105","v":2},{"$f":"Анкета!AY105","v":0},{"$f":"Анкета!AZ105","v":0},{"$f":"Анкета!BA105","v":0},{"$f":"Анкета!BB105","v":0},{"$f":"Анкета!BC105","v":0},{"$f":"Анкета!BD105","v":0},{"$f":"Анкета!BE105","v":0},{"$f":"Анкета!BF105","v":0},{"$f":"Анкета!BG105","v":0},{"$f":"Анкета!BH105","v":0}]
[{"$f":"Анкета!A106","v":"PLNem4"},{"$f":"Анкета!B106","v":0},{"$f":"Анкета!C106","v":0},{"$f":"Анкета!D106","v":0},{"$f":"Анкета!E106","v":0},{"$f":"Анкета!F106","v":0},{"$f":"Анкета!G106","v":0},{"$f":"Анкета!H106","v":0},{"$f":"Анкета!I106","v":0},{"$f":"Анкета!J106","v":0},{"$f":"Анкета!K106","v":0},{"$f":"Анкета!L106","v":0},{"$f":"Анкета!M106","v":1},{"$f":"Анкета!N106","v":0},{"$f":"Анкета!O106","v":2},{"$f":"Анкета!P106","v":1},{"$f":"Анкета!Q106","v":0},{"$f":"Анкета!R106","v":0},{"$f":"Анкета!S106","v":0},{"$f":"Анкета!T106","v":0},{"$f":"Анкета!U106","v":1},{"$f":"Анкета!V106","v":1},{"$f":"Анкета!W106","v":1},{"$f":"Анкета!X106","v":0},{"$f":"Анкета!Y106","v":0},{"$f":"Анкета!Z106","v":2},{"$f":"Анкета!AA106","v":1},{"$f":"Анкета!AB106","v":1},{"$f":"Анкета!AC106","v":2},{"$f":"Анкета!AD106","v":3},{"$f":"Анкета!AE106","v":1},{"$f":"Анкета!AF106","v":0},{"$f":"Анкета!AG106","v":0},{"$f":"Анкета!AH106","v":0},{"$f":"Анкета!AI106","v":0},{"$f":"Анкета!AJ106","v":2},{"$f":"Анкета!AK106","v":2},{"$f":"Анкета!AL106","v":0},{"$f":"Анкета!AM106","v":0},{"$f":"Анкета!AN106","v":0},{"$f":"Анкета!AO106","v":0},{"$f":"Анкета!AP106","v":0},{"$f":"Анкета!AQ106","v":0},{"$f":"Анкета!AR106","v":1},{"$f":"Анкета!AS106","v":3},{"$f":"Анкета!AT106","v":3},{"$f":"Анкета!AU106","v":0},{"$f":"Анкета!AV106","v":0},{"$f":"Анкета!AW106","v":0},{"$f":"Анкета!AX106","v":0},{"$f":"Анкета!AY106","v":0},{"$f":"Анкета!AZ106","v":0},{"$f":"Анкета!BA106","v":0},{"$f":"Анкета!BB106","v":0},{"$f":"Анкета!BC106","v":0},{"$f":"Анкета!BD106","v":0},{"$f":"Анкета!BE106","v":0},{"$f":"Анкета!BF106","v":0},{"$f":"Анкета!BG106","v":0},{"$f":"Анкета!BH106","v":0}]

{"sheet":"Лист8","index":13,"n_rows":22,"n_cols":60,"rows_kept":22,"cut":false,"hidden":false,"merged":[]}
[]
["ВЪПРОСИ","3. Курс","4. Пол","5. Посещение на лекции","6. Посещение на упражнения","7. Ако не сте посещавали занятия, коя е причината за това","8. Успех от следването до момента","9. познавам квалификационната характеристика на специалността си","10. познавам учебния план, по който се обучавате","11. познавам учебните програми на дисциплините, които изучаваме","12.обучението помага на развитието на общата Ви култура","13. помага на професионалната Ви подготовка","14. лекциите и упражненията са актуални и отразяват постиженията на науката","15. те са актуални и ориентирани към потребностите на практиката","16. лекциите и упражненията са анахронични и самоцелни","17. обучението е добро и дава възможност за самостоятелна работа","18. то е напрегнато и ограничава възможностите за самостоятелна работа","19. учебната програма е съобразена по-скоро с интересите и възможностите на преподавателите, отколкото с тези на студентите","20. съдържателни и интересни","21. скучни и безинтересни","22. способност за творческо мислене","23. способност за вземане на решения","24. умения за работа в екип","25. комуникативни умения","26. полезни и необходими","27. самоцелни и безполезни","28. библиотеките в Университета разполага с необходимата Ви литература","29. услугите са достъпни за Вас","30. административното обслужване е на добро равнище","31. в Университета има условия за спорт","32. социалните условия (стипендии, общежития. стол, почивна база) са добре решени","33. преподавателите Ви са добре подготвени и познават новостите в научната област, в която работят","34. преподавателите Ви са толерантни, комуникативни и мотивирани в работата си със студентите","35. има корумпирани преподаватели","36. има корумпирани служители","37. материалната база е добра","38. учебно-техническите средства са съвременни и подпомагат учебния процес","39. учебниците и учебно-помощните материали са достъпни и подпомагат обучението Ви","40. публични лекции, срещи с представители на науката, политиката, бизнеса културата","41. студентски творчески инициативи","42. програми за обмен на студенти","43. дискусии, кръгли маси, конференции","44. проекти на преподавателските екипи","45. научните изследвания на вашите преподаватели","46. научно-изследователска програма на Факултета","47. научните издания на факултета","48. преподава на академично равнище","49. работи с добре подготвени и отдадени на работата си преподаватели","50. толерира творчеството, инициативата, самостоятелното мислене","51. уважават индивидуалните способности и насърчава индивидуалното развитие на студентите","52. има възможност да получите образование по предпочитана специалност","53. родителите Ви настояват да продължите образованието си","54. приятелите и съучениците Ви учат тук","55. е в района, в който сте роден(а) и живеете","56. е висше училище с традиции и авторитет","57. били потърпевш на корупционен натиск","58. чували, че има корумпирани преподаватели и служители, но не сте се сблъсквали лично с корупция в Университета","59. сигурни, че има корумпирани преподаватели и служители в ПУ","60. сигурни, че няма корумпирани преподаватели и служители в ПУ"]
[null," A = І"," A = МЪЖ"," A = Всички"," A = Всички"," A = Посещавал съм"," A = Отличен"," A = ДА "," A = ДА "," A = ДА "," A = ДА"," A = ДА"," A = ДА"," A = ДА"," A = ДА"," A = ДА"," A = ДА"," A = ДА"," A = ДА"," A = ДА"," A = ДА"," A = ДА"," A = ДА"," A = ДА"," A = ДА"," A = ДА"," A = ДА"," A = ДА"," A = ДА"," A = ДА"," A = ДА"," A = ДА"," A = ДА"," A = ДА"," A = ДА"," A = ДА"," A = ДА"," A = ДА"," A = ДА"," A = ДА"," A = ДА"," A = ДА"," A = ДА"," A = ДА"," A = ДА"," A = ДА"," A = ДА"," A = ДА"," A = ДА"," A = ДА"," A = ДА"," A = ДА"," A = ДА"," A = ДА"," A = ДА"," A = ДА"," A = ДА"," A = ДА"," A = ДА"]
[null,"B = ІІ","B = ЖЕНА","B = Голяма част ","B = Голяма част ","B = Работя и уча","B = Много добър","B = ЧАСТИЧНО","B = ЧАСТИЧНО","B = ЧАСТИЧНО","B = Във висока степен ","B = Във висока степен ","B = Във висока степен ","B = Във висока степен ","B = Във висока степен ","B = Във висока степен ","B = Във висока степен ","B = Във висока степен ","B = Във висока степен ","B = Във висока степен ","B = Във висока степен ","B = Във висока степен ","B = Във висока степен ","B = Във висока степен ","B = Във висока степен ","B = Във висока степен ","B = Във висока степен ","B = Във висока степен ","B = Във висока степен ","B = Във висока степен ","B = Във висока степен ","B = Във висока степен ","B = Във висока степен ","B = Във висока степен ","B = Във висока степен ","B = Във висока степен ","B = Във висока степен ","B = Във висока степен ","B = НЕ","B = НЕ","B = НЕ","B = НЕ","B = НЕ","B = Във висока степен ","B = Във висока степен ","B = Във висока степен ","B = Във висока степен ","B = Във висока степен ","B = Във висока степен ","B = Във висока степен ","B = НЕ","B = НЕ","B = НЕ ","B = НЕ ","B = НЕ","B = НЕ ","B = НЕ","B = НЕ","B = НЕ"]
[null,"C = ІІІ             D = ІV",null,"C = Малка част","C = Малка част","C = Безинтересни са","C = Добър","C = НЕ","C = НЕ","C = НЕ","C = В известна степен","C = В известна степен","C = В известна степен","C = В известна степен","C = В известна степен","C = В известна степен","C = В известна степен","C = В известна степен","C = В известна степен","C = В известна степен","C = В известна степен","C = В известна степен","C = В известна степен","C = В известна степен","C = В известна степен","C = В известна степен","C = В известна степен","C = В известна степен","C = В известна степен","C = В известна степен","C = В известна степен","C = В известна степен","C = В известна степен","C = В известна степен","C = В известна степен","C = В известна степен","C = В известна степен","C = В известна степен",null,null,null,null,null,"C = В известна степен","C = В известна степен","C = В известна степен","C = В известна степен","C = В известна степен","C = В известна степен","C = В известна степен"]
[null,"E = V",null," D = Нито една"," D = Нито едно","D = Мога да се подготвя сам","D = Среден",null,null,null," D = НЕ"," D = НЕ"," D = НЕ"," D = НЕ"," D = НЕ"," D = НЕ"," D = НЕ"," D = НЕ"," D = НЕ"," D = НЕ"," D = НЕ"," D = НЕ"," D = НЕ  "," D = НЕ"," D = НЕ"," D = НЕ"," D = НЕ"," D = НЕ"," D = НЕ"," D = НЕ"," D = НЕ"," D = НЕ"," D = НЕ"," D = НЕ"," D = НЕ"," D = НЕ"," D = НЕ"," D = НЕ",null,null,null,null,null," D = НЕ"," D = НЕ"," D = НЕ"," D = НЕ"," D = НЕ"," D = НЕ"," D = НЕ"]
[{"$f":"Анкета!A107","v":"RF1"},{"$f":"Анкета!B107","v":11},{"$f":"Анкета!C107","v":3},{"$f":"Анкета!D107","v":3},{"$f":"Анкета!E107","v":10},{"$f":"Анкета!F107","v":6},{"$f":"Анкета!G107","v":0},{"$f":"Анкета!H107","v":5},{"$f":"Анкета!I107","v":9},{"$f":"Анкета!J107","v":6},{"$f":"Анкета!K107","v":4},{"$f":"Анкета!L107","v":0},{"$f":"Анкета!M107","v":3},{"$f":"Анкета!N107","v":1},{"$f":"Анкета!O107","v":0},{"$f":"Анкета!P107","v":1},{"$f":"Анкета!Q107","v":5},{"$f":"Анкета!R107","v":8},{"$f":"Анкета!S107","v":1},{"$f":"Анкета!T107","v":2},{"$f":"Анкета!U107","v":1},{"$f":"Анкета!V107","v":2},{"$f":"Анкета!W107","v":5},{"$f":"Анкета!X107","v":7},{"$f":"Анкета!Y107","v":6},{"$f":"Анкета!Z107","v":0},{"$f":"Анкета!AA107","v":1},{"$f":"Анкета!AB107","v":4},{"$f":"Анкета!AC107","v":1},{"$f":"Анкета!AD107","v":1},{"$f":"Анкета!AE107","v":1},{"$f":"Анкета!AF107","v":7},{"$f":"Анкета!AG107","v":2},{"$f":"Анкета!AH107","v":6},{"$f":"Анкета!AI107","v":6},{"$f":"Анкета!AJ107","v":1},{"$f":"Анкета!AK107","v":0},{"$f":"Анкета!AL107","v":1},{"$f":"Анкета!AM107","v":5},{"$f":"Анкета!AN107","v":1},{"$f":"Анкета!AO107","v":3},{"$f":"Анкета!AP107","v":3},{"$f":"Анкета!AQ107","v":1},{"$f":"Анкета!AR107","v":1},{"$f":"Анкета!AS107","v":1},{"$f":"Анкета!AT107","v":2},{"$f":"Анкета!AU107","v":3},{"$f":"Анкета!AV107","v":3},{"$f":"Анкета!AW107","v":1},{"$f":"Анкета!AX107","v":1},{"$f":"Анкета!AY107","v":11},{"$f":"Анкета!AZ107","v":10},{"$f":"Анкета!BA107","v":4},{"$f":"Анкета!BB107","v":7},{"$f":"Анкета!BC107","v":11},{"$f":"Анкета!BD107","v":1},{"$f":"Анкета!BE107","v":12},{"$f":"Анкета!BF107","v":10},{"$f":"Анкета!BG107","v":1},{"$f":"Анкета!BH107","v":0}]
[{"$f":"Анкета!A108","v":"RF1"},{"$f":"Анкета!B108","v":4},{"$f":"Анкета!C108","v":12},{"$f":"Анкета!D108","v":9},{"$f":"Анкета!E108","v":5},{"$f":"Анкета!F108","v":4},{"$f":"Анкета!G108","v":6},{"$f":"Анкета!H108","v":10},{"$f":"Анкета!I108","v":3},{"$f":"Анкета!J108","v":7},{"$f":"Анкета!K108","v":6},{"$f":"Анкета!L108","v":5},{"$f":"Анкета!M108","v":5},{"$f":"Анкета!N108","v":5},{"$f":"Анкета!O108","v":2},{"$f":"Анкета!P108","v":1},{"$f":"Анкета!Q108","v":1},{"$f":"Анкета!R108","v":0},{"$f":"Анкета!S108","v":3},{"$f":"Анкета!T108","v":2},{"$f":"Анкета!U108","v":4},{"$f":"Анкета!V108","v":5},{"$f":"Анкета!W108","v":3},{"$f":"Анкета!X108","v":1},{"$f":"Анкета!Y108","v":4},{"$f":"Анкета!Z108","v":1},{"$f":"Анкета!AA108","v":3},{"$f":"Анкета!AB108","v":2},{"$f":"Анкета!AC108","v":0},{"$f":"Анкета!AD108","v":1},{"$f":"Анкета!AE108","v":1},{"$f":"Анкета!AF108","v":4},{"$f":"Анкета!AG108","v":8},{"$f":"Анкета!AH108","v":0},{"$f":"Анкета!AI108","v":0},{"$f":"Анкета!AJ108","v":0},{"$f":"Анкета!AK108","v":1},{"$f":"Анкета!AL108","v":3},{"$f":"Анкета!AM108","v":10},{"$f":"Анкета!AN108","v":14},{"$f":"Анкета!AO108","v":12},{"$f":"Анкета!AP108","v":12},{"$f":"Анкета!AQ108","v":14},{"$f":"Анкета!AR108","v":1},{"$f":"Анкета!AS108","v":1},{"$f":"Анкета!AT108","v":1},{"$f":"Анкета!AU108","v":4},{"$f":"Анкета!AV108","v":5},{"$f":"Анкета!AW108","v":3},{"$f":"Анкета!AX108","v":1},{"$f":"Анкета!AY108","v":4},{"$f":"Анкета!AZ108","v":5},{"$f":"Анкета!BA108","v":11},{"$f":"Анкета!BB108","v":8},{"$f":"Анкета!BC108","v":4},{"$f":"Анкета!BD108","v":14},{"$f":"Анкета!BE108","v":3},{"$f":"Анкета!BF108","v":5},{"$f":"Анкета!BG108","v":14},{"$f":"Анкета!BH108","v":0}]
[{"$f":"Анкета!A109","v":"RF1"},{"$f":"Анкета!B109","v":0},{"$f":"Анкета!C109","v":0},{"$f":"Анкета!D109","v":2},{"$f":"Анкета!E109","v":0},{"$f":"Анкета!F109","v":3},{"$f":"Анкета!G109","v":8},{"$f":"Анкета!H109","v":0},{"$f":"Анкета!I109","v":3},{"$f":"Анкета!J109","v":2},{"$f":"Анкета!K109","v":3},{"$f":"Анкета!L109","v":8},{"$f":"Анкета!M109","v":4},{"$f":"Анкета!N109","v":6},{"$f":"Анкета!O109","v":10},{"$f":"Анкета!P109","v":7},{"$f":"Анкета!Q109","v":6},{"$f":"Анкета!R109","v":6},{"$f":"Анкета!S109","v":7},{"$f":"Анкета!T109","v":8},{"$f":"Анкета!U109","v":8},{"$f":"Анкета!V109","v":6},{"$f":"Анкета!W109","v":5},{"$f":"Анкета!X109","v":7},{"$f":"Анкета!Y109","v":4},{"$f":"Анкета!Z109","v":3},{"$f":"Анкета!AA109","v":6},{"$f":"Анкета!AB109","v":7},{"$f":"Анкета!AC109","v":3},{"$f":"Анкета!AD109","v":4},{"$f":"Анкета!AE109","v":3},{"$f":"Анкета!AF109","v":3},{"$f":"Анкета!AG109","v":3},{"$f":"Анкета!AH109","v":6},{"$f":"Анкета!AI109","v":6},{"$f":"Анкета!AJ109","v":8},{"$f":"Анкета!AK109","v":8},{"$f":"Анкета!AL109","v":7},{"$f":"Анкета!AM109","v":0},{"$f":"Анкета!AN109","v":0},{"$f":"Анкета!AO109","v":0},{"$f":"Анкета!AP109","v":0},{"$f":"Анкета!AQ109","v":0},{"$f":"Анкета!AR109","v":4},{"$f":"Анкета!AS109","v":5},{"$f":"Анкета!AT109","v":7},{"$f":"Анкета!AU109","v":6},{"$f":"Анкета!AV109","v":6},{"$f":"Анкета!AW109","v":4},{"$f":"Анкета!AX109","v":6},{"$f":"Анкета!AY109","v":0},{"$f":"Анкета!AZ109","v":0},{"$f":"Анкета!BA109","v":0},{"$f":"Анкета!BB109","v":0},{"$f":"Анкета!BC109","v":0},{"$f":"Анкета!BD109","v":0},{"$f":"Анкета!BE109","v":0},{"$f":"Анкета!BF109","v":0},{"$f":"Анкета!BG109","v":0},{"$f":"Анкета!BH109","v":0}]
[{"$f":"Анкета!A110","v":"RF1"},{"$f":"Анкета!B110","v":0},{"$f":"Анкета!C110","v":0},{"$f":"Анкета!D110","v":1},{"$f":"Анкета!E110","v":0},{"$f":"Анкета!F110","v":2},{"$f":"Анкета!G110","v":1},{"$f":"Анкета!H110","v":0},{"$f":"Анкета!I110","v":0},{"$f":"Анкета!J110","v":0},{"$f":"Анкета!K110","v":2},{"$f":"Анкета!L110","v":2},{"$f":"Анкета!M110","v":3},{"$f":"Анкета!N110","v":3},{"$f":"Анкета!O110","v":3},{"$f":"Анкета!P110","v":6},{"$f":"Анкета!Q110","v":3},{"$f":"Анкета!R110","v":1},{"$f":"Анкета!S110","v":4},{"$f":"Анкета!T110","v":3},{"$f":"Анкета!U110","v":2},{"$f":"Анкета!V110","v":2},{"$f":"Анкета!W110","v":2},{"$f":"Анкета!X110","v":0},{"$f":"Анкета!Y110","v":1},{"$f":"Анкета!Z110","v":11},{"$f":"Анкета!AA110","v":5},{"$f":"Анкета!AB110","v":2},{"$f":"Анкета!AC110","v":11},{"$f":"Анкета!AD110","v":9},{"$f":"Анкета!AE110","v":10},{"$f":"Анкета!AF110","v":1},{"$f":"Анкета!AG110","v":2},{"$f":"Анкета!AH110","v":3},{"$f":"Анкета!AI110","v":3},{"$f":"Анкета!AJ110","v":6},{"$f":"Анкета!AK110","v":6},{"$f":"Анкета!AL110","v":4},{"$f":"Анкета!AM110","v":0},{"$f":"Анкета!AN110","v":0},{"$f":"Анкета!AO110","v":0},{"$f":"Анкета!AP110","v":0},{"$f":"Анкета!AQ110","v":0},{"$f":"Анкета!AR110","v":9},{"$f":"Анкета!AS110","v":8},{"$f":"Анкета!AT110","v":5},{"$f":"Анкета!AU110","v":2},{"$f":"Анкета!AV110","v":1},{"$f":"Анкета!AW110","v":7},{"$f":"Анкета!AX110","v":7},{"$f":"Анкета!AY110","v":0},{"$f":"Анкета!AZ110","v":0},{"$f":"Анкета!BA110","v":0},{"$f":"Анкета!BB110","v":0},{"$f":"Анкета!BC110","v":0},{"$f":"Анкета!BD110","v":0},{"$f":"Анкета!BE110","v":0},{"$f":"Анкета!BF110","v":0},{"$f":"Анкета!BG110","v":0},{"$f":"Анкета!BH110","v":0}]
[{"$f":"Анкета!A111","v":"RF2"},{"$f":"Анкета!B111","v":0},{"$f":"Анкета!C111","v":2},{"$f":"Анкета!D111","v":3},{"$f":"Анкета!E111","v":9},{"$f":"Анкета!F111","v":3},{"$f":"Анкета!G111","v":0},{"$f":"Анкета!H111","v":9},{"$f":"Анкета!I111","v":8},{"$f":"Анкета!J111","v":7},{"$f":"Анкета!K111","v":8},{"$f":"Анкета!L111","v":4},{"$f":"Анкета!M111","v":3},{"$f":"Анкета!N111","v":4},{"$f":"Анкета!O111","v":1},{"$f":"Анкета!P111","v":5},{"$f":"Анкета!Q111","v":3},{"$f":"Анкета!R111","v":2},{"$f":"Анкета!S111","v":2},{"$f":"Анкета!T111","v":0},{"$f":"Анкета!U111","v":5},{"$f":"Анкета!V111","v":4},{"$f":"Анкета!W111","v":6},{"$f":"Анкета!X111","v":7},{"$f":"Анкета!Y111","v":9},{"$f":"Анкета!Z111","v":0},{"$f":"Анкета!AA111","v":2},{"$f":"Анкета!AB111","v":6},{"$f":"Анкета!AC111","v":1},{"$f":"Анкета!AD111","v":1},{"$f":"Анкета!AE111","v":1},{"$f":"Анкета!AF111","v":8},{"$f":"Анкета!AG111","v":5},{"$f":"Анкета!AH111","v":6},{"$f":"Анкета!AI111","v":7},{"$f":"Анкета!AJ111","v":0},{"$f":"Анкета!AK111","v":0},{"$f":"Анкета!AL111","v":2},{"$f":"Анкета!AM111","v":2},{"$f":"Анкета!AN111","v":2},{"$f":"Анкета!AO111","v":1},{"$f":"Анкета!AP111","v":3},{"$f":"Анкета!AQ111","v":0},{"$f":"Анкета!AR111","v":0},{"$f":"Анкета!AS111","v":0},{"$f":"Анкета!AT111","v":0},{"$f":"Анкета!AU111","v":3},{"$f":"Анкета!AV111","v":5},{"$f":"Анкета!AW111","v":4},{"$f":"Анкета!AX111","v":1},{"$f":"Анкета!AY111","v":11},{"$f":"Анкета!AZ111","v":7},{"$f":"Анкета!BA111","v":0},{"$f":"Анкета!BB111","v":6},{"$f":"Анкета!BC111","v":9},{"$f":"Анкета!BD111","v":1},{"$f":"Анкета!BE111","v":11},{"$f":"Анкета!BF111","v":12},{"$f":"Анкета!BG111","v":0},{"$f":"Анкета!BH111","v":0}]
[{"$f":"Анкета!A112","v":"RF2"},{"$f":"Анкета!B112","v":13},{"$f":"Анкета!C112","v":11},{"$f":"Анкета!D112","v":10},{"$f":"Анкета!E112","v":4},{"$f":"Анкета!F112","v":5},{"$f":"Анкета!G112","v":9},{"$f":"Анкета!H112","v":4},{"$f":"Анкета!I112","v":5},{"$f":"Анкета!J112","v":6},{"$f":"Анкета!K112","v":4},{"$f":"Анкета!L112","v":5},{"$f":"Анкета!M112","v":1},{"$f":"Анкета!N112","v":0},{"$f":"Анкета!O112","v":0},{"$f":"Анкета!P112","v":2},{"$f":"Анкета!Q112","v":1},{"$f":"Анкета!R112","v":2},{"$f":"Анкета!S112","v":2},{"$f":"Анкета!T112","v":0},{"$f":"Анкета!U112","v":3},{"$f":"Анкета!V112","v":4},{"$f":"Анкета!W112","v":1},{"$f":"Анкета!X112","v":3},{"$f":"Анкета!Y112","v":3},{"$f":"Анкета!Z112","v":0},{"$f":"Анкета!AA112","v":2},{"$f":"Анкета!AB112","v":0},{"$f":"Анкета!AC112","v":1},{"$f":"Анкета!AD112","v":0},{"$f":"Анкета!AE112","v":0},{"$f":"Анкета!AF112","v":3},{"$f":"Анкета!AG112","v":4},{"$f":"Анкета!AH112","v":2},{"$f":"Анкета!AI112","v":0},{"$f":"Анкета!AJ112","v":1},{"$f":"Анкета!AK112","v":0},{"$f":"Анкета!AL112","v":0},{"$f":"Анкета!AM112","v":11},{"$f":"Анкета!AN112","v":11},{"$f":"Анкета!AO112","v":12},{"$f":"Анкета!AP112","v":10},{"$f":"Анкета!AQ112","v":13},{"$f":"Анкета!AR112","v":1},{"$f":"Анкета!AS112","v":0},{"$f":"Анкета!AT112","v":0},{"$f":"Анкета!AU112","v":4},{"$f":"Анкета!AV112","v":0},{"$f":"Анкета!AW112","v":0},{"$f":"Анкета!AX112","v":1},{"$f":"Анкета!AY112","v":2},{"$f":"Анкета!AZ112","v":6},{"$f":"Анкета!BA112","v":13},{"$f":"Анкета!BB112","v":7},{"$f":"Анкета!BC112","v":4},{"$f":"Анкета!BD112","v":12},{"$f":"Анкета!BE112","v":2},{"$f":"Анкета!BF112","v":1},{"$f":"Анкета!BG112","v":13},{"$f":"Анкета!BH112","v":0}]
[{"$f":"Анкета!A113","v":"RF2"},{"$f":"Анкета!B113","v":0},{"$f":"Анкета!C113","v":0},{"$f":"Анкета!D113","v":0},{"$f":"Анкета!E113","v":0},{"$f":"Анкета!F113","v":1},{"$f":"Анкета!G113","v":4},{"$f":"Анкета!H113","v":0},{"$f":"Анкета!I113","v":0},{"$f":"Анкета!J113","v":0},{"$f":"Анкета!K113","v":1},{"$f":"Анкета!L113","v":4},{"$f":"Анкета!M113","v":9},{"$f":"Анкета!N113","v":8},{"$f":"Анкета!O113","v":7},{"$f":"Анкета!P113","v":4},{"$f":"Анкета!Q113","v":3},{"$f":"Анкета!R113","v":6},{"$f":"Анкета!S113","v":9},{"$f":"Анкета!T113","v":8},{"$f":"Анкета!U113","v":5},{"$f":"Анкета!V113","v":5},{"$f":"Анкета!W113","v":5},{"$f":"Анкета!X113","v":3},{"$f":"Анкета!Y113","v":1},{"$f":"Анкета!Z113","v":3},{"$f":"Анкета!AA113","v":6},{"$f":"Анкета!AB113","v":7},{"$f":"Анкета!AC113","v":6},{"$f":"Анкета!AD113","v":5},{"$f":"Анкета!AE113","v":3},{"$f":"Анкета!AF113","v":2},{"$f":"Анкета!AG113","v":4},{"$f":"Анкета!AH113","v":4},{"$f":"Анкета!AI113","v":4},{"$f":"Анкета!AJ113","v":8},{"$f":"Анкета!AK113","v":10},{"$f":"Анкета!AL113","v":9},{"$f":"Анкета!AM113","v":0},{"$f":"Анкета!AN113","v":0},{"$f":"Анкета!AO113","v":0},{"$f":"Анкета!AP113","v":0},{"$f":"Анкета!AQ113","v":0},{"$f":"Анкета!AR113","v":10},{"$f":"Анкета!AS113","v":7},{"$f":"Анкета!AT113","v":6},{"$f":"Анкета!AU113","v":5},{"$f":"Анкета!AV113","v":6},{"$f":"Анкета!AW113","v":7},{"$f":"Анкета!AX113","v":9},{"$f":"Анкета!AY113","v":0},{"$f":"Анкета!AZ113","v":0},{"$f":"Анкета!BA113","v":0},{"$f":"Анкета!BB113","v":0},{"$f":"Анкета!BC113","v":0},{"$f":"Анкета!BD113","v":0},{"$f":"Анкета!BE113","v":0},{"$f":"Анкета!BF113","v":0},{"$f":"Анкета!BG113","v":0},{"$f":"Анкета!BH113","v":0}]
[{"$f":"Анкета!A114","v":"RF2"},{"$f":"Анкета!B114","v":0},{"$f":"Анкета!C114","v":0},{"$f":"Анкета!D114","v":0},{"$f":"Анкета!E114","v":0},{"$f":"Анкета!F114","v":4},{"$f":"Анкета!G114","v":0},{"$f":"Анкета!H114","v":0},{"$f":"Анкета!I114","v":0},{"$f":"Анкета!J114","v":0},{"$f":"Анкета!K114","v":0},{"$f":"Анкета!L114","v":0},{"$f":"Анкета!M114","v":0},{"$f":"Анкета!N114","v":1},{"$f":"Анкета!O114","v":5},{"$f":"Анкета!P114","v":2},{"$f":"Анкета!Q114","v":6},{"$f":"Анкета!R114","v":3},{"$f":"Анкета!S114","v":0},{"$f":"Анкета!T114","v":5},{"$f":"Анкета!U114","v":0},{"$f":"Анкета!V114","v":0},{"$f":"Анкета!W114","v":1},{"$f":"Анкета!X114","v":0},{"$f":"Анкета!Y114","v":0},{"$f":"Анкета!Z114","v":10},{"$f":"Анкета!AA114","v":3},{"$f":"Анкета!AB114","v":0},{"$f":"Анкета!AC114","v":5},{"$f":"Анкета!AD114","v":7},{"$f":"Анкета!AE114","v":9},{"$f":"Анкета!AF114","v":0},{"$f":"Анкета!AG114","v":0},{"$f":"Анкета!AH114","v":1},{"$f":"Анкета!AI114","v":2},{"$f":"Анкета!AJ114","v":4},{"$f":"Анкета!AK114","v":3},{"$f":"Анкета!AL114","v":2},{"$f":"Анкета!AM114","v":0},{"$f":"Анкета!AN114","v":0},{"$f":"Анкета!AO114","v":0},{"$f":"Анкета!AP114","v":0},{"$f":"Анкета!AQ114","v":0},{"$f":"Анкета!AR114","v":2},{"$f":"Анкета!AS114","v":6},{"$f":"Анкета!AT114","v":7},{"$f":"Анкета!AU114","v":1},{"$f":"Анкета!AV114","v":2},{"$f":"Анкета!AW114","v":2},{"$f":"Анкета!AX114","v":2},{"$f":"Анкета!AY114","v":0},{"$f":"Анкета!AZ114","v":0},{"$f":"Анкета!BA114","v":0},{"$f":"Анкета!BB114","v":0},{"$f":"Анкета!BC114","v":0},{"$f":"Анкета!BD114","v":0},{"$f":"Анкета!BE114","v":0},{"$f":"Анкета!BF114","v":0},{"$f":"Анкета!BG114","v":0},{"$f":"Анкета!BH114","v":0}]
[{"$f":"Анкета!A115","v":"RF3"},{"$f":"Анкета!B115","v":0},{"$f":"Анкета!C115","v":0},{"$f":"Анкета!D115","v":2},{"$f":"Анкета!E115","v":5},{"$f":"Анкета!F115","v":3},{"$f":"Анкета!G115","v":1},{"$f":"Анкета!H115","v":3},{"$f":"Анкета!I115","v":6},{"$f":"Анкета!J115","v":7},{"$f":"Анкета!K115","v":7},{"$f":"Анкета!L115","v":2},{"$f":"Анкета!M115","v":0},{"$f":"Анкета!N115","v":0},{"$f":"Анкета!O115","v":2},{"$f":"Анкета!P115","v":1},{"$f":"Анкета!Q115","v":2},{"$f":"Анкета!R115","v":6},{"$f":"Анкета!S115","v":1},{"$f":"Анкета!T115","v":2},{"$f":"Анкета!U115","v":0},{"$f":"Анкета!V115","v":1},{"$f":"Анкета!W115","v":1},{"$f":"Анкета!X115","v":2},{"$f":"Анкета!Y115","v":4},{"$f":"Анкета!Z115","v":1},{"$f":"Анкета!AA115","v":0},{"$f":"Анкета!AB115","v":1},{"$f":"Анкета!AC115","v":0},{"$f":"Анкета!AD115","v":1},{"$f":"Анкета!AE115","v":0},{"$f":"Анкета!AF115","v":1},{"$f":"Анкета!AG115","v":0},{"$f":"Анкета!AH115","v":4},{"$f":"Анкета!AI115","v":4},{"$f":"Анкета!AJ115","v":0},{"$f":"Анкета!AK115","v":0},{"$f":"Анкета!AL115","v":1},{"$f":"Анкета!AM115","v":3},{"$f":"Анкета!AN115","v":1},{"$f":"Анкета!AO115","v":1},{"$f":"Анкета!AP115","v":2},{"$f":"Анкета!AQ115","v":0},{"$f":"Анкета!AR115","v":0},{"$f":"Анкета!AS115","v":0},{"$f":"Анкета!AT115","v":0},{"$f":"Анкета!AU115","v":0},{"$f":"Анкета!AV115","v":0},{"$f":"Анкета!AW115","v":1},{"$f":"Анкета!AX115","v":0},{"$f":"Анкета!AY115","v":8},{"$f":"Анкета!AZ115","v":2},{"$f":"Анкета!BA115","v":1},{"$f":"Анкета!BB115","v":5},{"$f":"Анкета!BC115","v":5},{"$f":"Анкета!BD115","v":0},{"$f":"Анкета!BE115","v":9},{"$f":"Анкета!BF115","v":7},{"$f":"Анкета!BG115","v":0},{"$f":"Анкета!BH115","v":0}]
[{"$f":"Анкета!A116","v":"RF3"},{"$f":"Анкета!B116","v":0},{"$f":"Анкета!C116","v":9},{"$f":"Анкета!D116","v":7},{"$f":"Анкета!E116","v":4},{"$f":"Анкета!F116","v":2},{"$f":"Анкета!G116","v":3},{"$f":"Анкета!H116","v":6},{"$f":"Анкета!I116","v":2},{"$f":"Анкета!J116","v":1},{"$f":"Анкета!K116","v":0},{"$f":"Анкета!L116","v":3},{"$f":"Анкета!M116","v":2},{"$f":"Анкета!N116","v":2},{"$f":"Анкета!O116","v":1},{"$f":"Анкета!P116","v":0},{"$f":"Анкета!Q116","v":2},{"$f":"Анкета!R116","v":0},{"$f":"Анкета!S116","v":2},{"$f":"Анкета!T116","v":2},{"$f":"Анкета!U116","v":1},{"$f":"Анкета!V116","v":0},{"$f":"Анкета!W116","v":2},{"$f":"Анкета!X116","v":1},{"$f":"Анкета!Y116","v":0},{"$f":"Анкета!Z116","v":1},{"$f":"Анкета!AA116","v":1},{"$f":"Анкета!AB116","v":1},{"$f":"Анкета!AC116","v":0},{"$f":"Анкета!AD116","v":0},{"$f":"Анкета!AE116","v":1},{"$f":"Анкета!AF116","v":2},{"$f":"Анкета!AG116","v":2},{"$f":"Анкета!AH116","v":1},{"$f":"Анкета!AI116","v":2},{"$f":"Анкета!AJ116","v":0},{"$f":"Анкета!AK116","v":0},{"$f":"Анкета!AL116","v":2},{"$f":"Анкета!AM116","v":6},{"$f":"Анкета!AN116","v":8},{"$f":"Анкета!AO116","v":8},{"$f":"Анкета!AP116","v":7},{"$f":"Анкета!AQ116","v":9},{"$f":"Анкета!AR116","v":2},{"$f":"Анкета!AS116","v":0},{"$f":"Анкета!AT116","v":2},{"$f":"Анкета!AU116","v":3},{"$f":"Анкета!AV116","v":2},{"$f":"Анкета!AW116","v":1},{"$f":"Анкета!AX116","v":2},{"$f":"Анкета!AY116","v":1},{"$f":"Анкета!AZ116","v":7},{"$f":"Анкета!BA116","v":8},{"$f":"Анкета!BB116","v":4},{"$f":"Анкета!BC116","v":4},{"$f":"Анкета!BD116","v":9},{"$f":"Анкета!BE116","v":0},{"$f":"Анкета!BF116","v":2},{"$f":"Анкета!BG116","v":9},{"$f":"Анкета!BH116","v":0}]
[{"$f":"Анкета!A117","v":"RF3"},{"$f":"Анкета!B117","v":9},{"$f":"Анкета!C117","v":0},{"$f":"Анкета!D117","v":0},{"$f":"Анкета!E117","v":0},{"$f":"Анкета!F117","v":4},{"$f":"Анкета!G117","v":5},{"$f":"Анкета!H117","v":0},{"$f":"Анкета!I117","v":1},{"$f":"Анкета!J117","v":1},{"$f":"Анкета!K117","v":2},{"$f":"Анкета!L117","v":4},{"$f":"Анкета!M117","v":5},{"$f":"Анкета!N117","v":6},{"$f":"Анкета!O117","v":4},{"$f":"Анкета!P117","v":2},{"$f":"Анкета!Q117","v":2},{"$f":"Анкета!R117","v":2},{"$f":"Анкета!S117","v":5},{"$f":"Анкета!T117","v":3},{"$f":"Анкета!U117","v":5},{"$f":"Анкета!V117","v":5},{"$f":"Анкета!W117","v":1},{"$f":"Анкета!X117","v":1},{"$f":"Анкета!Y117","v":4},{"$f":"Анкета!Z117","v":3},{"$f":"Анкета!AA117","v":4},{"$f":"Анкета!AB117","v":4},{"$f":"Анкета!AC117","v":2},{"$f":"Анкета!AD117","v":1},{"$f":"Анкета!AE117","v":3},{"$f":"Анкета!AF117","v":5},{"$f":"Анкета!AG117","v":6},{"$f":"Анкета!AH117","v":3},{"$f":"Анкета!AI117","v":1},{"$f":"Анкета!AJ117","v":5},{"$f":"Анкета!AK117","v":1},{"$f":"Анкета!AL117","v":3},{"$f":"Анкета!AM117","v":0},{"$f":"Анкета!AN117","v":0},{"$f":"Анкета!AO117","v":0},{"$f":"Анкета!AP117","v":0},{"$f":"Анкета!AQ117","v":0},{"$f":"Анкета!AR117","v":4},{"$f":"Анкета!AS117","v":2},{"$f":"Анкета!AT117","v":3},{"$f":"Анкета!AU117","v":6},{"$f":"Анкета!AV117","v":7},{"$f":"Анкета!AW117","v":2},{"$f":"Анкета!AX117","v":3},{"$f":"Анкета!AY117","v":0},{"$f":"Анкета!AZ117","v":0},{"$f":"Анкета!BA117","v":0},{"$f":"Анкета!BB117","v":0},{"$f":"Анкета!BC117","v":0},{"$f":"Анкета!BD117","v":0},{"$f":"Анкета!BE117","v":0},{"$f":"Анкета!BF117","v":0},{"$f":"Анкета!BG117","v":0},{"$f":"Анкета!BH117","v":0}]
[{"$f":"Анкета!A118","v":"RF3"},{"$f":"Анкета!B118","v":0},{"$f":"Анкета!C118","v":0},{"$f":"Анкета!D118","v":0},{"$f":"Анкета!E118","v":0},{"$f":"Анкета!F118","v":0},{"$f":"Анкета!G118","v":0},{"$f":"Анкета!H118","v":0},{"$f":"Анкета!I118","v":0},{"$f":"Анкета!J118","v":0},{"$f":"Анкета!K118","v":0},{"$f":"Анкета!L118","v":0},{"$f":"Анкета!M118","v":2},{"$f":"Анкета!N118","v":1},{"$f":"Анкета!O118","v":2},{"$f":"Анкета!P118","v":6},{"$f":"Анкета!Q118","v":3},{"$f":"Анкета!R118","v":1},{"$f":"Анкета!S118","v":1},{"$f":"Анкета!T118","v":2},{"$f":"Анкета!U118","v":3},{"$f":"Анкета!V118","v":3},{"$f":"Анкета!W118","v":5},{"$f":"Анкета!X118","v":5},{"$f":"Анкета!Y118","v":1},{"$f":"Анкета!Z118","v":4},{"$f":"Анкета!AA118","v":4},{"$f":"Анкета!AB118","v":3},{"$f":"Анкета!AC118","v":7},{"$f":"Анкета!AD118","v":7},{"$f":"Анкета!AE118","v":5},{"$f":"Анкета!AF118","v":1},{"$f":"Анкета!AG118","v":1},{"$f":"Анкета!AH118","v":1},{"$f":"Анкета!AI118","v":2},{"$f":"Анкета!AJ118","v":4},{"$f":"Анкета!AK118","v":8},{"$f":"Анкета!AL118","v":3},{"$f":"Анкета!AM118","v":0},{"$f":"Анкета!AN118","v":0},{"$f":"Анкета!AO118","v":0},{"$f":"Анкета!AP118","v":0},{"$f":"Анкета!AQ118","v":0},{"$f":"Анкета!AR118","v":3},{"$f":"Анкета!AS118","v":7},{"$f":"Анкета!AT118","v":4},{"$f":"Анкета!AU118","v":0},{"$f":"Анкета!AV118","v":0},{"$f":"Анкета!AW118","v":5},{"$f":"Анкета!AX118","v":4},{"$f":"Анкета!AY118","v":0},{"$f":"Анкета!AZ118","v":0},{"$f":"Анкета!BA118","v":0},{"$f":"Анкета!BB118","v":0},{"$f":"Анкета!BC118","v":0},{"$f":"Анкета!BD118","v":0},{"$f":"Анкета!BE118","v":0},{"$f":"Анкета!BF118","v":0},{"$f":"Анкета!BG118","v":0},{"$f":"Анкета!BH118","v":0}]
[{"$f":"Анкета!A119","v":"RF4"},{"$f":"Анкета!B119","v":0},{"$f":"Анкета!C119","v":0},{"$f":"Анкета!D119","v":1},{"$f":"Анкета!E119","v":5},{"$f":"Анкета!F119","v":5},{"$f":"Анкета!G119","v":0},{"$f":"Анкета!H119","v":5},{"$f":"Анкета!I119","v":6},{"$f":"Анкета!J119","v":5},{"$f":"Анкета!K119","v":1},{"$f":"Анкета!L119","v":1},{"$f":"Анкета!M119","v":0},{"$f":"Анкета!N119","v":1},{"$f":"Анкета!O119","v":0},{"$f":"Анкета!P119","v":0},{"$f":"Анкета!Q119","v":3},{"$f":"Анкета!R119","v":7},{"$f":"Анкета!S119","v":0},{"$f":"Анкета!T119","v":0},{"$f":"Анкета!U119","v":1},{"$f":"Анкета!V119","v":1},{"$f":"Анкета!W119","v":0},{"$f":"Анкета!X119","v":1},{"$f":"Анкета!Y119","v":3},{"$f":"Анкета!Z119","v":0},{"$f":"Анкета!AA119","v":2},{"$f":"Анкета!AB119","v":4},{"$f":"Анкета!AC119","v":4},{"$f":"Анкета!AD119","v":0},{"$f":"Анкета!AE119","v":2},{"$f":"Анкета!AF119","v":1},{"$f":"Анкета!AG119","v":2},{"$f":"Анкета!AH119","v":2},{"$f":"Анкета!AI119","v":2},{"$f":"Анкета!AJ119","v":2},{"$f":"Анкета!AK119","v":0},{"$f":"Анкета!AL119","v":0},{"$f":"Анкета!AM119","v":7},{"$f":"Анкета!AN119","v":2},{"$f":"Анкета!AO119","v":3},{"$f":"Анкета!AP119","v":2},{"$f":"Анкета!AQ119","v":1},{"$f":"Анкета!AR119","v":1},{"$f":"Анкета!AS119","v":0},{"$f":"Анкета!AT119","v":0},{"$f":"Анкета!AU119","v":6},{"$f":"Анкета!AV119","v":5},{"$f":"Анкета!AW119","v":0},{"$f":"Анкета!AX119","v":0},{"$f":"Анкета!AY119","v":5},{"$f":"Анкета!AZ119","v":1},{"$f":"Анкета!BA119","v":1},{"$f":"Анкета!BB119","v":7},{"$f":"Анкета!BC119","v":6},{"$f":"Анкета!BD119","v":1},{"$f":"Анкета!BE119","v":8},{"$f":"Анкета!BF119","v":5},{"$f":"Анкета!BG119","v":1},{"$f":"Анкета!BH119","v":0}]
[{"$f":"Анкета!A120","v":"RF4"},{"$f":"Анкета!B120","v":0},{"$f":"Анкета!C120","v":8},{"$f":"Анкета!D120","v":7},{"$f":"Анкета!E120","v":3},{"$f":"Анкета!F120","v":2},{"$f":"Анкета!G120","v":6},{"$f":"Анкета!H120","v":3},{"$f":"Анкета!I120","v":1},{"$f":"Анкета!J120","v":3},{"$f":"Анкета!K120","v":4},{"$f":"Анкета!L120","v":1},{"$f":"Анкета!M120","v":2},{"$f":"Анкета!N120","v":0},{"$f":"Анкета!O120","v":1},{"$f":"Анкета!P120","v":0},{"$f":"Анкета!Q120","v":2},{"$f":"Анкета!R120","v":1},{"$f":"Анкета!S120","v":4},{"$f":"Анкета!T120","v":3},{"$f":"Анкета!U120","v":2},{"$f":"Анкета!V120","v":1},{"$f":"Анкета!W120","v":2},{"$f":"Анкета!X120","v":3},{"$f":"Анкета!Y120","v":2},{"$f":"Анкета!Z120","v":1},{"$f":"Анкета!AA120","v":2},{"$f":"Анкета!AB120","v":0},{"$f":"Анкета!AC120","v":0},{"$f":"Анкета!AD120","v":0},{"$f":"Анкета!AE120","v":2},{"$f":"Анкета!AF120","v":4},{"$f":"Анкета!AG120","v":0},{"$f":"Анкета!AH120","v":0},{"$f":"Анкета!AI120","v":0},{"$f":"Анкета!AJ120","v":0},{"$f":"Анкета!AK120","v":1},{"$f":"Анкета!AL120","v":1},{"$f":"Анкета!AM120","v":1},{"$f":"Анкета!AN120","v":6},{"$f":"Анкета!AO120","v":5},{"$f":"Анкета!AP120","v":6},{"$f":"Анкета!AQ120","v":7},{"$f":"Анкета!AR120","v":1},{"$f":"Анкета!AS120","v":0},{"$f":"Анкета!AT120","v":1},{"$f":"Анкета!AU120","v":0},{"$f":"Анкета!AV120","v":0},{"$f":"Анкета!AW120","v":2},{"$f":"Анкета!AX120","v":0},{"$f":"Анкета!AY120","v":3},{"$f":"Анкета!AZ120","v":7},{"$f":"Анкета!BA120","v":7},{"$f":"Анкета!BB120","v":1},{"$f":"Анкета!BC120","v":2},{"$f":"Анкета!BD120","v":7},{"$f":"Анкета!BE120","v":0},{"$f":"Анкета!BF120","v":3},{"$f":"Анкета!BG120","v":7},{"$f":"Анкета!BH120","v":0}]
[{"$f":"Анкета!A121","v":"RF4"},{"$f":"Анкета!B121","v":0},{"$f":"Анкета!C121","v":0},{"$f":"Анкета!D121","v":0},{"$f":"Анкета!E121","v":0},{"$f":"Анкета!F121","v":1},{"$f":"Анкета!G121","v":1},{"$f":"Анкета!H121","v":0},{"$f":"Анкета!I121","v":1},{"$f":"Анкета!J121","v":0},{"$f":"Анкета!K121","v":3},{"$f":"Анкета!L121","v":6},{"$f":"Анкета!M121","v":6},{"$f":"Анкета!N121","v":3},{"$f":"Анкета!O121","v":5},{"$f":"Анкета!P121","v":2},{"$f":"Анкета!Q121","v":1},{"$f":"Анкета!R121","v":0},{"$f":"Анкета!S121","v":4},{"$f":"Анкета!T121","v":2},{"$f":"Анкета!U121","v":2},{"$f":"Анкета!V121","v":4},{"$f":"Анкета!W121","v":4},{"$f":"Анкета!X121","v":4},{"$f":"Анкета!Y121","v":3},{"$f":"Анкета!Z121","v":1},{"$f":"Анкета!AA121","v":2},{"$f":"Анкета!AB121","v":2},{"$f":"Анкета!AC121","v":2},{"$f":"Анкета!AD121","v":1},{"$f":"Анкета!AE121","v":1},{"$f":"Анкета!AF121","v":3},{"$f":"Анкета!AG121","v":3},{"$f":"Анкета!AH121","v":1},{"$f":"Анкета!AI121","v":2},{"$f":"Анкета!AJ121","v":0},{"$f":"Анкета!AK121","v":2},{"$f":"Анкета!AL121","v":6},{"$f":"Анкета!AM121","v":0},{"$f":"Анкета!AN121","v":0},{"$f":"Анкета!AO121","v":0},{"$f":"Анкета!AP121","v":0},{"$f":"Анкета!AQ121","v":0},{"$f":"Анкета!AR121","v":5},{"$f":"Анкета!AS121","v":2},{"$f":"Анкета!AT121","v":5},{"$f":"Анкета!AU121","v":2},{"$f":"Анкета!AV121","v":3},{"$f":"Анкета!AW121","v":3},{"$f":"Анкета!AX121","v":6},{"$f":"Анкета!AY121","v":0},{"$f":"Анкета!AZ121","v":0},{"$f":"Анкета!BA121","v":0},{"$f":"Анкета!BB121","v":0},{"$f":"Анкета!BC121","v":0},{"$f":"Анкета!BD121","v":0},{"$f":"Анкета!BE121","v":0},{"$f":"Анкета!BF121","v":0},{"$f":"Анкета!BG121","v":0},{"$f":"Анкета!BH121","v":0}]
[{"$f":"Анкета!A122","v":"RF4"},{"$f":"Анкета!B122","v":5},{"$f":"Анкета!C122","v":0},{"$f":"Анкета!D122","v":0},{"$f":"Анкета!E122","v":0},{"$f":"Анкета!F122","v":0},{"$f":"Анкета!G122","v":1},{"$f":"Анкета!H122","v":0},{"$f":"Анкета!I122","v":0},{"$f":"Анкета!J122","v":0},{"$f":"Анкета!K122","v":0},{"$f":"Анкета!L122","v":0},{"$f":"Анкета!M122","v":0},{"$f":"Анкета!N122","v":4},{"$f":"Анкета!O122","v":2},{"$f":"Анкета!P122","v":6},{"$f":"Анкета!Q122","v":2},{"$f":"Анкета!R122","v":0},{"$f":"Анкета!S122","v":0},{"$f":"Анкета!T122","v":3},{"$f":"Анкета!U122","v":3},{"$f":"Анкета!V122","v":2},{"$f":"Анкета!W122","v":2},{"$f":"Анкета!X122","v":0},{"$f":"Анкета!Y122","v":0},{"$f":"Анкета!Z122","v":6},{"$f":"Анкета!AA122","v":2},{"$f":"Анкета!AB122","v":2},{"$f":"Анкета!AC122","v":2},{"$f":"Анкета!AD122","v":7},{"$f":"Анкета!AE122","v":3},{"$f":"Анкета!AF122","v":0},{"$f":"Анкета!AG122","v":3},{"$f":"Анкета!AH122","v":5},{"$f":"Анкета!AI122","v":4},{"$f":"Анкета!AJ122","v":6},{"$f":"Анкета!AK122","v":5},{"$f":"Анкета!AL122","v":1},{"$f":"Анкета!AM122","v":0},{"$f":"Анкета!AN122","v":0},{"$f":"Анкета!AO122","v":0},{"$f":"Анкета!AP122","v":0},{"$f":"Анкета!AQ122","v":0},{"$f":"Анкета!AR122","v":1},{"$f":"Анкета!AS122","v":6},{"$f":"Анкета!AT122","v":2},{"$f":"Анкета!AU122","v":0},{"$f":"Анкета!AV122","v":0},{"$f":"Анкета!AW122","v":3},{"$f":"Анкета!AX122","v":2},{"$f":"Анкета!AY122","v":0},{"$f":"Анкета!AZ122","v":0},{"$f":"Анкета!BA122","v":0},{"$f":"Анкета!BB122","v":0},{"$f":"Анкета!BC122","v":0},{"$f":"Анкета!BD122","v":0},{"$f":"Анкета!BE122","v":0},{"$f":"Анкета!BF122","v":0},{"$f":"Анкета!BG122","v":0},{"$f":"Анкета!BH122","v":0}]

{"sheet":"Лист9","index":14,"n_rows":26,"n_cols":60,"rows_kept":26,"cut":false,"hidden":false,"merged":[]}
[]
["ВЪПРОСИ","3. Курс","4. Пол","5. Посещение на лекции","6. Посещение на упражнения","7. Ако не сте посещавали занятия, коя е причината за това","8. Успех от следването до момента","9. познавам квалификационната характеристика на специалността си","10. познавам учебния план, по който се обучавате","11. познавам учебните програми на дисциплините, които изучаваме","12.обучението помага на развитието на общата Ви култура","13. помага на професионалната Ви подготовка","14. лекциите и упражненията са актуални и отразяват постиженията на науката","15. те са актуални и ориентирани към потребностите на практиката","16. лекциите и упражненията са анахронични и самоцелни","17. обучението е добро и дава възможност за самостоятелна работа","18. то е напрегнато и ограничава възможностите за самостоятелна работа","19. учебната програма е съобразена по-скоро с интересите и възможностите на преподавателите, отколкото с тези на студентите","20. съдържателни и интересни","21. скучни и безинтересни","22. способност за творческо мислене","23. способност за вземане на решения","24. умения за работа в екип","25. комуникативни умения","26. полезни и необходими","27. самоцелни и безполезни","28. библиотеките в Университета разполага с необходимата Ви литература","29. услугите са достъпни за Вас","30. административното обслужване е на добро равнище","31. в Университета има условия за спорт","32. социалните условия (стипендии, общежития. стол, почивна база) са добре решени","33. преподавателите Ви са добре подготвени и познават новостите в научната област, в която работят","34. преподавателите Ви са толерантни, комуникативни и мотивирани в работата си със студентите","35. има корумпирани преподаватели","36. има корумпирани служители","37. материалната база е добра","38. учебно-техническите средства са съвременни и подпомагат учебния процес","39. учебниците и учебно-помощните материали са достъпни и подпомагат обучението Ви","40. публични лекции, срещи с представители на науката, политиката, бизнеса културата","41. студентски творчески инициативи","42. програми за обмен на студенти","43. дискусии, кръгли маси, конференции","44. проекти на преподавателските екипи","45. научните изследвания на вашите преподаватели","46. научно-изследователска програма на Факултета","47. научните издания на факултета","48. преподава на академично равнище","49. работи с добре подготвени и отдадени на работата си преподаватели","50. толерира творчеството, инициативата, самостоятелното мислене","51. уважават индивидуалните способности и насърчава индивидуалното развитие на студентите","52. има възможност да получите образование по предпочитана специалност","53. родителите Ви настояват да продължите образованието си","54. приятелите и съучениците Ви учат тук","55. е в района, в който сте роден(а) и живеете","56. е висше училище с традиции и авторитет","57. били потърпевш на корупционен натиск","58. чували, че има корумпирани преподаватели и служители, но не сте се сблъсквали лично с корупция в Университета","59. сигурни, че има корумпирани преподаватели и служители в ПУ","60. сигурни, че няма корумпирани преподаватели и служители в ПУ"]
[null," A = І"," A = МЪЖ"," A = Всички"," A = Всички"," A = Посещавал съм"," A = Отличен"," A = ДА "," A = ДА "," A = ДА "," A = ДА"," A = ДА"," A = ДА"," A = ДА"," A = ДА"," A = ДА"," A = ДА"," A = ДА"," A = ДА"," A = ДА"," A = ДА"," A = ДА"," A = ДА"," A = ДА"," A = ДА"," A = ДА"," A = ДА"," A = ДА"," A = ДА"," A = ДА"," A = ДА"," A = ДА"," A = ДА"," A = ДА"," A = ДА"," A = ДА"," A = ДА"," A = ДА"," A = ДА"," A = ДА"," A = ДА"," A = ДА"," A = ДА"," A = ДА"," A = ДА"," A = ДА"," A = ДА"," A = ДА"," A = ДА"," A = ДА"," A = ДА"," A = ДА"," A = ДА"," A = ДА"," A = ДА"," A = ДА"," A = ДА"," A = ДА"," A = ДА"]
[null,"B = ІІ","B = ЖЕНА","B = Голяма част ","B = Голяма част ","B = Работя и уча","B = Много добър","B = ЧАСТИЧНО","B = ЧАСТИЧНО","B = ЧАСТИЧНО","B = Във висока степен ","B = Във висока степен ","B = Във висока степен ","B = Във висока степен ","B = Във висока степен ","B = Във висока степен ","B = Във висока степен ","B = Във висока степен ","B = Във висока степен ","B = Във висока степен ","B = Във висока степен ","B = Във висока степен ","B = Във висока степен ","B = Във висока степен ","B = Във висока степен ","B = Във висока степен ","B = Във висока степен ","B = Във висока степен ","B = Във висока степен ","B = Във висока степен ","B = Във висока степен ","B = Във висока степен ","B = Във висока степен ","B = Във висока степен ","B = Във висока степен ","B = Във висока степен ","B = Във висока степен ","B = Във висока степен ","B = НЕ","B = НЕ","B = НЕ","B = НЕ","B = НЕ","B = Във висока степен ","B = Във висока степен ","B = Във висока степен ","B = Във висока степен ","B = Във висока степен ","B = Във висока степен ","B = Във висока степен ","B = НЕ","B = НЕ","B = НЕ ","B = НЕ ","B = НЕ","B = НЕ ","B = НЕ","B = НЕ","B = НЕ"]
[null,"C = ІІІ             D = ІV",null,"C = Малка част","C = Малка част","C = Безинтересни са","C = Добър","C = НЕ","C = НЕ","C = НЕ","C = В известна степен","C = В известна степен","C = В известна степен","C = В известна степен","C = В известна степен","C = В известна степен","C = В известна степен","C = В известна степен","C = В известна степен","C = В известна степен","C = В известна степен","C = В известна степен","C = В известна степен","C = В известна степен","C = В известна степен","C = В известна степен","C = В известна степен","C = В известна степен","C = В известна степен","C = В известна степен","C = В известна степен","C = В известна степен","C = В известна степен","C = В известна степен","C = В известна степен","C = В известна степен","C = В известна степен","C = В известна степен",null,null,null,null,null,"C = В известна степен","C = В известна степен","C = В известна степен","C = В известна степен","C = В известна степен","C = В известна степен","C = В известна степен"]
[null,"E = V",null," D = Нито една"," D = Нито едно","D = Мога да се подготвя сам","D = Среден",null,null,null," D = НЕ"," D = НЕ"," D = НЕ"," D = НЕ"," D = НЕ"," D = НЕ"," D = НЕ"," D = НЕ"," D = НЕ"," D = НЕ"," D = НЕ"," D = НЕ"," D = НЕ  "," D = НЕ"," D = НЕ"," D = НЕ"," D = НЕ"," D = НЕ"," D = НЕ"," D = НЕ"," D = НЕ"," D = НЕ"," D = НЕ"," D = НЕ"," D = НЕ"," D = НЕ"," D = НЕ"," D = НЕ",null,null,null,null,null," D = НЕ"," D = НЕ"," D = НЕ"," D = НЕ"," D = НЕ"," D = НЕ"," D = НЕ"]
[{"$f":"Анкета!A123","v":"SF1"},{"$f":"Анкета!B123","v":16},{"$f":"Анкета!C123","v":6},{"$f":"Анкета!D123","v":8},{"$f":"Анкета!E123","v":12},{"$f":"Анкета!F123","v":8},{"$f":"Анкета!G123","v":2},{"$f":"Анкета!H123","v":6},{"$f":"Анкета!I123","v":4},{"$f":"Анкета!J123","v":8},{"$f":"Анкета!K123","v":6},{"$f":"Анкета!L123","v":2},{"$f":"Анкета!M123","v":2},{"$f":"Анкета!N123","v":2},{"$f":"Анкета!O123","v":1},{"$f":"Анкета!P123","v":1},{"$f":"Анкета!Q123","v":7},{"$f":"Анкета!R123","v":9},{"$f":"Анкета!S123","v":3},{"$f":"Анкета!T123","v":0},{"$f":"Анкета!U123","v":1},{"$f":"Анкета!V123","v":2},{"$f":"Анкета!W123","v":5},{"$f":"Анкета!X123","v":7},{"$f":"Анкета!Y123","v":4},{"$f":"Анкета!Z123","v":1},{"$f":"Анкета!AA123","v":8},{"$f":"Анкета!AB123","v":9},{"$f":"Анкета!AC123","v":2},{"$f":"Анкета!AD123","v":3},{"$f":"Анкета!AE123","v":1},{"$f":"Анкета!AF123","v":10},{"$f":"Анкета!AG123","v":4},{"$f":"Анкета!AH123","v":6},{"$f":"Анкета!AI123","v":4},{"$f":"Анкета!AJ123","v":1},{"$f":"Анкета!AK123","v":0},{"$f":"Анкета!AL123","v":3},{"$f":"Анкета!AM123","v":3},{"$f":"Анкета!AN123","v":5},{"$f":"Анкета!AO123","v":4},{"$f":"Анкета!AP123","v":2},{"$f":"Анкета!AQ123","v":3},{"$f":"Анкета!AR123","v":1},{"$f":"Анкета!AS123","v":2},{"$f":"Анкета!AT123","v":3},{"$f":"Анкета!AU123","v":6},{"$f":"Анкета!AV123","v":5},{"$f":"Анкета!AW123","v":1},{"$f":"Анкета!AX123","v":5},{"$f":"Анкета!AY123","v":14},{"$f":"Анкета!AZ123","v":6},{"$f":"Анкета!BA123","v":4},{"$f":"Анкета!BB123","v":9},{"$f":"Анкета!BC123","v":10},{"$f":"Анкета!BD123","v":3},{"$f":"Анкета!BE123","v":13},{"$f":"Анкета!BF123","v":10},{"$f":"Анкета!BG123","v":2},{"$f":"Анкета!BH123","v":0}]
[{"$f":"Анкета!A124","v":"SF1"},{"$f":"Анкета!B124","v":0},{"$f":"Анкета!C124","v":10},{"$f":"Анкета!D124","v":6},{"$f":"Анкета!E124","v":4},{"$f":"Анкета!F124","v":1},{"$f":"Анкета!G124","v":8},{"$f":"Анкета!H124","v":7},{"$f":"Анкета!I124","v":10},{"$f":"Анкета!J124","v":3},{"$f":"Анкета!K124","v":4},{"$f":"Анкета!L124","v":4},{"$f":"Анкета!M124","v":5},{"$f":"Анкета!N124","v":1},{"$f":"Анкета!O124","v":4},{"$f":"Анкета!P124","v":1},{"$f":"Анкета!Q124","v":5},{"$f":"Анкета!R124","v":4},{"$f":"Анкета!S124","v":7},{"$f":"Анкета!T124","v":4},{"$f":"Анкета!U124","v":3},{"$f":"Анкета!V124","v":3},{"$f":"Анкета!W124","v":5},{"$f":"Анкета!X124","v":5},{"$f":"Анкета!Y124","v":6},{"$f":"Анкета!Z124","v":3},{"$f":"Анкета!AA124","v":3},{"$f":"Анкета!AB124","v":4},{"$f":"Анкета!AC124","v":2},{"$f":"Анкета!AD124","v":1},{"$f":"Анкета!AE124","v":3},{"$f":"Анкета!AF124","v":4},{"$f":"Анкета!AG124","v":7},{"$f":"Анкета!AH124","v":2},{"$f":"Анкета!AI124","v":3},{"$f":"Анкета!AJ124","v":4},{"$f":"Анкета!AK124","v":3},{"$f":"Анкета!AL124","v":6},{"$f":"Анкета!AM124","v":12},{"$f":"Анкета!AN124","v":11},{"$f":"Анкета!AO124","v":12},{"$f":"Анкета!AP124","v":13},{"$f":"Анкета!AQ124","v":13},{"$f":"Анкета!AR124","v":3},{"$f":"Анкета!AS124","v":3},{"$f":"Анкета!AT124","v":3},{"$f":"Анкета!AU124","v":4},{"$f":"Анкета!AV124","v":5},{"$f":"Анкета!AW124","v":5},{"$f":"Анкета!AX124","v":2},{"$f":"Анкета!AY124","v":2},{"$f":"Анкета!AZ124","v":10},{"$f":"Анкета!BA124","v":12},{"$f":"Анкета!BB124","v":6},{"$f":"Анкета!BC124","v":5},{"$f":"Анкета!BD124","v":12},{"$f":"Анкета!BE124","v":2},{"$f":"Анкета!BF124","v":5},{"$f":"Анкета!BG124","v":14},{"$f":"Анкета!BH124","v":0}]
[{"$f":"Анкета!A125","v":"SF1"},{"$f":"Анкета!B125","v":0},{"$f":"Анкета!C125","v":0},{"$f":"Анкета!D125","v":1},{"$f":"Анкета!E125","v":0},{"$f":"Анкета!F125","v":6},{"$f":"Анкета!G125","v":4},{"$f":"Анкета!H125","v":3},{"$f":"Анкета!I125","v":2},{"$f":"Анкета!J125","v":5},{"$f":"Анкета!K125","v":5},{"$f":"Анкета!L125","v":7},{"$f":"Анкета!M125","v":5},{"$f":"Анкета!N125","v":9},{"$f":"Анкета!O125","v":6},{"$f":"Анкета!P125","v":7},{"$f":"Анкета!Q125","v":2},{"$f":"Анкета!R125","v":3},{"$f":"Анкета!S125","v":6},{"$f":"Анкета!T125","v":6},{"$f":"Анкета!U125","v":8},{"$f":"Анкета!V125","v":9},{"$f":"Анкета!W125","v":2},{"$f":"Анкета!X125","v":2},{"$f":"Анкета!Y125","v":6},{"$f":"Анкета!Z125","v":6},{"$f":"Анкета!AA125","v":3},{"$f":"Анкета!AB125","v":2},{"$f":"Анкета!AC125","v":4},{"$f":"Анкета!AD125","v":9},{"$f":"Анкета!AE125","v":7},{"$f":"Анкета!AF125","v":1},{"$f":"Анкета!AG125","v":4},{"$f":"Анкета!AH125","v":5},{"$f":"Анкета!AI125","v":5},{"$f":"Анкета!AJ125","v":7},{"$f":"Анкета!AK125","v":9},{"$f":"Анкета!AL125","v":3},{"$f":"Анкета!AM125","v":0},{"$f":"Анкета!AN125","v":0},{"$f":"Анкета!AO125","v":0},{"$f":"Анкета!AP125","v":1},{"$f":"Анкета!AQ125","v":0},{"$f":"Анкета!AR125","v":4},{"$f":"Анкета!AS125","v":2},{"$f":"Анкета!AT125","v":5},{"$f":"Анкета!AU125","v":5},{"$f":"Анкета!AV125","v":5},{"$f":"Анкета!AW125","v":6},{"$f":"Анкета!AX125","v":4},{"$f":"Анкета!AY125","v":0},{"$f":"Анкета!AZ125","v":0},{"$f":"Анкета!BA125","v":0},{"$f":"Анкета!BB125","v":0},{"$f":"Анкета!BC125","v":0},{"$f":"Анкета!BD125","v":1},{"$f":"Анкета!BE125","v":1},{"$f":"Анкета!BF125","v":1},{"$f":"Анкета!BG125","v":0},{"$f":"Анкета!BH125","v":0}]
[{"$f":"Анкета!A126","v":"SF1"},{"$f":"Анкета!B126","v":0},{"$f":"Анкета!C126","v":0},{"$f":"Анкета!D126","v":1},{"$f":"Анкета!E126","v":0},{"$f":"Анкета!F126","v":1},{"$f":"Анкета!G126","v":2},{"$f":"Анкета!H126","v":0},{"$f":"Анкета!I126","v":0},{"$f":"Анкета!J126","v":0},{"$f":"Анкета!K126","v":1},{"$f":"Анкета!L126","v":3},{"$f":"Анкета!M126","v":4},{"$f":"Анкета!N126","v":4},{"$f":"Анкета!O126","v":5},{"$f":"Анкета!P126","v":7},{"$f":"Анкета!Q126","v":2},{"$f":"Анкета!R126","v":0},{"$f":"Анкета!S126","v":0},{"$f":"Анкета!T126","v":6},{"$f":"Анкета!U126","v":4},{"$f":"Анкета!V126","v":2},{"$f":"Анкета!W126","v":4},{"$f":"Анкета!X126","v":2},{"$f":"Анкета!Y126","v":0},{"$f":"Анкета!Z126","v":6},{"$f":"Анкета!AA126","v":2},{"$f":"Анкета!AB126","v":1},{"$f":"Анкета!AC126","v":8},{"$f":"Анкета!AD126","v":3},{"$f":"Анкета!AE126","v":5},{"$f":"Анкета!AF126","v":1},{"$f":"Анкета!AG126","v":1},{"$f":"Анкета!AH126","v":3},{"$f":"Анкета!AI126","v":4},{"$f":"Анкета!AJ126","v":4},{"$f":"Анкета!AK126","v":4},{"$f":"Анкета!AL126","v":4},{"$f":"Анкета!AM126","v":1},{"$f":"Анкета!AN126","v":0},{"$f":"Анкета!AO126","v":0},{"$f":"Анкета!AP126","v":0},{"$f":"Анкета!AQ126","v":0},{"$f":"Анкета!AR126","v":8},{"$f":"Анкета!AS126","v":9},{"$f":"Анкета!AT126","v":5},{"$f":"Анкета!AU126","v":1},{"$f":"Анкета!AV126","v":1},{"$f":"Анкета!AW126","v":4},{"$f":"Анкета!AX126","v":5},{"$f":"Анкета!AY126","v":0},{"$f":"Анкета!AZ126","v":0},{"$f":"Анкета!BA126","v":0},{"$f":"Анкета!BB126","v":1},{"$f":"Анкета!BC126","v":1},{"$f":"Анкета!BD126","v":0},{"$f":"Анкета!BE126","v":0},{"$f":"Анкета!BF126","v":0},{"$f":"Анкета!BG126","v":0},{"$f":"Анкета!BH126","v":0}]
[{"$f":"Анкета!A127","v":"SF2"},{"$f":"Анкета!B127","v":0},{"$f":"Анкета!C127","v":5},{"$f":"Анкета!D127","v":7},{"$f":"Анкета!E127","v":16},{"$f":"Анкета!F127","v":15},{"$f":"Анкета!G127","v":1},{"$f":"Анкета!H127","v":16},{"$f":"Анкета!I127","v":15},{"$f":"Анкета!J127","v":17},{"$f":"Анкета!K127","v":12},{"$f":"Анкета!L127","v":7},{"$f":"Анкета!M127","v":3},{"$f":"Анкета!N127","v":5},{"$f":"Анкета!O127","v":4},{"$f":"Анкета!P127","v":4},{"$f":"Анкета!Q127","v":4},{"$f":"Анкета!R127","v":6},{"$f":"Анкета!S127","v":12},{"$f":"Анкета!T127","v":2},{"$f":"Анкета!U127","v":9},{"$f":"Анкета!V127","v":3},{"$f":"Анкета!W127","v":6},{"$f":"Анкета!X127","v":5},{"$f":"Анкета!Y127","v":9},{"$f":"Анкета!Z127","v":1},{"$f":"Анкета!AA127","v":1},{"$f":"Анкета!AB127","v":5},{"$f":"Анкета!AC127","v":3},{"$f":"Анкета!AD127","v":2},{"$f":"Анкета!AE127","v":1},{"$f":"Анкета!AF127","v":12},{"$f":"Анкета!AG127","v":9},{"$f":"Анкета!AH127","v":4},{"$f":"Анкета!AI127","v":7},{"$f":"Анкета!AJ127","v":1},{"$f":"Анкета!AK127","v":1},{"$f":"Анкета!AL127","v":3},{"$f":"Анкета!AM127","v":10},{"$f":"Анкета!AN127","v":3},{"$f":"Анкета!AO127","v":2},{"$f":"Анкета!AP127","v":3},{"$f":"Анкета!AQ127","v":0},{"$f":"Анкета!AR127","v":1},{"$f":"Анкета!AS127","v":1},{"$f":"Анкета!AT127","v":2},{"$f":"Анкета!AU127","v":13},{"$f":"Анкета!AV127","v":7},{"$f":"Анкета!AW127","v":8},{"$f":"Анкета!AX127","v":3},{"$f":"Анкета!AY127","v":19},{"$f":"Анкета!AZ127","v":9},{"$f":"Анкета!BA127","v":1},{"$f":"Анкета!BB127","v":11},{"$f":"Анкета!BC127","v":18},{"$f":"Анкета!BD127","v":1},{"$f":"Анкета!BE127","v":14},{"$f":"Анкета!BF127","v":8},{"$f":"Анкета!BG127","v":2},{"$f":"Анкета!BH127","v":0}]
[{"$f":"Анкета!A128","v":"SF2"},{"$f":"Анкета!B128","v":15},{"$f":"Анкета!C128","v":14},{"$f":"Анкета!D128","v":12},{"$f":"Анкета!E128","v":3},{"$f":"Анкета!F128","v":3},{"$f":"Анкета!G128","v":12},{"$f":"Анкета!H128","v":3},{"$f":"Анкета!I128","v":4},{"$f":"Анкета!J128","v":0},{"$f":"Анкета!K128","v":6},{"$f":"Анкета!L128","v":5},{"$f":"Анкета!M128","v":10},{"$f":"Анкета!N128","v":7},{"$f":"Анкета!O128","v":0},{"$f":"Анкета!P128","v":4},{"$f":"Анкета!Q128","v":5},{"$f":"Анкета!R128","v":4},{"$f":"Анкета!S128","v":3},{"$f":"Анкета!T128","v":0},{"$f":"Анкета!U128","v":2},{"$f":"Анкета!V128","v":6},{"$f":"Анкета!W128","v":4},{"$f":"Анкета!X128","v":5},{"$f":"Анкета!Y128","v":3},{"$f":"Анкета!Z128","v":1},{"$f":"Анкета!AA128","v":3},{"$f":"Анкета!AB128","v":1},{"$f":"Анкета!AC128","v":2},{"$f":"Анкета!AD128","v":3},{"$f":"Анкета!AE128","v":2},{"$f":"Анкета!AF128","v":2},{"$f":"Анкета!AG128","v":2},{"$f":"Анкета!AH128","v":0},{"$f":"Анкета!AI128","v":0},{"$f":"Анкета!AJ128","v":6},{"$f":"Анкета!AK128","v":1},{"$f":"Анкета!AL128","v":3},{"$f":"Анкета!AM128","v":9},{"$f":"Анкета!AN128","v":16},{"$f":"Анкета!AO128","v":17},{"$f":"Анкета!AP128","v":16},{"$f":"Анкета!AQ128","v":19},{"$f":"Анкета!AR128","v":7},{"$f":"Анкета!AS128","v":0},{"$f":"Анкета!AT128","v":2},{"$f":"Анкета!AU128","v":5},{"$f":"Анкета!AV128","v":8},{"$f":"Анкета!AW128","v":4},{"$f":"Анкета!AX128","v":6},{"$f":"Анкета!AY128","v":0},{"$f":"Анкета!AZ128","v":10},{"$f":"Анкета!BA128","v":18},{"$f":"Анкета!BB128","v":8},{"$f":"Анкета!BC128","v":1},{"$f":"Анкета!BD128","v":18},{"$f":"Анкета!BE128","v":5},{"$f":"Анкета!BF128","v":11},{"$f":"Анкета!BG128","v":17},{"$f":"Анкета!BH128","v":0}]
[{"$f":"Анкета!A129","v":"SF2"},{"$f":"Анкета!B129","v":4},{"$f":"Анкета!C129","v":0},{"$f":"Анкета!D129","v":0},{"$f":"Анкета!E129","v":0},{"$f":"Анкета!F129","v":0},{"$f":"Анкета!G129","v":6},{"$f":"Анкета!H129","v":0},{"$f":"Анкета!I129","v":0},{"$f":"Анкета!J129","v":2},{"$f":"Анкета!K129","v":1},{"$f":"Анкета!L129","v":6},{"$f":"Анкета!M129","v":5},{"$f":"Анкета!N129","v":6},{"$f":"Анкета!O129","v":13},{"$f":"Анкета!P129","v":7},{"$f":"Анкета!Q129","v":7},{"$f":"Анкета!R129","v":5},{"$f":"Анкета!S129","v":4},{"$f":"Анкета!T129","v":5},{"$f":"Анкета!U129","v":7},{"$f":"Анкета!V129","v":9},{"$f":"Анкета!W129","v":5},{"$f":"Анкета!X129","v":6},{"$f":"Анкета!Y129","v":6},{"$f":"Анкета!Z129","v":6},{"$f":"Анкета!AA129","v":5},{"$f":"Анкета!AB129","v":7},{"$f":"Анкета!AC129","v":10},{"$f":"Анкета!AD129","v":7},{"$f":"Анкета!AE129","v":10},{"$f":"Анкета!AF129","v":5},{"$f":"Анкета!AG129","v":8},{"$f":"Анкета!AH129","v":5},{"$f":"Анкета!AI129","v":4},{"$f":"Анкета!AJ129","v":7},{"$f":"Анкета!AK129","v":11},{"$f":"Анкета!AL129","v":11},{"$f":"Анкета!AM129","v":0},{"$f":"Анкета!AN129","v":0},{"$f":"Анкета!AO129","v":0},{"$f":"Анкета!AP129","v":0},{"$f":"Анкета!AQ129","v":0},{"$f":"Анкета!AR129","v":7},{"$f":"Анкета!AS129","v":6},{"$f":"Анкета!AT129","v":11},{"$f":"Анкета!AU129","v":1},{"$f":"Анкета!AV129","v":3},{"$f":"Анкета!AW129","v":5},{"$f":"Анкета!AX129","v":9},{"$f":"Анкета!AY129","v":0},{"$f":"Анкета!AZ129","v":0},{"$f":"Анкета!BA129","v":0},{"$f":"Анкета!BB129","v":0},{"$f":"Анкета!BC129","v":0},{"$f":"Анкета!BD129","v":0},{"$f":"Анкета!BE129","v":0},{"$f":"Анкета!BF129","v":0},{"$f":"Анкета!BG129","v":0},{"$f":"Анкета!BH129","v":0}]
[{"$f":"Анкета!A130","v":"SF2"},{"$f":"Анкета!B130","v":0},{"$f":"Анкета!C130","v":0},{"$f":"Анкета!D130","v":0},{"$f":"Анкета!E130","v":0},{"$f":"Анкета!F130","v":1},{"$f":"Анкета!G130","v":0},{"$f":"Анкета!H130","v":0},{"$f":"Анкета!I130","v":0},{"$f":"Анкета!J130","v":0},{"$f":"Анкета!K130","v":0},{"$f":"Анкета!L130","v":1},{"$f":"Анкета!M130","v":1},{"$f":"Анкета!N130","v":1},{"$f":"Анкета!O130","v":2},{"$f":"Анкета!P130","v":4},{"$f":"Анкета!Q130","v":3},{"$f":"Анкета!R130","v":4},{"$f":"Анкета!S130","v":0},{"$f":"Анкета!T130","v":12},{"$f":"Анкета!U130","v":1},{"$f":"Анкета!V130","v":1},{"$f":"Анкета!W130","v":4},{"$f":"Анкета!X130","v":3},{"$f":"Анкета!Y130","v":1},{"$f":"Анкета!Z130","v":11},{"$f":"Анкета!AA130","v":10},{"$f":"Анкета!AB130","v":6},{"$f":"Анкета!AC130","v":4},{"$f":"Анкета!AD130","v":7},{"$f":"Анкета!AE130","v":6},{"$f":"Анкета!AF130","v":0},{"$f":"Анкета!AG130","v":0},{"$f":"Анкета!AH130","v":10},{"$f":"Анкета!AI130","v":8},{"$f":"Анкета!AJ130","v":5},{"$f":"Анкета!AK130","v":6},{"$f":"Анкета!AL130","v":2},{"$f":"Анкета!AM130","v":0},{"$f":"Анкета!AN130","v":0},{"$f":"Анкета!AO130","v":0},{"$f":"Анкета!AP130","v":0},{"$f":"Анкета!AQ130","v":0},{"$f":"Анкета!AR130","v":4},{"$f":"Анкета!AS130","v":12},{"$f":"Анкета!AT130","v":4},{"$f":"Анкета!AU130","v":0},{"$f":"Анкета!AV130","v":1},{"$f":"Анкета!AW130","v":2},{"$f":"Анкета!AX130","v":1},{"$f":"Анкета!AY130","v":0},{"$f":"Анкета!AZ130","v":0},{"$f":"Анкета!BA130","v":0},{"$f":"Анкета!BB130","v":0},{"$f":"Анкета!BC130","v":0},{"$f":"Анкета!BD130","v":0},{"$f":"Анкета!BE130","v":0},{"$f":"Анкета!BF130","v":0},{"$f":"Анкета!BG130","v":0},{"$f":"Анкета!BH130","v":0}]
[{"$f":"Анкета!A131","v":"SF3"},{"$f":"Анкета!B131","v":0},{"$f":"Анкета!C131","v":3},{"$f":"Анкета!D131","v":10},{"$f":"Анкета!E131","v":15},{"$f":"Анкета!F131","v":13},{"$f":"Анкета!G131","v":2},{"$f":"Анкета!H131","v":4},{"$f":"Анкета!I131","v":11},{"$f":"Анкета!J131","v":10},{"$f":"Анкета!K131","v":8},{"$f":"Анкета!L131","v":8},{"$f":"Анкета!M131","v":5},{"$f":"Анкета!N131","v":5},{"$f":"Анкета!O131","v":2},{"$f":"Анкета!P131","v":6},{"$f":"Анкета!Q131","v":3},{"$f":"Анкета!R131","v":7},{"$f":"Анкета!S131","v":4},{"$f":"Анкета!T131","v":0},{"$f":"Анкета!U131","v":3},{"$f":"Анкета!V131","v":4},{"$f":"Анкета!W131","v":5},{"$f":"Анкета!X131","v":7},{"$f":"Анкета!Y131","v":6},{"$f":"Анкета!Z131","v":1},{"$f":"Анкета!AA131","v":3},{"$f":"Анкета!AB131","v":4},{"$f":"Анкета!AC131","v":2},{"$f":"Анкета!AD131","v":1},{"$f":"Анкета!AE131","v":3},{"$f":"Анкета!AF131","v":7},{"$f":"Анкета!AG131","v":6},{"$f":"Анкета!AH131","v":4},{"$f":"Анкета!AI131","v":8},{"$f":"Анкета!AJ131","v":3},{"$f":"Анкета!AK131","v":1},{"$f":"Анкета!AL131","v":6},{"$f":"Анкета!AM131","v":4},{"$f":"Анкета!AN131","v":3},{"$f":"Анкета!AO131","v":3},{"$f":"Анкета!AP131","v":2},{"$f":"Анкета!AQ131","v":1},{"$f":"Анкета!AR131","v":2},{"$f":"Анкета!AS131","v":1},{"$f":"Анкета!AT131","v":2},{"$f":"Анкета!AU131","v":7},{"$f":"Анкета!AV131","v":8},{"$f":"Анкета!AW131","v":4},{"$f":"Анкета!AX131","v":4},{"$f":"Анкета!AY131","v":17},{"$f":"Анкета!AZ131","v":4},{"$f":"Анкета!BA131","v":1},{"$f":"Анкета!BB131","v":7},{"$f":"Анкета!BC131","v":15},{"$f":"Анкета!BD131","v":1},{"$f":"Анкета!BE131","v":12},{"$f":"Анкета!BF131","v":9},{"$f":"Анкета!BG131","v":2},{"$f":"Анкета!BH131","v":0}]
[{"$f":"Анкета!A132","v":"SF3"},{"$f":"Анкета!B132","v":0},{"$f":"Анкета!C132","v":15},{"$f":"Анкета!D132","v":7},{"$f":"Анкета!E132","v":3},{"$f":"Анкета!F132","v":2},{"$f":"Анкета!G132","v":10},{"$f":"Анкета!H132","v":13},{"$f":"Анкета!I132","v":5},{"$f":"Анкета!J132","v":7},{"$f":"Анкета!K132","v":4},{"$f":"Анкета!L132","v":4},{"$f":"Анкета!M132","v":5},{"$f":"Анкета!N132","v":2},{"$f":"Анкета!O132","v":4},{"$f":"Анкета!P132","v":3},{"$f":"Анкета!Q132","v":3},{"$f":"Анкета!R132","v":3},{"$f":"Анкета!S132","v":6},{"$f":"Анкета!T132","v":3},{"$f":"Анкета!U132","v":4},{"$f":"Анкета!V132","v":3},{"$f":"Анкета!W132","v":2},{"$f":"Анкета!X132","v":1},{"$f":"Анкета!Y132","v":2},{"$f":"Анкета!Z132","v":4},{"$f":"Анкета!AA132","v":3},{"$f":"Анкета!AB132","v":3},{"$f":"Анкета!AC132","v":2},{"$f":"Анкета!AD132","v":0},{"$f":"Анкета!AE132","v":3},{"$f":"Анкета!AF132","v":7},{"$f":"Анкета!AG132","v":4},{"$f":"Анкета!AH132","v":1},{"$f":"Анкета!AI132","v":2},{"$f":"Анкета!AJ132","v":0},{"$f":"Анкета!AK132","v":4},{"$f":"Анкета!AL132","v":3},{"$f":"Анкета!AM132","v":14},{"$f":"Анкета!AN132","v":15},{"$f":"Анкета!AO132","v":15},{"$f":"Анкета!AP132","v":16},{"$f":"Анкета!AQ132","v":17},{"$f":"Анкета!AR132","v":2},{"$f":"Анкета!AS132","v":1},{"$f":"Анкета!AT132","v":4},{"$f":"Анкета!AU132","v":4},{"$f":"Анкета!AV132","v":3},{"$f":"Анкета!AW132","v":4},{"$f":"Анкета!AX132","v":4},{"$f":"Анкета!AY132","v":1},{"$f":"Анкета!AZ132","v":14},{"$f":"Анкета!BA132","v":17},{"$f":"Анкета!BB132","v":11},{"$f":"Анкета!BC132","v":3},{"$f":"Анкета!BD132","v":17},{"$f":"Анкета!BE132","v":6},{"$f":"Анкета!BF132","v":9},{"$f":"Анкета!BG132","v":16},{"$f":"Анкета!BH132","v":0}]
[{"$f":"Анкета!A133","v":"SF3"},{"$f":"Анкета!B133","v":15},{"$f":"Анкета!C133","v":0},{"$f":"Анкета!D133","v":1},{"$f":"Анкета!E133","v":0},{"$f":"Анкета!F133","v":2},{"$f":"Анкета!G133","v":6},{"$f":"Анкета!H133","v":1},{"$f":"Анкета!I133","v":2},{"$f":"Анкета!J133","v":1},{"$f":"Анкета!K133","v":5},{"$f":"Анкета!L133","v":6},{"$f":"Анкета!M133","v":6},{"$f":"Анкета!N133","v":8},{"$f":"Анкета!O133","v":5},{"$f":"Анкета!P133","v":3},{"$f":"Анкета!Q133","v":2},{"$f":"Анкета!R133","v":2},{"$f":"Анкета!S133","v":6},{"$f":"Анкета!T133","v":8},{"$f":"Анкета!U133","v":6},{"$f":"Анкета!V133","v":5},{"$f":"Анкета!W133","v":7},{"$f":"Анкета!X133","v":6},{"$f":"Анкета!Y133","v":8},{"$f":"Анкета!Z133","v":4},{"$f":"Анкета!AA133","v":6},{"$f":"Анкета!AB133","v":7},{"$f":"Анкета!AC133","v":6},{"$f":"Анкета!AD133","v":4},{"$f":"Анкета!AE133","v":2},{"$f":"Анкета!AF133","v":2},{"$f":"Анкета!AG133","v":6},{"$f":"Анкета!AH133","v":5},{"$f":"Анкета!AI133","v":3},{"$f":"Анкета!AJ133","v":8},{"$f":"Анкета!AK133","v":5},{"$f":"Анкета!AL133","v":4},{"$f":"Анкета!AM133","v":0},{"$f":"Анкета!AN133","v":0},{"$f":"Анкета!AO133","v":0},{"$f":"Анкета!AP133","v":0},{"$f":"Анкета!AQ133","v":0},{"$f":"Анкета!AR133","v":5},{"$f":"Анкета!AS133","v":3},{"$f":"Анкета!AT133","v":6},{"$f":"Анкета!AU133","v":6},{"$f":"Анкета!AV133","v":6},{"$f":"Анкета!AW133","v":5},{"$f":"Анкета!AX133","v":6},{"$f":"Анкета!AY133","v":0},{"$f":"Анкета!AZ133","v":0},{"$f":"Анкета!BA133","v":0},{"$f":"Анкета!BB133","v":0},{"$f":"Анкета!BC133","v":0},{"$f":"Анкета!BD133","v":0},{"$f":"Анкета!BE133","v":0},{"$f":"Анкета!BF133","v":0},{"$f":"Анкета!BG133","v":0},{"$f":"Анкета!BH133","v":0}]
[{"$f":"Анкета!A134","v":"SF3"},{"$f":"Анкета!B134","v":3},{"$f":"Анкета!C134","v":0},{"$f":"Анкета!D134","v":0},{"$f":"Анкета!E134","v":0},{"$f":"Анкета!F134","v":1},{"$f":"Анкета!G134","v":0},{"$f":"Анкета!H134","v":0},{"$f":"Анкета!I134","v":0},{"$f":"Анкета!J134","v":0},{"$f":"Анкета!K134","v":1},{"$f":"Анкета!L134","v":0},{"$f":"Анкета!M134","v":2},{"$f":"Анкета!N134","v":3},{"$f":"Анкета!O134","v":7},{"$f":"Анкета!P134","v":6},{"$f":"Анкета!Q134","v":10},{"$f":"Анкета!R134","v":6},{"$f":"Анкета!S134","v":2},{"$f":"Анкета!T134","v":7},{"$f":"Анкета!U134","v":5},{"$f":"Анкета!V134","v":6},{"$f":"Анкета!W134","v":4},{"$f":"Анкета!X134","v":4},{"$f":"Анкета!Y134","v":2},{"$f":"Анкета!Z134","v":9},{"$f":"Анкета!AA134","v":6},{"$f":"Анкета!AB134","v":4},{"$f":"Анкета!AC134","v":8},{"$f":"Анкета!AD134","v":13},{"$f":"Анкета!AE134","v":10},{"$f":"Анкета!AF134","v":2},{"$f":"Анкета!AG134","v":2},{"$f":"Анкета!AH134","v":8},{"$f":"Анкета!AI134","v":5},{"$f":"Анкета!AJ134","v":7},{"$f":"Анкета!AK134","v":8},{"$f":"Анкета!AL134","v":5},{"$f":"Анкета!AM134","v":0},{"$f":"Анкета!AN134","v":0},{"$f":"Анкета!AO134","v":0},{"$f":"Анкета!AP134","v":0},{"$f":"Анкета!AQ134","v":0},{"$f":"Анкета!AR134","v":9},{"$f":"Анкета!AS134","v":13},{"$f":"Анкета!AT134","v":6},{"$f":"Анкета!AU134","v":1},{"$f":"Анкета!AV134","v":1},{"$f":"Анкета!AW134","v":5},{"$f":"Анкета!AX134","v":4},{"$f":"Анкета!AY134","v":0},{"$f":"Анкета!AZ134","v":0},{"$f":"Анкета!BA134","v":0},{"$f":"Анкета!BB134","v":0},{"$f":"Анкета!BC134","v":0},{"$f":"Анкета!BD134","v":0},{"$f":"Анкета!BE134","v":0},{"$f":"Анкета!BF134","v":0},{"$f":"Анкета!BG134","v":0},{"$f":"Анкета!BH134","v":0}]
[{"$f":"Анкета!A135","v":"SF4"},{"$f":"Анкета!B135","v":3},{"$f":"Анкета!C135","v":5},{"$f":"Анкета!D135","v":6},{"$f":"Анкета!E135","v":10},{"$f":"Анкета!F135","v":6},{"$f":"Анкета!G135","v":2},{"$f":"Анкета!H135","v":5},{"$f":"Анкета!I135","v":5},{"$f":"Анкета!J135","v":4},{"$f":"Анкета!K135","v":5},{"$f":"Анкета!L135","v":0},{"$f":"Анкета!M135","v":2},{"$f":"Анкета!N135","v":1},{"$f":"Анкета!O135","v":2},{"$f":"Анкета!P135","v":1},{"$f":"Анкета!Q135","v":5},{"$f":"Анкета!R135","v":8},{"$f":"Анкета!S135","v":3},{"$f":"Анкета!T135","v":1},{"$f":"Анкета!U135","v":1},{"$f":"Анкета!V135","v":2},{"$f":"Анкета!W135","v":5},{"$f":"Анкета!X135","v":5},{"$f":"Анкета!Y135","v":3},{"$f":"Анкета!Z135","v":1},{"$f":"Анкета!AA135","v":6},{"$f":"Анкета!AB135","v":7},{"$f":"Анкета!AC135","v":2},{"$f":"Анкета!AD135","v":2},{"$f":"Анкета!AE135","v":1},{"$f":"Анкета!AF135","v":7},{"$f":"Анкета!AG135","v":2},{"$f":"Анкета!AH135","v":4},{"$f":"Анкета!AI135","v":4},{"$f":"Анкета!AJ135","v":1},{"$f":"Анкета!AK135","v":0},{"$f":"Анкета!AL135","v":3},{"$f":"Анкета!AM135","v":3},{"$f":"Анкета!AN135","v":2},{"$f":"Анкета!AO135","v":1},{"$f":"Анкета!AP135","v":0},{"$f":"Анкета!AQ135","v":1},{"$f":"Анкета!AR135","v":0},{"$f":"Анкета!AS135","v":1},{"$f":"Анкета!AT135","v":1},{"$f":"Анкета!AU135","v":4},{"$f":"Анкета!AV135","v":4},{"$f":"Анкета!AW135","v":1},{"$f":"Анкета!AX135","v":3},{"$f":"Анкета!AY135","v":11},{"$f":"Анкета!AZ135","v":3},{"$f":"Анкета!BA135","v":2},{"$f":"Анкета!BB135","v":6},{"$f":"Анкета!BC135","v":6},{"$f":"Анкета!BD135","v":1},{"$f":"Анкета!BE135","v":10},{"$f":"Анкета!BF135","v":6},{"$f":"Анкета!BG135","v":1},{"$f":"Анкета!BH135","v":0}]
[{"$f":"Анкета!A136","v":"SF4"},{"$f":"Анкета!B136","v":0},{"$f":"Анкета!C136","v":6},{"$f":"Анкета!D136","v":3},{"$f":"Анкета!E136","v":1},{"$f":"Анкета!F136","v":0},{"$f":"Анкета!G136","v":2},{"$f":"Анкета!H136","v":5},{"$f":"Анкета!I136","v":3},{"$f":"Анкета!J136","v":4},{"$f":"Анкета!K136","v":3},{"$f":"Анкета!L136","v":3},{"$f":"Анкета!M136","v":2},{"$f":"Анкета!N136","v":0},{"$f":"Анкета!O136","v":2},{"$f":"Анкета!P136","v":1},{"$f":"Анкета!Q136","v":5},{"$f":"Анкета!R136","v":3},{"$f":"Анкета!S136","v":3},{"$f":"Анкета!T136","v":2},{"$f":"Анкета!U136","v":1},{"$f":"Анкета!V136","v":2},{"$f":"Анкета!W136","v":2},{"$f":"Анкета!X136","v":3},{"$f":"Анкета!Y136","v":5},{"$f":"Анкета!Z136","v":2},{"$f":"Анкета!AA136","v":2},{"$f":"Анкета!AB136","v":3},{"$f":"Анкета!AC136","v":1},{"$f":"Анкета!AD136","v":0},{"$f":"Анкета!AE136","v":2},{"$f":"Анкета!AF136","v":2},{"$f":"Анкета!AG136","v":5},{"$f":"Анкета!AH136","v":1},{"$f":"Анкета!AI136","v":2},{"$f":"Анкета!AJ136","v":3},{"$f":"Анкета!AK136","v":3},{"$f":"Анкета!AL136","v":6},{"$f":"Анкета!AM136","v":7},{"$f":"Анкета!AN136","v":9},{"$f":"Анкета!AO136","v":10},{"$f":"Анкета!AP136","v":10},{"$f":"Анкета!AQ136","v":10},{"$f":"Анкета!AR136","v":2},{"$f":"Анкета!AS136","v":1},{"$f":"Анкета!AT136","v":2},{"$f":"Анкета!AU136","v":3},{"$f":"Анкета!AV136","v":3},{"$f":"Анкета!AW136","v":1},{"$f":"Анкета!AX136","v":0},{"$f":"Анкета!AY136","v":0},{"$f":"Анкета!AZ136","v":8},{"$f":"Анкета!BA136","v":9},{"$f":"Анкета!BB136","v":4},{"$f":"Анкета!BC136","v":4},{"$f":"Анкета!BD136","v":9},{"$f":"Анкета!BE136","v":0},{"$f":"Анкета!BF136","v":4},{"$f":"Анкета!BG136","v":10},{"$f":"Анкета!BH136","v":0}]
[{"$f":"Анкета!A137","v":"SF4"},{"$f":"Анкета!B137","v":0},{"$f":"Анкета!C137","v":0},{"$f":"Анкета!D137","v":1},{"$f":"Анкета!E137","v":0},{"$f":"Анкета!F137","v":5},{"$f":"Анкета!G137","v":5},{"$f":"Анкета!H137","v":1},{"$f":"Анкета!I137","v":3},{"$f":"Анкета!J137","v":3},{"$f":"Анкета!K137","v":3},{"$f":"Анкета!L137","v":5},{"$f":"Анкета!M137","v":4},{"$f":"Анкета!N137","v":6},{"$f":"Анкета!O137","v":3},{"$f":"Анкета!P137","v":5},{"$f":"Анкета!Q137","v":0},{"$f":"Анкета!R137","v":0},{"$f":"Анкета!S137","v":5},{"$f":"Анкета!T137","v":4},{"$f":"Анкета!U137","v":6},{"$f":"Анкета!V137","v":5},{"$f":"Анкета!W137","v":1},{"$f":"Анкета!X137","v":2},{"$f":"Анкета!Y137","v":3},{"$f":"Анкета!Z137","v":2},{"$f":"Анкета!AA137","v":3},{"$f":"Анкета!AB137","v":1},{"$f":"Анкета!AC137","v":4},{"$f":"Анкета!AD137","v":6},{"$f":"Анкета!AE137","v":7},{"$f":"Анкета!AF137","v":2},{"$f":"Анкета!AG137","v":3},{"$f":"Анкета!AH137","v":5},{"$f":"Анкета!AI137","v":2},{"$f":"Анкета!AJ137","v":5},{"$f":"Анкета!AK137","v":6},{"$f":"Анкета!AL137","v":1},{"$f":"Анкета!AM137","v":0},{"$f":"Анкета!AN137","v":0},{"$f":"Анкета!AO137","v":0},{"$f":"Анкета!AP137","v":1},{"$f":"Анкета!AQ137","v":0},{"$f":"Анкета!AR137","v":0},{"$f":"Анкета!AS137","v":1},{"$f":"Анкета!AT137","v":4},{"$f":"Анкета!AU137","v":3},{"$f":"Анкета!AV137","v":3},{"$f":"Анкета!AW137","v":5},{"$f":"Анкета!AX137","v":1},{"$f":"Анкета!AY137","v":0},{"$f":"Анкета!AZ137","v":0},{"$f":"Анкета!BA137","v":0},{"$f":"Анкета!BB137","v":0},{"$f":"Анкета!BC137","v":0},{"$f":"Анкета!BD137","v":1},{"$f":"Анкета!BE137","v":1},{"$f":"Анкета!BF137","v":1},{"$f":"Анкета!BG137","v":0},{"$f":"Анкета!BH137","v":0}]
[{"$f":"Анкета!A138","v":"SF4"},{"$f":"Анкета!B138","v":8},{"$f":"Анкета!C138","v":0},{"$f":"Анкета!D138","v":1},{"$f":"Анкета!E138","v":0},{"$f":"Анкета!F138","v":0},{"$f":"Анкета!G138","v":2},{"$f":"Анкета!H138","v":0},{"$f":"Анкета!I138","v":0},{"$f":"Анкета!J138","v":0},{"$f":"Анкета!K138","v":0},{"$f":"Анкета!L138","v":3},{"$f":"Анкета!M138","v":3},{"$f":"Анкета!N138","v":4},{"$f":"Анкета!O138","v":4},{"$f":"Анкета!P138","v":4},{"$f":"Анкета!Q138","v":1},{"$f":"Анкета!R138","v":0},{"$f":"Анкета!S138","v":0},{"$f":"Анкета!T138","v":4},{"$f":"Анкета!U138","v":3},{"$f":"Анкета!V138","v":2},{"$f":"Анкета!W138","v":3},{"$f":"Анкета!X138","v":1},{"$f":"Анкета!Y138","v":0},{"$f":"Анкета!Z138","v":6},{"$f":"Анкета!AA138","v":0},{"$f":"Анкета!AB138","v":0},{"$f":"Анкета!AC138","v":4},{"$f":"Анкета!AD138","v":3},{"$f":"Анкета!AE138","v":1},{"$f":"Анкета!AF138","v":0},{"$f":"Анкета!AG138","v":1},{"$f":"Анкета!AH138","v":1},{"$f":"Анкета!AI138","v":3},{"$f":"Анкета!AJ138","v":2},{"$f":"Анкета!AK138","v":2},{"$f":"Анкета!AL138","v":1},{"$f":"Анкета!AM138","v":1},{"$f":"Анкета!AN138","v":0},{"$f":"Анкета!AO138","v":0},{"$f":"Анкета!AP138","v":0},{"$f":"Анкета!AQ138","v":0},{"$f":"Анкета!AR138","v":9},{"$f":"Анкета!AS138","v":8},{"$f":"Анкета!AT138","v":4},{"$f":"Анкета!AU138","v":1},{"$f":"Анкета!AV138","v":1},{"$f":"Анкета!AW138","v":4},{"$f":"Анкета!AX138","v":7},{"$f":"Анкета!AY138","v":0},{"$f":"Анкета!AZ138","v":0},{"$f":"Анкета!BA138","v":0},{"$f":"Анкета!BB138","v":1},{"$f":"Анкета!BC138","v":1},{"$f":"Анкета!BD138","v":0},{"$f":"Анкета!BE138","v":0},{"$f":"Анкета!BF138","v":0},{"$f":"Анкета!BG138","v":0},{"$f":"Анкета!BH138","v":0}]
[{"$f":"Анкета!A139","v":"SF5"},{"$f":"Анкета!B139","v":3},{"$f":"Анкета!C139","v":4},{"$f":"Анкета!D139","v":2},{"$f":"Анкета!E139","v":8},{"$f":"Анкета!F139","v":7},{"$f":"Анкета!G139","v":1},{"$f":"Анкета!H139","v":11},{"$f":"Анкета!I139","v":10},{"$f":"Анкета!J139","v":11},{"$f":"Анкета!K139","v":7},{"$f":"Анкета!L139","v":2},{"$f":"Анкета!M139","v":3},{"$f":"Анкета!N139","v":3},{"$f":"Анкета!O139","v":1},{"$f":"Анкета!P139","v":2},{"$f":"Анкета!Q139","v":3},{"$f":"Анкета!R139","v":9},{"$f":"Анкета!S139","v":3},{"$f":"Анкета!T139","v":0},{"$f":"Анкета!U139","v":5},{"$f":"Анкета!V139","v":3},{"$f":"Анкета!W139","v":3},{"$f":"Анкета!X139","v":4},{"$f":"Анкета!Y139","v":10},{"$f":"Анкета!Z139","v":1},{"$f":"Анкета!AA139","v":0},{"$f":"Анкета!AB139","v":6},{"$f":"Анкета!AC139","v":5},{"$f":"Анкета!AD139","v":1},{"$f":"Анкета!AE139","v":3},{"$f":"Анкета!AF139","v":5},{"$f":"Анкета!AG139","v":4},{"$f":"Анкета!AH139","v":4},{"$f":"Анкета!AI139","v":5},{"$f":"Анкета!AJ139","v":2},{"$f":"Анкета!AK139","v":1},{"$f":"Анкета!AL139","v":1},{"$f":"Анкета!AM139","v":9},{"$f":"Анкета!AN139","v":4},{"$f":"Анкета!AO139","v":1},{"$f":"Анкета!AP139","v":1},{"$f":"Анкета!AQ139","v":2},{"$f":"Анкета!AR139","v":1},{"$f":"Анкета!AS139","v":0},{"$f":"Анкета!AT139","v":0},{"$f":"Анкета!AU139","v":11},{"$f":"Анкета!AV139","v":8},{"$f":"Анкета!AW139","v":3},{"$f":"Анкета!AX139","v":3},{"$f":"Анкета!AY139","v":8},{"$f":"Анкета!AZ139","v":7},{"$f":"Анкета!BA139","v":3},{"$f":"Анкета!BB139","v":8},{"$f":"Анкета!BC139","v":13},{"$f":"Анкета!BD139","v":1},{"$f":"Анкета!BE139","v":14},{"$f":"Анкета!BF139","v":7},{"$f":"Анкета!BG139","v":3},{"$f":"Анкета!BH139","v":0}]
[{"$f":"Анкета!A140","v":"SF5"},{"$f":"Анкета!B140","v":0},{"$f":"Анкета!C140","v":10},{"$f":"Анкета!D140","v":11},{"$f":"Анкета!E140","v":6},{"$f":"Анкета!F140","v":4},{"$f":"Анкета!G140","v":5},{"$f":"Анкета!H140","v":3},{"$f":"Анкета!I140","v":4},{"$f":"Анкета!J140","v":3},{"$f":"Анкета!K140","v":4},{"$f":"Анкета!L140","v":4},{"$f":"Анкета!M140","v":4},{"$f":"Анкета!N140","v":3},{"$f":"Анкета!O140","v":2},{"$f":"Анкета!P140","v":0},{"$f":"Анкета!Q140","v":5},{"$f":"Анкета!R140","v":2},{"$f":"Анкета!S140","v":6},{"$f":"Анкета!T140","v":3},{"$f":"Анкета!U140","v":2},{"$f":"Анкета!V140","v":1},{"$f":"Анкета!W140","v":4},{"$f":"Анкета!X140","v":4},{"$f":"Анкета!Y140","v":1},{"$f":"Анкета!Z140","v":1},{"$f":"Анкета!AA140","v":2},{"$f":"Анкета!AB140","v":0},{"$f":"Анкета!AC140","v":0},{"$f":"Анкета!AD140","v":1},{"$f":"Анкета!AE140","v":2},{"$f":"Анкета!AF140","v":5},{"$f":"Анкета!AG140","v":4},{"$f":"Анкета!AH140","v":0},{"$f":"Анкета!AI140","v":1},{"$f":"Анкета!AJ140","v":2},{"$f":"Анкета!AK140","v":1},{"$f":"Анкета!AL140","v":1},{"$f":"Анкета!AM140","v":5},{"$f":"Анкета!AN140","v":10},{"$f":"Анкета!AO140","v":13},{"$f":"Анкета!AP140","v":13},{"$f":"Анкета!AQ140","v":12},{"$f":"Анкета!AR140","v":1},{"$f":"Анкета!AS140","v":1},{"$f":"Анкета!AT140","v":1},{"$f":"Анкета!AU140","v":2},{"$f":"Анкета!AV140","v":2},{"$f":"Анкета!AW140","v":2},{"$f":"Анкета!AX140","v":1},{"$f":"Анкета!AY140","v":6},{"$f":"Анкета!AZ140","v":7},{"$f":"Анкета!BA140","v":11},{"$f":"Анкета!BB140","v":6},{"$f":"Анкета!BC140","v":1},{"$f":"Анкета!BD140","v":13},{"$f":"Анкета!BE140","v":0},{"$f":"Анкета!BF140","v":7},{"$f":"Анкета!BG140","v":11},{"$f":"Анкета!BH140","v":0}]
[{"$f":"Анкета!A141","v":"SF5"},{"$f":"Анкета!B141","v":0},{"$f":"Анкета!C141","v":0},{"$f":"Анкета!D141","v":1},{"$f":"Анкета!E141","v":0},{"$f":"Анкета!F141","v":2},{"$f":"Анкета!G141","v":6},{"$f":"Анкета!H141","v":0},{"$f":"Анкета!I141","v":0},{"$f":"Анкета!J141","v":0},{"$f":"Анкета!K141","v":3},{"$f":"Анкета!L141","v":7},{"$f":"Анкета!M141","v":5},{"$f":"Анкета!N141","v":4},{"$f":"Анкета!O141","v":4},{"$f":"Анкета!P141","v":4},{"$f":"Анкета!Q141","v":1},{"$f":"Анкета!R141","v":2},{"$f":"Анкета!S141","v":5},{"$f":"Анкета!T141","v":5},{"$f":"Анкета!U141","v":4},{"$f":"Анкета!V141","v":8},{"$f":"Анкета!W141","v":3},{"$f":"Анкета!X141","v":5},{"$f":"Анкета!Y141","v":2},{"$f":"Анкета!Z141","v":1},{"$f":"Анкета!AA141","v":9},{"$f":"Анкета!AB141","v":6},{"$f":"Анкета!AC141","v":4},{"$f":"Анкета!AD141","v":1},{"$f":"Анкета!AE141","v":2},{"$f":"Анкета!AF141","v":4},{"$f":"Анкета!AG141","v":4},{"$f":"Анкета!AH141","v":2},{"$f":"Анкета!AI141","v":2},{"$f":"Анкета!AJ141","v":1},{"$f":"Анкета!AK141","v":3},{"$f":"Анкета!AL141","v":11},{"$f":"Анкета!AM141","v":0},{"$f":"Анкета!AN141","v":0},{"$f":"Анкета!AO141","v":0},{"$f":"Анкета!AP141","v":0},{"$f":"Анкета!AQ141","v":0},{"$f":"Анкета!AR141","v":10},{"$f":"Анкета!AS141","v":5},{"$f":"Анкета!AT141","v":9},{"$f":"Анкета!AU141","v":1},{"$f":"Анкета!AV141","v":3},{"$f":"Анкета!AW141","v":7},{"$f":"Анкета!AX141","v":7},{"$f":"Анкета!AY141","v":0},{"$f":"Анкета!AZ141","v":0},{"$f":"Анкета!BA141","v":0},{"$f":"Анкета!BB141","v":0},{"$f":"Анкета!BC141","v":0},{"$f":"Анкета!BD141","v":0},{"$f":"Анкета!BE141","v":0},{"$f":"Анкета!BF141","v":0},{"$f":"Анкета!BG141","v":0},{"$f":"Анкета!BH141","v":0}]
[{"$f":"Анкета!A142","v":"SF5"},{"$f":"Анкета!B142","v":11},{"$f":"Анкета!C142","v":0},{"$f":"Анкета!D142","v":0},{"$f":"Анкета!E142","v":0},{"$f":"Анкета!F142","v":1},{"$f":"Анкета!G142","v":2},{"$f":"Анкета!H142","v":0},{"$f":"Анкета!I142","v":0},{"$f":"Анкета!J142","v":0},{"$f":"Анкета!K142","v":0},{"$f":"Анкета!L142","v":1},{"$f":"Анкета!M142","v":2},{"$f":"Анкета!N142","v":4},{"$f":"Анкета!O142","v":7},{"$f":"Анкета!P142","v":8},{"$f":"Анкета!Q142","v":5},{"$f":"Анкета!R142","v":1},{"$f":"Анкета!S142","v":0},{"$f":"Анкета!T142","v":6},{"$f":"Анкета!U142","v":3},{"$f":"Анкета!V142","v":2},{"$f":"Анкета!W142","v":4},{"$f":"Анкета!X142","v":1},{"$f":"Анкета!Y142","v":1},{"$f":"Анкета!Z142","v":11},{"$f":"Анкета!AA142","v":3},{"$f":"Анкета!AB142","v":2},{"$f":"Анкета!AC142","v":5},{"$f":"Анкета!AD142","v":11},{"$f":"Анкета!AE142","v":7},{"$f":"Анкета!AF142","v":0},{"$f":"Анкета!AG142","v":2},{"$f":"Анкета!AH142","v":8},{"$f":"Анкета!AI142","v":6},{"$f":"Анкета!AJ142","v":9},{"$f":"Анкета!AK142","v":9},{"$f":"Анкета!AL142","v":1},{"$f":"Анкета!AM142","v":0},{"$f":"Анкета!AN142","v":0},{"$f":"Анкета!AO142","v":0},{"$f":"Анкета!AP142","v":0},{"$f":"Анкета!AQ142","v":0},{"$f":"Анкета!AR142","v":2},{"$f":"Анкета!AS142","v":8},{"$f":"Анкета!AT142","v":4},{"$f":"Анкета!AU142","v":0},{"$f":"Анкета!AV142","v":1},{"$f":"Анкета!AW142","v":2},{"$f":"Анкета!AX142","v":3},{"$f":"Анкета!AY142","v":0},{"$f":"Анкета!AZ142","v":0},{"$f":"Анкета!BA142","v":0},{"$f":"Анкета!BB142","v":0},{"$f":"Анкета!BC142","v":0},{"$f":"Анкета!BD142","v":0},{"$f":"Анкета!BE142","v":0},{"$f":"Анкета!BF142","v":0},{"$f":"Анкета!BG142","v":0},{"$f":"Анкета!BH142","v":0}]

{"sheet":"Лист10","index":15,"n_rows":10,"n_cols":60,"rows_kept":10,"cut":false,"hidden":false,"merged":[]}
[]
["ВЪПРОСИ","3. Курс","4. Пол","5. Посещение на лекции","6. Посещение на упражнения","7. Ако не сте посещавали занятия, коя е причината за това","8. Успех от следването до момента","9. познавам квалификационната характеристика на специалността си","10. познавам учебния план, по който се обучавате","11. познавам учебните програми на дисциплините, които изучаваме","12.обучението помага на развитието на общата Ви култура","13. помага на професионалната Ви подготовка","14. лекциите и упражненията са актуални и отразяват постиженията на науката","15. те са актуални и ориентирани към потребностите на практиката","16. лекциите и упражненията са анахронични и самоцелни","17. обучението е добро и дава възможност за самостоятелна работа","18. то е напрегнато и ограничава възможностите за самостоятелна работа","19. учебната програма е съобразена по-скоро с интересите и възможностите на преподавателите, отколкото с тези на студентите","20. съдържателни и интересни","21. скучни и безинтересни","22. способност за творческо мислене","23. способност за вземане на решения","24. умения за работа в екип","25. комуникативни умения","26. полезни и необходими","27. самоцелни и безполезни","28. библиотеките в Университета разполага с необходимата Ви литература","29. услугите са достъпни за Вас","30. административното обслужване е на добро равнище","31. в Университета има условия за спорт","32. социалните условия (стипендии, общежития. стол, почивна база) са добре решени","33. преподавателите Ви са добре подготвени и познават новостите в научната област, в която работят","34. преподавателите Ви са толерантни, комуникативни и мотивирани в работата си със студентите","35. има корумпирани преподаватели","36. има корумпирани служители","37. материалната база е добра","38. учебно-техническите средства са съвременни и подпомагат учебния процес","39. учебниците и учебно-помощните материали са достъпни и подпомагат обучението Ви","40. публични лекции, срещи с представители на науката, политиката, бизнеса културата","41. студентски творчески инициативи","42. програми за обмен на студенти","43. дискусии, кръгли маси, конференции","44. проекти на преподавателските екипи","45. научните изследвания на вашите преподаватели","46. научно-изследователска програма на Факултета","47. научните издания на факултета","48. преподава на академично равнище","49. работи с добре подготвени и отдадени на работата си преподаватели","50. толерира творчеството, инициативата, самостоятелното мислене","51. уважават индивидуалните способности и насърчава индивидуалното развитие на студентите","52. има възможност да получите образование по предпочитана специалност","53. родителите Ви настояват да продължите образованието си","54. приятелите и съучениците Ви учат тук","55. е в района, в който сте роден(а) и живеете","56. е висше училище с традиции и авторитет","57. били потърпевш на корупционен натиск","58. чували, че има корумпирани преподаватели и служители, но не сте се сблъсквали лично с корупция в Университета","59. сигурни, че има корумпирани преподаватели и служители в ПУ","60. сигурни, че няма корумпирани преподаватели и служители в ПУ"]
[null," A = І"," A = МЪЖ"," A = Всички"," A = Всички"," A = Посещавал съм"," A = Отличен"," A = ДА "," A = ДА "," A = ДА "," A = ДА"," A = ДА"," A = ДА"," A = ДА"," A = ДА"," A = ДА"," A = ДА"," A = ДА"," A = ДА"," A = ДА"," A = ДА"," A = ДА"," A = ДА"," A = ДА"," A = ДА"," A = ДА"," A = ДА"," A = ДА"," A = ДА"," A = ДА"," A = ДА"," A = ДА"," A = ДА"," A = ДА"," A = ДА"," A = ДА"," A = ДА"," A = ДА"," A = ДА"," A = ДА"," A = ДА"," A = ДА"," A = ДА"," A = ДА"," A = ДА"," A = ДА"," A = ДА"," A = ДА"," A = ДА"," A = ДА"," A = ДА"," A = ДА"," A = ДА"," A = ДА"," A = ДА"," A = ДА"," A = ДА"," A = ДА"," A = ДА"]
[null,"B = ІІ","B = ЖЕНА","B = Голяма част ","B = Голяма част ","B = Работя и уча","B = Много добър","B = ЧАСТИЧНО","B = ЧАСТИЧНО","B = ЧАСТИЧНО","B = Във висока степен ","B = Във висока степен ","B = Във висока степен ","B = Във висока степен ","B = Във висока степен ","B = Във висока степен ","B = Във висока степен ","B = Във висока степен ","B = Във висока степен ","B = Във висока степен ","B = Във висока степен ","B = Във висока степен ","B = Във висока степен ","B = Във висока степен ","B = Във висока степен ","B = Във висока степен ","B = Във висока степен ","B = Във висока степен ","B = Във висока степен ","B = Във висока степен ","B = Във висока степен ","B = Във висока степен ","B = Във висока степен ","B = Във висока степен ","B = Във висока степен ","B = Във висока степен ","B = Във висока степен ","B = Във висока степен ","B = НЕ","B = НЕ","B = НЕ","B = НЕ","B = НЕ","B = Във висока степен ","B = Във висока степен ","B = Във висока степен ","B = Във висока степен ","B = Във висока степен ","B = Във висока степен ","B = Във висока степен ","B = НЕ","B = НЕ","B = НЕ ","B = НЕ ","B = НЕ","B = НЕ ","B = НЕ","B = НЕ","B = НЕ"]
[null,"C = ІІІ             D = ІV",null,"C = Малка част","C = Малка част","C = Безинтересни са","C = Добър","C = НЕ","C = НЕ","C = НЕ","C = В известна степен","C = В известна степен","C = В известна степен","C = В известна степен","C = В известна степен","C = В известна степен","C = В известна степен","C = В известна степен","C = В известна степен","C = В известна степен","C = В известна степен","C = В известна степен","C = В известна степен","C = В известна степен","C = В известна степен","C = В известна степен","C = В известна степен","C = В известна степен","C = В известна степен","C = В известна степен","C = В известна степен","C = В известна степен","C = В известна степен","C = В известна степен","C = В известна степен","C = В известна степен","C = В известна степен","C = В известна степен",null,null,null,null,null,"C = В известна степен","C = В известна степен","C = В известна степен","C = В известна степен","C = В известна степен","C = В известна степен","C = В известна степен"]
[null,"E = V",null," D = Нито една"," D = Нито едно","D = Мога да се подготвя сам","D = Среден",null,null,null," D = НЕ"," D = НЕ"," D = НЕ"," D = НЕ"," D = НЕ"," D = НЕ"," D = НЕ"," D = НЕ"," D = НЕ"," D = НЕ"," D = НЕ"," D = НЕ"," D = НЕ  "," D = НЕ"," D = НЕ"," D = НЕ"," D = НЕ"," D = НЕ"," D = НЕ"," D = НЕ"," D = НЕ"," D = НЕ"," D = НЕ"," D = НЕ"," D = НЕ"," D = НЕ"," D = НЕ"," D = НЕ",null,null,null,null,null," D = НЕ"," D = НЕ"," D = НЕ"," D = НЕ"," D = НЕ"," D = НЕ"," D = НЕ"]
[{"$f":"Анкета!A143","v":"PLEng4"},{"$f":"Анкета!B143","v":0},{"$f":"Анкета!C143","v":1},{"$f":"Анкета!D143","v":0},{"$f":"Анкета!E143","v":4},{"$f":"Анкета!F143","v":4},{"$f":"Анкета!G143","v":1},{"$f":"Анкета!H143","v":5},{"$f":"Анкета!I143","v":5},{"$f":"Анкета!J143","v":4},{"$f":"Анкета!K143","v":2},{"$f":"Анкета!L143","v":2},{"$f":"Анкета!M143","v":1},{"$f":"Анкета!N143","v":2},{"$f":"Анкета!O143","v":0},{"$f":"Анкета!P143","v":1},{"$f":"Анкета!Q143","v":1},{"$f":"Анкета!R143","v":4},{"$f":"Анкета!S143","v":0},{"$f":"Анкета!T143","v":0},{"$f":"Анкета!U143","v":2},{"$f":"Анкета!V143","v":2},{"$f":"Анкета!W143","v":1},{"$f":"Анкета!X143","v":1},{"$f":"Анкета!Y143","v":4},{"$f":"Анкета!Z143","v":0},{"$f":"Анкета!AA143","v":0},{"$f":"Анкета!AB143","v":4},{"$f":"Анкета!AC143","v":4},{"$f":"Анкета!AD143","v":0},{"$f":"Анкета!AE143","v":2},{"$f":"Анкета!AF143","v":1},{"$f":"Анкета!AG143","v":2},{"$f":"Анкета!AH143","v":1},{"$f":"Анкета!AI143","v":1},{"$f":"Анкета!AJ143","v":2},{"$f":"Анкета!AK143","v":0},{"$f":"Анкета!AL143","v":1},{"$f":"Анкета!AM143","v":6},{"$f":"Анкета!AN143","v":1},{"$f":"Анкета!AO143","v":0},{"$f":"Анкета!AP143","v":1},{"$f":"Анкета!AQ143","v":1},{"$f":"Анкета!AR143","v":1},{"$f":"Анкета!AS143","v":0},{"$f":"Анкета!AT143","v":0},{"$f":"Анкета!AU143","v":6},{"$f":"Анкета!AV143","v":3},{"$f":"Анкета!AW143","v":1},{"$f":"Анкета!AX143","v":1},{"$f":"Анкета!AY143","v":4},{"$f":"Анкета!AZ143","v":2},{"$f":"Анкета!BA143","v":1},{"$f":"Анкета!BB143","v":5},{"$f":"Анкета!BC143","v":6},{"$f":"Анкета!BD143","v":0},{"$f":"Анкета!BE143","v":6},{"$f":"Анкета!BF143","v":2},{"$f":"Анкета!BG143","v":1},{"$f":"Анкета!BH143","v":0}]
[{"$f":"Анкета!A144","v":"PLEng4"},{"$f":"Анкета!B144","v":0},{"$f":"Анкета!C144","v":5},{"$f":"Анкета!D144","v":6},{"$f":"Анкета!E144","v":2},{"$f":"Анкета!F144","v":2},{"$f":"Анкета!G144","v":3},{"$f":"Анкета!H144","v":1},{"$f":"Анкета!I144","v":1},{"$f":"Анкета!J144","v":2},{"$f":"Анкета!K144","v":2},{"$f":"Анкета!L144","v":1},{"$f":"Анкета!M144","v":1},{"$f":"Анкета!N144","v":0},{"$f":"Анкета!O144","v":1},{"$f":"Анкета!P144","v":0},{"$f":"Анкета!Q144","v":2},{"$f":"Анкета!R144","v":0},{"$f":"Анкета!S144","v":3},{"$f":"Анкета!T144","v":2},{"$f":"Анкета!U144","v":2},{"$f":"Анкета!V144","v":1},{"$f":"Анкета!W144","v":2},{"$f":"Анкета!X144","v":3},{"$f":"Анкета!Y144","v":1},{"$f":"Анкета!Z144","v":1},{"$f":"Анкета!AA144","v":2},{"$f":"Анкета!AB144","v":0},{"$f":"Анкета!AC144","v":0},{"$f":"Анкета!AD144","v":0},{"$f":"Анкета!AE144","v":1},{"$f":"Анкета!AF144","v":3},{"$f":"Анкета!AG144","v":0},{"$f":"Анкета!AH144","v":0},{"$f":"Анкета!AI144","v":0},{"$f":"Анкета!AJ144","v":0},{"$f":"Анкета!AK144","v":0},{"$f":"Анкета!AL144","v":0},{"$f":"Анкета!AM144","v":0},{"$f":"Анкета!AN144","v":5},{"$f":"Анкета!AO144","v":6},{"$f":"Анкета!AP144","v":5},{"$f":"Анкета!AQ144","v":5},{"$f":"Анкета!AR144","v":1},{"$f":"Анкета!AS144","v":1},{"$f":"Анкета!AT144","v":0},{"$f":"Анкета!AU144","v":0},{"$f":"Анкета!AV144","v":1},{"$f":"Анкета!AW144","v":1},{"$f":"Анкета!AX144","v":0},{"$f":"Анкета!AY144","v":2},{"$f":"Анкета!AZ144","v":4},{"$f":"Анкета!BA144","v":5},{"$f":"Анкета!BB144","v":1},{"$f":"Анкета!BC144","v":0},{"$f":"Анкета!BD144","v":6},{"$f":"Анкета!BE144","v":0},{"$f":"Анкета!BF144","v":4},{"$f":"Анкета!BG144","v":5},{"$f":"Анкета!BH144","v":0}]
[{"$f":"Анкета!A145","v":"PLEng4"},{"$f":"Анкета!B145","v":0},{"$f":"Анкета!C145","v":0},{"$f":"Анкета!D145","v":0},{"$f":"Анкета!E145","v":0},{"$f":"Анкета!F145","v":0},{"$f":"Анкета!G145","v":1},{"$f":"Анкета!H145","v":0},{"$f":"Анкета!I145","v":0},{"$f":"Анкета!J145","v":0},{"$f":"Анкета!K145","v":2},{"$f":"Анкета!L145","v":3},{"$f":"Анкета!M145","v":4},{"$f":"Анкета!N145","v":2},{"$f":"Анкета!O145","v":2},{"$f":"Анкета!P145","v":1},{"$f":"Анкета!Q145","v":0},{"$f":"Анкета!R145","v":2},{"$f":"Анкета!S145","v":3},{"$f":"Анкета!T145","v":2},{"$f":"Анкета!U145","v":0},{"$f":"Анкета!V145","v":2},{"$f":"Анкета!W145","v":1},{"$f":"Анкета!X145","v":2},{"$f":"Анкета!Y145","v":1},{"$f":"Анкета!Z145","v":0},{"$f":"Анкета!AA145","v":3},{"$f":"Анкета!AB145","v":1},{"$f":"Анкета!AC145","v":1},{"$f":"Анкета!AD145","v":0},{"$f":"Анкета!AE145","v":1},{"$f":"Анкета!AF145","v":2},{"$f":"Анкета!AG145","v":3},{"$f":"Анкета!AH145","v":0},{"$f":"Анкета!AI145","v":1},{"$f":"Анкета!AJ145","v":0},{"$f":"Анкета!AK145","v":2},{"$f":"Анкета!AL145","v":5},{"$f":"Анкета!AM145","v":0},{"$f":"Анкета!AN145","v":0},{"$f":"Анкета!AO145","v":0},{"$f":"Анкета!AP145","v":0},{"$f":"Анкета!AQ145","v":0},{"$f":"Анкета!AR145","v":3},{"$f":"Анкета!AS145","v":1},{"$f":"Анкета!AT145","v":5},{"$f":"Анкета!AU145","v":0},{"$f":"Анкета!AV145","v":2},{"$f":"Анкета!AW145","v":2},{"$f":"Анкета!AX145","v":3},{"$f":"Анкета!AY145","v":0},{"$f":"Анкета!AZ145","v":0},{"$f":"Анкета!BA145","v":0},{"$f":"Анкета!BB145","v":0},{"$f":"Анкета!BC145","v":0},{"$f":"Анкета!BD145","v":0},{"$f":"Анкета!BE145","v":0},{"$f":"Анкета!BF145","v":0},{"$f":"Анкета!BG145","v":0},{"$f":"Анкета!BH145","v":0}]
[{"$f":"Анкета!A146","v":"PLEng4"},{"$f":"Анкета!B146","v":6},{"$f":"Анкета!C146","v":0},{"$f":"Анкета!D146","v":0},{"$f":"Анкета!E146","v":0},{"$f":"Анкета!F146","v":0},{"$f":"Анкета!G146","v":1},{"$f":"Анкета!H146","v":0},{"$f":"Анкета!I146","v":0},{"$f":"Анкета!J146","v":0},{"$f":"Анкета!K146","v":0},{"$f":"Анкета!L146","v":0},{"$f":"Анкета!M146","v":0},{"$f":"Анкета!N146","v":2},{"$f":"Анкета!O146","v":3},{"$f":"Анкета!P146","v":4},{"$f":"Анкета!Q146","v":3},{"$f":"Анкета!R146","v":0},{"$f":"Анкета!S146","v":0},{"$f":"Анкета!T146","v":2},{"$f":"Анкета!U146","v":2},{"$f":"Анкета!V146","v":1},{"$f":"Анкета!W146","v":2},{"$f":"Анкета!X146","v":0},{"$f":"Анкета!Y146","v":0},{"$f":"Анкета!Z146","v":5},{"$f":"Анкета!AA146","v":1},{"$f":"Анкета!AB146","v":1},{"$f":"Анкета!AC146","v":1},{"$f":"Анкета!AD146","v":6},{"$f":"Анкета!AE146","v":2},{"$f":"Анкета!AF146","v":0},{"$f":"Анкета!AG146","v":1},{"$f":"Анкета!AH146","v":5},{"$f":"Анкета!AI146","v":4},{"$f":"Анкета!AJ146","v":4},{"$f":"Анкета!AK146","v":4},{"$f":"Анкета!AL146","v":0},{"$f":"Анкета!AM146","v":0},{"$f":"Анкета!AN146","v":0},{"$f":"Анкета!AO146","v":0},{"$f":"Анкета!AP146","v":0},{"$f":"Анкета!AQ146","v":0},{"$f":"Анкета!AR146","v":1},{"$f":"Анкета!AS146","v":4},{"$f":"Анкета!AT146","v":1},{"$f":"Анкета!AU146","v":0},{"$f":"Анкета!AV146","v":0},{"$f":"Анкета!AW146","v":2},{"$f":"Анкета!AX146","v":2},{"$f":"Анкета!AY146","v":0},{"$f":"Анкета!AZ146","v":0},{"$f":"Анкета!BA146","v":0},{"$f":"Анкета!BB146","v":0},{"$f":"Анкета!BC146","v":0},{"$f":"Анкета!BD146","v":0},{"$f":"Анкета!BE146","v":0},{"$f":"Анкета!BF146","v":0},{"$f":"Анкета!BG146","v":0},{"$f":"Анкета!BH146","v":0}]

{"sheet":"Лист11","index":16,"n_rows":6,"n_cols":59,"rows_kept":6,"cut":false,"hidden":false,"merged":[]}
[]
["ВЪПРОСИ","3. Курс","4. Пол","5. Посещение на лекции","6. Посещение на упражнения","7. Ако не сте посещавали занятия, коя е причината за това","8. Успех от следването до момента","9. познавам квалификационната характеристика на специалността си","10. познавам учебния план, по който се обучавате","11. познавам учебните програми на дисциплините, които изучаваме","12.обучението помага на развитието на общата Ви култура","13. помага на професионалната Ви подготовка","14. лекциите и упражненията са актуални и отразяват постиженията на науката","15. те са актуални и ориентирани към потребностите на практиката","16. лекциите и упражненията са анахронични и самоцелни","17. обучението е добро и дава възможност за самостоятелна работа","18. то е напрегнато и ограничава възможностите за самостоятелна работа","19. учебната програма е съобразена по-скоро с интересите и възможностите на преподавателите, отколкото с тези на студентите","20. съдържателни и интересни","21. скучни и безинтересни","22. способност за творческо мислене","23. способност за вземане на решения","24. умения за работа в екип","25. комуникативни умения","26. полезни и необходими","27. самоцелни и безполезни","28. библиотеките в Университета разполага с необходимата Ви литература","29. услугите са достъпни за Вас","30. административното обслужване е на добро равнище","31. в Университета има условия за спорт","32. социалните условия (стипендии, общежития. стол, почивна база) са добре решени","33. преподавателите Ви са добре подготвени и познават новостите в научната област, в която работят","34. преподавателите Ви са толерантни, комуникативни и мотивирани в работата си със студентите","35. има корумпирани преподаватели","36. има корумпирани служители","37. материалната база е добра","38. учебно-техническите средства са съвременни и подпомагат учебния процес","39. учебниците и учебно-помощните материали са достъпни и подпомагат обучението Ви","40. публични лекции, срещи с представители на науката, политиката, бизнеса културата","41. студентски творчески инициативи","42. програми за обмен на студенти","43. дискусии, кръгли маси, конференции","44. проекти на преподавателските екипи","45. научните изследвания на вашите преподаватели","46. научно-изследователска програма на Факултета","47. научните издания на факултета","48. преподава на академично равнище","49. работи с добре подготвени и отдадени на работата си преподаватели","50. толерира творчеството, инициативата, самостоятелното мислене","51. уважават индивидуалните способности и насърчава индивидуалното развитие на студентите","52. има възможност да получите образование по предпочитана специалност","53. родителите Ви настояват да продължите образованието си","54. приятелите и съучениците Ви учат тук","55. е в района, в който сте роден(а) и живеете","56. е висше училище с традиции и авторитет","57. били потърпевш на корупционен натиск","58. чували, че има корумпирани преподаватели и служители, но не сте се сблъсквали лично с корупция в Университета","59. сигурни, че има корумпирани преподаватели и служители в ПУ","60. сигурни, че няма корумпирани преподаватели и служители в ПУ"]
[null," A = І"," A = МЪЖ"," A = Всички"," A = Всички"," A = Посещавал съм"," A = Отличен"," A = ДА "," A = ДА "," A = ДА "," A = ДА"," A = ДА"," A = ДА"," A = ДА"," A = ДА"," A = ДА"," A = ДА"," A = ДА"," A = ДА"," A = ДА"," A = ДА"," A = ДА"," A = ДА"," A = ДА"," A = ДА"," A = ДА"," A = ДА"," A = ДА"," A = ДА"," A = ДА"," A = ДА"," A = ДА"," A = ДА"," A = ДА"," A = ДА"," A = ДА"," A = ДА"," A = ДА"," A = ДА"," A = ДА"," A = ДА"," A = ДА"," A = ДА"," A = ДА"," A = ДА"," A = ДА"," A = ДА"," A = ДА"," A = ДА"," A = ДА"," A = ДА"," A = ДА"," A = ДА"," A = ДА"," A = ДА"," A = ДА"," A = ДА"," A = ДА"," A = ДА"]
[null,"B = ІІ","B = ЖЕНА","B = Голяма част ","B = Голяма част ","B = Работя и уча","B = Много добър","B = ЧАСТИЧНО","B = ЧАСТИЧНО","B = ЧАСТИЧНО","B = Във висока степен ","B = Във висока степен ","B = Във висока степен ","B = Във висока степен ","B = Във висока степен ","B = Във висока степен ","B = Във висока степен ","B = Във висока степен ","B = Във висока степен ","B = Във висока степен ","B = Във висока степен ","B = Във висока степен ","B = Във висока степен ","B = Във висока степен ","B = Във висока степен ","B = Във висока степен ","B = Във висока степен ","B = Във висока степен ","B = Във висока степен ","B = Във висока степен ","B = Във висока степен ","B = Във висока степен ","B = Във висока степен ","B = Във висока степен ","B = Във висока степен ","B = Във висока степен ","B = Във висока степен ","B = Във висока степен ","B = НЕ","B = НЕ","B = НЕ","B = НЕ","B = НЕ","B = Във висока степен ","B = Във висока степен ","B = Във висока степен ","B = Във висока степен ","B = Във висока степен ","B = Във висока степен ","B = Във висока степен ","B = НЕ","B = НЕ","B = НЕ ","B = НЕ ","B = НЕ","B = НЕ ","B = НЕ","B = НЕ","B = НЕ"]
[null,"C = ІІІ             D = ІV",null,"C = Малка част","C = Малка част","C = Безинтересни са","C = Добър","C = НЕ","C = НЕ","C = НЕ","C = В известна степен","C = В известна степен","C = В известна степен","C = В известна степен","C = В известна степен","C = В известна степен","C = В известна степен","C = В известна степен","C = В известна степен","C = В известна степен","C = В известна степен","C = В известна степен","C = В известна степен","C = В известна степен","C = В известна степен","C = В известна степен","C = В известна степен","C = В известна степен","C = В известна степен","C = В известна степен","C = В известна степен","C = В известна степен","C = В известна степен","C = В известна степен","C = В известна степен","C = В известна степен","C = В известна степен","C = В известна степен",null,null,null,null,null,"C = В известна степен","C = В известна степен","C = В известна степен","C = В известна степен","C = В известна степен","C = В известна степен","C = В известна степен"]
[null,"E = V",null," D = Нито една"," D = Нито едно","D = Мога да се подготвя сам","D = Среден",null,null,null," D = НЕ"," D = НЕ"," D = НЕ"," D = НЕ"," D = НЕ"," D = НЕ"," D = НЕ"," D = НЕ"," D = НЕ"," D = НЕ"," D = НЕ"," D = НЕ"," D = НЕ  "," D = НЕ"," D = НЕ"," D = НЕ"," D = НЕ"," D = НЕ"," D = НЕ"," D = НЕ"," D = НЕ"," D = НЕ"," D = НЕ"," D = НЕ"," D = НЕ"," D = НЕ"," D = НЕ"," D = НЕ",null,null,null,null,null," D = НЕ"," D = НЕ"," D = НЕ"," D = НЕ"," D = НЕ"," D = НЕ"," D = НЕ"]

{"sheet":"Лист12","index":17,"n_rows":6,"n_cols":59,"rows_kept":6,"cut":false,"hidden":false,"merged":[]}
[]
["ВЪПРОСИ","3. Курс","4. Пол","5. Посещение на лекции","6. Посещение на упражнения","7. Ако не сте посещавали занятия, коя е причината за това","8. Успех от следването до момента","9. познавам квалификационната характеристика на специалността си","10. познавам учебния план, по който се обучавате","11. познавам учебните програми на дисциплините, които изучаваме","12.обучението помага на развитието на общата Ви култура","13. помага на професионалната Ви подготовка","14. лекциите и упражненията са актуални и отразяват постиженията на науката","15. те са актуални и ориентирани към потребностите на практиката","16. лекциите и упражненията са анахронични и самоцелни","17. обучението е добро и дава възможност за самостоятелна работа","18. то е напрегнато и ограничава възможностите за самостоятелна работа","19. учебната програма е съобразена по-скоро с интересите и възможностите на преподавателите, отколкото с тези на студентите","20. съдържателни и интересни","21. скучни и безинтересни","22. способност за творческо мислене","23. способност за вземане на решения","24. умения за работа в екип","25. комуникативни умения","26. полезни и необходими","27. самоцелни и безполезни","28. библиотеките в Университета разполага с необходимата Ви литература","29. услугите са достъпни за Вас","30. административното обслужване е на добро равнище","31. в Университета има условия за спорт","32. социалните условия (стипендии, общежития. стол, почивна база) са добре решени","33. преподавателите Ви са добре подготвени и познават новостите в научната област, в която работят","34. преподавателите Ви са толерантни, комуникативни и мотивирани в работата си със студентите","35. има корумпирани преподаватели","36. има корумпирани служители","37. материалната база е добра","38. учебно-техническите средства са съвременни и подпомагат учебния процес","39. учебниците и учебно-помощните материали са достъпни и подпомагат обучението Ви","40. публични лекции, срещи с представители на науката, политиката, бизнеса културата","41. студентски творчески инициативи","42. програми за обмен на студенти","43. дискусии, кръгли маси, конференции","44. проекти на преподавателските екипи","45. научните изследвания на вашите преподаватели","46. научно-изследователска програма на Факултета","47. научните издания на факултета","48. преподава на академично равнище","49. работи с добре подготвени и отдадени на работата си преподаватели","50. толерира творчеството, инициативата, самостоятелното мислене","51. уважават индивидуалните способности и насърчава индивидуалното развитие на студентите","52. има възможност да получите образование по предпочитана специалност","53. родителите Ви настояват да продължите образованието си","54. приятелите и съучениците Ви учат тук","55. е в района, в който сте роден(а) и живеете","56. е висше училище с традиции и авторитет","57. били потърпевш на корупционен натиск","58. чували, че има корумпирани преподаватели и служители, но не сте се сблъсквали лично с корупция в Университета","59. сигурни, че има корумпирани преподаватели и служители в ПУ","60. сигурни, че няма корумпирани преподаватели и служители в ПУ"]
[null," A = І"," A = МЪЖ"," A = Всички"," A = Всички"," A = Посещавал съм"," A = Отличен"," A = ДА "," A = ДА "," A = ДА "," A = ДА"," A = ДА"," A = ДА"," A = ДА"," A = ДА"," A = ДА"," A = ДА"," A = ДА"," A = ДА"," A = ДА"," A = ДА"," A = ДА"," A = ДА"," A = ДА"," A = ДА"," A = ДА"," A = ДА"," A = ДА"," A = ДА"," A = ДА"," A = ДА"," A = ДА"," A = ДА"," A = ДА"," A = ДА"," A = ДА"," A = ДА"," A = ДА"," A = ДА"," A = ДА"," A = ДА"," A = ДА"," A = ДА"," A = ДА"," A = ДА"," A = ДА"," A = ДА"," A = ДА"," A = ДА"," A = ДА"," A = ДА"," A = ДА"," A = ДА"," A = ДА"," A = ДА"," A = ДА"," A = ДА"," A = ДА"," A = ДА"]
[null,"B = ІІ","B = ЖЕНА","B = Голяма част ","B = Голяма част ","B = Работя и уча","B = Много добър","B = ЧАСТИЧНО","B = ЧАСТИЧНО","B = ЧАСТИЧНО","B = Във висока степен ","B = Във висока степен ","B = Във висока степен ","B = Във висока степен ","B = Във висока степен ","B = Във висока степен ","B = Във висока степен ","B = Във висока степен ","B = Във висока степен ","B = Във висока степен ","B = Във висока степен ","B = Във висока степен ","B = Във висока степен ","B = Във висока степен ","B = Във висока степен ","B = Във висока степен ","B = Във висока степен ","B = Във висока степен ","B = Във висока степен ","B = Във висока степен ","B = Във висока степен ","B = Във висока степен ","B = Във висока степен ","B = Във висока степен ","B = Във висока степен ","B = Във висока степен ","B = Във висока степен ","B = Във висока степен ","B = НЕ","B = НЕ","B = НЕ","B = НЕ","B = НЕ","B = Във висока степен ","B = Във висока степен ","B = Във висока степен ","B = Във висока степен ","B = Във висока степен ","B = Във висока степен ","B = Във висока степен ","B = НЕ","B = НЕ","B = НЕ ","B = НЕ ","B = НЕ","B = НЕ ","B = НЕ","B = НЕ","B = НЕ"]
[null,"C = ІІІ             D = ІV",null,"C = Малка част","C = Малка част","C = Безинтересни са","C = Добър","C = НЕ","C = НЕ","C = НЕ","C = В известна степен","C = В известна степен","C = В известна степен","C = В известна степен","C = В известна степен","C = В известна степен","C = В известна степен","C = В известна степен","C = В известна степен","C = В известна степен","C = В известна степен","C = В известна степен","C = В известна степен","C = В известна степен","C = В известна степен","C = В известна степен","C = В известна степен","C = В известна степен","C = В известна степен","C = В известна степен","C = В известна степен","C = В известна степен","C = В известна степен","C = В известна степен","C = В известна степен","C = В известна степен","C = В известна степен","C = В известна степен",null,null,null,null,null,"C = В известна степен","C = В известна степен","C = В известна степен","C = В известна степен","C = В известна степен","C = В известна степен","C = В известна степен"]
[null,"E = V",null," D = Нито една"," D = Нито едно","D = Мога да се подготвя сам","D = Среден",null,null,null," D = НЕ"," D = НЕ"," D = НЕ"," D = НЕ"," D = НЕ"," D = НЕ"," D = НЕ"," D = НЕ"," D = НЕ"," D = НЕ"," D = НЕ"," D = НЕ"," D = НЕ  "," D = НЕ"," D = НЕ"," D = НЕ"," D = НЕ"," D = НЕ"," D = НЕ"," D = НЕ"," D = НЕ"," D = НЕ"," D = НЕ"," D = НЕ"," D = НЕ"," D = НЕ"," D = НЕ"," D = НЕ",null,null,null,null,null," D = НЕ"," D = НЕ"," D = НЕ"," D = НЕ"," D = НЕ"," D = НЕ"," D = НЕ"]

{"sheet":"Лист13","index":18,"n_rows":6,"n_cols":59,"rows_kept":6,"cut":false,"hidden":false,"merged":[]}
[]
["ВЪПРОСИ","3. Курс","4. Пол","5. Посещение на лекции","6. Посещение на упражнения","7. Ако не сте посещавали занятия, коя е причината за това","8. Успех от следването до момента","9. познавам квалификационната характеристика на специалността си","10. познавам учебния план, по който се обучавате","11. познавам учебните програми на дисциплините, които изучаваме","12.обучението помага на развитието на общата Ви култура","13. помага на професионалната Ви подготовка","14. лекциите и упражненията са актуални и отразяват постиженията на науката","15. те са актуални и ориентирани към потребностите на практиката","16. лекциите и упражненията са анахронични и самоцелни","17. обучението е добро и дава възможност за самостоятелна работа","18. то е напрегнато и ограничава възможностите за самостоятелна работа","19. учебната програма е съобразена по-скоро с интересите и възможностите на преподавателите, отколкото с тези на студентите","20. съдържателни и интересни","21. скучни и безинтересни","22. способност за творческо мислене","23. способност за вземане на решения","24. умения за работа в екип","25. комуникативни умения","26. полезни и необходими","27. самоцелни и безполезни","28. библиотеките в Университета разполага с необходимата Ви литература","29. услугите са достъпни за Вас","30. административното обслужване е на добро равнище","31. в Университета има условия за спорт","32. социалните условия (стипендии, общежития. стол, почивна база) са добре решени","33. преподавателите Ви са добре подготвени и познават новостите в научната област, в която работят","34. преподавателите Ви са толерантни, комуникативни и мотивирани в работата си със студентите","35. има корумпирани преподаватели","36. има корумпирани служители","37. материалната база е добра","38. учебно-техническите средства са съвременни и подпомагат учебния процес","39. учебниците и учебно-помощните материали са достъпни и подпомагат обучението Ви","40. публични лекции, срещи с представители на науката, политиката, бизнеса културата","41. студентски творчески инициативи","42. програми за обмен на студенти","43. дискусии, кръгли маси, конференции","44. проекти на преподавателските екипи","45. научните изследвания на вашите преподаватели","46. научно-изследователска програма на Факултета","47. научните издания на факултета","48. преподава на академично равнище","49. работи с добре подготвени и отдадени на работата си преподаватели","50. толерира творчеството, инициативата, самостоятелното мислене","51. уважават индивидуалните способности и насърчава индивидуалното развитие на студентите","52. има възможност да получите образование по предпочитана специалност","53. родителите Ви настояват да продължите образованието си","54. приятелите и съучениците Ви учат тук","55. е в района, в който сте роден(а) и живеете","56. е висше училище с традиции и авторитет","57. били потърпевш на корупционен натиск","58. чували, че има корумпирани преподаватели и служители, но не сте се сблъсквали лично с корупция в Университета","59. сигурни, че има корумпирани преподаватели и служители в ПУ","60. сигурни, че няма корумпирани преподаватели и служители в ПУ"]
[null," A = І"," A = МЪЖ"," A = Всички"," A = Всички"," A = Посещавал съм"," A = Отличен"," A = ДА "," A = ДА "," A = ДА "," A = ДА"," A = ДА"," A = ДА"," A = ДА"," A = ДА"," A = ДА"," A = ДА"," A = ДА"," A = ДА"," A = ДА"," A = ДА"," A = ДА"," A = ДА"," A = ДА"," A = ДА"," A = ДА"," A = ДА"," A = ДА"," A = ДА"," A = ДА"," A = ДА"," A = ДА"," A = ДА"," A = ДА"," A = ДА"," A = ДА"," A = ДА"," A = ДА"," A = ДА"," A = ДА"," A = ДА"," A = ДА"," A = ДА"," A = ДА"," A = ДА"," A = ДА"," A = ДА"," A = ДА"," A = ДА"," A = ДА"," A = ДА"," A = ДА"," A = ДА"," A = ДА"," A = ДА"," A = ДА"," A = ДА"," A = ДА"," A = ДА"]
[null,"B = ІІ","B = ЖЕНА","B = Голяма част ","B = Голяма част ","B = Работя и уча","B = Много добър","B = ЧАСТИЧНО","B = ЧАСТИЧНО","B = ЧАСТИЧНО","B = Във висока степен ","B = Във висока степен ","B = Във висока степен ","B = Във висока степен ","B = Във висока степен ","B = Във висока степен ","B = Във висока степен ","B = Във висока степен ","B = Във висока степен ","B = Във висока степен ","B = Във висока степен ","B = Във висока степен ","B = Във висока степен ","B = Във висока степен ","B = Във висока степен ","B = Във висока степен ","B = Във висока степен ","B = Във висока степен ","B = Във висока степен ","B = Във висока степен ","B = Във висока степен ","B = Във висока степен ","B = Във висока степен ","B = Във висока степен ","B = Във висока степен ","B = Във висока степен ","B = Във висока степен ","B = Във висока степен ","B = НЕ","B = НЕ","B = НЕ","B = НЕ","B = НЕ","B = Във висока степен ","B = Във висока степен ","B = Във висока степен ","B = Във висока степен ","B = Във висока степен ","B = Във висока степен ","B = Във висока степен ","B = НЕ","B = НЕ","B = НЕ ","B = НЕ ","B = НЕ","B = НЕ ","B = НЕ","B = НЕ","B = НЕ"]
[null,"C = ІІІ             D = ІV",null,"C = Малка част","C = Малка част","C = Безинтересни са","C = Добър","C = НЕ","C = НЕ","C = НЕ","C = В известна степен","C = В известна степен","C = В известна степен","C = В известна степен","C = В известна степен","C = В известна степен","C = В известна степен","C = В известна степен","C = В известна степен","C = В известна степен","C = В известна степен","C = В известна степен","C = В известна степен","C = В известна степен","C = В известна степен","C = В известна степен","C = В известна степен","C = В известна степен","C = В известна степен","C = В известна степен","C = В известна степен","C = В известна степен","C = В известна степен","C = В известна степен","C = В известна степен","C = В известна степен","C = В известна степен","C = В известна степен",null,null,null,null,null,"C = В известна степен","C = В известна степен","C = В известна степен","C = В известна степен","C = В известна степен","C = В известна степен","C = В известна степен"]
[null,"E = V",null," D = Нито една"," D = Нито едно","D = Мога да се подготвя сам","D = Среден",null,null,null," D = НЕ"," D = НЕ"," D = НЕ"," D = НЕ"," D = НЕ"," D = НЕ"," D = НЕ"," D = НЕ"," D = НЕ"," D = НЕ"," D = НЕ"," D = НЕ"," D = НЕ  "," D = НЕ"," D = НЕ"," D = НЕ"," D = НЕ"," D = НЕ"," D = НЕ"," D = НЕ"," D = НЕ"," D = НЕ"," D = НЕ"," D = НЕ"," D = НЕ"," D = НЕ"," D = НЕ"," D = НЕ",null,null,null,null,null," D = НЕ"," D = НЕ"," D = НЕ"," D = НЕ"," D = НЕ"," D = НЕ"," D = НЕ"]

{"sheet":"Лист14","index":19,"n_rows":6,"n_cols":59,"rows_kept":6,"cut":false,"hidden":false,"merged":[]}
[]
["ВЪПРОСИ","3. Курс","4. Пол","5. Посещение на лекции","6. Посещение на упражнения","7. Ако не сте посещавали занятия, коя е причината за това","8. Успех от следването до момента","9. познавам квалификационната характеристика на специалността си","10. познавам учебния план, по който се обучавате","11. познавам учебните програми на дисциплините, които изучаваме","12.обучението помага на развитието на общата Ви култура","13. помага на професионалната Ви подготовка","14. лекциите и упражненията са актуални и отразяват постиженията на науката","15. те са актуални и ориентирани към потребностите на практиката","16. лекциите и упражненията са анахронични и самоцелни","17. обучението е добро и дава възможност за самостоятелна работа","18. то е напрегнато и ограничава възможностите за самостоятелна работа","19. учебната програма е съобразена по-скоро с интересите и възможностите на преподавателите, отколкото с тези на студентите","20. съдържателни и интересни","21. скучни и безинтересни","22. способност за творческо мислене","23. способност за вземане на решения","24. умения за работа в екип","25. комуникативни умения","26. полезни и необходими","27. самоцелни и безполезни","28. библиотеките в Университета разполага с необходимата Ви литература","29. услугите са достъпни за Вас","30. административното обслужване е на добро равнище","31. в Университета има условия за спорт","32. социалните условия (стипендии, общежития. стол, почивна база) са добре решени","33. преподавателите Ви са добре подготвени и познават новостите в научната област, в която работят","34. преподавателите Ви са толерантни, комуникативни и мотивирани в работата си със студентите","35. има корумпирани преподаватели","36. има корумпирани служители","37. материалната база е добра","38. учебно-техническите средства са съвременни и подпомагат учебния процес","39. учебниците и учебно-помощните материали са достъпни и подпомагат обучението Ви","40. публични лекции, срещи с представители на науката, политиката, бизнеса културата","41. студентски творчески инициативи","42. програми за обмен на студенти","43. дискусии, кръгли маси, конференции","44. проекти на преподавателските екипи","45. научните изследвания на вашите преподаватели","46. научно-изследователска програма на Факултета","47. научните издания на факултета","48. преподава на академично равнище","49. работи с добре подготвени и отдадени на работата си преподаватели","50. толерира творчеството, инициативата, самостоятелното мислене","51. уважават индивидуалните способности и насърчава индивидуалното развитие на студентите","52. има възможност да получите образование по предпочитана специалност","53. родителите Ви настояват да продължите образованието си","54. приятелите и съучениците Ви учат тук","55. е в района, в който сте роден(а) и живеете","56. е висше училище с традиции и авторитет","57. били потърпевш на корупционен натиск","58. чували, че има корумпирани преподаватели и служители, но не сте се сблъсквали лично с корупция в Университета","59. сигурни, че има корумпирани преподаватели и служители в ПУ","60. сигурни, че няма корумпирани преподаватели и служители в ПУ"]
[null," A = І"," A = МЪЖ"," A = Всички"," A = Всички"," A = Посещавал съм"," A = Отличен"," A = ДА "," A = ДА "," A = ДА "," A = ДА"," A = ДА"," A = ДА"," A = ДА"," A = ДА"," A = ДА"," A = ДА"," A = ДА"," A = ДА"," A = ДА"," A = ДА"," A = ДА"," A = ДА"," A = ДА"," A = ДА"," A = ДА"," A = ДА"," A = ДА"," A = ДА"," A = ДА"," A = ДА"," A = ДА"," A = ДА"," A = ДА"," A = ДА"," A = ДА"," A = ДА"," A = ДА"," A = ДА"," A = ДА"," A = ДА"," A = ДА"," A = ДА"," A = ДА"," A = ДА"," A = ДА"," A = ДА"," A = ДА"," A = ДА"," A = ДА"," A = ДА"," A = ДА"," A = ДА"," A = ДА"," A = ДА"," A = ДА"," A = ДА"," A = ДА"," A = ДА"]
[null,"B = ІІ","B = ЖЕНА","B = Голяма част ","B = Голяма част ","B = Работя и уча","B = Много добър","B = ЧАСТИЧНО","B = ЧАСТИЧНО","B = ЧАСТИЧНО","B = Във висока степен ","B = Във висока степен ","B = Във висока степен ","B = Във висока степен ","B = Във висока степен ","B = Във висока степен ","B = Във висока степен ","B = Във висока степен ","B = Във висока степен ","B = Във висока степен ","B = Във висока степен ","B = Във висока степен ","B = Във висока степен ","B = Във висока степен ","B = Във висока степен ","B = Във висока степен ","B = Във висока степен ","B = Във висока степен ","B = Във висока степен ","B = Във висока степен ","B = Във висока степен ","B = Във висока степен ","B = Във висока степен ","B = Във висока степен ","B = Във висока степен ","B = Във висока степен ","B = Във висока степен ","B = Във висока степен ","B = НЕ","B = НЕ","B = НЕ","B = НЕ","B = НЕ","B = Във висока степен ","B = Във висока степен ","B = Във висока степен ","B = Във висока степен ","B = Във висока степен ","B = Във висока степен ","B = Във висока степен ","B = НЕ","B = НЕ","B = НЕ ","B = НЕ ","B = НЕ","B = НЕ ","B = НЕ","B = НЕ","B = НЕ"]
[null,"C = ІІІ             D = ІV",null,"C = Малка част","C = Малка част","C = Безинтересни са","C = Добър","C = НЕ","C = НЕ","C = НЕ","C = В известна степен","C = В известна степен","C = В известна степен","C = В известна степен","C = В известна степен","C = В известна степен","C = В известна степен","C = В известна степен","C = В известна степен","C = В известна степен","C = В известна степен","C = В известна степен","C = В известна степен","C = В известна степен","C = В известна степен","C = В известна степен","C = В известна степен","C = В известна степен","C = В известна степен","C = В известна степен","C = В известна степен","C = В известна степен","C = В известна степен","C = В известна степен","C = В известна степен","C = В известна степен","C = В известна степен","C = В известна степен",null,null,null,null,null,"C = В известна степен","C = В известна степен","C = В известна степен","C = В известна степен","C = В известна степен","C = В известна степен","C = В известна степен"]
[null,"E = V",null," D = Нито една"," D = Нито едно","D = Мога да се подготвя сам","D = Среден",null,null,null," D = НЕ"," D = НЕ"," D = НЕ"," D = НЕ"," D = НЕ"," D = НЕ"," D = НЕ"," D = НЕ"," D = НЕ"," D = НЕ"," D = НЕ"," D = НЕ"," D = НЕ  "," D = НЕ"," D = НЕ"," D = НЕ"," D = НЕ"," D = НЕ"," D = НЕ"," D = НЕ"," D = НЕ"," D = НЕ"," D = НЕ"," D = НЕ"," D = НЕ"," D = НЕ"," D = НЕ"," D = НЕ",null,null,null,null,null," D = НЕ"," D = НЕ"," D = НЕ"," D = НЕ"," D = НЕ"," D = НЕ"," D = НЕ"]

{"sheet":"Лист15","index":20,"n_rows":6,"n_cols":59,"rows_kept":6,"cut":false,"hidden":false,"merged":[]}
[]
["ВЪПРОСИ","3. Курс","4. Пол","5. Посещение на лекции","6. Посещение на упражнения","7. Ако не сте посещавали занятия, коя е причината за това","8. Успех от следването до момента","9. познавам квалификационната характеристика на специалността си","10. познавам учебния план, по който се обучавате","11. познавам учебните програми на дисциплините, които изучаваме","12.обучението помага на развитието на общата Ви култура","13. помага на професионалната Ви подготовка","14. лекциите и упражненията са актуални и отразяват постиженията на науката","15. те са актуални и ориентирани към потребностите на практиката","16. лекциите и упражненията са анахронични и самоцелни","17. обучението е добро и дава възможност за самостоятелна работа","18. то е напрегнато и ограничава възможностите за самостоятелна работа","19. учебната програма е съобразена по-скоро с интересите и възможностите на преподавателите, отколкото с тези на студентите","20. съдържателни и интересни","21. скучни и безинтересни","22. способност за творческо мислене","23. способност за вземане на решения","24. умения за работа в екип","25. комуникативни умения","26. полезни и необходими","27. самоцелни и безполезни","28. библиотеките в Университета разполага с необходимата Ви литература","29. услугите са достъпни за Вас","30. административното обслужване е на добро равнище","31. в Университета има условия за спорт","32. социалните условия (стипендии, общежития. стол, почивна база) са добре решени","33. преподавателите Ви са добре подготвени и познават новостите в научната област, в която работят","34. преподавателите Ви са толерантни, комуникативни и мотивирани в работата си със студентите","35. има корумпирани преподаватели","36. има корумпирани служители","37. материалната база е добра","38. учебно-техническите средства са съвременни и подпомагат учебния процес","39. учебниците и учебно-помощните материали са достъпни и подпомагат обучението Ви","40. публични лекции, срещи с представители на науката, политиката, бизнеса културата","41. студентски творчески инициативи","42. програми за обмен на студенти","43. дискусии, кръгли маси, конференции","44. проекти на преподавателските екипи","45. научните изследвания на вашите преподаватели","46. научно-изследователска програма на Факултета","47. научните издания на факултета","48. преподава на академично равнище","49. работи с добре подготвени и отдадени на работата си преподаватели","50. толерира творчеството, инициативата, самостоятелното мислене","51. уважават индивидуалните способности и насърчава индивидуалното развитие на студентите","52. има възможност да получите образование по предпочитана специалност","53. родителите Ви настояват да продължите образованието си","54. приятелите и съучениците Ви учат тук","55. е в района, в който сте роден(а) и живеете","56. е висше училище с традиции и авторитет","57. били потърпевш на корупционен натиск","58. чували, че има корумпирани преподаватели и служители, но не сте се сблъсквали лично с корупция в Университета","59. сигурни, че има корумпирани преподаватели и служители в ПУ","60. сигурни, че няма корумпирани преподаватели и служители в ПУ"]
[null," A = І"," A = МЪЖ"," A = Всички"," A = Всички"," A = Посещавал съм"," A = Отличен"," A = ДА "," A = ДА "," A = ДА "," A = ДА"," A = ДА"," A = ДА"," A = ДА"," A = ДА"," A = ДА"," A = ДА"," A = ДА"," A = ДА"," A = ДА"," A = ДА"," A = ДА"," A = ДА"," A = ДА"," A = ДА"," A = ДА"," A = ДА"," A = ДА"," A = ДА"," A = ДА"," A = ДА"," A = ДА"," A = ДА"," A = ДА"," A = ДА"," A = ДА"," A = ДА"," A = ДА"," A = ДА"," A = ДА"," A = ДА"," A = ДА"," A = ДА"," A = ДА"," A = ДА"," A = ДА"," A = ДА"," A = ДА"," A = ДА"," A = ДА"," A = ДА"," A = ДА"," A = ДА"," A = ДА"," A = ДА"," A = ДА"," A = ДА"," A = ДА"," A = ДА"]
[null,"B = ІІ","B = ЖЕНА","B = Голяма част ","B = Голяма част ","B = Работя и уча","B = Много добър","B = ЧАСТИЧНО","B = ЧАСТИЧНО","B = ЧАСТИЧНО","B = Във висока степен ","B = Във висока степен ","B = Във висока степен ","B = Във висока степен ","B = Във висока степен ","B = Във висока степен ","B = Във висока степен ","B = Във висока степен ","B = Във висока степен ","B = Във висока степен ","B = Във висока степен ","B = Във висока степен ","B = Във висока степен ","B = Във висока степен ","B = Във висока степен ","B = Във висока степен ","B = Във висока степен ","B = Във висока степен ","B = Във висока степен ","B = Във висока степен ","B = Във висока степен ","B = Във висока степен ","B = Във висока степен ","B = Във висока степен ","B = Във висока степен ","B = Във висока степен ","B = Във висока степен ","B = Във висока степен ","B = НЕ","B = НЕ","B = НЕ","B = НЕ","B = НЕ","B = Във висока степен ","B = Във висока степен ","B = Във висока степен ","B = Във висока степен ","B = Във висока степен ","B = Във висока степен ","B = Във висока степен ","B = НЕ","B = НЕ","B = НЕ ","B = НЕ ","B = НЕ","B = НЕ ","B = НЕ","B = НЕ","B = НЕ"]
[null,"C = ІІІ             D = ІV",null,"C = Малка част","C = Малка част","C = Безинтересни са","C = Добър","C = НЕ","C = НЕ","C = НЕ","C = В известна степен","C = В известна степен","C = В известна степен","C = В известна степен","C = В известна степен","C = В известна степен","C = В известна степен","C = В известна степен","C = В известна степен","C = В известна степен","C = В известна степен","C = В известна степен","C = В известна степен","C = В известна степен","C = В известна степен","C = В известна степен","C = В известна степен","C = В известна степен","C = В известна степен","C = В известна степен","C = В известна степен","C = В известна степен","C = В известна степен","C = В известна степен","C = В известна степен","C = В известна степен","C = В известна степен","C = В известна степен",null,null,null,null,null,"C = В известна степен","C = В известна степен","C = В известна степен","C = В известна степен","C = В известна степен","C = В известна степен","C = В известна степен"]
[null,"E = V",null," D = Нито една"," D = Нито едно","D = Мога да се подготвя сам","D = Среден",null,null,null," D = НЕ"," D = НЕ"," D = НЕ"," D = НЕ"," D = НЕ"," D = НЕ"," D = НЕ"," D = НЕ"," D = НЕ"," D = НЕ"," D = НЕ"," D = НЕ"," D = НЕ  "," D = НЕ"," D = НЕ"," D = НЕ"," D = НЕ"," D = НЕ"," D = НЕ"," D = НЕ"," D = НЕ"," D = НЕ"," D = НЕ"," D = НЕ"," D = НЕ"," D = НЕ"," D = НЕ"," D = НЕ",null,null,null,null,null," D = НЕ"," D = НЕ"," D = НЕ"," D = НЕ"," D = НЕ"," D = НЕ"," D = НЕ"]